{"text_format":"1","workbook":"xlsx","n_sheets":25,"sheets":["Sommario","Z0.1 Dati generali","Z0.2 UltimoAggPFR","Z0.2.a PR Pregressi","Z0.3.a DiscontinuitaCosto Tg","Z0.3.b Qualita","Z0.4.a ProgrammaInvest_Spesa","Z0.4.b ProgrammaInvest_Contrib","Z0.4.c ProgrammaInvest_Dismiss","Z0.5.a InvestNoTar_Spesa","Z0.5.b InvestNoTar_Contrib","Z0.5.c InvestNoTar_Dismiss","Z0.6.a ProgInvest_Spesa agg","Z0.6.b ProgInvest_Contr agg","Z0.6.c ProgInvest_Dism agg","Z0.7.a InvestNoTar_Spesa agg","Z0.7.b InvestNoTar_Contr agg","Z0.7.c InvestNoTar_Dismiss agg","C1 Tk Riepilogo variazioni","C2 Riepilogo InvestNoTar","C3 Tk Supporto","C4 Tk Ricalcolo","C5 Tk RicalcoloPF","Z2 PFR aggiornato","Z2.a ModulTariffaria agg"],"not_rendered":{"charts":3,"images":1,"macros":1,"external_links":0,"defined_names":192,"comments":0,"pivot_tables":0},"unopened":[],"bounds":{"document_bytes":16777216,"sheet_cells":100000,"rows_first":2000,"rows_last":500,"rows_between":2000,"halvings":0,"cell_chars":16384,"cell_head_chars":4096},"cells_cut":0,"cells_raw":0,"read":"whole","date_system":"1900"}

{"sheet":"Sommario","index":0,"n_rows":49,"n_cols":10,"rows_kept":49,"cut":false,"hidden":false,"merged":[[1,1,1,5]]}
[]
[null,{"$error":"#VALUE!"}]
[]
[null,"SISTEMI TARIFFARI AUTOSTRADALI"]
[]
[null,"Tool di monitoraggio annuale e adeguamento tariffario"]
[]
[]
[null,null,"Contenuti",null,null,null,null,null,"Legenda"]
[]
[null,null,"Z0 - Modulo di acquisizione dati: fogli di lavoro di input",null,null,null,null,null,"Input del concessionario",1000]
[]
[null,null,null,"Z0.1 Dati generali","Termini e scadenze concessioni; principali input esogeni ed endogeni",null,null,null,"Campo calcolato:"]
[null,null,null,"Z0.2 UltimoAggPFR","Piano finanziario regolatorio, nel formato definito dall'Autorità - Ultimo aggiornamento approvato",null,null,null,"Livello 1",1000]
[null,null,null,"Z0.2.a PR Pregressi","Informazioni afferenti ai periodi regolatori pregressi rispetto a quello di riferimento per la costruzione tariffaria",null,null,null,"Livello 2",1000]
[null,null,"Programma degli investimenti: interventi riconosciuti in tariffa",null,null,null,null,null,"Livello 3",1000]
[null,null,null,"Z0.4.a ProgrammaInvest_Spesa","Informazioni anagrafiche e regolatorie sui singoli interventi e spesa annua complessiva - Ultimo aggiornamento approvato",null,null,null,"Livello 4",1000]
[null,null,null,"Z0.4.b ProgrammaInvest_Contrib","Eventuali contributi in conto impianti o in conto capitale - Ultimo aggiornamento approvato",null,null,null,"Macro",1000]
[null,null,null,"Z0.4.c ProgrammaInvest_Dismiss","Eventuali dismissioni - Ultimo aggiornamento approvato"]
[null,null,"Programma degli investimenti: interventi non riconosciuti in tariffa",null,null,null,null,null,"Campo desunto da altro foglio di lavoro:"]
[null,null,null,"Z0.5.a InvestNoTar_Spesa","Informazioni anagrafiche e regolatorie sui singoli interventi e spesa annua complessiva - Ultimo aggiornamento approvato",null,null,null,"Livello 1",1000]
[null,null,null,"Z0.5.b InvestNoTar_Contrib","Eventuali contributi in conto impianti o in conto capitale - Ultimo aggiornamento approvato",null,null,null,"Livello 2",1000]
[null,null,null,"Z0.5.c InvestNoTar_Dismiss","Eventuali dismissioni - Ultimo aggiornamento approvato"]
[null,null,null,null,null,null,null,null,"Campo di controllo (check):"]
[null,null,"Z0 - Modulo di acquisizione dati: fogli di lavoro di aggiornamento",null,null,null,null,null,"Livello 1",1000]
[null,null,null,null,null,null,null,null,"Livello 2",1000]
[null,null,null,"Z0.3.a DiscontinuitaCosto Tg","Importi annui afferenti alle discontinuità di costo per componente tariffaria di gestione - Esiti monitoraggio annuale"]
[null,null,null,"Z0.3.b Qualita","Valori di riferimento per il calcolo dell’indicatore sintetico di qualità - Esiti monitoraggio annuale",null,null,null,"Campo non compilabile o nullo"]
[null,null,"Interventi riconosciuti in tariffa"]
[null,null,null,"Z0.6.a ProgInvest_Spesa agg","Informazioni anagrafiche e regolatorie sui singoli interventi e spesa annua complessiva - Esiti monitoraggio annuale",null,null,null,"Campo con valore stabilito da ART",1000]
[null,null,null,"Z0.6.b ProgInvest_Contr agg","Eventuali contributi in conto impianti o in conto capitale - Esiti monitoraggio annuale"]
[null,null,null,"Z0.6.c ProgInvest_Dism agg","Eventuali dismissioni - Esiti monitoraggio annuale"]
[null,null,"Interventi non riconosciuti in tariffa"]
[null,null,null,"Z0.7.a InvestNoTar_Spesa agg","Informazioni anagrafiche e regolatorie sui singoli interventi e spesa annua complessiva - Esiti monitoraggio annuale"]
[null,null,null,"Z0.7.b InvestNoTar_Contr agg","Eventuali contributi in conto impianti o in conto capitale - Esiti monitoraggio annuale"]
[null,null,null,"Z0.7.c InvestNoTar_Dismiss agg","Eventuali dismissioni - Esiti monitoraggio annuale"]
[]
[null,null,"Moduli di calcolo"]
[]
[null,null,null,"C1 Tk Riepilogo variazioni","Dati di riepilogo da monitoraggio delle variazioni del Programma degli Investimenti - interventi riconosciuti in tariffa"]
[null,null,null,"C2 Riepilogo InvestNoTar","Dati di riepilogo da monitoraggio delle variazioni del Programma degli Investimenti - interventi non riconosciuti in tariffa"]
[null,null,null,"C3 Tk Supporto","Dati di supporto per i moduli di programmazione degli investimenti e per il calcolo della componente tariffaria di costruzione"]
[null,null,null,"C4 Tk Ricalcolo","Ricalcolo automatico dei costi di capitale afferenti alla componente tariffaria di costruzione  "]
[null,null,null,"C5 Tk RicalcoloPF","Ricalcolo automatico delle poste figurative da applicare ai fini della determinazione della componente tariffaria di costruzione"]
[]
[null,null,"Y2 Piano Finanziario Regolatorio (PFR)"]
[]
[null,null,null,"Z2 PFR aggiornato","Piano finanziario regolatorio aggiornato in esito al monitoraggio, nel formato definito dall'Autorità"]
[null,null,null,"Z2.a ModulTariffaria agg","Ricalcolo dei livelli tariffari annualmente applicabili alle differenti tipologie di rete e classi veicolari"]

{"sheet":"Z0.1 Dati generali","index":1,"n_rows":202,"n_cols":20,"rows_kept":202,"cut":false,"hidden":false,"merged":[]}
[]
[null,null,"Concessione - Informazioni generali"]
[]
[null,null,"Termini e scadenze"]
[]
[null,null,"Data di prima applicazione Sistema tariffario ART","2020-01-01"]
[null,null,"Ultimo anno di applicazione regime tariffario previgente",{"$f":"YEAR(DataAvvioSTART)-1","v":2019}]
[null,null,"Data di scadenza primo periodo regolatorio di applicazione Sistema tariffario ART ","2024-12-31"]
[null,null,"Durata standard periodo regolatorio",5,null,"Ultima generazione schema: 03/11/2025 14:30:01"]
[]
[null,null,"Esiste un periodo regolatorio precedente, con regolazione ART?",true]
[null,null,"Data di inizio nuovo periodo regolatorio",{"$f":"IF(D11,D8+1,DataAvvioSTART)","v":"2025-01-01"}]
[null,null,"Data di inizio applicazione nuova disciplina ART","2026-01-01"]
[null,null,"Primo anno applicazione nuova disciplina ART",{"$f":"YEAR(D13)","v":2026}]
[null,null,"Ultimo anno nuovo periodo regolatorio",{"$f":"YEAR(D12)+DurataPR-1","v":2029}]
[null,null,"Anno base nuovo periodo regolatorio",{"$f":"AnnoPonte-1","v":2024},null,"Ultima copia schemi: 03/11/2025 15:03:14"]
[null,null,"Anno ponte nuovo periodo regolatorio",{"$f":"PrimoAnnoPR1-1","v":2025}]
[]
[null,null,"Data di scadenza della concessione","2038-12-31"]
[null,null,"Anno di scadenza della concessione",{"$f":"YEAR(D19)","v":2038}]
[null,null,"Numero periodi regolatori residui, a partire dal nuovo",{"$f":"1+CEILING((ScadenzaConcessione-UltimoAnnoPR1)/DurataPR,1)","v":3}]
[]
[null,null,"Anno",null,null,{"$f":"AnnoBase","v":2024},{"$f":"F23+1","v":2025},2026,2027,2028,2029,2030,2031,2032,2033,2034,2035,2036,2037,2038]
[]
[null,null,"Anno base",null,null,1,0,0,0,1,0,0,0,0,1,0,0,0,0,0]
[null,null,"Anno ponte",null,null,0,1,0,0,0,1,0,0,0,0,1,0,0,0,0]
[null,null,"Periodo regolatorio",null,null,0,0,1,1,1,1,2,2,2,2,2,3,3,3,3]
[null,null,"Anno del periodo regolatorio",null,null,0,0,1,2,3,4,1,2,3,4,5,1,2,3,4]
[null,null,"Frazione di anno significativa",null,null,null,null,1,1,1,1,1,1,1,1,1,1,1,1,1]
[]
[null,null,null,null,null,"Ultimo adattamento schema: 03/11/2025 14:32:29"]
[]
[null,null,"Annualità di riferimento per monitoraggio"]
[]
[null,null,"Annualità di riferimento per monitoraggio",{"$f":"INDEX(G35:BZ35,MATCH(TRUE,G36:BZ36,0))","v":2027},null,null,{"$f":"IF(G27=1,G23,\"\")","v":""},2026,{"$f":"IF(I27=1,I23,\"\")","v":2027},2028,2029,"","","","","","","","",""]
[null,null,"Selezione annualità di riferimento per monitoraggio",null,null,null,false,false,true,false,false,false,false,false,false,false,false,false,false,false]
[]
[]
[null,null,"Input esogeni"]
[]
[null,null,"Inflazione programmata"]
[]
[null,null,"Tasso di inflazione programmata",null,null,null,2.1000000000000001E-2,1.9E-2,1.7999999999999999E-2,0.02,0.02,0.02,0.02,0.02,0.02,0.02,0.02,0.02,0.02,0.02]
[]
[null,null,"Recupero di produttività da efficientamento ART"]
[]
[null,null,"Percentuale complessiva di recupero di efficienza produttiva X* (fornito da ART)",null,-0.03]
[null,null,"Numero di annualità per conseguimento X*",null,5]
[null,null,"Calcolo indicatore di produttività annuale Xt (se costante)",null,{"$f":"IFERROR(((1+E47)^(1/E48))-1,0)","v":-6.0733238517972632E-3}]
[]
[null,null,"Applicazione efficientamento",null,null,null,null,{"$f":"IF(SUM($G51:G51)<$E$48,1,0)","v":1},{"$f":"IF(SUM($G51:H51)<$E$48,1,0)","v":1},{"$f":"IF(SUM($G51:I51)<$E$48,1,0)","v":1},{"$f":"IF(SUM($G51:J51)<$E$48,1,0)","v":1},{"$f":"IF(SUM($G51:K51)<$E$48,1,0)","v":1},{"$f":"IF(SUM($G51:L51)<$E$48,1,0)","v":0},{"$f":"IF(SUM($G51:M51)<$E$48,1,0)","v":0},{"$f":"IF(SUM($G51:N51)<$E$48,1,0)","v":0},{"$f":"IF(SUM($G51:O51)<$E$48,1,0)","v":0},{"$f":"IF(SUM($G51:P51)<$E$48,1,0)","v":0},{"$f":"IF(SUM($G51:Q51)<$E$48,1,0)","v":0},{"$f":"IF(SUM($G51:R51)<$E$48,1,0)","v":0},{"$f":"IF(SUM($G51:S51)<$E$48,1,0)","v":0}]
[null,null,"Xt",null,null,null,null,{"$f":"IF(H51,$E$49,0)","v":-6.0733238517972632E-3},{"$f":"IF(I51,$E$49,0)","v":-6.0733238517972632E-3},-6.0733238517972632E-3,-6.0733238517972632E-3,-6.0733238517972632E-3,0,0,0,0,0,0,0,0]
[null,null,"Fattore di efficientamento",null,null,null,1000,{"$f":"G53*(1+H52)","v":993.92667614820277},987.89023755901428,981.89046021628951,975.92712146440567,970,970,970,970,970,970,970,970,970]
[null,null,"Xt cumulato",null,null,null,null,{"$f":"($G$53-H53)/$G$53","v":6.0733238517972268E-3},{"$f":"($G$53-I53)/$G$53","v":1.210976244098572E-2},1.810953978371049E-2,2.4072878535594328E-2,0.03,0.03,0.03,0.03,0.03,0.03,0.03,0.03,0.03]
[null,null,null,"check X*",{"$f":"IF(ROUND(MAX(54:54)+E47,10)=0,\"ok\",\"errore\")","v":"ok"}]
[]
[null,null,"Tassi di remunerazione del capitale investito"]
[]
[null,null,"TIR previgente",null,0.13869999999999999,null,{"$f":"E59","v":0.13869999999999999},{"$f":"G59","v":0.13869999999999999},0.13869999999999999,0.13869999999999999,0.13869999999999999,0.13869999999999999,0.13869999999999999,0.13869999999999999,0.13869999999999999,0.13869999999999999,0.13869999999999999,0.13869999999999999,0.13869999999999999,0.13869999999999999]
[null,null,"WACC ART",null,{"$f":"7.51%","v":7.51E-2},null,{"$f":"E60","v":7.51E-2},7.51E-2,7.51E-2,7.51E-2,7.51E-2,7.51E-2,7.51E-2,7.51E-2,7.51E-2,7.51E-2,7.51E-2,7.51E-2,7.51E-2,7.51E-2]
[null,null,"Costo ammesso sul capitale di debito (Rd) da WACC ART",null,4.3499999999999997E-2,null,{"$f":"E61","v":4.3499999999999997E-2},4.3499999999999997E-2,4.3499999999999997E-2,4.3499999999999997E-2,4.3499999999999997E-2,4.3499999999999997E-2,4.3499999999999997E-2,4.3499999999999997E-2,4.3499999999999997E-2,4.3499999999999997E-2,4.3499999999999997E-2,4.3499999999999997E-2,4.3499999999999997E-2,4.3499999999999997E-2]
[null,null,"Costo ammesso sul capitale di rischio (Re) da WACC ART",null,0.1066,null,{"$f":"E62","v":0.1066},0.1066,0.1066,0.1066,0.1066,0.1066,0.1066,0.1066,0.1066,0.1066,0.1066,0.1066,0.1066,0.1066]
[]
[]
[null,null,"Tasso di remunerazione del CIN ante (TIR previgente)",null,null,null,{"$f":"TIR","v":0.13869999999999999},{"$f":"G65","v":0.13869999999999999},0.13869999999999999,0.13869999999999999,0.13869999999999999,0.13869999999999999,0.13869999999999999,0.13869999999999999,0.13869999999999999,0.13869999999999999,0.13869999999999999,0.13869999999999999,0.13869999999999999,0.13869999999999999]
[null,null,"Tasso di remunerazione del CIN pre2026 e post2026 (WACC)",null,null,null,{"$f":"WACC","v":7.51E-2},{"$f":"G66","v":7.51E-2},7.51E-2,7.51E-2,7.51E-2,7.51E-2,7.51E-2,7.51E-2,7.51E-2,7.51E-2,7.51E-2,7.51E-2,7.51E-2,7.51E-2]
[null,null,"Tasso di remunerazione del valore di subentro (Rtv) per CIN ante",null,null,null,{"$f":"IF(F67,E67,G65)","v":0.13869999999999999},{"$f":"G67","v":0.13869999999999999},0.13869999999999999,0.13869999999999999,0.13869999999999999,0.13869999999999999,0.13869999999999999,0.13869999999999999,0.13869999999999999,0.13869999999999999,0.13869999999999999,0.13869999999999999,0.13869999999999999,0.13869999999999999]
[null,null,"Tasso di remunerazione del valore di subentro (Rtv) per CIN pre2026 e post2026",null,null,null,{"$f":"IF(F68,E68,G66)","v":7.51E-2},{"$f":"G68","v":7.51E-2},{"$f":"H68","v":7.51E-2},{"$f":"I68","v":7.51E-2},{"$f":"J68","v":7.51E-2},{"$f":"K68","v":7.51E-2},{"$f":"L68","v":7.51E-2},{"$f":"M68","v":7.51E-2},{"$f":"N68","v":7.51E-2},{"$f":"O68","v":7.51E-2},{"$f":"P68","v":7.51E-2},{"$f":"Q68","v":7.51E-2},{"$f":"R68","v":7.51E-2},{"$f":"S68","v":7.51E-2}]
[null,null,"Tasso di remunerazione delle lavorazioni in corso di secondo livello (vite utili)",null,true,null,{"$f":"IF(E69,E61,G66)","v":4.3499999999999997E-2},{"$f":"G69","v":4.3499999999999997E-2},4.3499999999999997E-2,4.3499999999999997E-2,4.3499999999999997E-2,4.3499999999999997E-2,4.3499999999999997E-2,4.3499999999999997E-2,4.3499999999999997E-2,4.3499999999999997E-2,4.3499999999999997E-2,4.3499999999999997E-2,4.3499999999999997E-2,4.3499999999999997E-2]
[]
[null,null,"Canoni"]
[]
[null,null,"Canone annuo L. 296/2006",null,2.4E-2]
[null,null,"Integrazione canone d.l. 78/2009 s.m.i. (3,4,5)",null,6.0000000000000001E-3]
[null,null,"Integrazione canone d.l. 78/2009 s.m.i. (A,B)",null,1.7999999999999999E-2]
[null,null,"Canone annuo subconcessioni",null,0.2]
[]
[]
[null,null,"Input concessione"]
[]
[null,null,"Parametri per l'avviamento"]
[]
[null,null,"Ammissibilità tariffaria dell'avviamento",null,true]
[]
[null,null,"Parametri per ammortamento finanziario"]
[]
[null,null,"Priorità: ammortamento anticipato",null,true]
[]
[null,null,"CIN ante"]
[]
[null,null,"Tasso di remunerazione del CIN ante (TIR previgente)",null,{"$f":"TIR","v":0.13869999999999999}]
[null,null,"Tasso di remunerazione del CIN post (WACC delibera n. 240/2025 e 241/2025)",null,{"$f":"7.51%","v":7.51E-2}]
[null,null,"Annualità di durata residua della concessione, dal 1° gennaio 2026",null,{"$f":"ScadenzaConcessione-2026","v":12}]
[null,null,"Fattore Theta (del. 241/2025, Misura 35)",null,{"$f":"IF(ScadenzaConcessione<=2026+5,1,IF(E91/E92<=1.5,1,E91/E92))","v":1.8468708388814912}]
[null,null,"Numero di annualità per il completo consguimento dell'ammortamento del CIN ante dal 2026",null,{"$f":"ROUNDUP(E93/E94,0)","v":7}]
[null,null,"Annualità di completo recupero del capitale investito in caso di ammortamento anticipato",null,{"$f":"2026+(E95)","v":2033}]
[]
[null,null,"Parametro di riferimento annuo per ammortamento finanziario (se quote costanti: inserire per ciascuna annualità lo stesso valore)",null,null,null,null,1,1,1,1,1,1,1,1,1,1,1,1,1]
[null,null,"Aliquota di ammortamento annua da applicare al CIN residuo per ammortamento finanziario",null,null,null,null,{"$f":"IF($E$87,IF(H$23>$E$96,0,H98/SUM(OFFSET(H98,0,0,1,$E$96-H$23+1))),H98/SUM(OFFSET(H98,0,0,1,ScadenzaConcessione-H$23+1)))","v":0.125},0.14285714285714285,0.16666666666666666,0.2,0.25,0.33333333333333331,0.5,1,0,0,0,0,0]
[]
[null,null,"CIN post"]
[]
[null,null,"Selezione manuale dell'annualità di avvio del recupero del capitale investito",false,2026]
[null,null,"Annualità di avvio del recupero del capitale investito in caso di ammortamento ritardato",null,{"$f":"IF(D103,E103,E96+1)","v":2034}]
[]
[null,null,"Parametro di riferimento annuo per ammortamento finanziario CIN post (se quote costanti: inserire per ciascuna annualità lo stesso valore)",null,null,null,null,1,1,1,1,1,1,1,1,1,1,1,1,1]
[null,null,"Aliquota di ammortamento annua da applicare al CIN post residuo per ammortamento finanziario",null,null,null,null,{"$f":"IF($E$83,IF(H$23<$E$104,0,H106/SUM(OFFSET(H106,0,0,1,ScadenzaConcessione-H$23+1))),H106/SUM(OFFSET(H106,0,0,1,ScadenzaConcessione-H$23+1)))","v":0},0,0,0,0,0,0,0,0.2,0.25,0.33333333333333331,0.5,1]
[]
[null,null,"Parametri per dinamica poste figurative"]
[]
[null,null,"Attivazione deroga su annualità per il completamento del ciclo di recupero CIN ante e CIN pre2026",null,false]
[null,null,"Numero annualità per il completamento del ciclo di recupero CIN ante e CIN pre2026",10,{"$f":"IF($E$111,ScadenzaConcessione-AnnoPonte,D112)","v":10}]
[]
[null,null,"Attivazione deroga su annualità per il completamento del ciclo di recupero CIN post2026",null,false]
[null,null,"Numero annualità per il completamento del ciclo di recupero CIN post2026",15,{"$f":"IF(E114,ScadenzaConcessione-AnnoPonte,D115)","v":15}]
[]
[null,null,"Fattore di riduzione nel tempo dell’incremento annuo (compreso fra 1,3 e 1,7)","μ",1.3]
[null,null,"Quota di inflazione programmata da utilizzare nel calcolo (compresa fra 50% e 100%)","τ",1]
[]
[null,null,"Eventuale variazione tariffaria nominale bloccata",null,null,null,null,1.4999999999999999E-2]
[]
[null,null,"Tasso di attualizzazione CIN ante",null,null,null,null,{"$f":"(H65)","v":0.13869999999999999},0.13869999999999999,0.13869999999999999,0.13869999999999999,0.13869999999999999,0.13869999999999999,0.13869999999999999,0.13869999999999999,0.13869999999999999,0.13869999999999999,0.13869999999999999,0.13869999999999999,0.13869999999999999]
[null,null,"Tasso di attualizzazione CIN pre 2026",null,null,null,null,7.51E-2,7.51E-2,7.51E-2,7.51E-2,7.51E-2,7.51E-2,7.51E-2,7.51E-2,7.51E-2,7.51E-2,7.51E-2,7.51E-2,7.51E-2]
[null,null,"Tasso di attualizzazione componente ammortamenti CIN post 2026",null,null,null,null,{"$f":"(H66)","v":7.51E-2},7.51E-2,7.51E-2,7.51E-2,7.51E-2,7.51E-2,7.51E-2,7.51E-2,7.51E-2,7.51E-2,7.51E-2,7.51E-2,7.51E-2]
[null,null,"Tasso di attualizzazione componente remunerazioni CIN post 2026",null,null,null,null,{"$f":"H69","v":4.3499999999999997E-2},{"$f":"I69","v":4.3499999999999997E-2},4.3499999999999997E-2,4.3499999999999997E-2,4.3499999999999997E-2,4.3499999999999997E-2,4.3499999999999997E-2,4.3499999999999997E-2,4.3499999999999997E-2,4.3499999999999997E-2,4.3499999999999997E-2,4.3499999999999997E-2,4.3499999999999997E-2]
[]
[]
[]
[]
[null,null,"Previsioni di traffico"]
[]
[null,null,"(nel caso di ulteriore o differente disaggregazione, si prega di documentare distintamente i valori assunti, mediante specifici fogli di lavoro di supporto)"]
[]
[null,null,null,null,null,{"$f":"IF(F$23=AnnoPonte,\"Preconsuntivo\",IF(F$23>AnnoPonte,\"Preventivo\",\"Consuntivo\"))","v":"Consuntivo"},"Preconsuntivo","Preventivo","Preventivo","Preventivo","Preventivo","Preventivo","Preventivo","Preventivo","Preventivo","Preventivo","Preventivo","Preventivo","Preventivo","Preventivo"]
[]
[null,null,"(tipologia di rete #1)"]
[null,null,"Classe"]
[null,null,"A",null,null,652286.29227663844,655547.72373802157,658825.46235671162,662119.58966849511,665430.18761683756,668757.33855492168,672101.12524769618,675461.6308739346,678838.93902830419,682233.13372344559,685644.29939206271,689072.52088902297,692517.88349346805,695980.47291093529,699460.37527548987]
[null,null,"B",null,null,104693.45378690933,105216.92105584386,105743.00566112307,106271.72068942868,106803.07929287582,107337.09468934019,107873.78016278688,108413.14906360079,108955.21480891878,109499.99088296336,110047.49083737817,110597.72829156504,111150.71693302285,111706.47051768795,112265.00287027638]
[null,null,3,null,null,20337.465452894518,20439.152780158984,20541.348544059776,20644.055286780072,20747.275563213971,20851.011941030039,20955.267000735188,21060.043335738861,21165.343552417555,21271.170270179638,21377.526121530533,21484.413752138182,21591.835820898872,21699.795000003363,21808.293975003377]
[null,null,4,null,null,16141.152266242447,16221.858027573657,16302.967317711524,16384.48215430008,16466.404565071578,16548.736587896936,16631.480270836419,16714.637672190598,16798.21086055155,16882.201914854304,16966.612924428573,17051.445989050713,17136.703218995965,17222.386735090942,17308.498668766395]
[null,null,5,null,null,230156.05465801185,231306.83493130188,232463.36910595838,233625.68595148815,234793.81438124555,235967.78345315176,237147.62237041749,238333.36048226955,239525.02728468087,240722.65242110426,241926.26568320976,243135.89701162578,244351.57649668388,245573.33437916727,246801.20105106308]
[null,null,"Sub totale leggeri",null,null,{"$f":"+F138","v":652286.29227663844},{"$f":"+G138","v":655547.72373802157},658825.46235671162,{"$f":"+I138","v":662119.58966849511},665430.18761683756,668757.33855492168,672101.12524769618,675461.6308739346,678838.93902830419,682233.13372344559,685644.29939206271,689072.52088902297,692517.88349346805,695980.47291093529,699460.37527548987]
[null,null,"Sub totale pesanti",null,null,{"$f":"+SUM(F139:F142)","v":371328.12616405817},{"$f":"+SUM(G139:G142)","v":373184.76679487841},375050.69062885275,{"$f":"+SUM(I139:I142)","v":376925.94408199698},378810.5738024069,380704.6266714189,382608.14980477595,384521.1905537998,386443.79650656879,388376.01548910158,390317.89556654706,392269.48504437972,394230.83246960153,396201.98663194955,398182.99656510924]
[null,null,"Totale",null,null,{"$f":"SUM(F138:F142)","v":1023614.4184406967},{"$f":"SUM(G138:G142)","v":1028732.4905329},1033876.1529855644,{"$f":"SUM(I138:I142)","v":1039045.5337504921},1044240.7614192445,1049461.9652263406,1054709.275052472,1059982.8214277343,1065282.7355348729,1070609.1492125471,1075962.1949586098,1081342.0059334026,1086748.7159630696,1092182.459542885,1097643.371840599]
[]
[null,null,"(tipologia di rete #2)"]
[null,null,"Classe"]
[null,null,"A",null,null,9606.9580871764392,9654.9928776123215,9703.2678420003813,9751.7841812103816,9800.5431021164331,9849.5458176270149,9898.7935467151492,9948.2875144487243,9998.0289520209662,10048.01909678107,10098.259192264975,10148.750488226298,10199.494240667429,10250.491711870765,10301.744170430118]
[null,null,"B",null,null,2200.9230609812935,2211.9276762861996,2222.9873146676305,2234.1022512409686,2245.2727624971731,2256.4991263096585,2267.7816219412066,2279.1205300509123,2290.5161327011665,2301.9687133646721,2313.4785569314954,2325.0459497161528,2336.6711794647331,2348.3545353620566,2360.0963080388665]
[null,null,3,null,null,368.63981062364388,370.48300967676209,372.33542472514586,374.19710184877152,376.06808735801536,377.94842779480541,379.8381699337794,381.73736078344825,383.64604758736544,385.56427782530221,387.49209921442866,389.42955971050077,391.37670750905323,393.33359104659849,395.30025900183142]
[null,null,4,null,null,247.87606786370756,249.11544820302606,250.36102544404116,251.61283057126133,252.87089472411762,254.13524919773818,255.40592544372683,256.68295507094541,257.9663698463001,259.25620169553156,260.55248270400921,261.85524511752925,263.16452134311686,264.48034394983239,265.8027456695815]
[null,null,5,null,null,3109.8814631464484,3125.4308704621803,3141.0580248144911,3156.7633149385633,3172.5471315132559,3188.4098671708216,3204.3519165066755,3220.3736760892084,3236.4755444696543,3252.6579221920024,3268.9212118029623,3285.2658178619768,3301.6921469512863,3318.2006076860425,3334.7916107244723]
[null,null,"Sub totale leggeri",null,null,{"$f":"+F149","v":9606.9580871764392},{"$f":"+G149","v":9654.9928776123215},9703.2678420003813,{"$f":"+I149","v":9751.7841812103816},9800.5431021164331,9849.5458176270149,9898.7935467151492,9948.2875144487243,9998.0289520209662,10048.01909678107,10098.259192264975,10148.750488226298,10199.494240667429,10250.491711870765,10301.744170430118]
[null,null,"Sub totale pesanti",null,null,{"$f":"+SUM(F150:F153)","v":5927.3204026150934},{"$f":"+SUM(G150:G153)","v":5956.9570046281679},5986.7417896513089,{"$f":"+SUM(I150:I153)","v":6016.6754985995649},6046.7588760925619,6076.9926704730242,6107.3776338253883,6137.9145219945149,6168.6040946044868,6199.447115077508,6230.4443506528951,6261.5965724061589,6292.9045552681891,6324.3690780445304,6355.9909234347515]
[null,null,"Totale",null,null,{"$f":"SUM(F149:F153)","v":15534.278489791534},{"$f":"SUM(G149:G153)","v":15611.949882240489},15690.00963165169,{"$f":"SUM(I149:I153)","v":15768.459679809946},15847.301978208996,15926.538488100037,16006.171180540538,16086.202036443239,16166.633046625453,16247.466211858578,16328.703542917872,16410.347060632459,16492.398795935616,16574.860789915292,16657.735093864871]
[]
[null,null,"(tipologia di rete #3)"]
[null,null,"Classe"]
[null,null,"A",null,null,0,0,0,0,0,0,0,0,0,0,0,0,0,0,0]
[null,null,"B",null,null,0,0,0,0,0,0,0,0,0,0,0,0,0,0,0]
[null,null,3,null,null,0,0,0,0,0,0,0,0,0,0,0,0,0,0,0]
[null,null,4,null,null,0,0,0,0,0,0,0,0,0,0,0,0,0,0,0]
[null,null,5,null,null,0,0,0,0,0,0,0,0,0,0,0,0,0,0,0]
[null,null,"Sub totale leggeri",null,null,{"$f":"+F160","v":0},{"$f":"+G160","v":0},0,{"$f":"+I160","v":0},0,0,0,0,0,0,0,0,0,0,0]
[null,null,"Sub totale pesanti",null,null,{"$f":"+SUM(F161:F164)","v":0},{"$f":"+SUM(G161:G164)","v":0},0,{"$f":"+SUM(I161:I164)","v":0},0,0,0,0,0,0,0,0,0,0,0]
[null,null,"Totale",null,null,{"$f":"SUM(F160:F164)","v":0},{"$f":"SUM(G160:G164)","v":0},0,{"$f":"SUM(I160:I164)","v":0},0,0,0,0,0,0,0,0,0,0,0]
[]
[null,null,"(tipologia di rete #4)"]
[null,null,"Classe"]
[null,null,"A",null,null,0,0,0,0,0,0,0,0,0,0,0,0,0,0,0]
[null,null,"B",null,null,0,0,0,0,0,0,0,0,0,0,0,0,0,0,0]
[null,null,3,null,null,0,0,0,0,0,0,0,0,0,0,0,0,0,0,0]
[null,null,4,null,null,0,0,0,0,0,0,0,0,0,0,0,0,0,0,0]
[null,null,5,null,null,0,0,0,0,0,0,0,0,0,0,0,0,0,0,0]
[null,null,"Sub totale leggeri",null,null,{"$f":"+F171","v":0},{"$f":"+G171","v":0},0,{"$f":"+I171","v":0},0,0,0,0,0,0,0,0,0,0,0]
[null,null,"Sub totale pesanti",null,null,{"$f":"+SUM(F172:F175)","v":0},{"$f":"+SUM(G172:G175)","v":0},0,{"$f":"+SUM(I172:I175)","v":0},0,0,0,0,0,0,0,0,0,0,0]
[null,null,"Totale",null,null,{"$f":"SUM(F171:F175)","v":0},{"$f":"SUM(G171:G175)","v":0},0,{"$f":"SUM(I171:I175)","v":0},0,0,0,0,0,0,0,0,0,0,0]
[]
[null,null,"Previsione volumi di traffico Totali (mln di veicoli km)"]
[null,null,"Classe"]
[null,null,"A",null,null,{"$f":"IFERROR(+F138+F149+F160+F171,0)","v":661893.25036381488},665202.71661563392,668528.73019871197,{"$f":"IFERROR(+I138+I149+I160+I171,0)","v":671871.37384970544},675230.730718954,678606.88437254867,681999.91879441135,685409.91838838335,688836.96798032511,692281.15282022662,695742.55858432769,699221.27137724927,702717.37773413549,706230.96462280606,709762.11944591999]
[null,null,"B",null,null,106894.37684789063,{"$f":"IFERROR(+G139+G150+G161+G172,0)","v":107428.84873213006},107965.99297579069,{"$f":"IFERROR(+I139+I150+I161+I172,0)","v":108505.82294066965},109048.35205537299,109593.59381564985,110141.56178472808,110692.26959365171,111245.73094161996,111801.95959632803,112360.96939430966,112922.77424128119,113487.38811248758,114054.82505305001,114625.09917831524]
[null,null,3,null,null,20706.105263518162,20809.635789835746,20913.683968784921,{"$f":"IFERROR(+I140+I151+I162+I173,0)","v":21018.252388628844},21123.343650571987,21228.960368824846,21335.105170668969,21441.78069652231,21548.989600004919,21656.734548004941,21765.018220744962,21873.843311848683,21983.212528407927,22093.128591049961,22203.59423400521]
[null,null,4,null,null,16389.028334106155,16470.973475776682,16553.328343155565,{"$f":"IFERROR(+I141+I152+I163+I174,0)","v":16636.094984871343},16719.275459795695,16802.871837094674,16886.886196280146,16971.320627261543,17056.177230397851,17141.458116549835,17227.165407132583,17313.301234168244,17399.867740339083,17486.867079040774,17574.301414435977]
[null,null,5,null,null,233265.9361211583,234432.26580176406,235604.42713077288,{"$f":"IFERROR(+I142+I153+I164+I175,0)","v":236782.4492664267},237966.3615127588,239156.19332032258,240351.97428692417,241553.73415835877,242761.50282915053,243975.31034329627,245195.18689501271,246421.16282948776,247653.26864363515,248891.53498685331,250135.99266178755]
[null,null,"Sub totale leggeri",null,null,{"$f":"SUM(F182)","v":661893.25036381488},665202.71661563392,668528.73019871197,{"$f":"SUM(I182)","v":671871.37384970544},675230.730718954,678606.88437254867,681999.91879441135,685409.91838838335,688836.96798032511,692281.15282022662,695742.55858432769,699221.27137724927,702717.37773413549,706230.96462280606,709762.11944591999]
[null,null,"Sub totale pesanti",null,null,{"$f":"+SUM(F183:F186)","v":377255.44656667323},379141.72379950655,381037.43241850403,{"$f":"+SUM(I183:I186)","v":382942.61958059657},384857.33267849952,386781.61934189196,388715.52743860136,390659.10507579433,392612.40060117329,394575.46260417905,396548.33991719992,398531.08161678584,400523.73702486977,402526.35570999404,404538.98748854396]
[null,null,"Totale complessivo",null,null,{"$f":"SUM(F182:F186)","v":1039148.6969304882},1044344.4404151405,1049566.1626172159,{"$f":"SUM(I182:I186)","v":1054813.993430302},1060088.0633974536,1065388.5037144406,1070715.4462330127,1076069.0234641777,1081449.3685814985,1086856.6154244058,1092290.8985015275,1097752.3529940352,1103241.1147590054,1108757.3203328,1114301.1069344641]
[]
[null,null,"Informazioni di riepilogo"]
[]
[null,null,"Volumi di traffico previsti (000 veicoli/km) ","V",null,{"$f":"F189","v":1039148.6969304882},{"$f":"G189","v":1044344.4404151405},1049566.1626172159,{"$f":"I189","v":1054813.993430302},1060088.0633974536,1065388.5037144406,1070715.4462330127,1076069.0234641777,1081449.3685814985,1086856.6154244058,1092290.8985015275,1097752.3529940352,1103241.1147590054,1108757.3203328,1114301.1069344641]
[null,null,"Volumi di traffico medi annui per periodo regolatorio (000 veicoli/km)                               ","V'",null,null,{"$f":"IF(G$26,SUMIF(27:27,H27,193:193)/COUNTIF(27:27,H27),\"\")","v":1057464.180789853},"","","",1081476.2704409244,"","","","",1106012.9737550761,"","","",""]
[null,null,"Volumi di traffico medi annui per discontinuità di costo (000 veicoli/km)                               ","V''",null,null,{"$f":"IF(G27=0,G194,SUM(OFFSET(G193,,,,IF(G26,1,_xlfn.MAXIFS(28:28,27:27,G27)+1-G28))/IF(G26,1,_xlfn.MAXIFS(28:28,27:27,G27)+1-G28)))","v":1057464.180789853},{"$f":"IF(H27=0,H194,SUM(OFFSET(H193,,,,IF(H26,1,_xlfn.MAXIFS(28:28,27:27,H27)+1-H28))/IF(H26,1,_xlfn.MAXIFS(28:28,27:27,H27)+1-H28)))","v":1057464.180789853},{"$f":"IF(I27=0,I194,SUM(OFFSET(I193,,,,IF(I26,1,_xlfn.MAXIFS(28:28,27:27,I27)+1-I28))/IF(I26,1,_xlfn.MAXIFS(28:28,27:27,I27)+1-I28)))","v":1060096.8535140655},{"$f":"IF(J27=0,J194,SUM(OFFSET(J193,,,,IF(J26,1,_xlfn.MAXIFS(28:28,27:27,J27)+1-J28))/IF(J26,1,_xlfn.MAXIFS(28:28,27:27,J27)+1-J28)))","v":1062738.2835559472},{"$f":"IF(K27=0,K194,SUM(OFFSET(K193,,,,IF(K26,1,_xlfn.MAXIFS(28:28,27:27,K27)+1-K28))/IF(K26,1,_xlfn.MAXIFS(28:28,27:27,K27)+1-K28)))","v":1065388.5037144406},{"$f":"IF(L27=0,L194,SUM(OFFSET(L193,,,,IF(L26,1,_xlfn.MAXIFS(28:28,27:27,L27)+1-L28))/IF(L26,1,_xlfn.MAXIFS(28:28,27:27,L27)+1-L28)))","v":1081476.2704409244},{"$f":"IF(M27=0,M194,SUM(OFFSET(M193,,,,IF(M26,1,_xlfn.MAXIFS(28:28,27:27,M27)+1-M28))/IF(M26,1,_xlfn.MAXIFS(28:28,27:27,M27)+1-M28)))","v":1084166.4764929023},{"$f":"IF(N27=0,N194,SUM(OFFSET(N193,,,,IF(N26,1,_xlfn.MAXIFS(28:28,27:27,N27)+1-N28))/IF(N26,1,_xlfn.MAXIFS(28:28,27:27,N27)+1-N28)))","v":1086865.6275024773},{"$f":"IF(O27=0,O194,SUM(OFFSET(O193,,,,IF(O26,1,_xlfn.MAXIFS(28:28,27:27,O27)+1-O28))/IF(O26,1,_xlfn.MAXIFS(28:28,27:27,O27)+1-O28)))","v":1089573.7569629666},{"$f":"IF(P27=0,P194,SUM(OFFSET(P193,,,,IF(P26,1,_xlfn.MAXIFS(28:28,27:27,P27)+1-P28))/IF(P26,1,_xlfn.MAXIFS(28:28,27:27,P27)+1-P28)))","v":1092290.8985015275},{"$f":"IF(Q27=0,Q194,SUM(OFFSET(Q193,,,,IF(Q26,1,_xlfn.MAXIFS(28:28,27:27,Q27)+1-Q28))/IF(Q26,1,_xlfn.MAXIFS(28:28,27:27,Q27)+1-Q28)))","v":1106012.9737550761},{"$f":"IF(R27=0,R194,SUM(OFFSET(R193,,,,IF(R26,1,_xlfn.MAXIFS(28:28,27:27,R27)+1-R28))/IF(R26,1,_xlfn.MAXIFS(28:28,27:27,R27)+1-R28)))","v":1108766.5140087565},{"$f":"IF(S27=0,S194,SUM(OFFSET(S193,,,,IF(S26,1,_xlfn.MAXIFS(28:28,27:27,S27)+1-S28))/IF(S26,1,_xlfn.MAXIFS(28:28,27:27,S27)+1-S28)))","v":1111529.2136336321},{"$f":"IF(T27=0,T194,SUM(OFFSET(T193,,,,IF(T26,1,_xlfn.MAXIFS(28:28,27:27,T27)+1-T28))/IF(T26,1,_xlfn.MAXIFS(28:28,27:27,T27)+1-T28)))","v":1114301.1069344641}]
[]
[]
[]
[]
[]
[]
[null,null,"termine foglio di lavoro"]

{"sheet":"Z0.2 UltimoAggPFR","index":2,"n_rows":254,"n_cols":19,"rows_kept":254,"cut":false,"hidden":false,"merged":[]}
[]
[null,null,"Piano finanziario regolatorio (PFR) di periodo - da ultimo aggiornamento approvato"]
[]
[null,null,"Anno",null,2024,2025,2026,2027,2028,2029,2030,2031,2032,2033,2034,2035,2036,2037,2038]
[]
[null,null,"Anno base",null,1,0,0,0,1,0,0,0,0,1,0,0,0,0,0]
[null,null,"Anno ponte",null,0,1,0,0,0,1,0,0,0,0,1,0,0,0,0]
[null,null,"Periodo regolatorio",null,0,0,1,1,1,1,2,2,2,2,2,3,3,3,3]
[null,null,"Anno del periodo regolatorio",null,0,0,1,2,3,4,1,2,3,4,5,1,2,3,4]
[null,null,"Frazione di anno significativa",null,null,null,1,1,1,1,1,1,1,1,1,1,1,1,1]
[]
[null,null,null,null,null,"Ultimo adattamento schema: 03/11/2025 14:32:31"]
[]
[null,null,"Informazioni generali"]
[]
[null,null,"Tasso di remunerazione del CIN ante (TIR previgente)","TIR",null,{"$f":"'Z0.1 Dati generali'!G65","v":0.13869999999999999},{"$f":"'Z0.1 Dati generali'!H65","v":0.13869999999999999},{"$f":"'Z0.1 Dati generali'!I65","v":0.13869999999999999},{"$f":"'Z0.1 Dati generali'!J65","v":0.13869999999999999},{"$f":"'Z0.1 Dati generali'!K65","v":0.13869999999999999},{"$f":"'Z0.1 Dati generali'!L65","v":0.13869999999999999},{"$f":"'Z0.1 Dati generali'!M65","v":0.13869999999999999},{"$f":"'Z0.1 Dati generali'!N65","v":0.13869999999999999},{"$f":"'Z0.1 Dati generali'!O65","v":0.13869999999999999},{"$f":"'Z0.1 Dati generali'!P65","v":0.13869999999999999},{"$f":"'Z0.1 Dati generali'!Q65","v":0.13869999999999999},{"$f":"'Z0.1 Dati generali'!R65","v":0.13869999999999999},{"$f":"'Z0.1 Dati generali'!S65","v":0.13869999999999999},{"$f":"'Z0.1 Dati generali'!T65","v":0.13869999999999999}]
[null,null,"Tasso di remunerazione del CIN pre2026 e post2026 (WACC)","WACC",null,{"$f":"'Z0.1 Dati generali'!G66","v":7.51E-2},{"$f":"'Z0.1 Dati generali'!H66","v":7.51E-2},{"$f":"'Z0.1 Dati generali'!I66","v":7.51E-2},{"$f":"'Z0.1 Dati generali'!J66","v":7.51E-2},{"$f":"'Z0.1 Dati generali'!K66","v":7.51E-2},{"$f":"'Z0.1 Dati generali'!L66","v":7.51E-2},{"$f":"'Z0.1 Dati generali'!M66","v":7.51E-2},{"$f":"'Z0.1 Dati generali'!N66","v":7.51E-2},{"$f":"'Z0.1 Dati generali'!O66","v":7.51E-2},{"$f":"'Z0.1 Dati generali'!P66","v":7.51E-2},{"$f":"'Z0.1 Dati generali'!Q66","v":7.51E-2},{"$f":"'Z0.1 Dati generali'!R66","v":7.51E-2},{"$f":"'Z0.1 Dati generali'!S66","v":7.51E-2},{"$f":"'Z0.1 Dati generali'!T66","v":7.51E-2}]
[null,null,"Tasso di remunerazione del valore di subentro (Rtv) per CIN ante","Rtv - ante",null,{"$f":"'Z0.1 Dati generali'!G67","v":0.13869999999999999},{"$f":"'Z0.1 Dati generali'!H67","v":0.13869999999999999},{"$f":"'Z0.1 Dati generali'!I67","v":0.13869999999999999},{"$f":"'Z0.1 Dati generali'!J67","v":0.13869999999999999},{"$f":"'Z0.1 Dati generali'!K67","v":0.13869999999999999},{"$f":"'Z0.1 Dati generali'!L67","v":0.13869999999999999},{"$f":"'Z0.1 Dati generali'!M67","v":0.13869999999999999},{"$f":"'Z0.1 Dati generali'!N67","v":0.13869999999999999},{"$f":"'Z0.1 Dati generali'!O67","v":0.13869999999999999},{"$f":"'Z0.1 Dati generali'!P67","v":0.13869999999999999},{"$f":"'Z0.1 Dati generali'!Q67","v":0.13869999999999999},{"$f":"'Z0.1 Dati generali'!R67","v":0.13869999999999999},{"$f":"'Z0.1 Dati generali'!S67","v":0.13869999999999999},{"$f":"'Z0.1 Dati generali'!T67","v":0.13869999999999999}]
[null,null,"Tasso di remunerazione del valore di subentro (Rtv) per CIN pre2026 e post2026","Rtv - post",null,{"$f":"'Z0.1 Dati generali'!G68","v":7.51E-2},{"$f":"'Z0.1 Dati generali'!H68","v":7.51E-2},{"$f":"'Z0.1 Dati generali'!I68","v":7.51E-2},{"$f":"'Z0.1 Dati generali'!J68","v":7.51E-2},{"$f":"'Z0.1 Dati generali'!K68","v":7.51E-2},{"$f":"'Z0.1 Dati generali'!L68","v":7.51E-2},{"$f":"'Z0.1 Dati generali'!M68","v":7.51E-2},{"$f":"'Z0.1 Dati generali'!N68","v":7.51E-2},{"$f":"'Z0.1 Dati generali'!O68","v":7.51E-2},{"$f":"'Z0.1 Dati generali'!P68","v":7.51E-2},{"$f":"'Z0.1 Dati generali'!Q68","v":7.51E-2},{"$f":"'Z0.1 Dati generali'!R68","v":7.51E-2},{"$f":"'Z0.1 Dati generali'!S68","v":7.51E-2},{"$f":"'Z0.1 Dati generali'!T68","v":7.51E-2}]
[null,null,"Tasso di remunerazione delle lavorazioni in corso di secondo livello (vite utili)","Rlic",null,{"$f":"'Z0.1 Dati generali'!G69","v":4.3499999999999997E-2},{"$f":"'Z0.1 Dati generali'!H69","v":4.3499999999999997E-2},{"$f":"'Z0.1 Dati generali'!I69","v":4.3499999999999997E-2},{"$f":"'Z0.1 Dati generali'!J69","v":4.3499999999999997E-2},{"$f":"'Z0.1 Dati generali'!K69","v":4.3499999999999997E-2},{"$f":"'Z0.1 Dati generali'!L69","v":4.3499999999999997E-2},{"$f":"'Z0.1 Dati generali'!M69","v":4.3499999999999997E-2},{"$f":"'Z0.1 Dati generali'!N69","v":4.3499999999999997E-2},{"$f":"'Z0.1 Dati generali'!O69","v":4.3499999999999997E-2},{"$f":"'Z0.1 Dati generali'!P69","v":4.3499999999999997E-2},{"$f":"'Z0.1 Dati generali'!Q69","v":4.3499999999999997E-2},{"$f":"'Z0.1 Dati generali'!R69","v":4.3499999999999997E-2},{"$f":"'Z0.1 Dati generali'!S69","v":4.3499999999999997E-2},{"$f":"'Z0.1 Dati generali'!T69","v":4.3499999999999997E-2}]
[]
[null,null,"Tasso di inflazione","P",null,{"$f":"'Z0.1 Dati generali'!G43","v":2.1000000000000001E-2},{"$f":"'Z0.1 Dati generali'!H43","v":1.9E-2},{"$f":"'Z0.1 Dati generali'!I43","v":1.7999999999999999E-2},{"$f":"'Z0.1 Dati generali'!J43","v":0.02},{"$f":"'Z0.1 Dati generali'!K43","v":0.02},{"$f":"'Z0.1 Dati generali'!L43","v":0.02},{"$f":"'Z0.1 Dati generali'!M43","v":0.02},{"$f":"'Z0.1 Dati generali'!N43","v":0.02},{"$f":"'Z0.1 Dati generali'!O43","v":0.02},{"$f":"'Z0.1 Dati generali'!P43","v":0.02},{"$f":"'Z0.1 Dati generali'!Q43","v":0.02},{"$f":"'Z0.1 Dati generali'!R43","v":0.02},{"$f":"'Z0.1 Dati generali'!S43","v":0.02},{"$f":"'Z0.1 Dati generali'!T43","v":0.02}]
[null,null,"Indicatore di produttività annuale","X",null,null,{"$f":"'Z0.1 Dati generali'!H52","v":-6.0733238517972632E-3},{"$f":"'Z0.1 Dati generali'!I52","v":-6.0733238517972632E-3},{"$f":"'Z0.1 Dati generali'!J52","v":-6.0733238517972632E-3},{"$f":"'Z0.1 Dati generali'!K52","v":-6.0733238517972632E-3},{"$f":"'Z0.1 Dati generali'!L52","v":-6.0733238517972632E-3},{"$f":"'Z0.1 Dati generali'!M52","v":0},{"$f":"'Z0.1 Dati generali'!N52","v":0},{"$f":"'Z0.1 Dati generali'!O52","v":0},{"$f":"'Z0.1 Dati generali'!P52","v":0},{"$f":"'Z0.1 Dati generali'!Q52","v":0},{"$f":"'Z0.1 Dati generali'!R52","v":0},{"$f":"'Z0.1 Dati generali'!S52","v":0},{"$f":"'Z0.1 Dati generali'!T52","v":0}]
[]
[null,null,"Volumi di traffico previsti (000 veicoli/km) ","V",{"$f":"'Z0.1 Dati generali'!F193","v":1039148.6969304882},{"$f":"'Z0.1 Dati generali'!G193","v":1044344.4404151405},{"$f":"'Z0.1 Dati generali'!H193","v":1049566.1626172159},{"$f":"'Z0.1 Dati generali'!I193","v":1054813.993430302},{"$f":"'Z0.1 Dati generali'!J193","v":1060088.0633974536},{"$f":"'Z0.1 Dati generali'!K193","v":1065388.5037144406},{"$f":"'Z0.1 Dati generali'!L193","v":1070715.4462330127},{"$f":"'Z0.1 Dati generali'!M193","v":1076069.0234641777},{"$f":"'Z0.1 Dati generali'!N193","v":1081449.3685814985},{"$f":"'Z0.1 Dati generali'!O193","v":1086856.6154244058},{"$f":"'Z0.1 Dati generali'!P193","v":1092290.8985015275},{"$f":"'Z0.1 Dati generali'!Q193","v":1097752.3529940352},{"$f":"'Z0.1 Dati generali'!R193","v":1103241.1147590054},{"$f":"'Z0.1 Dati generali'!S193","v":1108757.3203328},{"$f":"'Z0.1 Dati generali'!T193","v":1114301.1069344641}]
[null,null,"Volumi di traffico medi annui per periodo regolatorio (000 veicoli/km)                               ","V'",null,{"$f":"'Z0.1 Dati generali'!G194","v":1057464.180789853},{"$f":"'Z0.1 Dati generali'!H194","v":""},{"$f":"'Z0.1 Dati generali'!I194","v":""},{"$f":"'Z0.1 Dati generali'!J194","v":""},{"$f":"'Z0.1 Dati generali'!K194","v":1081476.2704409244},{"$f":"'Z0.1 Dati generali'!L194","v":""},{"$f":"'Z0.1 Dati generali'!M194","v":""},{"$f":"'Z0.1 Dati generali'!N194","v":""},{"$f":"'Z0.1 Dati generali'!O194","v":""},{"$f":"'Z0.1 Dati generali'!P194","v":1106012.9737550761},{"$f":"'Z0.1 Dati generali'!Q194","v":""},{"$f":"'Z0.1 Dati generali'!R194","v":""},{"$f":"'Z0.1 Dati generali'!S194","v":""},{"$f":"'Z0.1 Dati generali'!T194","v":""}]
[null,null,"Volumi di traffico medi annui per discontinuità di costo (000 veicoli/km)                               ","V''",null,{"$f":"'Z0.1 Dati generali'!G195","v":1057464.180789853},{"$f":"'Z0.1 Dati generali'!H195","v":1057464.180789853},{"$f":"'Z0.1 Dati generali'!I195","v":1060096.8535140655},{"$f":"'Z0.1 Dati generali'!J195","v":1062738.2835559472},{"$f":"'Z0.1 Dati generali'!K195","v":1065388.5037144406},{"$f":"'Z0.1 Dati generali'!L195","v":1081476.2704409244},{"$f":"'Z0.1 Dati generali'!M195","v":1084166.4764929023},{"$f":"'Z0.1 Dati generali'!N195","v":1086865.6275024773},{"$f":"'Z0.1 Dati generali'!O195","v":1089573.7569629666},{"$f":"'Z0.1 Dati generali'!P195","v":1092290.8985015275},{"$f":"'Z0.1 Dati generali'!Q195","v":1106012.9737550761},{"$f":"'Z0.1 Dati generali'!R195","v":1108766.5140087565},{"$f":"'Z0.1 Dati generali'!S195","v":1111529.2136336321},{"$f":"'Z0.1 Dati generali'!T195","v":1114301.1069344641}]
[]
[]
[null,null,"COMPONENTE TARIFFARIA DI GESTIONE - Tg"]
[]
[null,null,"Costi operativi totali ammessi","A",37640]
[null,null,"Utilizzo di fondo accantonamento per rinnovi","A''",340]
[null,null,"Extraprofitto da attività accessorie (in deduzione)","A'''",571.16499999999996]
[null,null,"Costi operativi totali ammessi netti","B = A+A'-A''",{"$f":"+E32+E33-E34","v":37408.834999999999}]
[]
[null,null,"Immobilizzazioni non reversibili al 31/12","C",810]
[null,null,"Ammortamento annuo CIN","C'",210]
[null,null,"Remunerazione annua opere in esercizio","C''",76.602000000000004]
[null,null,"Costi totali afferenti a componente tariffaria di gestione","D = B+C'+C''",{"$f":"+E35+E38+E39","v":37695.436999999998},{"$f":"+E40*(1+F22)","v":38487.041176999992},{"$f":"F40*(1+G$22+G$23)+\n IF(G7,\n  (((((B$46*(1+C$22+C$23)+C$46)*(1+D$22+D$23)+D$46)*(1+E$22+E$23)+E$46)*(1+F$22+F$23)+F$46)*(1+G$22+G$23)),0)","v":38984.550694197605},39449.50680511049,39998.907310591589,41010.923395489423,41582.069244157159,42413.710629040303,43261.98484162111,44127.224538453534,45592.939199458524,46504.797983447694,47434.893943116651,48383.591821978982,49351.26365841856]
[]
[null,null,"Componente tariffaria di gestione unitaria","G = D/V' -->   G ∙ (1+P-X)",null,{"$f":"IFERROR(\nIF(AND(F$8=0,F$7=1),\n(F$40/F$26),\nIF(AND(E$8>0,E$7=1),\n(F$40/F$26)*(1+F$22+F$23),\nE42*(1+F$22+F$23))),0)","v":3.6395597956096086E-2},{"$f":"IFERROR(\nIF(AND(G$8=0,G$7=1),\n(G$40/G$26),\nIF(AND(F$8>0,F$7=1),\n(F$40/F$26)*(1+G$22+G$23),\nF42*(1+G$22+G$23))),0)","v":3.6866072064094722E-2},3.7305761766459479E-2,3.7825307029042972E-2,3.8352087830242798E-2,3.844935888163676E-2,3.9218346059269493E-2,4.0002712980454887E-2,4.0802767240063986E-2,4.1618822584865267E-2,4.204724455044781E-2,4.2888189441456767E-2,4.3745953230285906E-2,4.4620872294891624E-2]
[]
[null,null,"Discontinuità di costo da nuovi investimenti","I*",null,10,10,10,10,10,10,10,10,10,10,10,10,10,10]
[null,null,"Discontinuità di costo da sopravvenienze normative","I**",null,100,100,100,100,100,100,100,100,100,100,100,100,100,100]
[null,null,"Totale discontinuità di costo","E=I*+I**",null,{"$f":"+F44+F45","v":110},{"$f":"+G44+G45","v":110},{"$f":"+H44+H45","v":110},110,110,110,110,110,110,110,110,110,110,110]
[]
[null,null,"Sub-componente tariffaria di gestione unitaria - discontinuità di costo anno ponte","I1=E/V''   -->   I1 ∙ (1+P-X)",null,{"$f":"IFERROR(IF(F9=1,(E$46/E$26)*(1+F$22+F$23),E48*(1+F$22+F$23)),0)","v":0},1.0536710027669946E-4,1.0662377955837484E-4,1.0810869440598171E-4,1.0961428918177885E-4,1.0312934035143468E-4,1.0519192715846337E-4,1.0729576570163264E-4,1.094416810156653E-4,1.1163051463597861E-4,1.0144546462150853E-4,1.034743739139387E-4,1.0554386139221749E-4,1.0765473862006184E-4]
[null,null,"Sub-componente tariffaria di gestione unitaria - discontinuità di costo 1° anno","I2=E/V''   -->   I2 ∙ (1+P-X)",null,{"$f":"IF(F$8>0,IF(F$9=1,F$46/F$27,E49*(1+F$22+F$23)),\"\")","v":""},1.0402243593521775E-4,1.0526307784076424E-4,1.0672904263621563E-4,1.0821542344861795E-4,1.0171281886300874E-4,1.0374707524026891E-4,1.0582201674507428E-4,1.0793845707997577E-4,1.1009722622157529E-4,9.9456337864224043E-5,1.0144546462150853E-4,1.034743739139387E-4,1.0554386139221749E-4]
[null,null,"Sub-componente tariffaria di gestione unitaria - discontinuità di costo 2° anno","I3=E/V''   -->   I3 ∙ (1+P-X)",null,{"$f":"IF(F$8>0,IF(F$9<2,\"\",IF(F$9=2,F$46/F$27,E50*(1+F$22+F$23))),\"\")","v":""},"",1.0376410385085678E-4,1.0520919292099616E-4,1.0667440727862066E-4,"",1.0146043286251725E-4,1.034896415197676E-4,1.0555943435016296E-4,1.0767062303716622E-4,"",9.9209345349269152E-5,1.0119353225625454E-4,1.0321740290137963E-4]
[null,null,"Sub-componente tariffaria di gestione unitaria - discontinuità di costo 3° anno","I4=E/V''   -->   I4 ∙ (1+P-X)",null,{"$f":"IF(F$8>0,IF(F$9<3,\"\",IF(F$9=3,F$46/F$27,E51*(1+F$22+F$23))),\"\")","v":""},"","",1.0350619875284573E-4,1.0494769606220814E-4,"","",1.012084633247354E-4,1.0323263259123011E-4,1.0529728524305471E-4,"","",9.8962761077961902E-5,1.0094201629952114E-4]
[null,null,"Sub-componente tariffaria di gestione unitaria - discontinuità di costo 4° anno","I5=E/V''   -->   I5 ∙ (1+P-X)",null,{"$f":"IF(F$8>0,IF(F$9<4,\"\",IF(F$9=4,F$46/F$27,E52*(1+F$22+F$23))),\"\")","v":""},"","","",1.032487206464954E-4,"","","",1.0095691025691505E-4,1.0297604846205335E-4,"","","",9.871658505537991E-5]
[null,null,"Sub-componente tariffaria di gestione unitaria - discontinuità di costo 5° anno","I6=E/V''   -->   I6 ∙ (1+P-X)",null,{"$f":"IF(F$8>0,IF(F$9<5,\"\",IF(F$9=5,F$46/F$27,E53*(1+F$22+F$23))),\"\")","v":""},"","","","","","","","",1.0070577366423618E-4,"","","",""]
[null,null,"Sub-componente tariffaria di gestione da discontinuità di costo","G'= I1+I2+I3+I4+I5+I6",null,{"$f":"IFERROR(SUM(F48:F53),0)","v":0},{"$f":"IFERROR(SUM(G48:G53),0)","v":2.0938953621191719E-4},{"$f":"IFERROR(SUM(H48:H53),0)","v":3.1565096124999589E-4},4.2355312871603925E-4,5.3270053661772106E-4,2.0484215921444342E-4,3.1039943526124951E-4,4.1781588729120994E-4,5.2712911529394918E-4,6.3837747126406432E-4,2.0090180248573256E-4,3.0412918388471636E-4,4.0917452864037263E-4,5.1607460426856004E-4]
[]
[null,null,"Componente tariffaria di gestione unitaria (comprensiva delle discontinuità di costo)","Tg= G+G'",null,{"$f":"+F42+F54","v":3.6395597956096086E-2},3.7075461600306642E-2,{"$f":"+H42+H54","v":3.7621412727709476E-2},3.824886015775901E-2,3.8884788366860518E-2,3.8654201040851204E-2,3.952874549453074E-2,4.0420528867746094E-2,4.1329896355357935E-2,4.2257200056129332E-2,4.2248146352933544E-2,4.319231862534148E-2,4.4155127758926278E-2,4.5136946899160181E-2]
[null,null,"Totale ricavi da componente tariffaria di gestione (comprensivi delle discontinuità di costo)","G*= Tg ∙ V",null,{"$f":"+F56*F25","v":38009.540381033599},{"$f":"+G56*G25*G10","v":38913.149959095783},39683.592597804825,40547.160091798774,41427.406495422212,41387.650116235578,42535.658563063706,43712.755421754249,44919.671268625811,46157.155017468307,46378.002068569163,47651.541749247888,48957.321132939534,50296.149893376314]
[]
[null,null,"Effetto meccanismo premialità/penalità da qualità dei servizi"]
[]
[null,null,"Indicatore sintetico di qualità anni precedenti","Qt",null,null,-5.0000000000000001E-3,-4.0000000000000001E-3]
[]
[null,null,"Componente tariffaria di gestione unitaria (effettiva)","G**= G*· (1+Qt)",null,null,{"$f":"IF(G61<>\"\",G56*(1+G61),\"\")","v":3.6890084292305107E-2},{"$f":"IF(H61<>\"\",H56*(1+H61),\"\")","v":3.7470927076798638E-2},"","","","","","","","","","",""]
[null,null,"Scostamento da componente tariffaria di gestione determinata ex ante",null,null,null,{"$f":"IF(G61<>\"\",G63-G56,\"\")","v":-1.8537730800153446E-4},{"$f":"IF(H61<>\"\",H63-H56,\"\")","v":-1.5048565091083793E-4},"","","","","","","","","","",""]
[null,null,"Totale ricavi da componente di gestione (effettivi)","G**∙V",null,null,{"$f":"IF(G61<>\"\",G63*G$25,\"\")","v":38718.584209300301},{"$f":"IF(H61<>\"\",H63*H$25,\"\")","v":39524.858227413606},"","","","","","","","","","",""]
[null,null,"Scostamento ricavi da componente di gestione determinati ex ante",null,null,null,{"$f":"IF(G61<>\"\",G65-G57,\"\")","v":-194.56574979548168},{"$f":"IF(H61<>\"\",H65-H57,\"\")","v":-158.73437039121927},"","","","","","","","","","",""]
[]
[null,null,"Componente tariffaria di gestione unitaria applicata","Tg= G+G'",null,{"$f":"IF(F63=\"\",F56,F63)","v":3.6395597956096086E-2},{"$f":"IF(G63=\"\",G56,G63)","v":3.6890084292305107E-2},3.7470927076798638E-2,3.824886015775901E-2,3.8884788366860518E-2,3.8654201040851204E-2,3.952874549453074E-2,4.0420528867746094E-2,4.1329896355357935E-2,4.2257200056129332E-2,4.2248146352933544E-2,4.319231862534148E-2,4.4155127758926278E-2,4.5136946899160181E-2]
[null,null,"Totale ricavi da componente tariffaria di gestione (comprensivi delle discontinuità di costo) aggiornati","G*= Tg ∙ V",null,{"$f":"+F68*F25","v":38009.540381033599},38718.584209300301,39524.858227413606,40547.160091798774,41427.406495422212,41387.650116235578,42535.658563063706,43712.755421754249,44919.671268625811,46157.155017468307,46378.002068569163,47651.541749247888,48957.321132939534,50296.149893376314]
[]
[]
[null,null,"COMPONENTE TARIFFARIA DI COSTRUZIONE - Tk"]
[]
[null,null,"CIN ante (TIR)"]
[null,"1a","CIN ante - investimenti (opere) (01/01) - SAL contabilizzati","H1a",null,null,208421.05263157893,183618.42105263157,158815.78947368421,134013.15789473685,109210.52631578948,84407.894736842107,59605.26315789474,34802.631578947374,10000,10000,10000,10000,9980]
[null,"1b","CIN ante - investimenti (opere) (01/01) - SAL da contabilizzare","H1b",null,null,10000,18750,26071.428571428572,21726.190476190477,17380.952380952382,13035.714285714286,8690.4761904761908,4345.2380952380954,0,0,0,0,-20]
[null,"2a","CIN ante - investimenti (contributo) (01/01)  - SAL contabilizzati","F1a",null,null,0,-2000,-1714.2857142857142,-1428.5714285714284,-1142.8571428571427,-857.142857142857,-571.42857142857133,-285.71428571428567,0,0,0,0,0]
[null,"2b","CIN ante - investimenti (contributo) (01/01)  - SAL da contabilizzare","F1b",null,null,0,-1000,-857.14285714285711,-714.28571428571422,-571.42857142857133,-428.5714285714285,-285.71428571428567,-142.85714285714283,0,0,0,0,0]
[null,3,"CIN ante - avviamento (01/01)","H1'",null,null,0,0,0,0,0,0,0,0,0,0,0,0,0]
[]
[null,null,"CIN pre2026 (WACC) - ammortamento finanziario"]
[null,4,"CIN post - finanziario - investimenti (opere) (01/01)","H2",null,null,20000,30000,40000,40000,40000,40000,40000,40000,40000,32200,24400,16600,8780]
[null,5,"CIN post - finanziario - investimenti (contributo) (01/01)","F2",null,null,0,-1000,-1000,-1000,-1000,-1000,-1000,-1000,-1000,-800,-600,-400,-200]
[]
[null,null,"CIN post2026 (WACC) - ammortamento finanziario"]
[null,9,"CIN post - finanziario - investimenti (opere) (01/01)","H2",null,null,0,50000,100000,100000,100000,100000,100000,100000,100000,80000,60000,40000,19980]
[null,10,"CIN post - finanziario - investimenti (contributo) (01/01)","F2",null,null,0,-1000,-1000,-1000,-1000,-1000,-1000,-1000,-1000,-800,-600,-400,-200]
[]
[null,null,"CIN post2026 (WACC) - ammortamento a vite utili"]
[null,"12a","CIN post - vite utili - LIC di primo livello (01/01)","L1",null,null,0,0,100,100,100,100,100,100,100,100,100,100,0]
[null,"12b","CIN post - vite utili - LIC di secondo livello (01/01)","L2",null,null,0,0,100,100,100,100,100,100,100,100,100,100,0]
[null,14,"CIN post - vite utili - investimenti (opere) (01/01)","H4",null,null,0,0,0,400,790,1170,1534,1884.6666666666667,2215.3333333333335,2526,2816.666666666667,3067.3333333333335,3308]
[null,15,"CIN post - vite utili - investimenti (contributo) (01/01)","F4",null,null,0,0,-40,-79,-117,-153.4,-188.46666666666667,-221.5333333333333,-252.6,-281.66666666666663,-306.73333333333335,-330.79999999999995,-313.53333333333336]
[]
[null,null,"Valore di subentro"]
[null,6,"CIN ante - valore di subentro investimenti (cumulato)","N1",null,null,10000,10000,10000,10000,10000,10000,10000,10000,10000,10000,10000,10000,9960]
[null,7,"CIN pre2026 - valore di subentro investimenti (cumulato)","N2",null,null,1000,1000,1000,1000,1000,1000,1000,1000,1000,1000,1000,1000,1000]
[null,8,"CIN post - finanziario - valore di subentro LIC","N3",null,null,0,0,0,0,0,0,0,0,0,0,0,0,0]
[null,11,"CIN post - finanziario - valore di subentro investimenti (cumulato)","N4",null,null,0,0,0,0,0,0,0,0,0,0,0,0,0]
[null,"13a","CIN post - vite utili - valore di subentro LIC di primo livello","N51",null,null,0,0,0,0,0,0,0,0,0,0,0,0,0]
[null,"13b","CIN post - vite utili - valore di subentro LIC di secondo livello","N52",null,null,0,0,0,0,0,0,0,0,0,0,0,0,0]
[null,16,"CIN post - vite utili - valore di subentro investimenti (opere) (cumulato)","N6",null,null,0,0,300,610,882,1188.6666666666667,1468.6666666666667,1768.6666666666667,2088.666666666667,2368.666666666667,2748.666666666667,3135.3333333333335,2935.3333333333335]
[null,17,"CIN post - vite utili - valore di subentro investimenti (contributo) (cumulato)","N7",null,null,0,-29,-59,-84.6,-113.93333333333332,-139.93333333333334,-167.93333333333334,-197.93333333333334,-221.93333333333334,-258.93333333333334,-296.26666666666665,-296.26666666666665,-296.26666666666665]
[]
[]
[null,null,"Totale ammortamenti"]
[null,"22a","Ammortamento CIN ante - investimenti (opere) - SAL contabilizzati","J1a",null,null,24802.631578947367,24802.631578947367,24802.631578947367,24802.631578947374,24802.63157894737,24802.631578947367,24802.63157894737,24802.631578947374,0,0,0,0,0]
[null,"22b","Ammortamento CIN ante - investimenti (opere) - SAL da contabilizzare","J1b",null,null,1250,2678.5714285714284,4345.2380952380954,4345.2380952380954,4345.2380952380954,4345.2380952380954,4345.2380952380954,4345.2380952380954,0,0,0,0,0]
[null,"23a","Ammortamento CIN ante - investimenti (contributo) - SAL contabilizzati","K1a",null,null,0,-285.71428571428572,-285.71428571428567,-285.71428571428572,-285.71428571428567,-285.71428571428567,-285.71428571428567,-285.71428571428567,0,0,0,0,0]
[null,"23b","Ammortamento CIN ante - investimenti (contributo) - SAL da contabilizzare","K1b",null,null,0,-142.85714285714286,-142.85714285714283,-142.85714285714286,-142.85714285714283,-142.85714285714283,-142.85714285714283,-142.85714285714283,0,0,0,0,0]
[null,24,"Ammortamento CIN ante - avviamento","J1'",null,null,0,0,0,0,0,0,0,0,0,0,0,0,0]
[null,25,"Ammortamento CIN pre2026 - investimenti (opere)","J2",null,null,0,0,0,0,0,0,0,0,7800,7800,7800,7800,7780]
[null,26,"Ammortamento CIN pre2026 - investimenti (contributo)","K2",null,null,0,0,0,0,0,0,0,0,-200,-200,-200,-200,-200]
[null,29,"Ammortamento CIN post2026 - finanziario - investimenti (opere)","J3",null,null,0,0,0,0,0,0,0,0,20000,20000,20000,20000,19980]
[null,30,"Ammortamento CIN post2026 - finanziario - investimenti (contributo)","K3",null,null,0,0,0,0,0,0,0,0,-200,-200,-200,-200,-200]
[null,34,"Ammortamento CIN post2026 - vite utili - investimenti (opere)","J4",null,null,0,0,0,10,20,36,49.333333333333336,69.333333333333343,89.333333333333343,109.33333333333334,149.33333333333334,159.33333333333334,172.66666666666669]
[null,35,"Ammortamento CIN post2026 - vite utili - investimenti (contributo)","K4",null,null,0,0,-1,-2,-3.6,-4.9333333333333336,-6.9333333333333336,-8.9333333333333336,-10.933333333333334,-14.933333333333334,-15.933333333333334,-17.266666666666666,-17.266666666666666]
[null,null,"Totale","Amm =somma (Jx+Kx)",null,null,{"$f":"SUM(G107:G117)","v":26052.631578947367},{"$f":"SUM(H107:H117)","v":27052.631578947367},28718.298245614034,28727.298245614042,28735.698245614039,28750.3649122807,28761.698245614036,28779.698245614039,27478.399999999998,27494.399999999998,27533.399999999998,27542.066666666666,27515.4]
[]
[null,null,"Totale remunerazioni"]
[null,"42a","Remunerazione CIN ante - investimenti (opere) - SAL contabilizzati","O1a",null,null,27520.999999999996,24080.874999999996,20640.75,17200.625,13760.5,10320.375,6880.25,3440.1250000000005,0,0,0,0,2.774]
[null,"42b","Remunerazione CIN ante - investimenti (opere) - SAL da contabilizzare","O1b",null,null,1387,2600.625,3616.1071428571427,3013.4226190476188,2410.738095238095,1808.0535714285713,1205.3690476190475,602.68452380952374,0,0,0,0,-2.774]
[null,"43a","Remunerazione CIN ante - investimenti (contributo) - SAL contabilizzati","P1a",null,null,0,-277.39999999999998,-237.77142857142854,-198.14285714285711,-158.51428571428568,-118.88571428571426,-79.257142857142838,-39.628571428571419,0,0,0,0,0]
[null,"43b","Remunerazione CIN ante - investimenti (contributo) - SAL da contabilizzare","P1b",null,null,0,-138.69999999999999,-118.88571428571427,-99.071428571428555,-79.257142857142838,-59.442857142857129,-39.628571428571419,-19.81428571428571,0,0,0,0,0]
[null,46,"Remunerazione CIN ante - valore di subentro investimenti","Q1",null,null,1387,1387,1387,1387,1387,1387,1387,1387,1387,1387,1387,1387,1381.452]
[null,44,"Remunerazione CIN ante - avviamento","O1'",null,null,0,0,0,0,0,0,0,0,0,0,0,0,0]
[null,45,"Remunerazione CIN pre2026 - finanziario - investimenti (opere)","O2",null,null,1426.9,2177.9,2928.9,2928.9,2928.9,2928.9,2928.9,2928.9,2928.9,2343.12,1757.34,1171.56,584.27800000000002]
[null,48,"Remunerazione CIN pre2026 - finanziario - investimenti (contributo)","P2",null,null,0,-75.099999999999994,-75.099999999999994,-75.099999999999994,-75.099999999999994,-75.099999999999994,-75.099999999999994,-75.099999999999994,-75.099999999999994,-60.08,-45.06,-30.04,-15.02]
[null,47,"Remunerazione CIN pre2026 - finanziario - valore di subentro investimenti","Q2",null,null,75.099999999999994,75.099999999999994,75.099999999999994,75.099999999999994,75.099999999999994,75.099999999999994,75.099999999999994,75.099999999999994,75.099999999999994,75.099999999999994,75.099999999999994,75.099999999999994,75.099999999999994]
[null,49,"Remunerazione CIN post2026 - finanziario - investimenti (opere)","O3",null,null,0,3755,7510,7510,7510,7510,7510,7510,7510,6008,4506,3004,1500.498]
[null,50,"Remunerazione CIN post2026 - finanziario - investimenti (contributo)","P3",null,null,0,-75.099999999999994,-75.099999999999994,-75.099999999999994,-75.099999999999994,-75.099999999999994,-75.099999999999994,-75.099999999999994,-75.099999999999994,-60.08,-45.06,-30.04,-15.02]
[null,51,"Remunerazione CIN post2026 - finanziario - valore di subentro investimenti","Q3",null,null,0,0,0,0,0,0,0,0,0,0,0,0,0]
[null,"52a","Remunerazione CIN post2026 - vite utili - LIC di primo livello","O41",null,null,0,0,7.51,7.51,7.51,7.51,7.51,7.51,7.51,7.51,7.51,7.51,0]
[null,"52b","Remunerazione CIN post2026 - vite utili - LIC di secondo livello","O42",null,null,0,0,4.3499999999999996,4.3499999999999996,4.3499999999999996,4.3499999999999996,4.3499999999999996,4.3499999999999996,4.3499999999999996,4.3499999999999996,4.3499999999999996,4.3499999999999996,0]
[null,54,"Remunerazione CIN post2026 - vite utili - investimenti (opere)","O5",null,null,0,0,0,7.51,13.518000000000001,21.628799999999998,25.934533333333334,31.241600000000002,33.544666666666664,32.843733333333333,33.644800000000004,23.931866666666668,12.967266666666671]
[null,55,"Remunerazione CIN post2026 - vite utili - investimenti (contributo)","P5",null,null,0,0,-0.82610000000000006,-1.502,-2.4332399999999996,-2.9639466666666667,-3.6448533333333333,-4.02536,-4.1054666666666657,-4.485973333333332,-3.5897799999999984,-2.5934533333333318,-1.296726666666665]
[null,56,"Remunerazione CIN post2026 - vite utili - valore di subentro investimenti","Q5",null,null,0,0,0,22.53,45.811,66.238200000000006,89.268866666666668,110.29686666666666,132.82686666666666,156.85886666666667,177.88686666666666,206.42486666666667,235.46353333333334]
[null,57,"Remunerazione CIN post2026 - vite utili - valore di subentro investimenti (contributo)","R5",null,null,0,0,-2.1779000000000002,-4.4309000000000003,-6.3534600000000001,-8.5563933333333324,-10.508993333333333,-12.611793333333333,-14.864793333333333,-16.667193333333334,-19.445893333333334,-22.249626666666668,-22.249626666666668]
[null,null,"Totale","Rem = somma (Ox+Px+Qx+Rx)",null,null,{"$f":"SUM(G121:G138)","v":31796.999999999996},33510.199999999997,35659.856,31703.600433333329,27746.668966666672,23789.106659999998,19830.44288666666,15870.92798,11910.061273333333,9873.4694333333337,7835.6759933333333,5794.9536533333339,3736.1724466666669]
[]
[null,null,"Totale costi ammessi di costruzione","M = Amm + Rem",null,null,{"$f":"+G118+G139","v":57849.631578947359},60562.831578947364,64378.154245614031,60430.898678947371,56482.367212280711,52539.471572280701,48592.141132280696,44650.62622561404,39388.461273333334,37367.869433333333,35369.075993333332,33337.020319999996,31251.572446666669]
[]
[null,null,"Componente tariffaria di costruzione (senza poste figurative)","Tk = M / V",null,null,{"$f":"+G141/(G25*G10)","v":5.511766064817919E-2},5.7415650490182012E-2,6.072906248872368E-2,5.6721936146539136E-2,5.2751986917716348E-2,4.8825373118855264E-2,4.4932423601132067E-2,4.1082352163057362E-2,3.6060413327043989E-2,3.4040345558281282E-2,3.2059243913384647E-2,3.0067012599288807E-2,2.8045895541324885E-2]
[null,null,"Ricavi da Tk",null,null,null,{"$f":"G143*G$25*G$10","v":57849.631578947359},{"$f":"H143*H$25*H$10","v":60562.831578947364},64378.154245614031,60430.898678947371,56482.367212280711,52539.471572280701,48592.141132280696,44650.62622561404,39388.461273333334,37367.869433333333,35369.075993333339,33337.020319999996,31251.572446666669]
[]
[null,null,"Poste figurative annue","PF",null,null,-6961.4866326962147,-5442.8604757487628,-5668.6276673040047,1287.382458778302,7740.1639891066443,13761.671211249632,19436.18561874389,25085.211526861262,32097.746006729096,35912.641649458667,39750.77591763674,43668.339873935402,47686.62228813651]
[null,null,"Poste figurative annue unitarie","TPF = PF / V",null,null,{"$f":"G146/(G25*G10)","v":-6.6327277694785188E-3},-5.1600192163248982E-3,-5.3473177022074379E-3,1.2083690168327207E-3,7.228964536131483E-3,1.2788836878648201E-2,1.7972349130165655E-2,2.3080516022866326E-2,2.9385712222598191E-2,3.2714702502353733E-2,3.6030905108463074E-2,3.938493940299586E-2,4.2795095501005478E-2]
[null,null,"Saldo poste figurative","SPF = SPF(t-1) ∙ (1+Tasso) + PF",null,-82216.894266964155,-100264.53384647485,-119153.44530609316,-140614.39855986147,-158692.00940530543,-172816.72489334046,-182871.22984191004,-190878.10380899138,-174096.08979782125,-149571.52369729738,-120165.24332867115,-85641.655495831612,-45698.727635964897,7.1377144195139408E-9]
[null,null,null,"Check azzermento saldo PF alla scadenza della concessione",{"$f":"+IF(ROUND(OFFSET(G148,0,ScadenzaConcessione-AnnoPonte-1,1,1),5)=0,\"Ok\",\"Verificare\")","v":"Ok"}]
[]
[null,null,"Componente tariffaria di costruzione (con poste figurative)","Tk' = Tk + TPF",null,null,{"$f":"+G143+G147","v":4.8484932878700669E-2},5.2255631273857114E-2,5.5381744786516245E-2,5.7930305163371859E-2,5.9980951453847832E-2,6.1614209997503465E-2,6.2904772731297715E-2,6.4162868185923691E-2,6.5446125549642187E-2,6.6755048060635008E-2,6.8090149021847721E-2,6.945195200228467E-2,7.0840991042330367E-2]
[null,null,"Ricavi da Tk (con poste figurative)",null,null,null,{"$f":"G151*G$25*G$10","v":50888.144946251145},55119.971103198601,58709.526578310033,61718.28113772568,64222.531201387355,66301.142783530333,68028.326751024579,69735.837752475301,71486.207280062445,73280.511082791985,75119.851910970072,77005.360193935398,78938.194734803183]
[]
[]
[null,null,"COMPONENTE TARIFFARIA PER ONERI INTEGRATIVI (in migliaia di euro)"]
[]
[null,null,"Costi totali afferenti a componente tariffaria per oneri integrativi                              ","U",null,null,508.75637332527299,453.08897696200097,393.24095913184726,328.89835516264907,1250,1250,1250,1250,1250,1250,1250,1250,1250]
[]
[null,null,"Componente tariffaria per oneri integrativi           ","Toi = U / V",null,null,{"$f":"+IFERROR(G157/G25,0)","v":4.8473015941808708E-4},4.2954395730808941E-4,3.7095121878040743E-4,3.0871213084800164E-4,1.1674436979477092E-3,1.1616355203459795E-3,1.1558562391502283E-3,1.1501057105972423E-3,1.1443837916390474E-3,1.1386903399393507E-3,1.1330252138700007E-3,1.1273882725074636E-3,1.1217793756293172E-3]
[]
[]
[null,null,"TARIFFA UNITARIA MEDIA INTEGRATA"]
[]
[null,null,"Tariffa unitaria media (con poste figurative)  ","Tumi = Tg + Tk' + Toi",null,8.6637302685775991E-2,{"$f":"+G68+G151+G159","v":8.5859747330423869E-2},{"$f":"+H68+H151+H159","v":9.0156102307963837E-2},9.4001556163055652E-2,9.7123805661080378E-2,9.9802596192646739E-2,0.10230459101238018,0.10448115783819403,0.10664287025187887,0.10884770939741056,0.1101418847535079,0.1124154928610592,0.11473446803371842,0.11709971731711988]
[null,null,"Ricavi da traffico previsti (con poste figurative)"," Y = Tumi · T",null,null,{"$f":"G164*G25*G10","v":90115.485528876728},95097.918307574204,99649.927629240643,103474.58598831054,106860.18131762293,110086.80134659403,112991.08217277883,115905.50902110111,118893.36229753074,120908.51315136116,124021.39366021796,127212.68132687494,130484.3446281795]
[]
[]
[null,null,"RENDIMENTO PFR"]
[]
[null,null,"Flusso di cassa per costi di gestione efficientati","Cash out: gestione",null,null,{"$f":"-(G40+G46)*G10","v":-39094.550694197605},-39559.50680511049,-40108.907310591589,-41120.923395489423,-41692.069244157159,-42523.710629040303,-43371.98484162111,-44237.224538453534,-45702.939199458524,-46614.797983447694,-47544.893943116651,-48493.591821978982,-49461.26365841856]
[null,null,"Flusso di cassa da CIN residuo","CIN residuo",null,{"$f":"-(OFFSET('Z0.2.a PR Pregressi'!E671,0,AnnoPonte-UltimoAnnoRTP,1,1))","v":-238421.05263157893}]
[null,null,"Flusso di cassa per investimenti in beni reversibili","Cash out: investimenti reversibili",null,null,{"$f":"-(SUM('Z0.4.a ProgrammaInvest_Spesa'!W19:W1003)-SUM('Z0.4.b ProgrammaInvest_Contrib'!W19:W1003)-SUM('Z0.4.c ProgrammaInvest_Dismiss'!W19:W1003))","v":-65000},{"$f":"-(SUM('Z0.4.a ProgrammaInvest_Spesa'!X19:X10000)-SUM('Z0.4.b ProgrammaInvest_Contrib'!X19:X10000)-SUM('Z0.4.c ProgrammaInvest_Dismiss'!X19:X10000))","v":-70160},{"$f":"-(SUM('Z0.4.a ProgrammaInvest_Spesa'!Y19:Y1003)-SUM('Z0.4.b ProgrammaInvest_Contrib'!Y19:Y1003)-SUM('Z0.4.c ProgrammaInvest_Dismiss'!Y19:Y1003))","v":-360},{"$f":"-(SUM('Z0.4.a ProgrammaInvest_Spesa'!Z19:Z1003)-SUM('Z0.4.b ProgrammaInvest_Contrib'!Z19:Z1003)-SUM('Z0.4.c ProgrammaInvest_Dismiss'!Z19:Z1003))","v":-360},{"$f":"-(SUM('Z0.4.a ProgrammaInvest_Spesa'!AA19:AA1003)-SUM('Z0.4.b ProgrammaInvest_Contrib'!AA19:AA1003)-SUM('Z0.4.c ProgrammaInvest_Dismiss'!AA19:AA1003))","v":-360},{"$f":"-(SUM('Z0.4.a ProgrammaInvest_Spesa'!AB19:AB1003)-SUM('Z0.4.b ProgrammaInvest_Contrib'!AB19:AB1003)-SUM('Z0.4.c ProgrammaInvest_Dismiss'!AB19:AB1003))","v":-360},{"$f":"-(SUM('Z0.4.a ProgrammaInvest_Spesa'!AC19:AC1003)-SUM('Z0.4.b ProgrammaInvest_Contrib'!AC19:AC1003)-SUM('Z0.4.c ProgrammaInvest_Dismiss'!AC19:AC1003))","v":-360},{"$f":"-(SUM('Z0.4.a ProgrammaInvest_Spesa'!AD19:AD1003)-SUM('Z0.4.b ProgrammaInvest_Contrib'!AD19:AD1003)-SUM('Z0.4.c ProgrammaInvest_Dismiss'!AD19:AD1003))","v":-360},{"$f":"-(SUM('Z0.4.a ProgrammaInvest_Spesa'!AE19:AE1003)-SUM('Z0.4.b ProgrammaInvest_Contrib'!AE19:AE1003)-SUM('Z0.4.c ProgrammaInvest_Dismiss'!AE19:AE1003))","v":-360},{"$f":"-(SUM('Z0.4.a ProgrammaInvest_Spesa'!AF19:AF1003)-SUM('Z0.4.b ProgrammaInvest_Contrib'!AF19:AF1003)-SUM('Z0.4.c ProgrammaInvest_Dismiss'!AF19:AF1003))","v":-360},{"$f":"-(SUM('Z0.4.a ProgrammaInvest_Spesa'!AG19:AG1003)-SUM('Z0.4.b ProgrammaInvest_Contrib'!AG19:AG1003)-SUM('Z0.4.c ProgrammaInvest_Dismiss'!AG19:AG1003))","v":-360},{"$f":"-(SUM('Z0.4.a ProgrammaInvest_Spesa'!AH19:AH1003)-SUM('Z0.4.b ProgrammaInvest_Contrib'!AH19:AH1003)-SUM('Z0.4.c ProgrammaInvest_Dismiss'!AH19:AH1003))","v":-120},{"$f":"-(SUM('Z0.4.a ProgrammaInvest_Spesa'!AI19:AI1003)-SUM('Z0.4.b ProgrammaInvest_Contrib'!AI19:AI1003)-SUM('Z0.4.c ProgrammaInvest_Dismiss'!AI19:AI1003))","v":200}]
[null,null,"Valore di subentro","Cash in: valore di subentro",null,null,{"$f":"IF(G4=ScadenzaConcessione,SUM(G96:G103),\"\")","v":""},"","","","","","","","","","","",13599.066666666668]
[null,null,"Saldo poste figurative (inizio periodo regolatorio)","Cash out: saldo iniziale PF",null,{"$f":"F148","v":-82216.894266964155}]
[null,null,"Flusso di cassa per oneri integrativi","Cash out: oneri integrativi",null,null,{"$f":"-G157","v":-508.75637332527299},{"$f":"-H157","v":-453.08897696200097},-393.24095913184726,-328.89835516264907,-1250,-1250,-1250,-1250,-1250,-1250,-1250,-1250,-1250]
[null,null,"Flusso di cassa per ricavi tariffari (con remunerazione annualizzata)","Cash in: ricavi da traffico",null,null,{"$f":"G165+G139*(1/G10-1)","v":90115.485528876728},95097.918307574204,99649.927629240643,103474.58598831054,106860.18131762293,110086.80134659403,112991.08217277883,115905.50902110111,118893.36229753074,120908.51315136116,124021.39366021796,127212.68132687494,130484.3446281795]
[]
[null,null,"Flusso di cassa regolatorio complessivo","Cash flow complessivo",null,{"$f":"SUM(F170:F176)","v":-320637.9468985431},-14487.821538646152,{"$f":"SUM(H170:H176)","v":-15074.677474498283},58787.779359517204,61664.76423765847,63558.112073465774,65953.090717553729,68009.097331157711,70058.284482647578,71580.423098072206,72683.715167913469,74866.499717101309,77349.089504895965,93572.147636427602]
[]
[null,null,"Tasso interno di rendimento PFR",null,{"$f":"IRR(OFFSET(F178,,,,ScadenzaConcessione-AnnoPonte+1))","v":0.10882089121295624}]
[]
[]
[]
[null,null,"Riepilogo componenti tariffarie"]
[]
[null,null,"Anno",null,null,{"$f":"OFFSET($F$4,0,0,1,ScadenzaConcessione-AnnoPonte+1)","v":2025},2026,2027,2028,2029,2030,2031,2032,2033,2034,2035,2036,2037,2038]
[null,null,"Componente tariffaria di gestione (Tg)","Tg - base",null,null,{"$f":"IF(G61=\"\",G42,G42*(1+G61))","v":3.6681741703774251E-2},{"$f":"IF(H61=\"\",H42,H42*(1+H61))","v":3.7156538719393638E-2},3.7825307029042972E-2,3.8352087830242798E-2,3.844935888163676E-2,3.9218346059269493E-2,4.0002712980454887E-2,4.0802767240063986E-2,4.1618822584865267E-2,4.204724455044781E-2,4.2888189441456767E-2,4.3745953230285906E-2,4.4620872294891624E-2]
[null,null,"Componente tariffaria di gestione da discontinuità di costo (Tg')","Tg - discontinuità costo",null,null,{"$f":"IF(G61=\"\",G54,G54*(1+G61))","v":2.083425885308576E-4},{"$f":"IF(H61=\"\",H54,H54*(1+H61))","v":3.1438835740499592E-4},4.2355312871603925E-4,5.3270053661772106E-4,2.0484215921444342E-4,3.1039943526124951E-4,4.1781588729120994E-4,5.2712911529394918E-4,6.3837747126406432E-4,2.0090180248573256E-4,3.0412918388471636E-4,4.0917452864037263E-4,5.1607460426856004E-4]
[null,null,"Componente tariffaria di costruzione (Tk): ammortamenti CIN ante","Tk - ammortamenti CIN ante",null,null,{"$f":"(G107+G108+G109+G110+G111)/(G$25*G$10)","v":2.4822286109131116E-2},2.5646826594488956E-2,2.7091426870303744E-2,2.695664365204354E-2,2.6822530997058249E-2,2.6689085569212186E-2,2.6556304048967354E-2,2.642418313330086E-2,0,0,0,0,0]
[null,null,"Componente tariffaria di costruzione (Tk): ammortamenti CIN pre2026","Tk - ammortamenti CIN pre2026",null,null,{"$f":"(G112+G113)/(G$25*G$10)","v":0},0,0,0,0,0,0,0,6.9578534531654088E-3,6.923237266831252E-3,6.8887933003296039E-3,6.8545206968453794E-3,6.8024701338161792E-3]
[null,null,"Componente tariffaria di costruzione (Tk): ammortamenti CIN post2026","Tk - ammortamenti CIN post2026",null,null,{"$f":"(G114+G115+G116+G117)/(G$25*G$10)","v":0},0,-9.4331785681570767E-7,7.5089978651996649E-6,1.5316861317073945E-5,2.8870514798998741E-5,3.920664363197575E-5,5.5573107936058757E-5,1.8198815010974111E-2,1.8122848879111531E-2,1.8068035838525016E-2,1.7985961671649606E-2,1.7890496451936553E-2]
[null,null,"Componente tariffaria di costruzione (Tk): remunerazioni CIN ante","Tk - remunerazioni CIN ante",null,null,{"$f":"(G121+G122+G125+G123+G124+G126)/(G$25*G$10)","v":2.8864307062315988E-2},2.6215427717329726E-2,2.3853867308870159E-2,1.9996304877571182E-2,1.6176535724410693E-2,1.2394279278725088E-2,8.6492568261446363E-3,4.9411914970675297E-3,1.269808255202687E-3,1.2634908011967035E-3,1.2572047773101527E-3,1.2509500271742817E-3,1.2397474896174972E-3]
[null,null,"Componente tariffaria di costruzione (Tk): remunerazioni CIN pre2026","Tk - remunerazioni CIN pre2026",null,null,{"$f":"(G127+G129+G128)/(G$25*G$10)","v":1.4310674767320885E-3},2.0647242201607247E-3,2.7628836708275262E-3,2.7491379809229124E-3,2.7354606775352366E-3,2.7218514204330711E-3,2.708309871077683E-3,2.6948356926146107E-3,2.6814285498652848E-3,2.1481529905796643E-3,1.6201172854135692E-3,1.0972824960784242E-3,5.7826201193740448E-4]
[null,null,"Componente tariffaria di costruzione (Tk): remunerazioni CIN post2026","Tk - remunerazioni CIN post2026",null,null,{"$f":"(G130+G131+G132+G133+G134+G135+G136+G137+G138)/(G$25*G$10)","v":0},{"$f":"(H130+H131+H132+H133+H134+H135+H136+H137+H138)/(H$25*H$10)","v":3.4886719582026037E-3},7.0218279565790655E-3,7.0123406381363013E-3,7.0021426573950918E-3,6.9912863356859228E-3,6.9793462113104257E-3,6.9665687321383068E-3,6.952508057836493E-3,5.5826156205621294E-3,4.225092711806302E-3,2.87829770754112E-3,1.5349194540172516E-3]
[null,null,"Componente tariffaria di costruzione (Tk): poste figurative","Poste figurative unitarie",null,null,{"$f":"G147","v":-6.6327277694785188E-3},{"$f":"H147","v":-5.1600192163248982E-3},-5.3473177022074379E-3,1.2083690168327207E-3,7.228964536131483E-3,1.2788836878648201E-2,1.7972349130165655E-2,2.3080516022866326E-2,2.9385712222598191E-2,3.2714702502353733E-2,3.6030905108463074E-2,3.938493940299586E-2,4.2795095501005478E-2]
[null,null,"Componente tariffaria per oneri integrativi (Toi)","Toi",null,null,{"$f":"G159","v":4.8473015941808708E-4},4.2954395730808941E-4,3.7095121878040743E-4,3.0871213084800164E-4,1.1674436979477092E-3,1.1616355203459795E-3,1.1558562391502283E-3,1.1501057105972423E-3,1.1443837916390474E-3,1.1386903399393507E-3,1.1330252138700007E-3,1.1273882725074636E-3,1.1217793756293172E-3]
[null,null,"Tariffa unitaria media integrata (Tumi)","TUMI",null,{"$f":"F164","v":8.6637302685775991E-2},{"$f":"SUM(G187:G196)","v":8.5859747330423883E-2},{"$f":"SUM(H187:H196)","v":9.0156102307963809E-2},9.4001556163055652E-2,9.7123805661080351E-2,9.9802596192646711E-2,0.10230459101238021,0.10448115783819405,0.10664287025187887,0.10884770939741055,0.11014188475350789,0.11241549286105922,0.11473446803371842,0.11709971731711986]
[null,null,"incremento tariffario annuo (Tumi)",null,null,null,{"$f":"G197/F197-1","v":-8.9748333713968176E-3},5.0039222233042135E-2,4.2653284210936393E-2,3.3214870322027634E-2,2.7581194057759273E-2,2.5069436218912999E-2,2.1275358263740607E-2,2.068997375615389E-2,2.0674979399223803E-2,1.1889780347808854E-2,2.0642538600456506E-2,2.0628608331819231E-2,2.0614984528505742E-2]
[null,null,"CAGR (Tumi) sull'orizzonte concessorio",null,null,{"$f":"((OFFSET(F197,0,ScadenzaConcessione-PrimoAnnoPR1+1,1,1)/F197)^(1/(ScadenzaConcessione-PrimoAnnoPR1+1))-1)","v":2.3447231845644456E-2}]
[]
[null,null,null,"check Tg",null,null,{"$f":"SUM(G187:G188)-G68","v":0},{"$f":"SUM(H187:H188)-H68","v":0},0,0,0,0,0,0,0,0,0,0,0]
[null,null,null,"check Tk (senza PF)",null,null,{"$f":"SUM(G189:G194)-G143","v":0},0,0,0,0,0,0,0,0,0,0,0,0]
[null,null,null,"check Tk (con PF)",null,null,{"$f":"SUM(G189:G195)-G151","v":0},0,0,0,0,0,0,0,0,0,0,0,0]
[null,null,null,"check Tumi",null,null,{"$f":"G197-G164","v":0},{"$f":"H197-H164","v":0},0,0,0,0,0,0,0,0,0,0,0]
[]
[null,null,"Tariffa unitaria media iniziale (Anno ponte)","TUMI iniziale",null,{"$f":"F164","v":8.6637302685775991E-2}]
[null,null,"Evoluzione teorica TUMI iniziale per effetto di inflazione programmata","TUMI iniziale + inflazione",null,{"$f":"F206","v":8.6637302685775991E-2},{"$f":"F207*(1+G22)","v":8.8283411436805723E-2},8.9872512842668228E-2,9.1669963099521592E-2,9.3503362361512021E-2,9.5373429608742261E-2,9.7280898200917107E-2,9.9226516164935455E-2,0.10121104648823416,0.10323526741799885,0.10529997276635883,0.10740597222168601,0.10955409166611972,0.11174517349944212]
[]
[]
[]
[]
[]
[]
[]
[]
[]
[]
[]
[]
[]
[]
[]
[]
[]
[]
[]
[]
[]
[]
[]
[]
[]
[]
[]
[]
[]
[]
[]
[]
[]
[]
[]
[]
[]
[]
[]
[]
[]
[]
[]
[]
[]
[]
[null,null,"termine foglio di lavoro"]

{"sheet":"Z0.2.a PR Pregressi","index":3,"n_rows":770,"n_cols":11,"rows_kept":770,"cut":false,"hidden":false,"merged":[]}
[]
[null,null,"Calcolo Saldi Periodo regolatorio cessante: Capitale Investito netto, Componenti tariffarie e Poste figurative"]
[]
[null,null,"Anno",null,{"$f":"YEAR(DataAvvioSTART)-1","v":2019},{"$f":"E4+1","v":2020},2021,2022,2023,2024,2025]
[]
[null,null,"Anno base",null,0,0,0,0,0,1,0]
[null,null,"Anno ponte",null,1,0,0,0,0,0,1]
[]
[null,null,null,null,"Ultimo adattamento schema: 03/11/2025 15:37:49"]
[]
[]
[null,null,"Informazioni generali"]
[]
[null,null,"Tassi di riferimento"]
[]
[null,null,"Tasso di remunerazione del CIN ante (TIR previgente)","TIR",null,0.13869999999999999,0.13869999999999999,0.13869999999999999,0.13869999999999999,0.13869999999999999,0.13869999999999999]
[null,null,"Tasso di remunerazione del CIN pre2026 e post2026 (WACC)","WACC",null,7.0900000000000005E-2,7.0900000000000005E-2,7.0900000000000005E-2,7.0900000000000005E-2,7.0900000000000005E-2,7.0900000000000005E-2]
[null,null,"Tasso di remunerazione del valore di subentro (Rtv) - CIN ante","Rtv - ante",null,0.13869999999999999,0.13869999999999999,0.13869999999999999,0.13869999999999999,0.13869999999999999,0.13869999999999999]
[null,null,"Tasso di remunerazione del valore di subentro (Rtv) - CIN pre2026 e post2026","Rtv - post",null,7.0900000000000005E-2,7.0900000000000005E-2,7.0900000000000005E-2,7.0900000000000005E-2,7.0900000000000005E-2,7.0900000000000005E-2]
[null,null,"Tasso di remunerazione delle lavorazioni in corso di secondo livello (vite utili)","Rlic",null,7.0900000000000005E-2,7.0900000000000005E-2,7.0900000000000005E-2,7.0900000000000005E-2,7.0900000000000005E-2,7.0900000000000005E-2]
[null,null,"Costo ammesso sul capitale di debito (Rd) ","Rd",null,4.4416971059286312E-2,4.4416971059286312E-2,4.4416971059286312E-2,4.4416971059286312E-2,4.4416971059286312E-2,4.4416971059286312E-2]
[null,null,"Costo ammesso sul capitale di rischio (Re) ","Re",null,0.12634279588086542,0.12634279588086542,0.12634279588086542,0.12634279588086542,0.12634279588086542,0.12634279588086542]
[]
[null,null,"Tasso di inflazione","P",null,8.0000000000000002E-3,8.0000000000000002E-3,8.0000000000000002E-3,8.0000000000000002E-3,8.0000000000000002E-3,8.0000000000000002E-3]
[]
[null,null,"Utilizzo fondi di accantonamento per rinnovo beni reversibili"]
[]
[null,null,"Utilizzo di fondo accantonamento per rinnovo beni reversibili",null,null,300,300,300,300,300,300]
[]
[null,null,"Parametri per ammortamento finanziario"]
[]
[null,null,"CIN ante"]
[]
[null,null,"Parametro di riferimento annuo per ammortamento finanziario CIN ante",null,null,1,1,1,1,1,1]
[null,null,"(se quote costanti: inserire per ciascuna annualità sempre lo stesso valore, pari a quello inserito nel foglio 'Dati generali')"]
[null,null,"Priorità: ammortamento anticipato",{"$f":"'Z0.1 Dati generali'!E87","v":true},null,false,false,false,false,false,false]
[null,null,"Annualità di completo recupero del capitale investito in caso di ammortamento anticipato",{"$f":"'Z0.1 Dati generali'!E96","v":2033}]
[null,null,"Aliquota di ammortamento annua da applicare al CIN ante residuo per ammortamento finanziario",null,null,{"$f":"IF(AND($D$36,F36),\nIF(F$4>$D$37,\n0,\nF34/(SUM(OFFSET(F34,0,0,1,AnnoPonte-F$4+1))+SUM(OFFSET('Z0.1 Dati generali'!$H$98,0,0,1,$D$37-'Z0.1 Dati generali'!$H$23+1)))),\nF34/(SUM(OFFSET(F34,0,0,1,AnnoPonte-F$4+1))+SUM('Z0.1 Dati generali'!98:98)))","v":5.2631578947368418E-2},{"$f":"IF(AND($D$36,G36),\nIF(G$4>$D$37,\n0,\nG34/(SUM(OFFSET(G34,0,0,1,AnnoPonte-G$4+1))+SUM(OFFSET('Z0.1 Dati generali'!$H$98,0,0,1,$D$37-'Z0.1 Dati generali'!$H$23+1)))),\nG34/(SUM(OFFSET(G34,0,0,1,AnnoPonte-G$4+1))+SUM('Z0.1 Dati generali'!98:98)))","v":5.5555555555555552E-2},{"$f":"IF(AND($D$36,H36),\nIF(H$4>$D$37,\n0,\nH34/(SUM(OFFSET(H34,0,0,1,AnnoPonte-H$4+1))+SUM(OFFSET('Z0.1 Dati generali'!$H$98,0,0,1,$D$37-'Z0.1 Dati generali'!$H$23+1)))),\nH34/(SUM(OFFSET(H34,0,0,1,AnnoPonte-H$4+1))+SUM('Z0.1 Dati generali'!98:98)))","v":5.8823529411764705E-2},{"$f":"IF(AND($D$36,I36),\nIF(I$4>$D$37,\n0,\nI34/(SUM(OFFSET(I34,0,0,1,AnnoPonte-I$4+1))+SUM(OFFSET('Z0.1 Dati generali'!$H$98,0,0,1,$D$37-'Z0.1 Dati generali'!$H$23+1)))),\nI34/(SUM(OFFSET(I34,0,0,1,AnnoPonte-I$4+1))+SUM('Z0.1 Dati generali'!98:98)))","v":6.25E-2},{"$f":"IF(AND($D$36,J36),\nIF(J$4>$D$37,\n0,\nJ34/(SUM(OFFSET(J34,0,0,1,AnnoPonte-J$4+1))+SUM(OFFSET('Z0.1 Dati generali'!$H$98,0,0,1,$D$37-'Z0.1 Dati generali'!$H$23+1)))),\nJ34/(SUM(OFFSET(J34,0,0,1,AnnoPonte-J$4+1))+SUM('Z0.1 Dati generali'!98:98)))","v":6.6666666666666666E-2},{"$f":"IF(AND($D$36,K36),\nIF(K$4>$D$37,\n0,\nK34/(SUM(OFFSET(K34,0,0,1,AnnoPonte-K$4+1))+SUM(OFFSET('Z0.1 Dati generali'!$H$98,0,0,1,$D$37-'Z0.1 Dati generali'!$H$23+1)))),\nK34/(SUM(OFFSET(K34,0,0,1,AnnoPonte-K$4+1))+SUM('Z0.1 Dati generali'!98:98)))","v":7.1428571428571425E-2}]
[]
[null,null,"CIN post"]
[]
[null,null,"Parametro di riferimento annuo per ammortamento finanziario CIN post",null,null,1,1,1,1,1,1]
[null,null,"(se quote costanti: inserire per ciascuna annualità sempre lo stesso valore, pari a quello inserito nel foglio 'Dati generali')"]
[null,null,"Priorità: ammortamento ritardato",null,null,false,false,false,false,false,false]
[null,null,"Annualità di avvio del recupero del capitale investito in caso di ammortamento ritardato",{"$f":"'Z0.1 Dati generali'!E104","v":2034}]
[null,null,"Aliquota di ammortamento annua da applicare al CIN post residuo per ammortamento finanziario",null,null,{"$f":"IF(AND($D$36,F44),\nIF(F$4<$D$45,\n0,\nF42/(SUM(OFFSET(F42,0,0,1,AnnoPonte-F$4+1))+SUM('Z0.1 Dati generali'!106:106))),\nF42/(SUM(OFFSET(F42,0,0,1,AnnoPonte-F$4+1))+SUM('Z0.1 Dati generali'!106:106)))","v":5.2631578947368418E-2},{"$f":"IF(AND($D$36,G44),\nIF(G$4<$D$45,\n0,\nG42/(SUM(OFFSET(G42,0,0,1,AnnoPonte-G$4+1))+SUM('Z0.1 Dati generali'!106:106))),\nG42/(SUM(OFFSET(G42,0,0,1,AnnoPonte-G$4+1))+SUM('Z0.1 Dati generali'!106:106)))","v":5.5555555555555552E-2},{"$f":"IF(AND($D$36,H44),\nIF(H$4<$D$45,\n0,\nH42/(SUM(OFFSET(H42,0,0,1,AnnoPonte-H$4+1))+SUM('Z0.1 Dati generali'!106:106))),\nH42/(SUM(OFFSET(H42,0,0,1,AnnoPonte-H$4+1))+SUM('Z0.1 Dati generali'!106:106)))","v":5.8823529411764705E-2},{"$f":"IF(AND($D$36,I44),\nIF(I$4<$D$45,\n0,\nI42/(SUM(OFFSET(I42,0,0,1,AnnoPonte-I$4+1))+SUM('Z0.1 Dati generali'!106:106))),\nI42/(SUM(OFFSET(I42,0,0,1,AnnoPonte-I$4+1))+SUM('Z0.1 Dati generali'!106:106)))","v":6.25E-2},{"$f":"IF(AND($D$36,J44),\nIF(J$4<$D$45,\n0,\nJ42/(SUM(OFFSET(J42,0,0,1,AnnoPonte-J$4+1))+SUM('Z0.1 Dati generali'!106:106))),\nJ42/(SUM(OFFSET(J42,0,0,1,AnnoPonte-J$4+1))+SUM('Z0.1 Dati generali'!106:106)))","v":6.6666666666666666E-2},{"$f":"IF(AND($D$36,K44),\nIF(K$4<$D$45,\n0,\nK42/(SUM(OFFSET(K42,0,0,1,AnnoPonte-K$4+1))+SUM('Z0.1 Dati generali'!106:106))),\nK42/(SUM(OFFSET(K42,0,0,1,AnnoPonte-K$4+1))+SUM('Z0.1 Dati generali'!106:106)))","v":7.1428571428571425E-2}]
[]
[]
[]
[null,null,"Volumi di traffico"]
[]
[null,null,"Previsioni"]
[]
[null,null,null,null,"Preventivo","Preventivo","Preventivo","Preventivo","Preventivo","Preventivo","Preventivo"]
[]
[null,null,"(tipologia di rete #1)"]
[null,null,"Classe"]
[null,null,"A",null,617690.21054330969,620778.66159602616,623882.55490400619,627001.96767852618,630136.97751691879,633287.66240450332,636454.10071652581]
[null,null,"B",null,99140.702905827988,99636.406420357118,100134.58845245889,100635.26139472118,101138.43770169477,101644.12989020323,102152.35053965423]
[null,null,3,null,19258.803176240868,19355.09719212207,19451.872678082676,19549.132041473087,19646.877701680449,19745.11209018885,19843.837650639791]
[null,null,4,null,15285.054829143155,15361.48010328887,15438.287503805313,15515.478941324338,15593.056336030959,15671.021617711112,15749.376725799666]
[null,null,5,null,217948.99500851653,219038.73998355909,220133.93368347688,221234.60335189424,222340.77636865369,223452.48025049694,224569.7426517494]
[null,null,"Sub totale leggeri",null,{"$f":"+E58","v":617690.21054330969},{"$f":"+F58","v":620778.66159602616},{"$f":"+G58","v":623882.55490400619},627001.96767852618,630136.97751691879,633287.66240450332,636454.10071652581]
[null,null,"Sub totale pesanti",null,{"$f":"+SUM(E59:E62)","v":351633.55591972853},{"$f":"+SUM(F59:F62)","v":353391.72369932715},{"$f":"+SUM(G59:G62)","v":355158.68231782375},356934.47572941286,358719.14810805989,360512.74384860013,362315.30756784312]
[null,null,"Totale",null,{"$f":"SUM(E58:E62)","v":969323.76646303828},{"$f":"SUM(F58:F62)","v":974170.38529535336},{"$f":"SUM(G58:G62)","v":979041.23722182994},983936.44340793905,988856.12562497868,993800.4062531034,998769.40828436892]
[]
[null,null,"(tipologia di rete #2)"]
[null,null,"Classe"]
[null,null,"A",null,9097.4224566903395,9142.9095689737896,9188.6241168186571,9234.567237402749,9280.7400735897609,9327.1437739577086,9373.7794928274961]
[null,null,"B",null,2084.1900941720141,2094.6110446428738,2105.0840998660879,2115.6095203654181,2126.1875679672448,2136.8185058070808,2147.5025983361161]
[null,null,3,null,349.08782375913142,350.83326287792704,352.58742919231662,354.35036633827815,356.1221181699695,357.90272876081929,359.69224240462336]
[null,null,4,null,234.7291708568454,235.90281671112959,237.08233079468522,238.26774244865862,239.45908116090189,240.65637656670637,241.85965844953986]
[null,null,5,null,2944.9389914834856,2959.6636864409029,2974.4620048731072,2989.3343148974723,3004.2809864719593,3019.3023914043188,3034.3989033613402]
[null,null,"Sub totale leggeri",null,{"$f":"+E69","v":9097.4224566903395},{"$f":"+F69","v":9142.9095689737896},{"$f":"+G69","v":9188.6241168186571},9234.567237402749,9280.7400735897609,9327.1437739577086,9373.7794928274961]
[null,null,"Sub totale pesanti",null,{"$f":"+SUM(E70:E73)","v":5612.9460802714766},{"$f":"+SUM(F70:F73)","v":5641.010810672833},{"$f":"+SUM(G70:G73)","v":5669.2158647261967},5697.5619440498267,5726.0497537700758,5754.6800025389257,5783.4534025516195]
[null,null,"Totale",null,{"$f":"SUM(E69:E73)","v":14710.368536961814},{"$f":"SUM(F69:F73)","v":14783.920379646623},{"$f":"SUM(G69:G73)","v":14857.839981544854},14932.129181452578,15006.789827359837,15081.823776496634,15157.232895379115]
[]
[null,null,"(tipologia di rete #3)"]
[null,null,"Classe"]
[null,null,"A",null,0,0,0,0,0,0,0]
[null,null,"B",null,0,0,0,0,0,0,0]
[null,null,3,null,0,0,0,0,0,0,0]
[null,null,4,null,0,0,0,0,0,0,0]
[null,null,5,null,0,0,0,0,0,0,0]
[null,null,"Sub totale leggeri",null,{"$f":"+E80","v":0},{"$f":"+F80","v":0},{"$f":"+G80","v":0},0,0,0,0]
[null,null,"Sub totale pesanti",null,{"$f":"+SUM(E81:E84)","v":0},{"$f":"+SUM(F81:F84)","v":0},{"$f":"+SUM(G81:G84)","v":0},0,0,0,0]
[null,null,"Totale",null,{"$f":"SUM(E80:E84)","v":0},{"$f":"SUM(F80:F84)","v":0},{"$f":"SUM(G80:G84)","v":0},0,0,0,0]
[]
[null,null,"(tipologia di rete #4)"]
[null,null,"Classe"]
[null,null,"A",null,0,0,0,0,0,0,0]
[null,null,"B",null,0,0,0,0,0,0,0]
[null,null,3,null,0,0,0,0,0,0,0]
[null,null,4,null,0,0,0,0,0,0,0]
[null,null,5,null,0,0,0,0,0,0,0]
[null,null,"Sub totale leggeri",null,{"$f":"+E91","v":0},{"$f":"+F91","v":0},{"$f":"+G91","v":0},0,0,0,0]
[null,null,"Sub totale pesanti",null,{"$f":"+SUM(E92:E95)","v":0},{"$f":"+SUM(F92:F95)","v":0},{"$f":"+SUM(G92:G95)","v":0},0,0,0,0]
[null,null,"Totale",null,{"$f":"SUM(E91:E95)","v":0},{"$f":"SUM(F91:F95)","v":0},{"$f":"SUM(G91:G95)","v":0},0,0,0,0]
[]
[null,null,"Volumi di traffico Totali (mln di veicoli km)"]
[null,null,"Classe"]
[null,null,"A",null,{"$f":"+E58+E69+E80+E91","v":626787.63300000003},{"$f":"+F58+F69+F80+F91","v":629921.57116499997},{"$f":"+G58+G69+G80+G91","v":633071.17902082484},636236.53491592896,639417.71759050852,642614.80617846106,645827.88020935329]
[null,null,"B",null,{"$f":"+E59+E70+E81+E92","v":101224.893},101731.017465,{"$f":"+G59+G70+G81+G92","v":102239.67255232498},102750.87091508659,103264.62526966201,103780.94839601031,104299.85313799034]
[null,null,3,null,19607.891,19705.930454999998,{"$f":"+G60+G71+G82+G93","v":19804.460107274994},19903.482407811367,20002.999819850418,20103.014818949669,20203.529893044415]
[null,null,4,null,15519.784,15597.38292,{"$f":"+G61+G72+G83+G94","v":15675.369834599998},15753.746683772997,15832.51541719186,15911.677994277819,15991.236384249205]
[null,null,5,null,220893.93400000001,221998.40367,{"$f":"+G62+G73+G84+G95","v":223108.39568834999},224223.93766679172,225345.05735512564,226471.78264190126,227604.14155511075]
[null,null,"Sub totale leggeri",null,{"$f":"+E102","v":626787.63300000003},{"$f":"+F102","v":629921.57116499997},{"$f":"+G102","v":633071.17902082484},636236.53491592896,639417.71759050852,642614.80617846106,645827.88020935329]
[null,null,"Sub totale pesanti",null,{"$f":"+SUM(E103:E106)","v":357246.50199999998},{"$f":"+SUM(F103:F106)","v":359032.73450999998},{"$f":"+SUM(G103:G106)","v":360827.89818254998},362632.03767346265,364445.19786182989,366267.42385113903,368098.76097039471]
[null,null,"Totale complessivo",null,{"$f":"E107+E108","v":984034.13500000001},{"$f":"F107+F108","v":988954.30567499995},{"$f":"G107+G108","v":993899.07720337482},998868.57258939161,1003862.9154523384,1008882.2300296001,1013926.641179748]
[]
[]
[null,null,"Dati a consuntivo"]
[]
[null,null,null,null,{"$f":"IF(E4<AnnoPonte,\"Consuntivo\",IF(E4=AnnoPonte,\"Preconsuntivo\",\"Preventivo\"))","v":"Consuntivo"},"Consuntivo","Consuntivo","Consuntivo","Consuntivo","Consuntivo","Preconsuntivo"]
[]
[null,null,"(tipologia di rete #1)"]
[null,null,"Classe"]
[null,null,"A",null,636220.91685960896,639402.02144390694,642599.03155112639,645812.02670888195,649041.08684242633,652286.29227663844,655547.72373802157]
[null,null,"B",null,102114.92399300283,102625.49861296783,103138.62610603267,103654.31923656282,104172.59083274561,104693.45378690933,105216.92105584386]
[null,null,3,null,19836.567271528096,19935.750107885731,20035.428858425159,20135.606002717279,20236.284032730862,20337.465452894518,20439.152780158984]
[null,null,4,null,15743.60647401745,15822.324506387537,15901.436128919473,15980.943309564069,16060.848026111888,16141.152266242447,16221.858027573657]
[null,null,5,null,224487.46485877203,225609.90218306586,226737.95169398119,227871.64145245106,229010.9996597133,230156.05465801185,231306.83493130188]
[null,null,"Sub totale leggeri",null,{"$f":"+E118","v":636220.91685960896},{"$f":"+F118","v":639402.02144390694},{"$f":"+G118","v":642599.03155112639},645812.02670888195,649041.08684242633,652286.29227663844,655547.72373802157]
[null,null,"Sub totale pesanti",null,{"$f":"+SUM(E119:E122)","v":362182.56259732042},{"$f":"+SUM(F119:F122)","v":363993.47541030694},{"$f":"+SUM(G119:G122)","v":365813.44278735848},367642.51000129525,369480.7225513017,371328.12616405817,373184.76679487841]
[null,null,"Totale",null,{"$f":"SUM(E118:E122)","v":998403.47945692937},{"$f":"SUM(F118:F122)","v":1003395.4968542139},{"$f":"SUM(G118:G122)","v":1008412.4743384848},1013454.5367101771,1018521.8093937279,1023614.4184406967,1028732.4905329]
[]
[null,null,"(tipologia di rete #2)"]
[null,null,"Classe"]
[null,null,"A",null,9370.3451303910497,9417.1968560430032,9464.2828403232179,9511.604254524831,9559.1622757974546,9606.9580871764392,9654.9928776123215]
[null,null,"B",null,2146.7157969971745,2157.4493759821603,2168.2366228620704,2179.0778059763807,2189.9731950062624,2200.9230609812935,2211.9276762861996]
[null,null,3,null,359.56045847190535,361.35826076426486,363.16505206808614,364.98087732842652,366.80578171506858,368.63981062364388,370.48300967676209]
[null,null,4,null,241.77104598255076,242.97990121246349,244.19480071852578,245.41577472211839,246.64285359572895,247.87606786370756,249.11544820302606]
[null,null,5,null,3033.2871612279901,3048.4535970341299,3063.6958650193005,3079.0143443443967,3094.409416066118,3109.8814631464484,3125.4308704621803]
[null,null,"Sub totale leggeri",null,{"$f":"+E129","v":9370.3451303910497},{"$f":"+F129","v":9417.1968560430032},{"$f":"+G129","v":9464.2828403232179},9511.604254524831,9559.1622757974546,9606.9580871764392,9654.9928776123215]
[null,null,"Sub totale pesanti",null,{"$f":"+SUM(E130:E133)","v":5781.3344626796206},{"$f":"+SUM(F130:F133)","v":5810.2411349930189},{"$f":"+SUM(G130:G133)","v":5839.292340667982},5868.4888023713229,5897.8312463831771,5927.3204026150934,5956.9570046281679]
[null,null,"Totale",null,{"$f":"SUM(E129:E133)","v":15151.67959307067},{"$f":"SUM(F129:F133)","v":15227.437991036022},{"$f":"SUM(G129:G133)","v":15303.575180991202},15380.093056896152,15456.993522180634,15534.278489791534,15611.949882240489]
[]
[null,null,"(tipologia di rete #3)"]
[null,null,"Classe"]
[null,null,"A",null,0,0,0,0,0,0,0]
[null,null,"B",null,0,0,0,0,0,0,0]
[null,null,3,null,0,0,0,0,0,0,0]
[null,null,4,null,0,0,0,0,0,0,0]
[null,null,5,null,0,0,0,0,0,0,0]
[null,null,"Sub totale leggeri",null,{"$f":"+E140","v":0},{"$f":"+F140","v":0},{"$f":"+G140","v":0},0,0,0,0]
[null,null,"Sub totale pesanti",null,{"$f":"+SUM(E141:E144)","v":0},{"$f":"+SUM(F141:F144)","v":0},{"$f":"+SUM(G141:G144)","v":0},0,0,0,0]
[null,null,"Totale",null,{"$f":"SUM(E140:E144)","v":0},{"$f":"SUM(F140:F144)","v":0},{"$f":"SUM(G140:G144)","v":0},0,0,0,0]
[]
[null,null,"(tipologia di rete #4)"]
[null,null,"Classe"]
[null,null,"A",null,0,0,0,0,0,0,0]
[null,null,"B",null,0,0,0,0,0,0,0]
[null,null,3,null,0,0,0,0,0,0,0]
[null,null,4,null,0,0,0,0,0,0,0]
[null,null,5,null,0,0,0,0,0,0,0]
[null,null,"Sub totale leggeri",null,{"$f":"+E151","v":0},{"$f":"+F151","v":0},{"$f":"+G151","v":0},0,0,0,0]
[null,null,"Sub totale pesanti",null,{"$f":"+SUM(E152:E155)","v":0},{"$f":"+SUM(F152:F155)","v":0},{"$f":"+SUM(G152:G155)","v":0},0,0,0,0]
[null,null,"Totale",null,{"$f":"SUM(E151:E155)","v":0},{"$f":"SUM(F151:F155)","v":0},{"$f":"SUM(G151:G155)","v":0},0,0,0,0]
[]
[null,null,"Volumi di traffico Totali (mln di veicoli km)"]
[null,null,"Classe"]
[null,null,"A",null,{"$f":"+E118+E129+E140+E151","v":645591.26199000003},{"$f":"+F118+F129+F140+F151","v":648819.21829994989},{"$f":"+G118+G129+G140+G151","v":652063.31439144956},655323.63096340676,658600.24911822379,661893.25036381488,665202.71661563392]
[null,null,"B",null,{"$f":"+E119+E130+E141+E152","v":104261.63979},104782.94798894999,{"$f":"+G119+G130+G141+G152","v":105306.86272889473},105833.3970425392,106362.56402775187,106894.37684789063,107428.84873213006]
[null,null,3,null,20196.12773,20297.108368649995,{"$f":"+G120+G131+G142+G153","v":20398.593910493244},20500.586880045706,20603.089814445932,20706.105263518162,20809.635789835746]
[null,null,4,null,15985.37752,16065.304407600001,{"$f":"+G121+G132+G143+G154","v":16145.630929637999},16226.359084286187,16307.490879707617,16389.028334106155,16470.973475776682]
[null,null,5,null,227520.75202000001,228658.35578009998,{"$f":"+G122+G133+G144+G155","v":229801.6475590005},230950.65579679547,232105.4090757794,233265.9361211583,234432.26580176406]
[null,null,"Sub totale leggeri",null,{"$f":"+E162","v":645591.26199000003},{"$f":"+F162","v":648819.21829994989},{"$f":"+G162","v":652063.31439144956},655323.63096340676,658600.24911822379,661893.25036381488,665202.71661563392]
[null,null,"Sub totale pesanti",null,{"$f":"+SUM(E163:E166)","v":367963.89705999999},{"$f":"+SUM(F163:F166)","v":369803.71654529998},{"$f":"+SUM(G163:G166)","v":371652.73512802646},373510.99880366656,375378.55379768484,377255.44656667323,379141.72379950655]
[null,null,"Totale complessivo",null,{"$f":"E167+E168","v":1013555.15905},{"$f":"F167+F168","v":1018622.9348452499},{"$f":"G167+G168","v":1023716.049519476},1028834.6297670733,1033978.8029159086,1039148.6969304881,1044344.4404151405]
[]
[]
[]
[null,null,"Componenti tariffarie effettivamente assunte (da ultimo adeguamento tariffario annuale approvato)"]
[]
[null,null,"Tariffa unitaria media integrata (TUMI)"]
[]
[null,null,"Componente tariffaria di gestione (Tg)",null,3.5416258190411762E-2,3.5770420772315882E-2,3.6128124980039041E-2,3.6489406229839434E-2,3.6854300292137827E-2,3.7222843295059205E-2,3.7595071728009799E-2]
[null,null,"Componente tariffaria di costruzione con poste figurative (Tk)",null,4.4999999999999998E-2,4.5449999999999997E-2,4.5904500000000001E-2,4.6363544999999999E-2,4.6827180449999999E-2,4.7295452254499999E-2,4.7768406777044997E-2]
[null,null,"Componente tariffaria per oneri integrativi (Toi)",null,1.1999999999999999E-3,1.212E-3,1.22412E-3,1.2363611999999999E-3,1.2487248119999999E-3,1.26121206012E-3,1.2738241807211999E-3]
[null,null,"Tariffa unitaria media integrata (TUMI)",null,{"$f":"SUM(E177:E179)","v":8.1616258190411767E-2},8.2432420772315884E-2,{"$f":"SUM(G177:G179)","v":8.3256744980039044E-2},8.4089312429839427E-2,8.4930205554137828E-2,8.5779507609679201E-2,8.6637302685775991E-2]
[]
[null,null,"Modulazione tariffaria"]
[]
[null,null,{"$f":"C113","v":0}]
[null,null,"Classe"]
[null,null,"A",null,5.1152638372331985E-2,5.1968800954236075E-2,5.2793125161959234E-2,5.3625692611759646E-2,5.4466585736058046E-2,5.5315887791599405E-2,5.6173682867696195E-2]
[null,null,"B",null,8.5056156127683233E-2,8.5872318709587322E-2,8.6696642917310482E-2,8.7529210367110893E-2,8.8370103491409294E-2,8.9219405546950653E-2,9.0077200623047443E-2]
[null,null,3,null,8.9106004016069315E-2,8.9922166597973405E-2,9.0746490805696564E-2,9.1579058255496976E-2,9.2419951379795376E-2,9.3269253435336735E-2,9.4127048511433525E-2]
[null,null,4,null,9.7205699792841438E-2,9.8021862374745528E-2,9.8846186582468687E-2,9.9678754032269098E-2,0.1005196471565675,0.10136894921210886,0.10222674428820565]
[null,null,5,null,0.16200326600701853,0.16281942858892262,0.16364375279664578,0.16447632024644621,0.16531721337074459,0.16616651542628597,0.16702431050238276]
[]
[null,null,{"$f":"C124","v":"Sub totale pesanti"}]
[null,null,"Classe"]
[null,null,"A",null,7.7310842497702315E-2,7.8127005079606404E-2,7.8951329287329564E-2,7.9783896737129975E-2,8.0624789861428375E-2,8.1474091916969735E-2,8.2331886993066525E-2]
[null,null,"B",null,0.12855495712147433,0.12937111970337842,0.13019544391110158,0.13102801136090197,0.13186890448520039,0.13271820654074173,0.13357600161683852]
[null,null,3,null,0.13467617648575522,0.13549233906765931,0.13631666327538247,0.13714923072518287,0.13799012384948128,0.13883942590502263,0.13969722098111942]
[null,null,4,null,0.14691861521431698,0.14773477779622107,0.14855910200394423,0.14939166945374466,0.15023256257804304,0.15108186463358442,0.15193965970968121]
[null,null,5,null,0.2448581250428111,0.24567428762471519,0.24649861183243835,0.24733117928223874,0.24817207240653716,0.2490213744620785,0.24987916953817529]
[]
[null,null,{"$f":"C135","v":"Sub totale pesanti"}]
[null,null,"Classe"]
[null,null,"A",null,5.1543678488993473E-2,5.2359841070897563E-2,5.3184165278620722E-2,5.4016732728421134E-2,5.4857625852719534E-2,5.5706927908260893E-2,5.6564722984357683E-2]
[null,null,"B",null,8.5706421571508151E-2,8.6522584153412241E-2,8.73469083611354E-2,8.8179475810935812E-2,8.9020368935234212E-2,8.9869670990775571E-2,9.0727466066872361E-2]
[null,null,3,null,8.9787234481028752E-2,9.0603397062932842E-2,9.1427721270656001E-2,9.2260288720456413E-2,9.3101181844754813E-2,9.3950483900296172E-2,9.4808278976392962E-2]
[null,null,4,null,9.7948860300069912E-2,9.8765022881974002E-2,9.9589347089697161E-2,0.10042191453949757,0.10126280766379597,0.10211210971933733,0.10296990479543412]
[null,null,5,null,0.16324186685239933,0.16405802943430342,0.16488235364202658,0.16571492109182701,0.16655581421612539,0.16740511627166677,0.16826291134776356]
[]
[null,null,{"$f":"C146","v":"Sub totale pesanti"}]
[null,null,"Classe"]
[null,null,"A",null,5.1543678488993473E-2,5.2359841070897563E-2,5.3184165278620722E-2,5.4016732728421134E-2,5.4857625852719534E-2,5.5706927908260893E-2,5.6564722984357683E-2]
[null,null,"B",null,8.5706421571508151E-2,8.6522584153412241E-2,8.73469083611354E-2,8.8179475810935812E-2,8.9020368935234212E-2,8.9869670990775571E-2,9.0727466066872361E-2]
[null,null,3,null,8.9787234481028752E-2,9.0603397062932842E-2,9.1427721270656001E-2,9.2260288720456413E-2,9.3101181844754813E-2,9.3950483900296172E-2,9.4808278976392962E-2]
[null,null,4,null,9.7948860300069912E-2,9.8765022881974002E-2,9.9589347089697161E-2,0.10042191453949757,0.10126280766379597,0.10211210971933733,0.10296990479543412]
[null,null,5,null,0.16324186685239933,0.16405802943430342,0.16488235364202658,0.16571492109182701,0.16655581421612539,0.16740511627166677,0.16826291134776356]
[]
[]
[]
[]
[null,null,"Capitale investito netto (da ultimo adeguamento tariffario annuale approvato)"]
[]
[null,null,"CIN ante (TIR)"]
[]
[null,null,"CIN ante (TIR) opere - SAL contabilizzati"]
[]
[null,null,"CIN ante (TIR) opere - bop",null,null,{"$f":"IF(EsistePrev,E229,0)","v":300000},284736.84210526315,269473.68421052629,254210.52631578944,238947.36842105258,223684.21052631576]
[null,null,"Investimenti CIN ante",null,null,0,0,0,0,0,0]
[null,null,"Dismissioni CIN ante",null,null,0,0,0,0,0,0]
[null,null,"Ammortamento CIN ante (TIR) opere",null,null,{"$f":"(F225-F230)*F$38","v":15263.157894736842},{"$f":"(G225-G230)*G$38","v":15263.15789473684},15263.15789473684,15263.15789473684,15263.157894736838,15263.15789473684]
[null,null,"CIN ante (TIR) opere - eop",null,300000,{"$f":"F225+F226-F227-F228","v":284736.84210526315},269473.68421052629,254210.52631578944,238947.36842105258,223684.21052631576,208421.05263157893]
[null,null,"Valore di subentro eventualmente pattuito",null,10000,{"$f":"IF(EsistePrev,MIN(F225,$E230),0)","v":10000},10000,10000,10000,10000,10000]
[null,null,"Remunerazione CIN ante (TIR) opere - escluso valore di subentro",null,null,{"$f":"(F225-F230)*F$16","v":40223},{"$f":"(G225-G230)*G$16","v":38105.999999999993},35988.999999999993,33871.999999999993,31754.999999999989,29637.999999999993]
[null,null,"Remunerazione CIN ante (TIR) opere - solo valore di subentro",null,null,{"$f":"F230*F$18","v":1387},{"$f":"G230*G$18","v":1387},1387,1387,1387,1387]
[]
[null,null,"CIN ante (TIR) contributi - bop",null,null,{"$f":"IF(EsistePrev,E237,0)","v":0},0,0,0,0,0]
[null,null,"Contributi CIN ante (erogazione)",null,null,0,0,0,0,0,0]
[null,null,"Ammortamento CIN ante (TIR) contributi",null,null,{"$f":"(F234)*F$38","v":0},{"$f":"(G234)*G$38","v":0},0,0,0,0]
[null,null,"CIN ante (TIR) contributi - eop",null,0,{"$f":"F234+F235-F236","v":0},0,0,0,0,0]
[null,null,"Remunerazione CIN ante (TIR) contributi",null,null,{"$f":"F234*F$16","v":0},{"$f":"G234*G$16","v":0},0,0,0,0]
[]
[null,null,"CIN ante (TIR) avviamento"]
[]
[null,null,"CIN ante (TIR) avviamento - bop",null,null,{"$f":"IF(EsistePrev,E244,0)","v":0},0,0,0,0,0]
[null,null,"Ammortamento CIN ante (TIR) avviamento",null,null,{"$f":"(F242)*$F$38","v":0},{"$f":"(G242)*$F$38","v":0},0,0,0,0]
[null,null,"CIN ante (TIR) avviamento - eop",null,0,{"$f":"F242-F243","v":0},0,0,0,0,0]
[null,null,"Remunerazione CIN ante (TIR) avviamento",null,null,{"$f":"F242*F$16","v":0},0,0,0,0,0]
[]
[null,null,"CIN ante (TIR) opere - SAL da contabilizzare"]
[]
[null,null,"CIN ante (TIR) opere - bop",null,null,{"$f":"IF(EsistePrev,E253,0)","v":0},{"$f":"IF(EsistePrev,F253,0)","v":0},{"$f":"IF(EsistePrev,G253,0)","v":0},{"$f":"IF(EsistePrev,H253,0)","v":0},{"$f":"IF(EsistePrev,I253,0)","v":0},{"$f":"IF(EsistePrev,J253,0)","v":0}]
[null,null,"Investimenti CIN ante",null,null,0,0,0,0,0,10000]
[null,null,"Dismissioni CIN ante",null,null,0,0,0,0,0,0]
[null,null,"Ammortamento CIN ante (TIR) opere",null,null,{"$f":"(F249)*F$38","v":0},{"$f":"(G249)*G$38","v":0},0,0,0,0]
[null,null,"CIN ante (TIR) opere - eop",null,0,{"$f":"F249+F250-F251-F252","v":0},0,0,0,0,10000]
[null,null,"Remunerazione CIN ante (TIR) opere",null,null,{"$f":"(F249)*F$16","v":0},{"$f":"(G249)*G$16","v":0},0,0,0,0]
[]
[null,null,"CIN ante (TIR) contributi - bop",null,null,{"$f":"IF(EsistePrev,E259,0)","v":0},{"$f":"IF(EsistePrev,F259,0)","v":0},{"$f":"IF(EsistePrev,G259,0)","v":0},{"$f":"IF(EsistePrev,H259,0)","v":0},{"$f":"IF(EsistePrev,I259,0)","v":0},{"$f":"IF(EsistePrev,J259,0)","v":0}]
[null,null,"Contributi CIN ante (erogazione)",null,null,0,0,0,0,0,0]
[null,null,"Ammortamento CIN ante (TIR) contributi",null,null,{"$f":"(F256)*F$38","v":0},{"$f":"(G256)*G$38","v":0},0,0,0,0]
[null,null,"CIN ante (TIR) contributi - eop",null,0,{"$f":"F256+F257-F258","v":0},0,0,0,0,0]
[null,null,"Remunerazione CIN ante (TIR) contributi",null,null,{"$f":"F256*F$16","v":0},0,0,0,0,0]
[]
[]
[null,null,"CIN pre2026 (WACC)"]
[]
[null,null,"CIN pre2026 (WACC) opere"]
[]
[null,null,"CIN pre2026 (WACC) opere - bop",null,null,{"$f":"IF(EsistePrev,E271,0)","v":0},{"$f":"IF(EsistePrev,F271,0)","v":0},{"$f":"IF(EsistePrev,G271,0)","v":0},{"$f":"IF(EsistePrev,H271,0)","v":0},{"$f":"IF(EsistePrev,I271,0)","v":0},{"$f":"IF(EsistePrev,J271,0)","v":0}]
[null,null,"Investimenti CIN pre2026",null,null,0,0,0,0,0,20000]
[null,null,"Dismissioni CIN pre2026",null,null,0,0,0,0,0,0]
[null,null,"Ammortamento CIN pre2026 (WACC) opere",null,null,{"$f":"(F267-F272)*F$38","v":0},{"$f":"(G267-G272)*G$38","v":0},0,0,0,0]
[null,null,"CIN pre2026 (WACC) opere - eop",null,0,{"$f":"F267+F268-F269-F270","v":0},0,0,0,0,20000]
[null,null,"Valore di subentro eventualmente pattuito",null,1000,{"$f":"IF(EsistePrev,MIN(F267,$E272),0)","v":0},0,0,0,0,0]
[null,null,"Remunerazione CIN pre2026 (WACC) opere - escluso valore di subentro",null,null,{"$f":"(F267-F272)*F$16","v":0},{"$f":"(G267-G272)*G$16","v":0},0,0,0,0]
[null,null,"Remunerazione CIN pre2026 (WACC) opere - solo valore di subentro",null,null,{"$f":"F272*F$18","v":0},{"$f":"G272*G$18","v":0},0,0,0,0]
[]
[null,null,"CIN ante (TIR) contributi - bop",null,null,{"$f":"IF(EsistePrev,E279,0)","v":0},{"$f":"IF(EsistePrev,F279,0)","v":0},{"$f":"IF(EsistePrev,G279,0)","v":0},{"$f":"IF(EsistePrev,H279,0)","v":0},{"$f":"IF(EsistePrev,I279,0)","v":0},{"$f":"IF(EsistePrev,J279,0)","v":0}]
[null,null,"Contributi CIN ante (erogazione)",null,null,0,0,0,0,0,0]
[null,null,"Ammortamento CIN ante (TIR) contributi",null,null,{"$f":"(F276)*F$38","v":0},{"$f":"(G276)*G$38","v":0},0,0,0,0]
[null,null,"CIN ante (TIR) contributi - eop",null,0,{"$f":"F276+F277-F278","v":0},0,0,0,0,0]
[null,null,"Remunerazione CIN ante (TIR) contributi",null,null,{"$f":"F276*F$16","v":0},0,0,0,0,0]
[]
[]
[null,null,"CIN post2026 (WACC)"]
[]
[null,null,"Ammortamento finanziario"]
[]
[null,null,"CIN post2026 (WACC) opere - bop",null,null,{"$f":"IF(EsistePrev,E291,0)","v":0},0,0,0,0,0]
[null,null,"Investimenti CIN post2026 (entrata in esercizio)",null,null,0,0,0,0,0,0]
[null,null,"Dismissioni CIN post2026",null,null,0,0,0,0,0,0]
[null,null,"Ammortamento CIN post2026 (WACC) opere",null,null,{"$f":"(F287)*F$46","v":0},{"$f":"(G287)*G$46","v":0},0,0,0,0]
[null,null,"CIN post2026 (WACC) opere - eop",null,0,{"$f":"F287+F288-F289-F290","v":0},0,0,0,0,0]
[null,null,"Valore di subentro eventualmente pattuito",null,0,{"$f":"IF(EsistePrev,MIN(F287,$E292),0)","v":0},0,0,0,0,0]
[null,null,"Remunerazione CIN post2026 (WACC) opere - escluso valore di subentro",null,null,{"$f":"(F287-F292)*F$17","v":0},{"$f":"(G287-G292)*G$17","v":0},0,0,0,0]
[null,null,"Remunerazione CIN post2026 (WACC) opere - solo valore di subentro",null,null,{"$f":"F292*F$19","v":0},{"$f":"G292*G$19","v":0},0,0,0,0]
[]
[null,null,"CIN post2026 (WACC) contributi - bop",null,null,{"$f":"IF(EsistePrev,E299,0)","v":0},0,0,0,0,0]
[null,null,"Contributi CIN post2026 (erogazione)",null,null,0,0,0,0,0,0]
[null,null,"Ammortamento CIN post2026 (WACC) contributi",null,null,{"$f":"(F296)*F$46","v":0},{"$f":"(G296)*G$46","v":0},0,0,0,0]
[null,null,"CIN post2026 (WACC) contributi - eop",null,0,{"$f":"F296+F297-F298","v":0},0,0,0,0,0]
[null,null,"Remunerazione CIN post2026 (WACC) contributi",null,null,{"$f":"F296*F$17","v":0},0,0,0,0,0]
[]
[null,null,"Ammortamento a vite utili"]
[]
[null,null,"Viadotti/Ponti/Cavalcavia",{"$f":"INDEX('C3 Tk Supporto'!D:D,MATCH(C304,'C3 Tk Supporto'!C:C,0))","v":40},"vita utile"]
[]
[null,null,"CIN post2026 LIC (vite utili livello 1) - bop",null,null,{"$f":"IF(EsistePrev,E309,0)","v":0},0,0,0,0,0]
[null,null,"Investimenti in corso aggiuntivi",null,null,0,0,0,0,0,0]
[null,null,"Investimenti in corso cessanti (entrata in esercizio)",null,null,0,0,0,0,0,0]
[null,null,"CIN post2026 LIC (vite utili livello 1) - eop",null,0,{"$f":"F306+F307-F308","v":0},0,0,0,0,0]
[null,null,"Remunerazione CIN post2026 LIC (vite utili livello 1)",null,null,{"$f":"F306*F$20","v":0},0,0,0,0,0]
[]
[null,null,"CIN post2026 LIC (vite utili livello 2) - bop",null,null,{"$f":"IF(EsistePrev,E315,0)","v":0},0,0,0,0,0]
[null,null,"Investimenti in corso aggiuntivi",null,null,0,0,0,0,0,0]
[null,null,"Investimenti in corso cessanti (entrata in esercizio)",null,null,0,0,0,0,0,0]
[null,null,"CIN post2026 LIC (vite utili livello 2) - eop",null,0,{"$f":"F312+F313-F314","v":0},0,0,0,0,0]
[null,null,"Remunerazione CIN post2026 LIC (vite utili livello 2)",null,null,{"$f":"F312*F$20","v":0},0,0,0,0,0]
[]
[null,null,"CIN post2026 (WACC) opere - bop",null,null,{"$f":"IF(EsistePrev,E322,0)","v":0},0,0,0,0,0]
[null,null,"Investimenti CIN ante (entrata in esercizio)",null,null,{"$f":"F308+F314","v":0},{"$f":"G308+G314","v":0},0,0,0,0]
[null,null,"Dismissioni",null,null,0,0,0,0,0,0]
[null,null,"Ammortamento CIN post2026 (WACC) opere",null,null,{"$f":"IF((E$4-$E$4)<=$D304,\n(SUM($E319:E319)-SUM($E320:E320))/$D304,\n(SUM(OFFSET(E319,0,-$D304,1,$D304))-SUM(OFFSET(E320,0,-$D304,1,$D304)))/$D304)","v":0},{"$f":"IF((F$4-$E$4)<=$D304,\n(SUM($E319:F319)-SUM($E320:F320))/$D304,\n(SUM(OFFSET(F319,0,-$D304,1,$D304))-SUM(OFFSET(F320,0,-$D304,1,$D304)))/$D304)","v":0},{"$f":"IF((G$4-$E$4)<=$D304,\n(SUM($E319:G319)-SUM($E320:G320))/$D304,\n(SUM(OFFSET(G319,0,-$D304,1,$D304))-SUM(OFFSET(G320,0,-$D304,1,$D304)))/$D304)","v":0},{"$f":"IF((H$4-$E$4)<=$D304,\n(SUM($E319:H319)-SUM($E320:H320))/$D304,\n(SUM(OFFSET(H319,0,-$D304,1,$D304))-SUM(OFFSET(H320,0,-$D304,1,$D304)))/$D304)","v":0},{"$f":"IF((I$4-$E$4)<=$D304,\n(SUM($E319:I319)-SUM($E320:I320))/$D304,\n(SUM(OFFSET(I319,0,-$D304,1,$D304))-SUM(OFFSET(I320,0,-$D304,1,$D304)))/$D304)","v":0},{"$f":"IF((J$4-$E$4)<=$D304,\n(SUM($E319:J319)-SUM($E320:J320))/$D304,\n(SUM(OFFSET(J319,0,-$D304,1,$D304))-SUM(OFFSET(J320,0,-$D304,1,$D304)))/$D304)","v":0}]
[null,null,"CIN post2026 (WACC) opere - eop",null,0,{"$f":"F318+F319-F320-F321","v":0},0,0,0,0,0]
[null,null,"Remunerazione CIN post2026 (WACC) opere",null,null,{"$f":"F318*F$17","v":0},{"$f":"G318*G$17","v":0},0,0,0,0]
[null,null,"Valore di subentro cumulato",null,0,{"$f":"IF(EsistePrev,MAX(0,E324+(F319-F320)/$D304*($D304-(ScadenzaConcessione-F$4))),0)","v":0},0,0,0,0,0]
[null,null,"Remunerazione valore di subentro",null,null,{"$f":"F324*F$19","v":0},{"$f":"G324*G$19","v":0},0,0,0,0]
[]
[null,null,"CIN post2026 (WACC) contributi - bop",null,null,{"$f":"IF(EsistePrev,E330,0)","v":0},0,0,0,0,0]
[null,null,"Contributi CIN post2026 (erogazione)",null,null,0,0,0,0,0,0]
[null,null,"Ammortamento CIN post2026 (WACC) contributi",null,null,{"$f":"IF((E$4-$E$4)<=$D304,\nSUM($E328:E328)/$D304,\nSUM(OFFSET(E328,0,-$D304,1,$D304))/$D304)","v":0},{"$f":"IF((F$4-$E$4)<=$D304,\nSUM($E328:F328)/$D304,\nSUM(OFFSET(F328,0,-$D304,1,$D304))/$D304)","v":0},{"$f":"IF((G$4-$E$4)<=$D304,\nSUM($E328:G328)/$D304,\nSUM(OFFSET(G328,0,-$D304,1,$D304))/$D304)","v":0},{"$f":"IF((H$4-$E$4)<=$D304,\nSUM($E328:H328)/$D304,\nSUM(OFFSET(H328,0,-$D304,1,$D304))/$D304)","v":0},{"$f":"IF((I$4-$E$4)<=$D304,\nSUM($E328:I328)/$D304,\nSUM(OFFSET(I328,0,-$D304,1,$D304))/$D304)","v":0},{"$f":"IF((J$4-$E$4)<=$D304,\nSUM($E328:J328)/$D304,\nSUM(OFFSET(J328,0,-$D304,1,$D304))/$D304)","v":0}]
[null,null,"CIN post2026 (WACC) contributi - eop",null,0,{"$f":"F327+F328-F329","v":0},0,0,0,0,0]
[null,null,"Remunerazione CIN post2026 (WACC) contributi",null,null,{"$f":"F327*F$17","v":0},0,0,0,0,0]
[null,null,"Valore di subentro cumulato",null,0,{"$f":"IF(EsistePrev,MAX(0,E332+(F328)/$D304*($D304-(ScadenzaConcessione-F$4))),0)","v":0},0,0,0,0,0]
[null,null,"Remunerazione valore di subentro",null,null,{"$f":"F332*F$19","v":0},{"$f":"G332*G$19","v":0},0,0,0,0]
[]
[null,null,"Gallerie",{"$f":"INDEX('C3 Tk Supporto'!D:D,MATCH(C335,'C3 Tk Supporto'!C:C,0))","v":40},"vita utile"]
[]
[null,null,"CIN post2026 LIC (vite utili livello 1) - bop",null,null,{"$f":"IF(EsistePrev,E340,0)","v":0},{"$f":"IF(EsistePrev,F340,0)","v":0},{"$f":"IF(EsistePrev,G340,0)","v":0},{"$f":"IF(EsistePrev,H340,0)","v":0},{"$f":"IF(EsistePrev,I340,0)","v":0},{"$f":"IF(EsistePrev,J340,0)","v":0}]
[null,null,"Investimenti in corso aggiuntivi",null,null,0,0,0,0,0,0]
[null,null,"Investimenti in corso cessanti (entrata in esercizio)",null,null,0,0,0,0,0,0]
[null,null,"CIN post2026 LIC (vite utili livello 1) - eop",null,0,{"$f":"F337+F338-F339","v":0},0,0,0,0,0]
[null,null,"Remunerazione CIN post2026 LIC (vite utili livello 1)",null,null,{"$f":"F337*F$20","v":0},0,0,0,0,0]
[]
[null,null,"CIN post2026 LIC (vite utili livello 2) - bop",null,null,{"$f":"IF(EsistePrev,E346,0)","v":0},{"$f":"IF(EsistePrev,F346,0)","v":0},{"$f":"IF(EsistePrev,G346,0)","v":0},{"$f":"IF(EsistePrev,H346,0)","v":0},{"$f":"IF(EsistePrev,I346,0)","v":0},{"$f":"IF(EsistePrev,J346,0)","v":0}]
[null,null,"Investimenti in corso aggiuntivi",null,null,0,0,0,0,0,0]
[null,null,"Investimenti in corso cessanti (entrata in esercizio)",null,null,0,0,0,0,0,0]
[null,null,"CIN post2026 LIC (vite utili livello 2) - eop",null,0,{"$f":"F343+F344-F345","v":0},0,0,0,0,0]
[null,null,"Remunerazione CIN post2026 LIC (vite utili livello 2)",null,null,{"$f":"F343*F$20","v":0},0,0,0,0,0]
[]
[null,null,"CIN post2026 (WACC) opere - bop",null,null,{"$f":"IF(EsistePrev,E353,0)","v":0},{"$f":"IF(EsistePrev,F353,0)","v":0},{"$f":"IF(EsistePrev,G353,0)","v":0},{"$f":"IF(EsistePrev,H353,0)","v":0},{"$f":"IF(EsistePrev,I353,0)","v":0},{"$f":"IF(EsistePrev,J353,0)","v":0}]
[null,null,"Investimenti CIN ante (entrata in esercizio)",null,null,{"$f":"F339+F345","v":0},{"$f":"G339+G345","v":0},0,0,0,0]
[null,null,"Dismissioni",null,null,0,0,0,0,0,0]
[null,null,"Ammortamento CIN post2026 (WACC) opere",null,null,{"$f":"IF((E$4-$E$4)<=$D335,\n(SUM($E350:E350)-SUM($E351:E351))/$D335,\n(SUM(OFFSET(E350,0,-$D335,1,$D335))-SUM(OFFSET(E351,0,-$D335,1,$D335)))/$D335)","v":0},{"$f":"IF((F$4-$E$4)<=$D335,\n(SUM($E350:F350)-SUM($E351:F351))/$D335,\n(SUM(OFFSET(F350,0,-$D335,1,$D335))-SUM(OFFSET(F351,0,-$D335,1,$D335)))/$D335)","v":0},{"$f":"IF((G$4-$E$4)<=$D335,\n(SUM($E350:G350)-SUM($E351:G351))/$D335,\n(SUM(OFFSET(G350,0,-$D335,1,$D335))-SUM(OFFSET(G351,0,-$D335,1,$D335)))/$D335)","v":0},{"$f":"IF((H$4-$E$4)<=$D335,\n(SUM($E350:H350)-SUM($E351:H351))/$D335,\n(SUM(OFFSET(H350,0,-$D335,1,$D335))-SUM(OFFSET(H351,0,-$D335,1,$D335)))/$D335)","v":0},{"$f":"IF((I$4-$E$4)<=$D335,\n(SUM($E350:I350)-SUM($E351:I351))/$D335,\n(SUM(OFFSET(I350,0,-$D335,1,$D335))-SUM(OFFSET(I351,0,-$D335,1,$D335)))/$D335)","v":0},{"$f":"IF((J$4-$E$4)<=$D335,\n(SUM($E350:J350)-SUM($E351:J351))/$D335,\n(SUM(OFFSET(J350,0,-$D335,1,$D335))-SUM(OFFSET(J351,0,-$D335,1,$D335)))/$D335)","v":0}]
[null,null,"CIN post2026 (WACC) opere - eop",null,0,{"$f":"F349+F350-F351-F352","v":0},0,0,0,0,0]
[null,null,"Remunerazione CIN post2026 (WACC) opere",null,null,{"$f":"F349*F$17","v":0},0,0,0,0,0]
[null,null,"Valore di subentro cumulato",null,0,{"$f":"IF(EsistePrev,MAX(0,E355+(F350-F351)/$D335*($D335-(ScadenzaConcessione-F$4))),0)","v":0},{"$f":"IF(EsistePrev,MAX(0,F355+(G350-G351)/$D335*($D335-(ScadenzaConcessione-G$4))),0)","v":0},{"$f":"IF(EsistePrev,MAX(0,G355+(H350-H351)/$D335*($D335-(ScadenzaConcessione-H$4))),0)","v":0},{"$f":"IF(EsistePrev,MAX(0,H355+(I350-I351)/$D335*($D335-(ScadenzaConcessione-I$4))),0)","v":0},{"$f":"IF(EsistePrev,MAX(0,I355+(J350-J351)/$D335*($D335-(ScadenzaConcessione-J$4))),0)","v":0},{"$f":"IF(EsistePrev,MAX(0,J355+(K350-K351)/$D335*($D335-(ScadenzaConcessione-K$4))),0)","v":0}]
[null,null,"Remunerazione valore di subentro",null,null,{"$f":"F355*F$19","v":0},{"$f":"G355*G$19","v":0},{"$f":"H355*H$19","v":0},{"$f":"I355*I$19","v":0},{"$f":"J355*J$19","v":0},{"$f":"K355*K$19","v":0}]
[]
[null,null,"CIN post2026 (WACC) contributi - bop",null,null,{"$f":"IF(EsistePrev,E361,0)","v":0},{"$f":"IF(EsistePrev,F361,0)","v":0},{"$f":"IF(EsistePrev,G361,0)","v":0},{"$f":"IF(EsistePrev,H361,0)","v":0},{"$f":"IF(EsistePrev,I361,0)","v":0},{"$f":"IF(EsistePrev,J361,0)","v":0}]
[null,null,"Contributi CIN post2026 (erogazione)",null,null,0,0,0,0,0,0]
[null,null,"Ammortamento CIN post2026 (WACC) contributi",null,null,{"$f":"IF((E$4-$E$4)<=$D335,\nSUM($E359:E359)/$D335,\nSUM(OFFSET(E359,0,-$D335,1,$D335))/$D335)","v":0},{"$f":"IF((F$4-$E$4)<=$D335,\nSUM($E359:F359)/$D335,\nSUM(OFFSET(F359,0,-$D335,1,$D335))/$D335)","v":0},{"$f":"IF((G$4-$E$4)<=$D335,\nSUM($E359:G359)/$D335,\nSUM(OFFSET(G359,0,-$D335,1,$D335))/$D335)","v":0},{"$f":"IF((H$4-$E$4)<=$D335,\nSUM($E359:H359)/$D335,\nSUM(OFFSET(H359,0,-$D335,1,$D335))/$D335)","v":0},{"$f":"IF((I$4-$E$4)<=$D335,\nSUM($E359:I359)/$D335,\nSUM(OFFSET(I359,0,-$D335,1,$D335))/$D335)","v":0},{"$f":"IF((J$4-$E$4)<=$D335,\nSUM($E359:J359)/$D335,\nSUM(OFFSET(J359,0,-$D335,1,$D335))/$D335)","v":0}]
[null,null,"CIN post2026 (WACC) contributi - eop",null,0,{"$f":"F358+F359-F360","v":0},0,0,0,0,0]
[null,null,"Remunerazione CIN post2026 (WACC) contributi",null,null,{"$f":"F358*F$17","v":0},0,0,0,0,0]
[null,null,"Valore di subentro cumulato",null,0,{"$f":"IF(EsistePrev,MAX(0,E363+(F359)/$D335*($D335-(ScadenzaConcessione-F$4))),0)","v":0},{"$f":"IF(EsistePrev,MAX(0,F363+(G359)/$D335*($D335-(ScadenzaConcessione-G$4))),0)","v":0},{"$f":"IF(EsistePrev,MAX(0,G363+(H359)/$D335*($D335-(ScadenzaConcessione-H$4))),0)","v":0},{"$f":"IF(EsistePrev,MAX(0,H363+(I359)/$D335*($D335-(ScadenzaConcessione-I$4))),0)","v":0},{"$f":"IF(EsistePrev,MAX(0,I363+(J359)/$D335*($D335-(ScadenzaConcessione-J$4))),0)","v":0},{"$f":"IF(EsistePrev,MAX(0,J363+(K359)/$D335*($D335-(ScadenzaConcessione-K$4))),0)","v":0}]
[null,null,"Remunerazione valore di subentro",null,null,{"$f":"F363*F$19","v":0},{"$f":"G363*G$19","v":0},{"$f":"H363*H$19","v":0},{"$f":"I363*I$19","v":0},{"$f":"J363*J$19","v":0},{"$f":"K363*K$19","v":0}]
[]
[null,null,"Barriere",{"$f":"INDEX('C3 Tk Supporto'!D:D,MATCH(C366,'C3 Tk Supporto'!C:C,0))","v":25},"vita utile"]
[]
[null,null,"CIN post2026 LIC (vite utili livello 1) - bop",null,null,{"$f":"IF(EsistePrev,E371,0)","v":0},{"$f":"IF(EsistePrev,F371,0)","v":0},{"$f":"IF(EsistePrev,G371,0)","v":0},{"$f":"IF(EsistePrev,H371,0)","v":0},{"$f":"IF(EsistePrev,I371,0)","v":0},{"$f":"IF(EsistePrev,J371,0)","v":0}]
[null,null,"Investimenti in corso aggiuntivi",null,null,0,0,0,0,0,0]
[null,null,"Investimenti in corso cessanti (entrata in esercizio)",null,null,0,0,0,0,0,0]
[null,null,"CIN post2026 LIC (vite utili livello 1) - eop",null,0,{"$f":"F368+F369-F370","v":0},0,0,0,0,0]
[null,null,"Remunerazione CIN post2026 LIC (vite utili livello 1)",null,null,{"$f":"F368*F$20","v":0},0,0,0,0,0]
[]
[null,null,"CIN post2026 LIC (vite utili livello 2) - bop",null,null,{"$f":"IF(EsistePrev,E377,0)","v":0},{"$f":"IF(EsistePrev,F377,0)","v":0},{"$f":"IF(EsistePrev,G377,0)","v":0},{"$f":"IF(EsistePrev,H377,0)","v":0},{"$f":"IF(EsistePrev,I377,0)","v":0},{"$f":"IF(EsistePrev,J377,0)","v":0}]
[null,null,"Investimenti in corso aggiuntivi",null,null,0,0,0,0,0,0]
[null,null,"Investimenti in corso cessanti (entrata in esercizio)",null,null,0,0,0,0,0,0]
[null,null,"CIN post2026 LIC (vite utili livello 2) - eop",null,0,{"$f":"F374+F375-F376","v":0},0,0,0,0,0]
[null,null,"Remunerazione CIN post2026 LIC (vite utili livello 2)",null,null,{"$f":"F374*F$20","v":0},0,0,0,0,0]
[]
[null,null,"CIN post2026 (WACC) opere - bop",null,null,{"$f":"IF(EsistePrev,E384,0)","v":0},{"$f":"IF(EsistePrev,F384,0)","v":0},{"$f":"IF(EsistePrev,G384,0)","v":0},{"$f":"IF(EsistePrev,H384,0)","v":0},{"$f":"IF(EsistePrev,I384,0)","v":0},{"$f":"IF(EsistePrev,J384,0)","v":0}]
[null,null,"Investimenti CIN ante (entrata in esercizio)",null,null,{"$f":"F370+F376","v":0},{"$f":"G370+G376","v":0},0,0,0,0]
[null,null,"Dismissioni",null,null,0,0,0,0,0,0]
[null,null,"Ammortamento CIN post2026 (WACC) opere",null,null,{"$f":"IF((E$4-$E$4)<=$D366,\n(SUM($E381:E381)-SUM($E382:E382))/$D366,\n(SUM(OFFSET(E381,0,-$D366,1,$D366))-SUM(OFFSET(E382,0,-$D366,1,$D366)))/$D366)","v":0},{"$f":"IF((F$4-$E$4)<=$D366,\n(SUM($E381:F381)-SUM($E382:F382))/$D366,\n(SUM(OFFSET(F381,0,-$D366,1,$D366))-SUM(OFFSET(F382,0,-$D366,1,$D366)))/$D366)","v":0},{"$f":"IF((G$4-$E$4)<=$D366,\n(SUM($E381:G381)-SUM($E382:G382))/$D366,\n(SUM(OFFSET(G381,0,-$D366,1,$D366))-SUM(OFFSET(G382,0,-$D366,1,$D366)))/$D366)","v":0},{"$f":"IF((H$4-$E$4)<=$D366,\n(SUM($E381:H381)-SUM($E382:H382))/$D366,\n(SUM(OFFSET(H381,0,-$D366,1,$D366))-SUM(OFFSET(H382,0,-$D366,1,$D366)))/$D366)","v":0},{"$f":"IF((I$4-$E$4)<=$D366,\n(SUM($E381:I381)-SUM($E382:I382))/$D366,\n(SUM(OFFSET(I381,0,-$D366,1,$D366))-SUM(OFFSET(I382,0,-$D366,1,$D366)))/$D366)","v":0},{"$f":"IF((J$4-$E$4)<=$D366,\n(SUM($E381:J381)-SUM($E382:J382))/$D366,\n(SUM(OFFSET(J381,0,-$D366,1,$D366))-SUM(OFFSET(J382,0,-$D366,1,$D366)))/$D366)","v":0}]
[null,null,"CIN post2026 (WACC) opere - eop",null,0,{"$f":"F380+F381-F382-F383","v":0},0,0,0,0,0]
[null,null,"Remunerazione CIN post2026 (WACC) opere",null,null,{"$f":"F380*F$17","v":0},0,0,0,0,0]
[null,null,"Valore di subentro cumulato",null,0,{"$f":"IF(EsistePrev,MAX(0,E386+(F381-F382)/$D366*($D366-(ScadenzaConcessione-F$4))),0)","v":0},{"$f":"IF(EsistePrev,MAX(0,F386+(G381-G382)/$D366*($D366-(ScadenzaConcessione-G$4))),0)","v":0},{"$f":"IF(EsistePrev,MAX(0,G386+(H381-H382)/$D366*($D366-(ScadenzaConcessione-H$4))),0)","v":0},{"$f":"IF(EsistePrev,MAX(0,H386+(I381-I382)/$D366*($D366-(ScadenzaConcessione-I$4))),0)","v":0},{"$f":"IF(EsistePrev,MAX(0,I386+(J381-J382)/$D366*($D366-(ScadenzaConcessione-J$4))),0)","v":0},{"$f":"IF(EsistePrev,MAX(0,J386+(K381-K382)/$D366*($D366-(ScadenzaConcessione-K$4))),0)","v":0}]
[null,null,"Remunerazione valore di subentro",null,null,{"$f":"F386*F$19","v":0},{"$f":"G386*G$19","v":0},{"$f":"H386*H$19","v":0},{"$f":"I386*I$19","v":0},{"$f":"J386*J$19","v":0},{"$f":"K386*K$19","v":0}]
[]
[null,null,"CIN post2026 (WACC) contributi - bop",null,null,{"$f":"IF(EsistePrev,E392,0)","v":0},{"$f":"IF(EsistePrev,F392,0)","v":0},{"$f":"IF(EsistePrev,G392,0)","v":0},{"$f":"IF(EsistePrev,H392,0)","v":0},{"$f":"IF(EsistePrev,I392,0)","v":0},{"$f":"IF(EsistePrev,J392,0)","v":0}]
[null,null,"Contributi CIN post2026 (erogazione)",null,null,0,0,0,0,0,0]
[null,null,"Ammortamento CIN post2026 (WACC) contributi",null,null,{"$f":"IF((E$4-$E$4)<=$D366,\nSUM($E390:E390)/$D366,\nSUM(OFFSET(E390,0,-$D366,1,$D366))/$D366)","v":0},{"$f":"IF((F$4-$E$4)<=$D366,\nSUM($E390:F390)/$D366,\nSUM(OFFSET(F390,0,-$D366,1,$D366))/$D366)","v":0},{"$f":"IF((G$4-$E$4)<=$D366,\nSUM($E390:G390)/$D366,\nSUM(OFFSET(G390,0,-$D366,1,$D366))/$D366)","v":0},{"$f":"IF((H$4-$E$4)<=$D366,\nSUM($E390:H390)/$D366,\nSUM(OFFSET(H390,0,-$D366,1,$D366))/$D366)","v":0},{"$f":"IF((I$4-$E$4)<=$D366,\nSUM($E390:I390)/$D366,\nSUM(OFFSET(I390,0,-$D366,1,$D366))/$D366)","v":0},{"$f":"IF((J$4-$E$4)<=$D366,\nSUM($E390:J390)/$D366,\nSUM(OFFSET(J390,0,-$D366,1,$D366))/$D366)","v":0}]
[null,null,"CIN post2026 (WACC) contributi - eop",null,0,{"$f":"F389+F390-F391","v":0},0,0,0,0,0]
[null,null,"Remunerazione CIN post2026 (WACC) contributi",null,null,{"$f":"F389*F$17","v":0},0,0,0,0,0]
[null,null,"Valore di subentro cumulato",null,0,{"$f":"IF(EsistePrev,MAX(0,E394+(F390)/$D366*($D366-(ScadenzaConcessione-F$4))),0)","v":0},{"$f":"IF(EsistePrev,MAX(0,F394+(G390)/$D366*($D366-(ScadenzaConcessione-G$4))),0)","v":0},{"$f":"IF(EsistePrev,MAX(0,G394+(H390)/$D366*($D366-(ScadenzaConcessione-H$4))),0)","v":0},{"$f":"IF(EsistePrev,MAX(0,H394+(I390)/$D366*($D366-(ScadenzaConcessione-I$4))),0)","v":0},{"$f":"IF(EsistePrev,MAX(0,I394+(J390)/$D366*($D366-(ScadenzaConcessione-J$4))),0)","v":0},{"$f":"IF(EsistePrev,MAX(0,J394+(K390)/$D366*($D366-(ScadenzaConcessione-K$4))),0)","v":0}]
[null,null,"Remunerazione valore di subentro",null,null,{"$f":"F394*F$19","v":0},{"$f":"G394*G$19","v":0},{"$f":"H394*H$19","v":0},{"$f":"I394*I$19","v":0},{"$f":"J394*J$19","v":0},{"$f":"K394*K$19","v":0}]
[]
[null,null,"Corpo autostradale, opere sul territorio",{"$f":"INDEX('C3 Tk Supporto'!D:D,MATCH(C397,'C3 Tk Supporto'!C:C,0))","v":30},"vita utile"]
[]
[null,null,"CIN post2026 LIC (vite utili livello 1) - bop",null,null,{"$f":"IF(EsistePrev,E402,0)","v":0},{"$f":"IF(EsistePrev,F402,0)","v":0},{"$f":"IF(EsistePrev,G402,0)","v":0},{"$f":"IF(EsistePrev,H402,0)","v":0},{"$f":"IF(EsistePrev,I402,0)","v":0},{"$f":"IF(EsistePrev,J402,0)","v":0}]
[null,null,"Investimenti in corso aggiuntivi",null,null,0,0,0,0,0,0]
[null,null,"Investimenti in corso cessanti (entrata in esercizio)",null,null,0,0,0,0,0,0]
[null,null,"CIN post2026 LIC (vite utili livello 1) - eop",null,0,{"$f":"F399+F400-F401","v":0},0,0,0,0,0]
[null,null,"Remunerazione CIN post2026 LIC (vite utili livello 1)",null,null,{"$f":"F399*F$20","v":0},0,0,0,0,0]
[]
[null,null,"CIN post2026 LIC (vite utili livello 2) - bop",null,null,{"$f":"IF(EsistePrev,E408,0)","v":0},{"$f":"IF(EsistePrev,F408,0)","v":0},{"$f":"IF(EsistePrev,G408,0)","v":0},{"$f":"IF(EsistePrev,H408,0)","v":0},{"$f":"IF(EsistePrev,I408,0)","v":0},{"$f":"IF(EsistePrev,J408,0)","v":0}]
[null,null,"Investimenti in corso aggiuntivi",null,null,0,0,0,0,0,0]
[null,null,"Investimenti in corso cessanti (entrata in esercizio)",null,null,0,0,0,0,0,0]
[null,null,"CIN post2026 LIC (vite utili livello 2) - eop",null,0,{"$f":"F405+F406-F407","v":0},0,0,0,0,0]
[null,null,"Remunerazione CIN post2026 LIC (vite utili livello 2)",null,null,{"$f":"F405*F$20","v":0},0,0,0,0,0]
[]
[null,null,"CIN post2026 (WACC) opere - bop",null,null,{"$f":"IF(EsistePrev,E415,0)","v":0},{"$f":"IF(EsistePrev,F415,0)","v":0},{"$f":"IF(EsistePrev,G415,0)","v":0},{"$f":"IF(EsistePrev,H415,0)","v":0},{"$f":"IF(EsistePrev,I415,0)","v":0},{"$f":"IF(EsistePrev,J415,0)","v":0}]
[null,null,"Investimenti CIN ante (entrata in esercizio)",null,null,{"$f":"F401+F407","v":0},{"$f":"G401+G407","v":0},0,0,0,0]
[null,null,"Dismissioni",null,null,0,0,0,0,0,0]
[null,null,"Ammortamento CIN post2026 (WACC) opere",null,null,{"$f":"IF((E$4-$E$4)<=$D397,\n(SUM($E412:E412)-SUM($E413:E413))/$D397,\n(SUM(OFFSET(E412,0,-$D397,1,$D397))-SUM(OFFSET(E413,0,-$D397,1,$D397)))/$D397)","v":0},{"$f":"IF((F$4-$E$4)<=$D397,\n(SUM($E412:F412)-SUM($E413:F413))/$D397,\n(SUM(OFFSET(F412,0,-$D397,1,$D397))-SUM(OFFSET(F413,0,-$D397,1,$D397)))/$D397)","v":0},{"$f":"IF((G$4-$E$4)<=$D397,\n(SUM($E412:G412)-SUM($E413:G413))/$D397,\n(SUM(OFFSET(G412,0,-$D397,1,$D397))-SUM(OFFSET(G413,0,-$D397,1,$D397)))/$D397)","v":0},{"$f":"IF((H$4-$E$4)<=$D397,\n(SUM($E412:H412)-SUM($E413:H413))/$D397,\n(SUM(OFFSET(H412,0,-$D397,1,$D397))-SUM(OFFSET(H413,0,-$D397,1,$D397)))/$D397)","v":0},{"$f":"IF((I$4-$E$4)<=$D397,\n(SUM($E412:I412)-SUM($E413:I413))/$D397,\n(SUM(OFFSET(I412,0,-$D397,1,$D397))-SUM(OFFSET(I413,0,-$D397,1,$D397)))/$D397)","v":0},{"$f":"IF((J$4-$E$4)<=$D397,\n(SUM($E412:J412)-SUM($E413:J413))/$D397,\n(SUM(OFFSET(J412,0,-$D397,1,$D397))-SUM(OFFSET(J413,0,-$D397,1,$D397)))/$D397)","v":0}]
[null,null,"CIN post2026 (WACC) opere - eop",null,0,{"$f":"F411+F412-F413-F414","v":0},0,0,0,0,0]
[null,null,"Remunerazione CIN post2026 (WACC) opere",null,null,{"$f":"F411*F$17","v":0},0,0,0,0,0]
[null,null,"Valore di subentro cumulato",null,0,{"$f":"IF(EsistePrev,MAX(0,E417+(F412-F413)/$D397*($D397-(ScadenzaConcessione-F$4))),0)","v":0},{"$f":"IF(EsistePrev,MAX(0,F417+(G412-G413)/$D397*($D397-(ScadenzaConcessione-G$4))),0)","v":0},{"$f":"IF(EsistePrev,MAX(0,G417+(H412-H413)/$D397*($D397-(ScadenzaConcessione-H$4))),0)","v":0},{"$f":"IF(EsistePrev,MAX(0,H417+(I412-I413)/$D397*($D397-(ScadenzaConcessione-I$4))),0)","v":0},{"$f":"IF(EsistePrev,MAX(0,I417+(J412-J413)/$D397*($D397-(ScadenzaConcessione-J$4))),0)","v":0},{"$f":"IF(EsistePrev,MAX(0,J417+(K412-K413)/$D397*($D397-(ScadenzaConcessione-K$4))),0)","v":0}]
[null,null,"Remunerazione valore di subentro",null,null,{"$f":"F417*F$19","v":0},{"$f":"G417*G$19","v":0},{"$f":"H417*H$19","v":0},{"$f":"I417*I$19","v":0},{"$f":"J417*J$19","v":0},{"$f":"K417*K$19","v":0}]
[]
[null,null,"CIN post2026 (WACC) contributi - bop",null,null,{"$f":"IF(EsistePrev,E423,0)","v":0},{"$f":"IF(EsistePrev,F423,0)","v":0},{"$f":"IF(EsistePrev,G423,0)","v":0},{"$f":"IF(EsistePrev,H423,0)","v":0},{"$f":"IF(EsistePrev,I423,0)","v":0},{"$f":"IF(EsistePrev,J423,0)","v":0}]
[null,null,"Contributi CIN post2026 (erogazione)",null,null,0,0,0,0,0,0]
[null,null,"Ammortamento CIN post2026 (WACC) contributi",null,null,{"$f":"IF((E$4-$E$4)<=$D397,\nSUM($E421:E421)/$D397,\nSUM(OFFSET(E421,0,-$D397,1,$D397))/$D397)","v":0},{"$f":"IF((F$4-$E$4)<=$D397,\nSUM($E421:F421)/$D397,\nSUM(OFFSET(F421,0,-$D397,1,$D397))/$D397)","v":0},{"$f":"IF((G$4-$E$4)<=$D397,\nSUM($E421:G421)/$D397,\nSUM(OFFSET(G421,0,-$D397,1,$D397))/$D397)","v":0},{"$f":"IF((H$4-$E$4)<=$D397,\nSUM($E421:H421)/$D397,\nSUM(OFFSET(H421,0,-$D397,1,$D397))/$D397)","v":0},{"$f":"IF((I$4-$E$4)<=$D397,\nSUM($E421:I421)/$D397,\nSUM(OFFSET(I421,0,-$D397,1,$D397))/$D397)","v":0},{"$f":"IF((J$4-$E$4)<=$D397,\nSUM($E421:J421)/$D397,\nSUM(OFFSET(J421,0,-$D397,1,$D397))/$D397)","v":0}]
[null,null,"CIN post2026 (WACC) contributi - eop",null,0,{"$f":"F420+F421-F422","v":0},0,0,0,0,0]
[null,null,"Remunerazione CIN post2026 (WACC) contributi",null,null,{"$f":"F420*F$17","v":0},0,0,0,0,0]
[null,null,"Valore di subentro cumulato",null,0,{"$f":"IF(EsistePrev,MAX(0,E425+(F421)/$D397*($D397-(ScadenzaConcessione-F$4))),0)","v":0},{"$f":"IF(EsistePrev,MAX(0,F425+(G421)/$D397*($D397-(ScadenzaConcessione-G$4))),0)","v":0},{"$f":"IF(EsistePrev,MAX(0,G425+(H421)/$D397*($D397-(ScadenzaConcessione-H$4))),0)","v":0},{"$f":"IF(EsistePrev,MAX(0,H425+(I421)/$D397*($D397-(ScadenzaConcessione-I$4))),0)","v":0},{"$f":"IF(EsistePrev,MAX(0,I425+(J421)/$D397*($D397-(ScadenzaConcessione-J$4))),0)","v":0},{"$f":"IF(EsistePrev,MAX(0,J425+(K421)/$D397*($D397-(ScadenzaConcessione-K$4))),0)","v":0}]
[null,null,"Remunerazione valore di subentro",null,null,{"$f":"F425*F$19","v":0},{"$f":"G425*G$19","v":0},{"$f":"H425*H$19","v":0},{"$f":"I425*I$19","v":0},{"$f":"J425*J$19","v":0},{"$f":"K425*K$19","v":0}]
[]
[null,null,"Reti recinzione",{"$f":"INDEX('C3 Tk Supporto'!D:D,MATCH(C428,'C3 Tk Supporto'!C:C,0))","v":20},"vita utile"]
[]
[null,null,"CIN post2026 LIC (vite utili livello 1) - bop",null,null,{"$f":"IF(EsistePrev,E433,0)","v":0},{"$f":"IF(EsistePrev,F433,0)","v":0},{"$f":"IF(EsistePrev,G433,0)","v":0},{"$f":"IF(EsistePrev,H433,0)","v":0},{"$f":"IF(EsistePrev,I433,0)","v":0},{"$f":"IF(EsistePrev,J433,0)","v":0}]
[null,null,"Investimenti in corso aggiuntivi",null,null,0,0,0,0,0,0]
[null,null,"Investimenti in corso cessanti (entrata in esercizio)",null,null,0,0,0,0,0,0]
[null,null,"CIN post2026 LIC (vite utili livello 1) - eop",null,0,{"$f":"F430+F431-F432","v":0},0,0,0,0,0]
[null,null,"Remunerazione CIN post2026 LIC (vite utili livello 1)",null,null,{"$f":"F430*F$20","v":0},0,0,0,0,0]
[]
[null,null,"CIN post2026 LIC (vite utili livello 2) - bop",null,null,{"$f":"IF(EsistePrev,E439,0)","v":0},{"$f":"IF(EsistePrev,F439,0)","v":0},{"$f":"IF(EsistePrev,G439,0)","v":0},{"$f":"IF(EsistePrev,H439,0)","v":0},{"$f":"IF(EsistePrev,I439,0)","v":0},{"$f":"IF(EsistePrev,J439,0)","v":0}]
[null,null,"Investimenti in corso aggiuntivi",null,null,0,0,0,0,0,0]
[null,null,"Investimenti in corso cessanti (entrata in esercizio)",null,null,0,0,0,0,0,0]
[null,null,"CIN post2026 LIC (vite utili livello 2) - eop",null,0,{"$f":"F436+F437-F438","v":0},0,0,0,0,0]
[null,null,"Remunerazione CIN post2026 LIC (vite utili livello 2)",null,null,{"$f":"F436*F$20","v":0},0,0,0,0,0]
[]
[null,null,"CIN post2026 (WACC) opere - bop",null,null,{"$f":"IF(EsistePrev,E446,0)","v":0},{"$f":"IF(EsistePrev,F446,0)","v":0},{"$f":"IF(EsistePrev,G446,0)","v":0},{"$f":"IF(EsistePrev,H446,0)","v":0},{"$f":"IF(EsistePrev,I446,0)","v":0},{"$f":"IF(EsistePrev,J446,0)","v":0}]
[null,null,"Investimenti CIN ante (entrata in esercizio)",null,null,{"$f":"F432+F438","v":0},{"$f":"G432+G438","v":0},0,0,0,0]
[null,null,"Dismissioni",null,null,0,0,0,0,0,0]
[null,null,"Ammortamento CIN post2026 (WACC) opere",null,null,{"$f":"IF((E$4-$E$4)<=$D428,\n(SUM($E443:E443)-SUM($E444:E444))/$D428,\n(SUM(OFFSET(E443,0,-$D428,1,$D428))-SUM(OFFSET(E444,0,-$D428,1,$D428)))/$D428)","v":0},{"$f":"IF((F$4-$E$4)<=$D428,\n(SUM($E443:F443)-SUM($E444:F444))/$D428,\n(SUM(OFFSET(F443,0,-$D428,1,$D428))-SUM(OFFSET(F444,0,-$D428,1,$D428)))/$D428)","v":0},{"$f":"IF((G$4-$E$4)<=$D428,\n(SUM($E443:G443)-SUM($E444:G444))/$D428,\n(SUM(OFFSET(G443,0,-$D428,1,$D428))-SUM(OFFSET(G444,0,-$D428,1,$D428)))/$D428)","v":0},{"$f":"IF((H$4-$E$4)<=$D428,\n(SUM($E443:H443)-SUM($E444:H444))/$D428,\n(SUM(OFFSET(H443,0,-$D428,1,$D428))-SUM(OFFSET(H444,0,-$D428,1,$D428)))/$D428)","v":0},{"$f":"IF((I$4-$E$4)<=$D428,\n(SUM($E443:I443)-SUM($E444:I444))/$D428,\n(SUM(OFFSET(I443,0,-$D428,1,$D428))-SUM(OFFSET(I444,0,-$D428,1,$D428)))/$D428)","v":0},{"$f":"IF((J$4-$E$4)<=$D428,\n(SUM($E443:J443)-SUM($E444:J444))/$D428,\n(SUM(OFFSET(J443,0,-$D428,1,$D428))-SUM(OFFSET(J444,0,-$D428,1,$D428)))/$D428)","v":0}]
[null,null,"CIN post2026 (WACC) opere - eop",null,0,{"$f":"F442+F443-F444-F445","v":0},0,0,0,0,0]
[null,null,"Remunerazione CIN post2026 (WACC) opere",null,null,{"$f":"F442*F$17","v":0},0,0,0,0,0]
[null,null,"Valore di subentro cumulato",null,0,{"$f":"IF(EsistePrev,MAX(0,E448+(F443-F444)/$D428*($D428-(ScadenzaConcessione-F$4))),0)","v":0},{"$f":"IF(EsistePrev,MAX(0,F448+(G443-G444)/$D428*($D428-(ScadenzaConcessione-G$4))),0)","v":0},{"$f":"IF(EsistePrev,MAX(0,G448+(H443-H444)/$D428*($D428-(ScadenzaConcessione-H$4))),0)","v":0},{"$f":"IF(EsistePrev,MAX(0,H448+(I443-I444)/$D428*($D428-(ScadenzaConcessione-I$4))),0)","v":0},{"$f":"IF(EsistePrev,MAX(0,I448+(J443-J444)/$D428*($D428-(ScadenzaConcessione-J$4))),0)","v":0},{"$f":"IF(EsistePrev,MAX(0,J448+(K443-K444)/$D428*($D428-(ScadenzaConcessione-K$4))),0)","v":0}]
[null,null,"Remunerazione valore di subentro",null,null,{"$f":"F448*F$19","v":0},{"$f":"G448*G$19","v":0},{"$f":"H448*H$19","v":0},{"$f":"I448*I$19","v":0},{"$f":"J448*J$19","v":0},{"$f":"K448*K$19","v":0}]
[]
[null,null,"CIN post2026 (WACC) contributi - bop",null,null,{"$f":"IF(EsistePrev,E454,0)","v":0},{"$f":"IF(EsistePrev,F454,0)","v":0},{"$f":"IF(EsistePrev,G454,0)","v":0},{"$f":"IF(EsistePrev,H454,0)","v":0},{"$f":"IF(EsistePrev,I454,0)","v":0},{"$f":"IF(EsistePrev,J454,0)","v":0}]
[null,null,"Contributi CIN post2026 (erogazione)",null,null,0,0,0,0,0,0]
[null,null,"Ammortamento CIN post2026 (WACC) contributi",null,null,{"$f":"IF((E$4-$E$4)<=$D428,\nSUM($E452:E452)/$D428,\nSUM(OFFSET(E452,0,-$D428,1,$D428))/$D428)","v":0},{"$f":"IF((F$4-$E$4)<=$D428,\nSUM($E452:F452)/$D428,\nSUM(OFFSET(F452,0,-$D428,1,$D428))/$D428)","v":0},{"$f":"IF((G$4-$E$4)<=$D428,\nSUM($E452:G452)/$D428,\nSUM(OFFSET(G452,0,-$D428,1,$D428))/$D428)","v":0},{"$f":"IF((H$4-$E$4)<=$D428,\nSUM($E452:H452)/$D428,\nSUM(OFFSET(H452,0,-$D428,1,$D428))/$D428)","v":0},{"$f":"IF((I$4-$E$4)<=$D428,\nSUM($E452:I452)/$D428,\nSUM(OFFSET(I452,0,-$D428,1,$D428))/$D428)","v":0},{"$f":"IF((J$4-$E$4)<=$D428,\nSUM($E452:J452)/$D428,\nSUM(OFFSET(J452,0,-$D428,1,$D428))/$D428)","v":0}]
[null,null,"CIN post2026 (WACC) contributi - eop",null,0,{"$f":"F451+F452-F453","v":0},0,0,0,0,0]
[null,null,"Remunerazione CIN post2026 (WACC) contributi",null,null,{"$f":"F451*F$17","v":0},0,0,0,0,0]
[null,null,"Valore di subentro cumulato",null,0,{"$f":"IF(EsistePrev,MAX(0,E456+(F452)/$D428*($D428-(ScadenzaConcessione-F$4))),0)","v":0},{"$f":"IF(EsistePrev,MAX(0,F456+(G452)/$D428*($D428-(ScadenzaConcessione-G$4))),0)","v":0},{"$f":"IF(EsistePrev,MAX(0,G456+(H452)/$D428*($D428-(ScadenzaConcessione-H$4))),0)","v":0},{"$f":"IF(EsistePrev,MAX(0,H456+(I452)/$D428*($D428-(ScadenzaConcessione-I$4))),0)","v":0},{"$f":"IF(EsistePrev,MAX(0,I456+(J452)/$D428*($D428-(ScadenzaConcessione-J$4))),0)","v":0},{"$f":"IF(EsistePrev,MAX(0,J456+(K452)/$D428*($D428-(ScadenzaConcessione-K$4))),0)","v":0}]
[null,null,"Remunerazione valore di subentro",null,null,{"$f":"F456*F$19","v":0},{"$f":"G456*G$19","v":0},{"$f":"H456*H$19","v":0},{"$f":"I456*I$19","v":0},{"$f":"J456*J$19","v":0},{"$f":"K456*K$19","v":0}]
[]
[null,null,"Portali e segnaletica",{"$f":"INDEX('C3 Tk Supporto'!D:D,MATCH(C459,'C3 Tk Supporto'!C:C,0))","v":20},"vita utile"]
[]
[null,null,"CIN post2026 LIC (vite utili livello 1) - bop",null,null,{"$f":"IF(EsistePrev,E464,0)","v":0},{"$f":"IF(EsistePrev,F464,0)","v":0},{"$f":"IF(EsistePrev,G464,0)","v":0},{"$f":"IF(EsistePrev,H464,0)","v":0},{"$f":"IF(EsistePrev,I464,0)","v":0},{"$f":"IF(EsistePrev,J464,0)","v":0}]
[null,null,"Investimenti in corso aggiuntivi",null,null,0,0,0,0,0,0]
[null,null,"Investimenti in corso cessanti (entrata in esercizio)",null,null,0,0,0,0,0,0]
[null,null,"CIN post2026 LIC (vite utili livello 1) - eop",null,0,{"$f":"F461+F462-F463","v":0},0,0,0,0,0]
[null,null,"Remunerazione CIN post2026 LIC (vite utili livello 1)",null,null,{"$f":"F461*F$20","v":0},0,0,0,0,0]
[]
[null,null,"CIN post2026 LIC (vite utili livello 2) - bop",null,null,{"$f":"IF(EsistePrev,E470,0)","v":0},{"$f":"IF(EsistePrev,F470,0)","v":0},{"$f":"IF(EsistePrev,G470,0)","v":0},{"$f":"IF(EsistePrev,H470,0)","v":0},{"$f":"IF(EsistePrev,I470,0)","v":0},{"$f":"IF(EsistePrev,J470,0)","v":0}]
[null,null,"Investimenti in corso aggiuntivi",null,null,0,0,0,0,0,0]
[null,null,"Investimenti in corso cessanti (entrata in esercizio)",null,null,0,0,0,0,0,0]
[null,null,"CIN post2026 LIC (vite utili livello 2) - eop",null,0,{"$f":"F467+F468-F469","v":0},0,0,0,0,0]
[null,null,"Remunerazione CIN post2026 LIC (vite utili livello 2)",null,null,{"$f":"F467*F$20","v":0},0,0,0,0,0]
[]
[null,null,"CIN post2026 (WACC) opere - bop",null,null,{"$f":"IF(EsistePrev,E477,0)","v":0},{"$f":"IF(EsistePrev,F477,0)","v":0},{"$f":"IF(EsistePrev,G477,0)","v":0},{"$f":"IF(EsistePrev,H477,0)","v":0},{"$f":"IF(EsistePrev,I477,0)","v":0},{"$f":"IF(EsistePrev,J477,0)","v":0}]
[null,null,"Investimenti CIN ante (entrata in esercizio)",null,null,{"$f":"F463+F469","v":0},{"$f":"G463+G469","v":0},0,0,0,0]
[null,null,"Dismissioni",null,null,0,0,0,0,0,0]
[null,null,"Ammortamento CIN post2026 (WACC) opere",null,null,{"$f":"IF((E$4-$E$4)<=$D459,\n(SUM($E474:E474)-SUM($E475:E475))/$D459,\n(SUM(OFFSET(E474,0,-$D459,1,$D459))-SUM(OFFSET(E475,0,-$D459,1,$D459)))/$D459)","v":0},{"$f":"IF((F$4-$E$4)<=$D459,\n(SUM($E474:F474)-SUM($E475:F475))/$D459,\n(SUM(OFFSET(F474,0,-$D459,1,$D459))-SUM(OFFSET(F475,0,-$D459,1,$D459)))/$D459)","v":0},{"$f":"IF((G$4-$E$4)<=$D459,\n(SUM($E474:G474)-SUM($E475:G475))/$D459,\n(SUM(OFFSET(G474,0,-$D459,1,$D459))-SUM(OFFSET(G475,0,-$D459,1,$D459)))/$D459)","v":0},{"$f":"IF((H$4-$E$4)<=$D459,\n(SUM($E474:H474)-SUM($E475:H475))/$D459,\n(SUM(OFFSET(H474,0,-$D459,1,$D459))-SUM(OFFSET(H475,0,-$D459,1,$D459)))/$D459)","v":0},{"$f":"IF((I$4-$E$4)<=$D459,\n(SUM($E474:I474)-SUM($E475:I475))/$D459,\n(SUM(OFFSET(I474,0,-$D459,1,$D459))-SUM(OFFSET(I475,0,-$D459,1,$D459)))/$D459)","v":0},{"$f":"IF((J$4-$E$4)<=$D459,\n(SUM($E474:J474)-SUM($E475:J475))/$D459,\n(SUM(OFFSET(J474,0,-$D459,1,$D459))-SUM(OFFSET(J475,0,-$D459,1,$D459)))/$D459)","v":0}]
[null,null,"CIN post2026 (WACC) opere - eop",null,0,{"$f":"F473+F474-F475-F476","v":0},0,0,0,0,0]
[null,null,"Remunerazione CIN post2026 (WACC) opere",null,null,{"$f":"F473*F$17","v":0},0,0,0,0,0]
[null,null,"Valore di subentro cumulato",null,0,{"$f":"IF(EsistePrev,MAX(0,E479+(F474-F475)/$D459*($D459-(ScadenzaConcessione-F$4))),0)","v":0},{"$f":"IF(EsistePrev,MAX(0,F479+(G474-G475)/$D459*($D459-(ScadenzaConcessione-G$4))),0)","v":0},{"$f":"IF(EsistePrev,MAX(0,G479+(H474-H475)/$D459*($D459-(ScadenzaConcessione-H$4))),0)","v":0},{"$f":"IF(EsistePrev,MAX(0,H479+(I474-I475)/$D459*($D459-(ScadenzaConcessione-I$4))),0)","v":0},{"$f":"IF(EsistePrev,MAX(0,I479+(J474-J475)/$D459*($D459-(ScadenzaConcessione-J$4))),0)","v":0},{"$f":"IF(EsistePrev,MAX(0,J479+(K474-K475)/$D459*($D459-(ScadenzaConcessione-K$4))),0)","v":0}]
[null,null,"Remunerazione valore di subentro",null,null,{"$f":"F479*F$19","v":0},{"$f":"G479*G$19","v":0},{"$f":"H479*H$19","v":0},{"$f":"I479*I$19","v":0},{"$f":"J479*J$19","v":0},{"$f":"K479*K$19","v":0}]
[]
[null,null,"CIN post2026 (WACC) contributi - bop",null,null,{"$f":"IF(EsistePrev,E485,0)","v":0},{"$f":"IF(EsistePrev,F485,0)","v":0},{"$f":"IF(EsistePrev,G485,0)","v":0},{"$f":"IF(EsistePrev,H485,0)","v":0},{"$f":"IF(EsistePrev,I485,0)","v":0},{"$f":"IF(EsistePrev,J485,0)","v":0}]
[null,null,"Contributi CIN post2026 (erogazione)",null,null,0,0,0,0,0,0]
[null,null,"Ammortamento CIN post2026 (WACC) contributi",null,null,{"$f":"IF((E$4-$E$4)<=$D459,\nSUM($E483:E483)/$D459,\nSUM(OFFSET(E483,0,-$D459,1,$D459))/$D459)","v":0},{"$f":"IF((F$4-$E$4)<=$D459,\nSUM($E483:F483)/$D459,\nSUM(OFFSET(F483,0,-$D459,1,$D459))/$D459)","v":0},{"$f":"IF((G$4-$E$4)<=$D459,\nSUM($E483:G483)/$D459,\nSUM(OFFSET(G483,0,-$D459,1,$D459))/$D459)","v":0},{"$f":"IF((H$4-$E$4)<=$D459,\nSUM($E483:H483)/$D459,\nSUM(OFFSET(H483,0,-$D459,1,$D459))/$D459)","v":0},{"$f":"IF((I$4-$E$4)<=$D459,\nSUM($E483:I483)/$D459,\nSUM(OFFSET(I483,0,-$D459,1,$D459))/$D459)","v":0},{"$f":"IF((J$4-$E$4)<=$D459,\nSUM($E483:J483)/$D459,\nSUM(OFFSET(J483,0,-$D459,1,$D459))/$D459)","v":0}]
[null,null,"CIN post2026 (WACC) contributi - eop",null,0,{"$f":"F482+F483-F484","v":0},0,0,0,0,0]
[null,null,"Remunerazione CIN post2026 (WACC) contributi",null,null,{"$f":"F482*F$17","v":0},0,0,0,0,0]
[null,null,"Valore di subentro cumulato",null,0,{"$f":"IF(EsistePrev,MAX(0,E487+(F483)/$D459*($D459-(ScadenzaConcessione-F$4))),0)","v":0},{"$f":"IF(EsistePrev,MAX(0,F487+(G483)/$D459*($D459-(ScadenzaConcessione-G$4))),0)","v":0},{"$f":"IF(EsistePrev,MAX(0,G487+(H483)/$D459*($D459-(ScadenzaConcessione-H$4))),0)","v":0},{"$f":"IF(EsistePrev,MAX(0,H487+(I483)/$D459*($D459-(ScadenzaConcessione-I$4))),0)","v":0},{"$f":"IF(EsistePrev,MAX(0,I487+(J483)/$D459*($D459-(ScadenzaConcessione-J$4))),0)","v":0},{"$f":"IF(EsistePrev,MAX(0,J487+(K483)/$D459*($D459-(ScadenzaConcessione-K$4))),0)","v":0}]
[null,null,"Remunerazione valore di subentro",null,null,{"$f":"F487*F$19","v":0},{"$f":"G487*G$19","v":0},{"$f":"H487*H$19","v":0},{"$f":"I487*I$19","v":0},{"$f":"J487*J$19","v":0},{"$f":"K487*K$19","v":0}]
[]
[null,null,"Pavimentazioni",{"$f":"INDEX('C3 Tk Supporto'!D:D,MATCH(C490,'C3 Tk Supporto'!C:C,0))","v":20},"vita utile"]
[]
[null,null,"CIN post2026 LIC (vite utili livello 1) - bop",null,null,{"$f":"IF(EsistePrev,E495,0)","v":0},{"$f":"IF(EsistePrev,F495,0)","v":0},{"$f":"IF(EsistePrev,G495,0)","v":0},{"$f":"IF(EsistePrev,H495,0)","v":0},{"$f":"IF(EsistePrev,I495,0)","v":0},{"$f":"IF(EsistePrev,J495,0)","v":0}]
[null,null,"Investimenti in corso aggiuntivi",null,null,0,0,0,0,0,0]
[null,null,"Investimenti in corso cessanti (entrata in esercizio)",null,null,0,0,0,0,0,0]
[null,null,"CIN post2026 LIC (vite utili livello 1) - eop",null,0,{"$f":"F492+F493-F494","v":0},0,0,0,0,0]
[null,null,"Remunerazione CIN post2026 LIC (vite utili livello 1)",null,null,{"$f":"F492*F$20","v":0},0,0,0,0,0]
[]
[null,null,"CIN post2026 LIC (vite utili livello 2) - bop",null,null,{"$f":"IF(EsistePrev,E501,0)","v":0},{"$f":"IF(EsistePrev,F501,0)","v":0},{"$f":"IF(EsistePrev,G501,0)","v":0},{"$f":"IF(EsistePrev,H501,0)","v":0},{"$f":"IF(EsistePrev,I501,0)","v":0},{"$f":"IF(EsistePrev,J501,0)","v":0}]
[null,null,"Investimenti in corso aggiuntivi",null,null,0,0,0,0,0,0]
[null,null,"Investimenti in corso cessanti (entrata in esercizio)",null,null,0,0,0,0,0,0]
[null,null,"CIN post2026 LIC (vite utili livello 2) - eop",null,0,{"$f":"F498+F499-F500","v":0},0,0,0,0,0]
[null,null,"Remunerazione CIN post2026 LIC (vite utili livello 2)",null,null,{"$f":"F498*F$20","v":0},0,0,0,0,0]
[]
[null,null,"CIN post2026 (WACC) opere - bop",null,null,{"$f":"IF(EsistePrev,E508,0)","v":0},{"$f":"IF(EsistePrev,F508,0)","v":0},{"$f":"IF(EsistePrev,G508,0)","v":0},{"$f":"IF(EsistePrev,H508,0)","v":0},{"$f":"IF(EsistePrev,I508,0)","v":0},{"$f":"IF(EsistePrev,J508,0)","v":0}]
[null,null,"Investimenti CIN ante (entrata in esercizio)",null,null,{"$f":"F494+F500","v":0},{"$f":"G494+G500","v":0},0,0,0,0]
[null,null,"Dismissioni",null,null,0,0,0,0,0,0]
[null,null,"Ammortamento CIN post2026 (WACC) opere",null,null,{"$f":"IF((E$4-$E$4)<=$D490,\n(SUM($E505:E505)-SUM($E506:E506))/$D490,\n(SUM(OFFSET(E505,0,-$D490,1,$D490))-SUM(OFFSET(E506,0,-$D490,1,$D490)))/$D490)","v":0},{"$f":"IF((F$4-$E$4)<=$D490,\n(SUM($E505:F505)-SUM($E506:F506))/$D490,\n(SUM(OFFSET(F505,0,-$D490,1,$D490))-SUM(OFFSET(F506,0,-$D490,1,$D490)))/$D490)","v":0},{"$f":"IF((G$4-$E$4)<=$D490,\n(SUM($E505:G505)-SUM($E506:G506))/$D490,\n(SUM(OFFSET(G505,0,-$D490,1,$D490))-SUM(OFFSET(G506,0,-$D490,1,$D490)))/$D490)","v":0},{"$f":"IF((H$4-$E$4)<=$D490,\n(SUM($E505:H505)-SUM($E506:H506))/$D490,\n(SUM(OFFSET(H505,0,-$D490,1,$D490))-SUM(OFFSET(H506,0,-$D490,1,$D490)))/$D490)","v":0},{"$f":"IF((I$4-$E$4)<=$D490,\n(SUM($E505:I505)-SUM($E506:I506))/$D490,\n(SUM(OFFSET(I505,0,-$D490,1,$D490))-SUM(OFFSET(I506,0,-$D490,1,$D490)))/$D490)","v":0},{"$f":"IF((J$4-$E$4)<=$D490,\n(SUM($E505:J505)-SUM($E506:J506))/$D490,\n(SUM(OFFSET(J505,0,-$D490,1,$D490))-SUM(OFFSET(J506,0,-$D490,1,$D490)))/$D490)","v":0}]
[null,null,"CIN post2026 (WACC) opere - eop",null,0,{"$f":"F504+F505-F506-F507","v":0},0,0,0,0,0]
[null,null,"Remunerazione CIN post2026 (WACC) opere",null,null,{"$f":"F504*F$17","v":0},0,0,0,0,0]
[null,null,"Valore di subentro cumulato",null,0,{"$f":"IF(EsistePrev,MAX(0,E510+(F505-F506)/$D490*($D490-(ScadenzaConcessione-F$4))),0)","v":0},{"$f":"IF(EsistePrev,MAX(0,F510+(G505-G506)/$D490*($D490-(ScadenzaConcessione-G$4))),0)","v":0},{"$f":"IF(EsistePrev,MAX(0,G510+(H505-H506)/$D490*($D490-(ScadenzaConcessione-H$4))),0)","v":0},{"$f":"IF(EsistePrev,MAX(0,H510+(I505-I506)/$D490*($D490-(ScadenzaConcessione-I$4))),0)","v":0},{"$f":"IF(EsistePrev,MAX(0,I510+(J505-J506)/$D490*($D490-(ScadenzaConcessione-J$4))),0)","v":0},{"$f":"IF(EsistePrev,MAX(0,J510+(K505-K506)/$D490*($D490-(ScadenzaConcessione-K$4))),0)","v":0}]
[null,null,"Remunerazione valore di subentro",null,null,{"$f":"F510*F$19","v":0},{"$f":"G510*G$19","v":0},{"$f":"H510*H$19","v":0},{"$f":"I510*I$19","v":0},{"$f":"J510*J$19","v":0},{"$f":"K510*K$19","v":0}]
[]
[null,null,"CIN post2026 (WACC) contributi - bop",null,null,{"$f":"IF(EsistePrev,E516,0)","v":0},{"$f":"IF(EsistePrev,F516,0)","v":0},{"$f":"IF(EsistePrev,G516,0)","v":0},{"$f":"IF(EsistePrev,H516,0)","v":0},{"$f":"IF(EsistePrev,I516,0)","v":0},{"$f":"IF(EsistePrev,J516,0)","v":0}]
[null,null,"Contributi CIN post2026 (erogazione)",null,null,0,0,0,0,0,0]
[null,null,"Ammortamento CIN post2026 (WACC) contributi",null,null,{"$f":"IF((E$4-$E$4)<=$D490,\nSUM($E514:E514)/$D490,\nSUM(OFFSET(E514,0,-$D490,1,$D490))/$D490)","v":0},{"$f":"IF((F$4-$E$4)<=$D490,\nSUM($E514:F514)/$D490,\nSUM(OFFSET(F514,0,-$D490,1,$D490))/$D490)","v":0},{"$f":"IF((G$4-$E$4)<=$D490,\nSUM($E514:G514)/$D490,\nSUM(OFFSET(G514,0,-$D490,1,$D490))/$D490)","v":0},{"$f":"IF((H$4-$E$4)<=$D490,\nSUM($E514:H514)/$D490,\nSUM(OFFSET(H514,0,-$D490,1,$D490))/$D490)","v":0},{"$f":"IF((I$4-$E$4)<=$D490,\nSUM($E514:I514)/$D490,\nSUM(OFFSET(I514,0,-$D490,1,$D490))/$D490)","v":0},{"$f":"IF((J$4-$E$4)<=$D490,\nSUM($E514:J514)/$D490,\nSUM(OFFSET(J514,0,-$D490,1,$D490))/$D490)","v":0}]
[null,null,"CIN post2026 (WACC) contributi - eop",null,0,{"$f":"F513+F514-F515","v":0},0,0,0,0,0]
[null,null,"Remunerazione CIN post2026 (WACC) contributi",null,null,{"$f":"F513*F$17","v":0},0,0,0,0,0]
[null,null,"Valore di subentro cumulato",null,0,{"$f":"IF(EsistePrev,MAX(0,E518+(F514)/$D490*($D490-(ScadenzaConcessione-F$4))),0)","v":0},{"$f":"IF(EsistePrev,MAX(0,F518+(G514)/$D490*($D490-(ScadenzaConcessione-G$4))),0)","v":0},{"$f":"IF(EsistePrev,MAX(0,G518+(H514)/$D490*($D490-(ScadenzaConcessione-H$4))),0)","v":0},{"$f":"IF(EsistePrev,MAX(0,H518+(I514)/$D490*($D490-(ScadenzaConcessione-I$4))),0)","v":0},{"$f":"IF(EsistePrev,MAX(0,I518+(J514)/$D490*($D490-(ScadenzaConcessione-J$4))),0)","v":0},{"$f":"IF(EsistePrev,MAX(0,J518+(K514)/$D490*($D490-(ScadenzaConcessione-K$4))),0)","v":0}]
[null,null,"Remunerazione valore di subentro",null,null,{"$f":"F518*F$19","v":0},{"$f":"G518*G$19","v":0},{"$f":"H518*H$19","v":0},{"$f":"I518*I$19","v":0},{"$f":"J518*J$19","v":0},{"$f":"K518*K$19","v":0}]
[]
[null,null,"Infrastrutture tecnologiche ed impianti",{"$f":"INDEX('C3 Tk Supporto'!D:D,MATCH(C521,'C3 Tk Supporto'!C:C,0))","v":10},"vita utile"]
[]
[null,null,"CIN post2026 LIC (vite utili livello 1) - bop",null,null,{"$f":"IF(EsistePrev,E526,0)","v":0},{"$f":"IF(EsistePrev,F526,0)","v":0},{"$f":"IF(EsistePrev,G526,0)","v":0},{"$f":"IF(EsistePrev,H526,0)","v":0},{"$f":"IF(EsistePrev,I526,0)","v":0},{"$f":"IF(EsistePrev,J526,0)","v":0}]
[null,null,"Investimenti in corso aggiuntivi",null,null,0,0,0,0,0,0]
[null,null,"Investimenti in corso cessanti (entrata in esercizio)",null,null,0,0,0,0,0,0]
[null,null,"CIN post2026 LIC (vite utili livello 1) - eop",null,0,{"$f":"F523+F524-F525","v":0},0,0,0,0,0]
[null,null,"Remunerazione CIN post2026 LIC (vite utili livello 1)",null,null,{"$f":"F523*F$20","v":0},0,0,0,0,0]
[]
[null,null,"CIN post2026 LIC (vite utili livello 2) - bop",null,null,{"$f":"IF(EsistePrev,E532,0)","v":0},{"$f":"IF(EsistePrev,F532,0)","v":0},{"$f":"IF(EsistePrev,G532,0)","v":0},{"$f":"IF(EsistePrev,H532,0)","v":0},{"$f":"IF(EsistePrev,I532,0)","v":0},{"$f":"IF(EsistePrev,J532,0)","v":0}]
[null,null,"Investimenti in corso aggiuntivi",null,null,0,0,0,0,0,0]
[null,null,"Investimenti in corso cessanti (entrata in esercizio)",null,null,0,0,0,0,0,0]
[null,null,"CIN post2026 LIC (vite utili livello 2) - eop",null,0,{"$f":"F529+F530-F531","v":0},0,0,0,0,0]
[null,null,"Remunerazione CIN post2026 LIC (vite utili livello 2)",null,null,{"$f":"F529*F$20","v":0},0,0,0,0,0]
[]
[null,null,"CIN post2026 (WACC) opere - bop",null,null,{"$f":"IF(EsistePrev,E539,0)","v":0},{"$f":"IF(EsistePrev,F539,0)","v":0},{"$f":"IF(EsistePrev,G539,0)","v":0},{"$f":"IF(EsistePrev,H539,0)","v":0},{"$f":"IF(EsistePrev,I539,0)","v":0},{"$f":"IF(EsistePrev,J539,0)","v":0}]
[null,null,"Investimenti CIN ante (entrata in esercizio)",null,null,{"$f":"F525+F531","v":0},{"$f":"G525+G531","v":0},0,0,0,0]
[null,null,"Dismissioni",null,null,0,0,0,0,0,0]
[null,null,"Ammortamento CIN post2026 (WACC) opere",null,null,{"$f":"IF((E$4-$E$4)<=$D521,\n(SUM($E536:E536)-SUM($E537:E537))/$D521,\n(SUM(OFFSET(E536,0,-$D521,1,$D521))-SUM(OFFSET(E537,0,-$D521,1,$D521)))/$D521)","v":0},{"$f":"IF((F$4-$E$4)<=$D521,\n(SUM($E536:F536)-SUM($E537:F537))/$D521,\n(SUM(OFFSET(F536,0,-$D521,1,$D521))-SUM(OFFSET(F537,0,-$D521,1,$D521)))/$D521)","v":0},{"$f":"IF((G$4-$E$4)<=$D521,\n(SUM($E536:G536)-SUM($E537:G537))/$D521,\n(SUM(OFFSET(G536,0,-$D521,1,$D521))-SUM(OFFSET(G537,0,-$D521,1,$D521)))/$D521)","v":0},{"$f":"IF((H$4-$E$4)<=$D521,\n(SUM($E536:H536)-SUM($E537:H537))/$D521,\n(SUM(OFFSET(H536,0,-$D521,1,$D521))-SUM(OFFSET(H537,0,-$D521,1,$D521)))/$D521)","v":0},{"$f":"IF((I$4-$E$4)<=$D521,\n(SUM($E536:I536)-SUM($E537:I537))/$D521,\n(SUM(OFFSET(I536,0,-$D521,1,$D521))-SUM(OFFSET(I537,0,-$D521,1,$D521)))/$D521)","v":0},{"$f":"IF((J$4-$E$4)<=$D521,\n(SUM($E536:J536)-SUM($E537:J537))/$D521,\n(SUM(OFFSET(J536,0,-$D521,1,$D521))-SUM(OFFSET(J537,0,-$D521,1,$D521)))/$D521)","v":0}]
[null,null,"CIN post2026 (WACC) opere - eop",null,0,{"$f":"F535+F536-F537-F538","v":0},0,0,0,0,0]
[null,null,"Remunerazione CIN post2026 (WACC) opere",null,null,{"$f":"F535*F$17","v":0},0,0,0,0,0]
[null,null,"Valore di subentro cumulato",null,0,{"$f":"IF(EsistePrev,MAX(0,E541+(F536-F537)/$D521*($D521-(ScadenzaConcessione-F$4))),0)","v":0},{"$f":"IF(EsistePrev,MAX(0,F541+(G536-G537)/$D521*($D521-(ScadenzaConcessione-G$4))),0)","v":0},{"$f":"IF(EsistePrev,MAX(0,G541+(H536-H537)/$D521*($D521-(ScadenzaConcessione-H$4))),0)","v":0},{"$f":"IF(EsistePrev,MAX(0,H541+(I536-I537)/$D521*($D521-(ScadenzaConcessione-I$4))),0)","v":0},{"$f":"IF(EsistePrev,MAX(0,I541+(J536-J537)/$D521*($D521-(ScadenzaConcessione-J$4))),0)","v":0},{"$f":"IF(EsistePrev,MAX(0,J541+(K536-K537)/$D521*($D521-(ScadenzaConcessione-K$4))),0)","v":0}]
[null,null,"Remunerazione valore di subentro",null,null,{"$f":"F541*F$19","v":0},{"$f":"G541*G$19","v":0},{"$f":"H541*H$19","v":0},{"$f":"I541*I$19","v":0},{"$f":"J541*J$19","v":0},{"$f":"K541*K$19","v":0}]
[]
[null,null,"CIN post2026 (WACC) contributi - bop",null,null,{"$f":"IF(EsistePrev,E547,0)","v":0},{"$f":"IF(EsistePrev,F547,0)","v":0},{"$f":"IF(EsistePrev,G547,0)","v":0},{"$f":"IF(EsistePrev,H547,0)","v":0},{"$f":"IF(EsistePrev,I547,0)","v":0},{"$f":"IF(EsistePrev,J547,0)","v":0}]
[null,null,"Contributi CIN post2026 (erogazione)",null,null,0,0,0,0,0,0]
[null,null,"Ammortamento CIN post2026 (WACC) contributi",null,null,{"$f":"IF((E$4-$E$4)<=$D521,\nSUM($E545:E545)/$D521,\nSUM(OFFSET(E545,0,-$D521,1,$D521))/$D521)","v":0},{"$f":"IF((F$4-$E$4)<=$D521,\nSUM($E545:F545)/$D521,\nSUM(OFFSET(F545,0,-$D521,1,$D521))/$D521)","v":0},{"$f":"IF((G$4-$E$4)<=$D521,\nSUM($E545:G545)/$D521,\nSUM(OFFSET(G545,0,-$D521,1,$D521))/$D521)","v":0},{"$f":"IF((H$4-$E$4)<=$D521,\nSUM($E545:H545)/$D521,\nSUM(OFFSET(H545,0,-$D521,1,$D521))/$D521)","v":0},{"$f":"IF((I$4-$E$4)<=$D521,\nSUM($E545:I545)/$D521,\nSUM(OFFSET(I545,0,-$D521,1,$D521))/$D521)","v":0},{"$f":"IF((J$4-$E$4)<=$D521,\nSUM($E545:J545)/$D521,\nSUM(OFFSET(J545,0,-$D521,1,$D521))/$D521)","v":0}]
[null,null,"CIN post2026 (WACC) contributi - eop",null,0,{"$f":"F544+F545-F546","v":0},0,0,0,0,0]
[null,null,"Remunerazione CIN post2026 (WACC) contributi",null,null,{"$f":"F544*F$17","v":0},0,0,0,0,0]
[null,null,"Valore di subentro cumulato",null,0,{"$f":"IF(EsistePrev,MAX(0,E549+(F545)/$D521*($D521-(ScadenzaConcessione-F$4))),0)","v":0},{"$f":"IF(EsistePrev,MAX(0,F549+(G545)/$D521*($D521-(ScadenzaConcessione-G$4))),0)","v":0},{"$f":"IF(EsistePrev,MAX(0,G549+(H545)/$D521*($D521-(ScadenzaConcessione-H$4))),0)","v":0},{"$f":"IF(EsistePrev,MAX(0,H549+(I545)/$D521*($D521-(ScadenzaConcessione-I$4))),0)","v":0},{"$f":"IF(EsistePrev,MAX(0,I549+(J545)/$D521*($D521-(ScadenzaConcessione-J$4))),0)","v":0},{"$f":"IF(EsistePrev,MAX(0,J549+(K545)/$D521*($D521-(ScadenzaConcessione-K$4))),0)","v":0}]
[null,null,"Remunerazione valore di subentro",null,null,{"$f":"F549*F$19","v":0},{"$f":"G549*G$19","v":0},{"$f":"H549*H$19","v":0},{"$f":"I549*I$19","v":0},{"$f":"J549*J$19","v":0},{"$f":"K549*K$19","v":0}]
[]
[null,null,"Stazioni/Barriere di esazione, fabbricati, aree di servizio",{"$f":"INDEX('C3 Tk Supporto'!D:D,MATCH(C552,'C3 Tk Supporto'!C:C,0))","v":40},"vita utile"]
[]
[null,null,"CIN post2026 LIC (vite utili livello 1) - bop",null,null,{"$f":"IF(EsistePrev,E557,0)","v":0},{"$f":"IF(EsistePrev,F557,0)","v":0},{"$f":"IF(EsistePrev,G557,0)","v":0},{"$f":"IF(EsistePrev,H557,0)","v":0},{"$f":"IF(EsistePrev,I557,0)","v":0},{"$f":"IF(EsistePrev,J557,0)","v":0}]
[null,null,"Investimenti in corso aggiuntivi",null,null,0,0,0,0,0,0]
[null,null,"Investimenti in corso cessanti (entrata in esercizio)",null,null,0,0,0,0,0,0]
[null,null,"CIN post2026 LIC (vite utili livello 1) - eop",null,0,{"$f":"F554+F555-F556","v":0},0,0,0,0,0]
[null,null,"Remunerazione CIN post2026 LIC (vite utili livello 1)",null,null,{"$f":"F554*F$20","v":0},0,0,0,0,0]
[]
[null,null,"CIN post2026 LIC (vite utili livello 2) - bop",null,null,{"$f":"IF(EsistePrev,E563,0)","v":0},{"$f":"IF(EsistePrev,F563,0)","v":0},{"$f":"IF(EsistePrev,G563,0)","v":0},{"$f":"IF(EsistePrev,H563,0)","v":0},{"$f":"IF(EsistePrev,I563,0)","v":0},{"$f":"IF(EsistePrev,J563,0)","v":0}]
[null,null,"Investimenti in corso aggiuntivi",null,null,0,0,0,0,0,0]
[null,null,"Investimenti in corso cessanti (entrata in esercizio)",null,null,0,0,0,0,0,0]
[null,null,"CIN post2026 LIC (vite utili livello 2) - eop",null,0,{"$f":"F560+F561-F562","v":0},0,0,0,0,0]
[null,null,"Remunerazione CIN post2026 LIC (vite utili livello 2)",null,null,{"$f":"F560*F$20","v":0},0,0,0,0,0]
[]
[null,null,"CIN post2026 (WACC) opere - bop",null,null,{"$f":"IF(EsistePrev,E570,0)","v":0},{"$f":"IF(EsistePrev,F570,0)","v":0},{"$f":"IF(EsistePrev,G570,0)","v":0},{"$f":"IF(EsistePrev,H570,0)","v":0},{"$f":"IF(EsistePrev,I570,0)","v":0},{"$f":"IF(EsistePrev,J570,0)","v":0}]
[null,null,"Investimenti CIN ante (entrata in esercizio)",null,null,{"$f":"F556+F562","v":0},{"$f":"G556+G562","v":0},0,0,0,0]
[null,null,"Dismissioni",null,null,0,0,0,0,0,0]
[null,null,"Ammortamento CIN post2026 (WACC) opere",null,null,{"$f":"IF((E$4-$E$4)<=$D552,\n(SUM($E567:E567)-SUM($E568:E568))/$D552,\n(SUM(OFFSET(E567,0,-$D552,1,$D552))-SUM(OFFSET(E568,0,-$D552,1,$D552)))/$D552)","v":0},{"$f":"IF((F$4-$E$4)<=$D552,\n(SUM($E567:F567)-SUM($E568:F568))/$D552,\n(SUM(OFFSET(F567,0,-$D552,1,$D552))-SUM(OFFSET(F568,0,-$D552,1,$D552)))/$D552)","v":0},{"$f":"IF((G$4-$E$4)<=$D552,\n(SUM($E567:G567)-SUM($E568:G568))/$D552,\n(SUM(OFFSET(G567,0,-$D552,1,$D552))-SUM(OFFSET(G568,0,-$D552,1,$D552)))/$D552)","v":0},{"$f":"IF((H$4-$E$4)<=$D552,\n(SUM($E567:H567)-SUM($E568:H568))/$D552,\n(SUM(OFFSET(H567,0,-$D552,1,$D552))-SUM(OFFSET(H568,0,-$D552,1,$D552)))/$D552)","v":0},{"$f":"IF((I$4-$E$4)<=$D552,\n(SUM($E567:I567)-SUM($E568:I568))/$D552,\n(SUM(OFFSET(I567,0,-$D552,1,$D552))-SUM(OFFSET(I568,0,-$D552,1,$D552)))/$D552)","v":0},{"$f":"IF((J$4-$E$4)<=$D552,\n(SUM($E567:J567)-SUM($E568:J568))/$D552,\n(SUM(OFFSET(J567,0,-$D552,1,$D552))-SUM(OFFSET(J568,0,-$D552,1,$D552)))/$D552)","v":0}]
[null,null,"CIN post2026 (WACC) opere - eop",null,0,{"$f":"F566+F567-F568-F569","v":0},0,0,0,0,0]
[null,null,"Remunerazione CIN post2026 (WACC) opere",null,null,{"$f":"F566*F$17","v":0},0,0,0,0,0]
[null,null,"Valore di subentro cumulato",null,0,{"$f":"IF(EsistePrev,MAX(0,E572+(F567-F568)/$D552*($D552-(ScadenzaConcessione-F$4))),0)","v":0},{"$f":"IF(EsistePrev,MAX(0,F572+(G567-G568)/$D552*($D552-(ScadenzaConcessione-G$4))),0)","v":0},{"$f":"IF(EsistePrev,MAX(0,G572+(H567-H568)/$D552*($D552-(ScadenzaConcessione-H$4))),0)","v":0},{"$f":"IF(EsistePrev,MAX(0,H572+(I567-I568)/$D552*($D552-(ScadenzaConcessione-I$4))),0)","v":0},{"$f":"IF(EsistePrev,MAX(0,I572+(J567-J568)/$D552*($D552-(ScadenzaConcessione-J$4))),0)","v":0},{"$f":"IF(EsistePrev,MAX(0,J572+(K567-K568)/$D552*($D552-(ScadenzaConcessione-K$4))),0)","v":0}]
[null,null,"Remunerazione valore di subentro",null,null,{"$f":"F572*F$19","v":0},{"$f":"G572*G$19","v":0},{"$f":"H572*H$19","v":0},{"$f":"I572*I$19","v":0},{"$f":"J572*J$19","v":0},{"$f":"K572*K$19","v":0}]
[]
[null,null,"CIN post2026 (WACC) contributi - bop",null,null,{"$f":"IF(EsistePrev,E578,0)","v":0},{"$f":"IF(EsistePrev,F578,0)","v":0},{"$f":"IF(EsistePrev,G578,0)","v":0},{"$f":"IF(EsistePrev,H578,0)","v":0},{"$f":"IF(EsistePrev,I578,0)","v":0},{"$f":"IF(EsistePrev,J578,0)","v":0}]
[null,null,"Contributi CIN post2026 (erogazione)",null,null,0,0,0,0,0,0]
[null,null,"Ammortamento CIN post2026 (WACC) contributi",null,null,{"$f":"IF((E$4-$E$4)<=$D552,\nSUM($E576:E576)/$D552,\nSUM(OFFSET(E576,0,-$D552,1,$D552))/$D552)","v":0},{"$f":"IF((F$4-$E$4)<=$D552,\nSUM($E576:F576)/$D552,\nSUM(OFFSET(F576,0,-$D552,1,$D552))/$D552)","v":0},{"$f":"IF((G$4-$E$4)<=$D552,\nSUM($E576:G576)/$D552,\nSUM(OFFSET(G576,0,-$D552,1,$D552))/$D552)","v":0},{"$f":"IF((H$4-$E$4)<=$D552,\nSUM($E576:H576)/$D552,\nSUM(OFFSET(H576,0,-$D552,1,$D552))/$D552)","v":0},{"$f":"IF((I$4-$E$4)<=$D552,\nSUM($E576:I576)/$D552,\nSUM(OFFSET(I576,0,-$D552,1,$D552))/$D552)","v":0},{"$f":"IF((J$4-$E$4)<=$D552,\nSUM($E576:J576)/$D552,\nSUM(OFFSET(J576,0,-$D552,1,$D552))/$D552)","v":0}]
[null,null,"CIN post2026 (WACC) contributi - eop",null,0,{"$f":"F575+F576-F577","v":0},0,0,0,0,0]
[null,null,"Remunerazione CIN post2026 (WACC) contributi",null,null,{"$f":"F575*F$17","v":0},0,0,0,0,0]
[null,null,"Valore di subentro cumulato",null,0,{"$f":"IF(EsistePrev,MAX(0,E580+(F576)/$D552*($D552-(ScadenzaConcessione-F$4))),0)","v":0},{"$f":"IF(EsistePrev,MAX(0,F580+(G576)/$D552*($D552-(ScadenzaConcessione-G$4))),0)","v":0},{"$f":"IF(EsistePrev,MAX(0,G580+(H576)/$D552*($D552-(ScadenzaConcessione-H$4))),0)","v":0},{"$f":"IF(EsistePrev,MAX(0,H580+(I576)/$D552*($D552-(ScadenzaConcessione-I$4))),0)","v":0},{"$f":"IF(EsistePrev,MAX(0,I580+(J576)/$D552*($D552-(ScadenzaConcessione-J$4))),0)","v":0},{"$f":"IF(EsistePrev,MAX(0,J580+(K576)/$D552*($D552-(ScadenzaConcessione-K$4))),0)","v":0}]
[null,null,"Remunerazione valore di subentro",null,null,{"$f":"F580*F$19","v":0},{"$f":"G580*G$19","v":0},{"$f":"H580*H$19","v":0},{"$f":"I580*I$19","v":0},{"$f":"J580*J$19","v":0},{"$f":"K580*K$19","v":0}]
[]
[null,null,"Altro",{"$f":"INDEX('C3 Tk Supporto'!D:D,MATCH(C583,'C3 Tk Supporto'!C:C,0))","v":30},"vita utile"]
[]
[null,null,"CIN post2026 LIC (vite utili livello 1) - bop",null,null,{"$f":"IF(EsistePrev,E588,0)","v":0},{"$f":"IF(EsistePrev,F588,0)","v":0},{"$f":"IF(EsistePrev,G588,0)","v":0},{"$f":"IF(EsistePrev,H588,0)","v":0},{"$f":"IF(EsistePrev,I588,0)","v":0},{"$f":"IF(EsistePrev,J588,0)","v":0}]
[null,null,"Investimenti in corso aggiuntivi",null,null,0,0,0,0,0,0]
[null,null,"Investimenti in corso cessanti (entrata in esercizio)",null,null,0,0,0,0,0,0]
[null,null,"CIN post2026 LIC (vite utili livello 1) - eop",null,0,{"$f":"F585+F586-F587","v":0},0,0,0,0,0]
[null,null,"Remunerazione CIN post2026 LIC (vite utili livello 1)",null,null,{"$f":"F585*F$20","v":0},0,0,0,0,0]
[]
[null,null,"CIN post2026 LIC (vite utili livello 2) - bop",null,null,{"$f":"IF(EsistePrev,E594,0)","v":0},{"$f":"IF(EsistePrev,F594,0)","v":0},{"$f":"IF(EsistePrev,G594,0)","v":0},{"$f":"IF(EsistePrev,H594,0)","v":0},{"$f":"IF(EsistePrev,I594,0)","v":0},{"$f":"IF(EsistePrev,J594,0)","v":0}]
[null,null,"Investimenti in corso aggiuntivi",null,null,0,0,0,0,0,0]
[null,null,"Investimenti in corso cessanti (entrata in esercizio)",null,null,0,0,0,0,0,0]
[null,null,"CIN post2026 LIC (vite utili livello 2) - eop",null,0,{"$f":"F591+F592-F593","v":0},0,0,0,0,0]
[null,null,"Remunerazione CIN post2026 LIC (vite utili livello 2)",null,null,{"$f":"F591*F$20","v":0},0,0,0,0,0]
[]
[null,null,"CIN post2026 (WACC) opere - bop",null,null,{"$f":"IF(EsistePrev,E601,0)","v":0},{"$f":"IF(EsistePrev,F601,0)","v":0},{"$f":"IF(EsistePrev,G601,0)","v":0},{"$f":"IF(EsistePrev,H601,0)","v":0},{"$f":"IF(EsistePrev,I601,0)","v":0},{"$f":"IF(EsistePrev,J601,0)","v":0}]
[null,null,"Investimenti CIN ante (entrata in esercizio)",null,null,{"$f":"F587+F593","v":0},{"$f":"G587+G593","v":0},0,0,0,0]
[null,null,"Dismissioni",null,null,0,0,0,0,0,0]
[null,null,"Ammortamento CIN post2026 (WACC) opere",null,null,{"$f":"IF((E$4-$E$4)<=$D583,\n(SUM($E598:E598)-SUM($E599:E599))/$D583,\n(SUM(OFFSET(E598,0,-$D583,1,$D583))-SUM(OFFSET(E599,0,-$D583,1,$D583)))/$D583)","v":0},{"$f":"IF((F$4-$E$4)<=$D583,\n(SUM($E598:F598)-SUM($E599:F599))/$D583,\n(SUM(OFFSET(F598,0,-$D583,1,$D583))-SUM(OFFSET(F599,0,-$D583,1,$D583)))/$D583)","v":0},{"$f":"IF((G$4-$E$4)<=$D583,\n(SUM($E598:G598)-SUM($E599:G599))/$D583,\n(SUM(OFFSET(G598,0,-$D583,1,$D583))-SUM(OFFSET(G599,0,-$D583,1,$D583)))/$D583)","v":0},{"$f":"IF((H$4-$E$4)<=$D583,\n(SUM($E598:H598)-SUM($E599:H599))/$D583,\n(SUM(OFFSET(H598,0,-$D583,1,$D583))-SUM(OFFSET(H599,0,-$D583,1,$D583)))/$D583)","v":0},{"$f":"IF((I$4-$E$4)<=$D583,\n(SUM($E598:I598)-SUM($E599:I599))/$D583,\n(SUM(OFFSET(I598,0,-$D583,1,$D583))-SUM(OFFSET(I599,0,-$D583,1,$D583)))/$D583)","v":0},{"$f":"IF((J$4-$E$4)<=$D583,\n(SUM($E598:J598)-SUM($E599:J599))/$D583,\n(SUM(OFFSET(J598,0,-$D583,1,$D583))-SUM(OFFSET(J599,0,-$D583,1,$D583)))/$D583)","v":0}]
[null,null,"CIN post2026 (WACC) opere - eop",null,0,{"$f":"F597+F598-F599-F600","v":0},0,0,0,0,0]
[null,null,"Remunerazione CIN post2026 (WACC) opere",null,null,{"$f":"F597*F$17","v":0},0,0,0,0,0]
[null,null,"Valore di subentro cumulato",null,0,{"$f":"IF(EsistePrev,MAX(0,E603+(F598-F599)/$D583*($D583-(ScadenzaConcessione-F$4))),0)","v":0},{"$f":"IF(EsistePrev,MAX(0,F603+(G598-G599)/$D583*($D583-(ScadenzaConcessione-G$4))),0)","v":0},{"$f":"IF(EsistePrev,MAX(0,G603+(H598-H599)/$D583*($D583-(ScadenzaConcessione-H$4))),0)","v":0},{"$f":"IF(EsistePrev,MAX(0,H603+(I598-I599)/$D583*($D583-(ScadenzaConcessione-I$4))),0)","v":0},{"$f":"IF(EsistePrev,MAX(0,I603+(J598-J599)/$D583*($D583-(ScadenzaConcessione-J$4))),0)","v":0},{"$f":"IF(EsistePrev,MAX(0,J603+(K598-K599)/$D583*($D583-(ScadenzaConcessione-K$4))),0)","v":0}]
[null,null,"Remunerazione valore di subentro",null,null,{"$f":"F603*F$19","v":0},{"$f":"G603*G$19","v":0},{"$f":"H603*H$19","v":0},{"$f":"I603*I$19","v":0},{"$f":"J603*J$19","v":0},{"$f":"K603*K$19","v":0}]
[]
[null,null,"CIN post2026 (WACC) contributi - bop",null,null,{"$f":"IF(EsistePrev,E609,0)","v":0},{"$f":"IF(EsistePrev,F609,0)","v":0},{"$f":"IF(EsistePrev,G609,0)","v":0},{"$f":"IF(EsistePrev,H609,0)","v":0},{"$f":"IF(EsistePrev,I609,0)","v":0},{"$f":"IF(EsistePrev,J609,0)","v":0}]
[null,null,"Contributi CIN post2026 (erogazione)",null,null,0,0,0,0,0,0]
[null,null,"Ammortamento CIN post2026 (WACC) contributi",null,null,{"$f":"IF((E$4-$E$4)<=$D583,\nSUM($E607:E607)/$D583,\nSUM(OFFSET(E607,0,-$D583,1,$D583))/$D583)","v":0},{"$f":"IF((F$4-$E$4)<=$D583,\nSUM($E607:F607)/$D583,\nSUM(OFFSET(F607,0,-$D583,1,$D583))/$D583)","v":0},{"$f":"IF((G$4-$E$4)<=$D583,\nSUM($E607:G607)/$D583,\nSUM(OFFSET(G607,0,-$D583,1,$D583))/$D583)","v":0},{"$f":"IF((H$4-$E$4)<=$D583,\nSUM($E607:H607)/$D583,\nSUM(OFFSET(H607,0,-$D583,1,$D583))/$D583)","v":0},{"$f":"IF((I$4-$E$4)<=$D583,\nSUM($E607:I607)/$D583,\nSUM(OFFSET(I607,0,-$D583,1,$D583))/$D583)","v":0},{"$f":"IF((J$4-$E$4)<=$D583,\nSUM($E607:J607)/$D583,\nSUM(OFFSET(J607,0,-$D583,1,$D583))/$D583)","v":0}]
[null,null,"CIN post2026 (WACC) contributi - eop",null,0,{"$f":"F606+F607-F608","v":0},0,0,0,0,0]
[null,null,"Remunerazione CIN post2026 (WACC) contributi",null,null,{"$f":"F606*F$17","v":0},0,0,0,0,0]
[null,null,"Valore di subentro cumulato",null,0,{"$f":"IF(EsistePrev,MAX(0,E611+(F607)/$D583*($D583-(ScadenzaConcessione-F$4))),0)","v":0},{"$f":"IF(EsistePrev,MAX(0,F611+(G607)/$D583*($D583-(ScadenzaConcessione-G$4))),0)","v":0},{"$f":"IF(EsistePrev,MAX(0,G611+(H607)/$D583*($D583-(ScadenzaConcessione-H$4))),0)","v":0},{"$f":"IF(EsistePrev,MAX(0,H611+(I607)/$D583*($D583-(ScadenzaConcessione-I$4))),0)","v":0},{"$f":"IF(EsistePrev,MAX(0,I611+(J607)/$D583*($D583-(ScadenzaConcessione-J$4))),0)","v":0},{"$f":"IF(EsistePrev,MAX(0,J611+(K607)/$D583*($D583-(ScadenzaConcessione-K$4))),0)","v":0}]
[null,null,"Remunerazione valore di subentro",null,null,{"$f":"F611*F$19","v":0},{"$f":"G611*G$19","v":0},{"$f":"H611*H$19","v":0},{"$f":"I611*I$19","v":0},{"$f":"J611*J$19","v":0},{"$f":"K611*K$19","v":0}]
[]
[]
[]
[null,null,"Credito di poste figurative eventualmente maturato antecedentemente all’entrata in vigore del Sistema tariffario dell’Autorità (da ultimo adeguamento tariffario annuale approvato)"]
[]
[null,null,"Anno di ultima applicazione della disciplina di analogia al CIN",2025]
[]
[null,null,"Credito Poste figurative sistema tariffario previgente - parte ammortamento"]
[]
[null,null,"Applicabilità",null,{"$f":"IF(E$4>$D$618,0,1)","v":1},1,1,1,1,1,1]
[null,null,"CIN ante (TIR) credito PF amm - bop",null,null,{"$f":"IF(EsistePrev,IF(F622=1,E625,0),0)","v":20000},18947.368421052633,17894.736842105263,16842.105263157893,15789.473684210525,14736.842105263157]
[null,null,"Ammortamento CIN ante (TIR) credito PF",null,null,{"$f":"IF(F622=1,(F623)*F$38,0)","v":1052.6315789473683},1052.6315789473686,1052.6315789473683,1052.6315789473683,1052.6315789473683,1052.6315789473683]
[null,null,"CIN ante (TIR) credito PF amm - eop",null,20000,{"$f":"F623-F624","v":18947.368421052633},17894.736842105263,16842.105263157893,15789.473684210525,14736.842105263157,13684.210526315788]
[null,null,"Remunerazione CIN ante (TIR) credito PF amm",null,null,{"$f":"IF(F622=1,F623*F$16,0)","v":2774},2628,2482,2335.9999999999995,2189.9999999999995,2043.9999999999998]
[null,null,"Importo da sommare alla componente ammortamenti CIN ante delle Poste figurative",null,null,{"$f":"IF(F$4=$D$618,F625,0)","v":0},0,0,0,0,13684.210526315788]
[]
[null,null,"Credito Poste figurative sistema tariffario previgente - parte remunerazione"]
[]
[null,null,"Applicabilità",null,{"$f":"IF(E$4>$D$618,0,1)","v":1},1,1,1,1,1,1]
[null,null,"CIN ante (TIR) credito PF rem - bop",null,null,{"$f":"IF(EsistePrev,IF(F631=1,E634,0),0)","v":0},0,0,0,0,0]
[null,null,"Ammortamento CIN ante (TIR) credito PF",null,null,{"$f":"IF(F631=1,(F632)*F$38,0)","v":0},0,0,0,0,0]
[null,null,"CIN ante (TIR) credito PF rem - eop",null,0,{"$f":"F632-F633","v":0},0,0,0,0,0]
[null,null,"Remunerazione CIN ante (TIR) credito PF rem",null,null,{"$f":"IF(F631=1,F632*F$16,0)","v":0},0,0,0,0,0]
[null,null,"Importo da sommare alla componente ammortamenti CIN ante delle Poste figurative",null,null,{"$f":"IF(F$4=$D$618,F634,0)","v":0},0,0,0,0,0]
[]
[]
[]
[null,null,"Poste figurative (da ultimo adeguamento tariffario annuale approvato)"]
[]
[null,null,"Evoluzione CIN"]
[]
[null,null,"CIN ante (TIR) - SAL contabilizzati"]
[null,null,"investimenti (opere) (01/01)",null,{"$f":"E229","v":300000},284736.84210526315,269473.68421052629,254210.52631578944,238947.36842105258,223684.21052631576,208421.05263157893]
[null,null,"investimenti (contributo) (01/01)",null,{"$f":"-E237","v":0},0,0,0,0,0,0]
[null,null,"avviamento (01/01)",null,{"$f":"E244","v":0},0,0,0,0,0,0]
[]
[null,null,"CIN ante (TIR) - SAL da contabilizzare"]
[null,null,"investimenti (opere) (01/01)",null,{"$f":"E253","v":0},{"$f":"F253","v":0},0,0,0,0,10000]
[null,null,"investimenti (contributo) (01/01)",null,{"$f":"-E259","v":0},{"$f":"-F259","v":0},0,0,0,0,0]
[]
[null,null,"CIN pre2026 (WACC)"]
[null,null,"investimenti (opere) (01/01)",null,{"$f":"E271","v":0},{"$f":"F271","v":0},0,0,0,0,20000]
[null,null,"investimenti (contributo) (01/01)",null,{"$f":"-E279","v":0},{"$f":"-F279","v":0},0,0,0,0,0]
[]
[null,null,"CIN post2026 (WACC) - ammortamento finanziario"]
[null,null,"finanziario - investimenti (opere) (01/01)",null,{"$f":"E291","v":0},{"$f":"F291","v":0},0,0,0,0,0]
[null,null,"finanziario - investimenti (contributo) (01/01)",null,{"$f":"-E299","v":0},{"$f":"-F299","v":0},0,0,0,0,0]
[]
[null,null,"CIN post2026 (WACC) - ammortamento a vite utili"]
[null,null,"vite utili - LIC di primo livello (01/01)",null,{"$f":"E588+E557+E526+E495+E464+E433+E402+E371+E340+E309","v":0},{"$f":"F588+F557+F526+F495+F464+F433+F402+F371+F340+F309","v":0},0,0,0,0,0]
[null,null,"vite utili - LIC di secondo livello (01/01)",null,{"$f":"E594+E563+E532+E501+E470+E439+E408+E377+E346+E315","v":0},{"$f":"F594+F563+F532+F501+F470+F439+F408+F377+F346+F315","v":0},0,0,0,0,0]
[null,null,"vite utili - investimenti (opere) (01/01)",null,{"$f":"E601+E570+E539+E508+E477+E446+E415+E384+E353+E322","v":0},{"$f":"F601+F570+F539+F508+F477+F446+F415+F384+F353+F322","v":0},0,0,0,0,0]
[null,null,"vite utili - investimenti (contributo) (01/01)",null,{"$f":"-(E609+E578+E547+E516+E485+E454+E423+E392+E361+E330)","v":0},{"$f":"-(F609+F578+F547+F516+F485+F454+F423+F392+F361+F330)","v":0},0,0,0,0,0]
[]
[null,null,"Totali"]
[null,null,"CIN regolatorio - asset reversibili - CIN ante",null,{"$f":"SUM(E645:E647)+SUM(E650:E651)","v":300000},{"$f":"SUM(F645:F647)+SUM(F650:F651)","v":284736.84210526315},269473.68421052629,254210.52631578944,238947.36842105258,223684.21052631576,218421.05263157893]
[null,null,"CIN regolatorio - asset reversibili - CIN pre2026",null,{"$f":"SUM(E654:E655)","v":0},{"$f":"SUM(F654:F655)","v":0},0,0,0,0,20000]
[null,null,"CIN regolatorio - asset reversibili - CIN post2026",null,{"$f":"SUM(E662:E665)+SUM(E658:E659)","v":0},{"$f":"SUM(F662:F665)+SUM(F658:F659)","v":0},0,0,0,0,0]
[null,null,"Totale CIN residuo",null,{"$f":"SUM(E644:E666)","v":300000},{"$f":"SUM(F644:F666)","v":284736.84210526315},269473.68421052629,254210.52631578944,238947.36842105258,223684.21052631576,238421.05263157893]
[]
[]
[null,null,"Totale Capex"]
[]
[null,null,"Totale ammortamenti CIN ante (opere-contributi) - SAL contabilizzati","CIN ante SAL",null,{"$f":"F228-F236","v":15263.157894736842},15263.15789473684,15263.15789473684,15263.15789473684,15263.157894736838,15263.15789473684]
[null,null,"Totale remunerazioni CIN ante (opere-contributi) - SAL contabilizzati","CIN ante SAL",null,{"$f":"F231+F232-F238","v":41610},39492.999999999993,37375.999999999993,35258.999999999993,33141.999999999985,31024.999999999993]
[null,null,"Totale ammortamenti CIN ante (avviamento)","CIN ante SAL",null,{"$f":"F243","v":0},0,0,0,0,0]
[null,null,"Totale remunerazioni CIN ante (avviamento)","CIN ante SAL",null,{"$f":"F245","v":0},0,0,0,0,0]
[null,null,"Totale ammortamenti CIN ante (opere-contributi) - SAL da contabilizzare","CIN ante noSAL",null,{"$f":"F252-F258","v":0},{"$f":"G252-G258","v":0},0,0,0,0]
[null,null,"Totale remunerazioni CIN ante (opere-contributi) - SAL da contabilizzare","CIN ante noSAL",null,{"$f":"F254-F260","v":0},{"$f":"G254-G260","v":0},0,0,0,0]
[]
[null,null,"Totale ammortamenti CIN pre2026 (opere-contributi)","CIN pre2026",null,{"$f":"F270-F278","v":0},{"$f":"G270-G278","v":0},0,0,0,0]
[null,null,"Totale remunerazioni CIN pre2026 (opere-contributi)","CIN pre2026",null,{"$f":"F273+F274-F280","v":0},{"$f":"G273+G274-G280","v":0},0,0,0,0]
[]
[null,null,"Totale ammortamenti CIN post2026 (opere-contributi)","CIN post2026 -amm",null,{"$f":"F290-F298+(F321+F352+F383+F414+F445+F476+F507+F538+F569+F600)-(F329+F360+F391+F422+F453+F484+F515+F546+F577+F608)","v":0},0,0,0,0,0]
[null,null,"Totale remunerazioni CIN post2026 (opere-contributi)","CIN post2026 -rem",null,{"$f":"F293+F294-F300+\n((F323+F354+F385+F416+F447+F478+F509+F540+F571+F602)+(F325+F356+F387+F418+F449+F480+F511+F542+F573+F604))-\n((F331+F362+F393+F424+F455+F486+F517+F548+F579+F610)+(F333+F364+F395+F426+F457+F488+F519+F550+F581+F612))","v":0},0,0,0,0,0]
[null,null,"Totale remunerazioni LIC","CIN post2026 -rem",null,{"$f":"F310+F341+F372+F403+F434+F465+F496+F527+F558+F589+F316+F347+F378+F409+F440+F471+F502+F533+F564+F595","v":0},0,0,0,0,0]
[]
[null,null,"Totale ammortamenti CIN ante (CreditoPF)","CIN ante SAL",null,{"$f":"F624","v":1052.6315789473683},1052.6315789473686,1052.6315789473683,1052.6315789473683,1052.6315789473683,1052.6315789473683]
[null,null,"Totale remunerazioni CIN ante (CreditoPF)","CIN ante SAL",null,{"$f":"F626","v":2774},2628,2482,2335.9999999999995,2189.9999999999995,2043.9999999999998]
[null,null,"Totale ammortamenti CIN pre2026 (CreditoPF)","CIN pre2026",null,{"$f":"F633","v":0},0,0,0,0,0]
[null,null,"Totale remunerazioni CIN pre2026 (CreditoPF)","CIN pre2026",null,{"$f":"F635","v":0},0,0,0,0,0]
[]
[null,null,"Totale capex",null,null,{"$f":"SUM(F675:F694)","v":60699.789473684206},{"$f":"SUM(G675:G694)","v":58436.789473684199},56173.789473684199,53910.789473684199,51647.789473684192,49384.789473684199]
[]
[null,null,"Componente tariffaria di costruzione",null,null,{"$f":"F695/F$109","v":6.1377749331152594E-2},5.8795496257138265E-2,5.623741802994512E-2,5.3703338019406882E-2,5.119308075449884E-2,4.8706471916176143E-2]
[]
[null,null,"CAPEX cumulati"]
[]
[null,null,"Totale ammortamenti CIN ante (opere-contributi) - SAL contabilizzati","CIN ante SAL",null,{"$f":"E701*(1+F$16)+F676","v":15263.157894736842},{"$f":"F701*(1+G$16)+G676","v":32643.315789473683},52434.101584210526,74969.869368677377,100631.34814484978,129852.07402727728]
[null,null,"Totale remunerazioni CIN ante (opere-contributi) - SAL contabilizzati","CIN ante SAL",null,41610,{"$f":"F702*(1+G$16)+G677","v":86874.307000000001},136299.77338090001,190463.55194883083,250022.84660413367,315726.01542812702]
[null,null,"Totale ammortamenti CIN ante (avviamento)","CIN ante SAL",null,0,{"$f":"F703*(1+G$16)+G678","v":0},0,0,0,0]
[null,null,"Totale remunerazioni CIN ante (avviamento)","CIN ante SAL",null,0,{"$f":"F704*(1+G$16)+G679","v":0},0,0,0,0]
[null,null,"Totale ammortamenti CIN ante (opere-contributi) - SAL da contabilizzare","CIN ante noSAL",null,0,{"$f":"F705*(1+G$16)+G680","v":0},0,0,0,0]
[null,null,"Totale remunerazioni CIN ante (opere-contributi) - SAL da contabilizzare","CIN ante noSAL",null,0,{"$f":"F706*(1+G$16)+G681","v":0},0,0,0,0]
[]
[null,null,"Totale ammortamenti CIN pre2026 (opere-contributi)","CIN pre2026",null,{"$f":"E708*(1+F$17)+F683","v":0},{"$f":"F708*(1+G$17)+G683","v":0},0,0,0,0]
[null,null,"Totale remunerazioni CIN pre2026 (opere-contributi)","CIN pre2026",null,{"$f":"E709*(1+F$17)+F684","v":0},{"$f":"F709*(1+G$17)+G684","v":0},0,0,0,0]
[]
[null,null,"Totale ammortamenti CIN post2026 (opere-contributi)","CIN post2026 -amm",null,{"$f":"E711*(1+F$17)+F686","v":0},{"$f":"F711*(1+G$17)+G686","v":0},0,0,0,0]
[null,null,"Totale remunerazioni CIN post2026 (opere-contributi)","CIN post2026 -rem",null,{"$f":"E712*(1+F$17)+F687","v":0},{"$f":"F712*(1+G$17)+G687","v":0},0,0,0,0]
[null,null,"Totale remunerazioni LIC","CIN post2026 -rem",null,{"$f":"E713*(1+F$17)+F688","v":0},{"$f":"F713*(1+G$17)+G688","v":0},0,0,0,0]
[]
[null,null,"Totale ammortamenti CIN ante (CreditoPF)","CIN ante SAL",null,{"$f":"E715*(1+F$16)+F690","v":1052.6315789473683},{"$f":"F715*(1+G$16)+G690","v":2251.2631578947367},3616.1449368421049,5170.3358185294737,6940.0929755068801,8955.3154501570534]
[null,null,"Totale remunerazioni CIN ante (CreditoPF)","CIN ante SAL",null,{"$f":"E716*(1+F$16)+F691","v":2774},{"$f":"F716*(1+G$16)+G691","v":5786.7538000000004},9071.3765520600009,12665.576479830723,16612.291937583243,20960.416829326037]
[null,null,"Totale ammortamenti CIN pre2026 (CreditoPF)","CIN pre2026",null,{"$f":"E717*(1+F$17)+F692","v":0},{"$f":"F717*(1+G$17)+G692","v":0},0,0,0,0]
[null,null,"Totale remunerazioni CIN pre2026 (CreditoPF)","CIN pre2026",null,{"$f":"E718*(1+F$17)+F693","v":0},{"$f":"F718*(1+G$17)+G693","v":0},0,0,0,0]
[]
[null,null,"Totale CAPEX cumulati",null,null,{"$f":"SUM(F700:F719)","v":60699.789473684206},{"$f":"SUM(G700:G719)","v":127555.63974736842},201421.39645401266,283269.33361586841,374206.57966207358,475493.82173488737]
[]
[]
[]
[null,null,"Andamento Poste figurative "]
[]
[null,null,"Poste figurative annue",null,null,{"$f":"(F178-F697)*F$109","v":-15751.81628075546},-12812.349284201879,-9862.7014593501735,-6902.7195847344592,-3932.2481329057559,-951.12923572705574]
[]
[null,null,"Tasso di attualizzazione utilizzato per le Poste figurative: componente CIN ante",null,null,0.09,0.09,0.09,0.09,0.09,0.09]
[null,null,"Tasso di attualizzazione utilizzato per le Poste figurative: componente CIN pre2026",null,null,0.09,0.09,0.09,0.09,0.09,0.09]
[null,null,"Tasso di attualizzazione utilizzato per le Poste figurative: componente ammortamenti CIN post2026",null,null,0.09,0.09,0.09,0.09,0.09,0.09]
[null,null,"Tasso di attualizzazione utilizzato per le Poste figurative: componente remunerazioni CIN post2026",null,null,0.09,0.09,0.09,0.09,0.09,0.09]
[]
[]
[null,null,"Scomposizione Poste figurative "]
[]
[null,null,"Anno di ultima applicazione della prima disciplina ART",2025]
[]
[null,null,"Originaria disciplina ART"]
[null,null,"Totale CIN ante - SAL contabilizzati (include credito PF)","CIN ante SAL",null,{"$f":"IF(F$4>$D$736,0,IFERROR(F$726*SUMIF($D$701:$D$719,$D739,F$701:F$719)/F$720,0))","v":-15751.81628075546},{"$f":"IF(G$4>$D$736,0,IFERROR(G$726*SUMIF($D$701:$D$719,$D739,G$701:G$719)/G$720,0))","v":-12812.349284201879},-9862.7014593501735,-6902.7195847344592,-3932.2481329057564,-951.12923572705574]
[null,null,"Totale CIN pre2026 (include credito PF)","CIN pre2026",null,{"$f":"IF(F$4>$D$736,0,IFERROR(F$726*SUMIF($D$701:$D$719,$D740,F$701:F$719)/F$720,0))","v":0},0,0,0,0,0]
[null,null,"Totale ammortamenti CIN ante - SAL da contabilizzare","CIN ante noSAL -amm",null,0,0,0,0,0,0]
[null,null,"Totale ammortamenti CIN post2026","CIN post2026 -amm",null,0,0,0,0,0,0]
[null,null,"Totale remunerazioni CIN ante - SAL da contabilizzare","CIN ante noSAL -rem",null,0,0,0,0,0,0]
[null,null,"Totale remunerazioni CIN post2026","CIN post2026 -rem",null,0,0,0,0,0,0]
[]
[null,null,"Nuova disciplina ART"]
[null,null,"Totale CIN ante - SAL contabilizzati (include credito PF)","CIN ante SAL"]
[null,null,"Totale CIN pre2026 (include credito PF)","CIN pre2026"]
[null,null,"Totale ammortamenti CIN ante - SAL da contabilizzare","CIN ante noSAL -amm"]
[null,null,"Totale ammortamenti CIN post2026","CIN post2026 -amm"]
[null,null,"Totale remunerazioni CIN ante - SAL da contabilizzare","CIN ante noSAL -rem"]
[null,null,"Totale remunerazioni CIN post2026","CIN post2026 -rem"]
[]
[null,null,"Check Saldo PF",null,null,{"$f":"SUM(F739:F742)+SUM(F747:F750)-F726","v":0},0,0,0,0,0]
[]
[]
[null,null,"Saldo Poste figurative "]
[]
[null,null,"Totale CIN ante - SAL contabilizzati (include credito PF)","CIN ante SAL",0,{"$f":"E759*(1+F728)+F739+F747-F627","v":-15751.81628075546},{"$f":"F759*(1+G728)+G739+G747-G627","v":-29981.82903022533},-42542.895102295784,-53274.475246236863,-62001.426151303938,-82216.89426696414]
[null,null,"Totale CIN pre2026 (include credito PF)","CIN pre2026",0,{"$f":"E760*(1+F729)+F740+F748-F636","v":0},{"$f":"F760*(1+G729)+G740+G748-G636","v":0},0,0,0,0]
[null,null,"Totale ammortamenti CIN ante - SAL da contabilizzare","CIN ante noSAL -amm",0,{"$f":"E761*(1+F728)+F741+F749","v":0},{"$f":"F761*(1+G728)+G741+G749","v":0},0,0,0,0]
[null,null,"Totale ammortamenti CIN post2026","CIN post2026 -amm",0,{"$f":"E762*(1+F730)+F742+F750","v":0},{"$f":"F762*(1+G730)+G742+G750","v":0},0,0,0,0]
[null,null,"Totale remunerazioni CIN ante - SAL da contabilizzare","CIN ante noSAL -rem",0,{"$f":"E763*(1+F731)+F743+F751","v":0},{"$f":"F763*(1+G731)+G743+G751","v":0},0,0,0,0]
[null,null,"Totale remunerazioni CIN post2026","CIN post2026 -rem",0,{"$f":"E764*(1+F731)+F744+F752","v":0},{"$f":"F764*(1+G731)+G744+G752","v":0},0,0,0,0]
[]
[null,null,"Saldo Poste figurative al 31/12",null,{"$f":"SUM(E759:E764)","v":0},{"$f":"SUM(F759:F764)","v":-15751.81628075546},-29981.82903022533,-42542.895102295784,-53274.475246236863,-62001.426151303938,-82216.89426696414]
[]
[]
[]
[null,null,"termine foglio di lavoro"]

{"sheet":"Z0.3.a DiscontinuitaCosto Tg","index":4,"n_rows":46,"n_cols":19,"rows_kept":46,"cut":false,"hidden":false,"merged":[]}
[]
[null,null,"Discontinuità di costo per nuovi investimenti e sopravvenienze normative - aggiornamento"]
[]
[null,null,"Anno",null,2024,2025,2026,2027,2028,2029,2030,2031,2032,2033,2034,2035,2036,2037,2038]
[]
[null,null,"Anno base",null,1,0,0,0,1,0,0,0,0,1,0,0,0,0,0]
[null,null,"Anno ponte",null,0,1,0,0,0,1,0,0,0,0,1,0,0,0,0]
[null,null,"Periodo regolatorio",null,0,0,1,1,1,1,2,2,2,2,2,3,3,3,3]
[null,null,"Anno del periodo regolatorio",null,0,0,1,2,3,4,1,2,3,4,5,1,2,3,4]
[null,null,"Frazione di anno significativa",null,null,null,1,1,1,1,1,1,1,1,1,1,1,1,1]
[]
[null,null,null,null,null,"Ultimo adattamento schema: 03/11/2025 14:32:33"]
[]
[null,null,"Discontinuità di costo"]
[]
[null,null,"NB: per ogni annualità va inserito il valore incrementale/decrementale rispetto all'annualità precedente."]
[null,null,"(per ciascuna specifica discontinuità di costo, si prega di documentare distintamente i valori assunti, mediante specifici fogli di lavoro di supporto)"]
[]
[null,null,"Discontinuità di costi operativi da nuovi investimenti"]
[]
[]
[]
[null,"t","(specificare)",null,null,10,10,10,10,10,10,10,10,10,10,10,10,10,10]
[null,"t"]
[null,"t"]
[null,"t"]
[null,"t"]
[]
[]
[null,null,"Totale discontinuità di costi operativi da nuovi investimenti",null,null,{"$f":"SUM(F23:F27)","v":10},10,{"$f":"SUM(H23:H27)","v":10},10,10,10,10,10,10,10,10,10,10,10]
[]
[]
[null,null,"Discontinuità di costi operativi da sopravvenienze normative"]
[]
[]
[]
[null,"t","(specificare)",null,null,100,100,100,100,100,100,100,100,100,100,100,100,100,100]
[null,"t"]
[null,"t"]
[null,"t"]
[null,"t"]
[null,"t"]
[]
[null,null,"Totale discontinuità di costi operativi da sopravvenienze normative",null,null,{"$f":"SUM(F37:F43)","v":100},100,{"$f":"SUM(H37:H43)","v":100},100,100,100,100,100,100,100,100,100,100,100]
[]
[null,null,"termine foglio di lavoro"]

{"sheet":"Z0.3.b Qualita","index":5,"n_rows":339,"n_cols":17,"rows_kept":339,"cut":false,"hidden":false,"merged":[]}
[]
[null,null,"Meccanismo di premialità/penalità correlato alla qualità dei servizi"]
[]
[]
[null,null,"Informazioni generali"]
[]
[null,null,"Periodo di riferimento"]
[]
[]
[null,null,null,"Anno applicazione meccanismo (t)",{"$f":"PrimoAnnoPR1+1","v":2027},{"$f":"IF(E10>UltimoAnnoPR1,\"\",E10+1)","v":2028},2029,2030,"","","","","","",{"$f":"IF(N10>UltimoAnnoPR1,\"\",N10+1)","v":""},{"$f":"IF(O10>UltimoAnnoPR1,\"\",O10+1)","v":""},{"$f":"IF(P10>UltimoAnnoPR1,\"\",P10+1)","v":""}]
[null,null,null,"Anno di riferimento per misurazioni (t-2)",{"$f":"IFERROR(E10-2,\"\")","v":2025},{"$f":"IFERROR(F10-2,\"\")","v":2026},2027,2028,"","","","","","",{"$f":"IFERROR(O10-2,\"\")","v":""},"",""]
[]
[null,null,null,"Anno di riferimento per  adeguamento tariffario",{"$f":"IF(E10=AnnoMon+1,TRUE,FALSE)","v":false},{"$f":"IF(F10=AnnoMon+1,TRUE,FALSE)","v":true},{"$f":"IF(G10=AnnoMon+1,TRUE,FALSE)","v":false},{"$f":"IF(H10=AnnoMon+1,TRUE,FALSE)","v":false},{"$f":"IF(I10=AnnoMon+1,TRUE,FALSE)","v":false}]
[]
[]
[null,null,"Tratte elementari"]
[]
[]
[]
[null,null,null,"Tratte elementari","Lunghezza \ntratta elementare","Veicoli leggeri: Tempo di percorrenza a flusso libero (secondi)","Veicoli leggeri: volumi di traffico annui (veicoli*km anno base)","Veicoli pesanti: Tempo di percorrenza a flusso libero (secondi)","Veicoli pesanti: volumi di traffico annui (veicoli*km anno base)","Velocità media \na flusso libero (km/h)","Lunghezza \ntratta \na 1 corsia","Lunghezza \ntratta \na 2 corsie","Lunghezza \ntratta \na 3 corsie","Lunghezza \ntratta \na 4 corsie","Lunghezza \ntratta \na 5 corsie","numero \nmedio \ncorsie","ore*km*corsie annue disponibili per la circolazione"]
[]
[null,"t",null,"Tratta 1",10,360,1000000,540,200000,{"$f":"IFERROR(E22/((F22*G22+H22*I22)/(G22+I22))*3600,0)","v":92.307692307692307},null,4,6,null,null,{"$f":"IFERROR(IF(SUM(K22:O22)=E22,(K22*1+L22*2+M22*3+N22*4+O22*5)/E22,\"errore\"),\"\")","v":2.6},{"$f":"IFERROR(24*365*E22*P22,0)","v":227760}]
[null,"t",null,"Tratta 2",6.5,240,650000,360,195000,{"$f":"IFERROR(E23/((F23*G23+H23*I23)/(G23+I23))*3600,0)","v":87.413793103448285},null,6.5,null,null,null,{"$f":"IFERROR(IF(SUM(K23:O23)=E23,(K23*1+L23*2+M23*3+N23*4+O23*5)/E23,\"errore\"),\"\")","v":2},113880]
[null,"t",null,"Tratta 3",8,300,800000,450,240000,86.068965517241367,null,8,null,null,null,2,140160]
[null,"t",null,"Tratta 4",5.5,216,550000,324,165000,82.18390804597702,null,5.5,null,null,null,2,96360]
[null,"t",null,"Tratta 5",16,600,1600000,900,480000,86.068965517241367,null,16,null,null,null,2,280320]
[null,"t",null,"Tratta 6",21,780,2100000,1170,420000,89.467455621301767,null,12,9,null,null,2.4285714285714284,446759.99999999994]
[null,"t",null,"Tratta 7",2.5,120,250000,180,50000,69.230769230769241,null,null,2.5,null,null,3,65700]
[null,"t",null,"Tratta 8",4,180,400000,270,120000,71.724137931034491,null,4,null,null,null,2,70080]
[null,"t",null,"Tratta 9",12.3,432,1230000,648,369000,91.896551724137936,null,12.3,null,null,null,2,215496]
[null,"t",null,"Tratta 10",7,300,700000,450,140000,77.538461538461533,null,7,null,null,null,2,122640]
[null,"t",null,"Tratta 11",4.5,216,450000,324,135000,67.241379310344826,null,4.5,null,null,null,2,78840]
[null,"t",null,"Tratta 12",12,432,1200000,648,360000,89.655172413793096,null,12,null,null,null,2,210240]
[null,"t",null,"Tratta 13",15,600,1500000,900,450000,80.689655172413794,null,5,5,5,null,3,394200]
[null,"t",null,"Tratta 14",8,300,800000,500,200000,84.705882352941174,null,null,8,null,null,{"$f":"IFERROR(IF(SUM(K35:O35)=E35,(K35*1+L35*2+M35*3+N35*4+O35*5)/E35,\"errore\"),\"\")","v":3},{"$f":"IFERROR(24*365*E35*P35,0)","v":210240}]
[]
[null,null,null,"Intera rete",{"$f":"SUM(E21:E36)","v":132.30000000000001},{"$f":"SUM(F21:F36)","v":5076},{"$f":"SUM(G21:G36)","v":13230000},{"$f":"SUM(H21:H36)","v":7664},{"$f":"SUM(I21:I36)","v":3524000},{"$f":"SUMPRODUCT(J21:J36,E21:E36)/E37","v":85.315648276737193},null,null,null,null,null,{"$f":"SUMPRODUCT(P21:P36,E21:E36)/E37","v":2.306122448979592},{"$f":"SUM(Q21:Q36)","v":2672676}]
[]
[]
[null,null,"Stazioni di esazione"]
[]
[]
[]
[null,null,null,"Stazioni di esazione","Numero piste con pagamento automatizzato del pedaggio","Tasso di operatività annua delle piste con pagamento automatizzato del pedaggio","Numero piste senza pagamento automatizzato del pedaggio","Tasso di operatività annua delle piste senza pagamento automatizzato del pedaggio","Numero piste totali","Tasso di operatività annua totale ","ore*km annue disponibili per l'esazione"]
[]
[null,"e",null,"Stazione di esazione 1",10,0.94900000000000007,2,0.9840000000000001,{"$f":"E46+G46","v":12},{"$f":"(E46*F46+G46*H46)/I46","v":0.95483333333333331},{"$f":"IFERROR(24*365*I46*J46,0)","v":100372.08}]
[null,"e",null,"Stazione di esazione 2",6,0.91700000000000004,1,0.93900000000000006,{"$f":"E47+G47","v":7},{"$f":"(E47*F47+G47*H47)/I47","v":0.92014285714285726},{"$f":"IFERROR(24*365*I47*J47,0)","v":56423.160000000011}]
[null,"e",null,"Stazione di esazione 3",4,0.93500000000000005,1,0.92700000000000005,5,0.93340000000000001,40882.92]
[null,"e",null,"Stazione di esazione 4",4,0.97799999999999998,1,0.96900000000000008,5,0.97620000000000007,42757.560000000005]
[null,"e",null,"Stazione di esazione 5",4,0.98799999999999999,1,0.90500000000000003,5,0.97140000000000004,42547.32]
[null,"e",null,"Stazione di esazione 6",6,0.93900000000000006,1,0.97400000000000009,7,0.94400000000000006,57886.080000000002]
[null,"e",null,"Stazione di esazione 7",8,0.97499999999999998,2,0.91799999999999993,10,0.9635999999999999,84411.359999999986]
[null,"e",null,"Stazione di esazione 8",12,0.99,3,0.95900000000000007,15,0.98380000000000001,129271.32]
[null,"e",null,"Stazione di esazione 9",12.3,0.96900000000000008,3,0.96299999999999997,15.3,0.96782352941176475,129715.452]
[null,"e",null,"Stazione di esazione 10",6,0.995,1,0.92700000000000005,7,0.98528571428571432,60417.72]
[null,"e",null,"Stazione di esazione 11",6,0.93700000000000006,1,0.91900000000000004,7,0.9344285714285715,57299.16]
[null,"e",null,"Stazione di esazione 12",6,0.98499999999999999,1,0.97400000000000009,7,0.98342857142857143,60303.839999999997]
[null,"e",null,"Stazione di esazione 13",6,0.997,1,0.91599999999999993,7,0.98542857142857143,60426.48]
[]
[null,null,null,"Intera rete",{"$f":"SUM(E45:E59)","v":90.3},{"$f":"SUMPRODUCT(F45:F59,E45:E59)/E60","v":0.96691805094130667},{"$f":"SUM(G45:G59)","v":19},{"$f":"SUMPRODUCT(H45:H59,G45:G59)/G60","v":0.94842105263157894},{"$f":"SUM(I45:I59)","v":109.3},{"$f":"SUMPRODUCT(J45:J59,I45:I59)/I60","v":0.96370265324794147},{"$f":"SUM(K45:K59)","v":922714.45200000005}]
[]
[]
[]
[null,null,"Misurazione degli indicatori analitici e confronto con metriche, valori-obiettivo di soglia e dati di base"]
[]
[null,null,1,"Velocità media di percorrenza del flusso veicolare"]
[]
[null,null,null,"Metrica"]
[null,null,null,"Rapporto fra:\n(i) velocità media effettiva, calcolata come rapporto fra lunghezza di ciascuna tratta elementare percorsa e tempo medio di percorrenza effettivo;\n(ii) velocità di riferimento di ciascuna tratta elementare, determinata con la metodologia di cui alla delibera ART n. 132/2024, come modificata dalla delibera ART n. 211/2025."]
[]
[null,null,null,"Valori di soglia",{"$f":"E$10","v":2027},{"$f":"F$10","v":2028},{"$f":"G$10","v":2029},{"$f":"H$10","v":2030},{"$f":"I$10","v":""}]
[null,null,null,"Soglia minima",0.75,0.75,0.75,0.75]
[null,null,null,"Soglia equilibrio",0.9,0.90500000000000003,0.91,0.91500000000000004]
[null,null,null,"Soglia eccellenza",1,1,1,1]
[]
[null,null,null,"Dati di base"]
[null,null,null,"Tratte elementari","lunghezza tratta","Velocità media a flusso libero (km/h)"]
[null,null,null,"Intera rete",{"$f":"E37","v":132.30000000000001},{"$f":"J37","v":85.315648276737193}]
[]
[]
[null,null,null,"Misurazione",null,null,null,null,"Anno",{"$f":"INDEX($11:$11,MATCH(TRUE,$13:$13,0))","v":2026}]
[null,null,null,"Tratte elementari","lunghezza tratta","Veicoli leggeri: Tempo di percorrenza rilevato (secondi)","Veicoli leggeri: volumi di traffico annui (veicoli*km anno di riferimento)","Veicoli pesanti: Tempo di percorrenza rilevato (secondi)","Veicoli pesanti: volumi di traffico annui (veicoli*km anno di riferimento)","Velocità media rilevata (km/h)"]
[]
[null,null,null,null,{"$f":"IF(E20=\"\",\"\",E20)","v":"Lunghezza \ntratta elementare"},{"$f":"F20*RANDBETWEEN(105,120)/100","v":{"$error":"#VALUE!"}},{"$f":"G20*RANDBETWEEN(98,102)/100","v":{"$error":"#VALUE!"}},{"$f":"H20*RANDBETWEEN(105,120)/100","v":{"$error":"#VALUE!"}},{"$f":"I20*RANDBETWEEN(98,102)/100","v":{"$error":"#VALUE!"}},{"$f":"IFERROR(E84/((F84*G84+H84*I84)/(G84+I84))*3600,0)","v":0}]
[]
[null,"t1",null,{"$f":"IF(D22=\"\",\"\",D22)","v":"Tratta 1"},{"$f":"IF(E22=\"\",\"\",E22)","v":10},{"$f":"F22*RANDBETWEEN(105,120)/100","v":414},{"$f":"G22*RANDBETWEEN(98,102)/100","v":990000},{"$f":"H22*RANDBETWEEN(105,120)/100","v":615.6},{"$f":"I22*RANDBETWEEN(98,102)/100","v":202000},{"$f":"IFERROR(E86/((F86*G86+H86*I86)/(G86+I86))*3600,0)","v":80.32778047334088}]
[null,"t1",null,{"$f":"IF(D23=\"\",\"\",D23)","v":"Tratta 2"},6.5,{"$f":"F23*RANDBETWEEN(105,120)/100","v":288},{"$f":"G23*RANDBETWEEN(98,102)/100","v":663000},{"$f":"H23*RANDBETWEEN(105,120)/100","v":385.2},{"$f":"I23*RANDBETWEEN(98,102)/100","v":198900},{"$f":"IFERROR(E87/((F87*G87+H87*I87)/(G87+I87))*3600,0)","v":75.379125780553082}]
[null,"t1",null,{"$f":"IF(D24=\"\",\"\",D24)","v":"Tratta 3"},8,348,800000,490.5,242400,75.563381770624119]
[null,"t1",null,{"$f":"IF(D25=\"\",\"\",D25)","v":"Tratta 4"},5.5,239.76,561000,388.8,166650,72.290772532188839]
[null,"t1",null,{"$f":"IF(D26=\"\",\"\",D26)","v":"Tratta 5"},16,696,1568000,963,489600,75.836184602532043]
[null,"t1",null,{"$f":"IF(D27=\"\",\"\",D27)","v":"Tratta 6"},21,928.2,2079000,1357.2,424200,75.532046504470316]
[null,"t1",null,{"$f":"IF(D28=\"\",\"\",D28)","v":"Tratta 7"},2.5,126,245000,207,51000,64.305887464696923]
[null,"t1",null,{"$f":"IF(D29=\"\",\"\",D29)","v":"Tratta 8"},4,189,396000,305.10000000000002,117600,66.795419519712837]
[null,"t1",null,{"$f":"IF(D30=\"\",\"\",D30)","v":"Tratta 9"},12.3,453.6,1205400,732.24,369000,85.333333333333343]
[null,"t1",null,{"$f":"IF(D31=\"\",\"\",D31)","v":"Tratta 10"},7,354,686000,490.5,140000,66.819468787919647]
[null,"t1",null,{"$f":"IF(D32=\"\",\"\",D32)","v":"Tratta 11"},4.5,252.72,454500,366.12,135000,58.129215477458295]
[null,"t1",null,{"$f":"IF(D33=\"\",\"\",D33)","v":"Tratta 12"},12,492.48,1224000,758.16,367200,78.007800780078014]
[null,"t1",null,{"$f":"IF(D34=\"\",\"\",D34)","v":"Tratta 13"},15,690,1530000,1071,450000,69.534679543459177]
[null,"t1",null,{"$f":"IF(D35=\"\",\"\",D35)","v":"Tratta 14"},8,318,808000,550,200000,79.113979244789391]
[]
[null,null,null,"Intera rete",{"$f":"SUM(E85:E100)","v":132.30000000000001},{"$f":"SUM(F85:F100)","v":5789.76},{"$f":"SUM(G85:G100)","v":13209900},{"$f":"SUM(H85:H100)","v":8680.42},{"$f":"SUM(I85:I100)","v":3553550},{"$f":"SUMPRODUCT(J85:J100,E85:E100)/E101","v":74.934165835292177},null,"Indicatore",{"$f":"J101/F78","v":0.8783167841874594}]
[]
[]
[null,null,2,"Disponibilità dell’infrastruttura"]
[]
[null,null,null,"Metrica"]
[null,null,null,"Rapporto fra: (i) ore*km annue non impegnate da cantieri in ciascuna tratta elementare, sulla base del numero di corsie di marcia occupate e della lunghezza dello spazio occupato e (ii) ore*km disponibili per la circolazione in ciascuna tratta elementare (inclusa fascia notturna, dalle 22:00 alle 6:00), ossia 24*365=8760 ore, per numero di corsie di marcia e per lunghezza di ciascuna tratta elementare."]
[]
[null,null,null,"Valori di soglia",{"$f":"E$10","v":2027},{"$f":"F$10","v":2028},{"$f":"G$10","v":2029},{"$f":"H$10","v":2030},{"$f":"I$10","v":""}]
[null,null,null,"Soglia minima",0.85,0.85,0.85,0.85]
[null,null,null,"Soglia equilibrio",0.93,0.93500000000000005,0.94000000000000006,0.94500000000000006]
[null,null,null,"Soglia eccellenza",1,1,1,1]
[]
[null,null,null,"Dati di base"]
[null,null,null,"Tratte elementari","lunghezza tratta","numero medio \ncorsie","ore*km annue disponibili per la circolazione"]
[null,null,null,"Intera rete",{"$f":"E37","v":132.30000000000001},{"$f":"P37","v":2.306122448979592},{"$f":"Q37","v":2672676}]
[]
[]
[null,null,null,"Misurazione",null,null,null,"Anno",{"$f":"INDEX($11:$11,MATCH(TRUE,$13:$13,0))","v":2026}]
[null,null,null,"Cantieri","numero corsie occupate","lunghezza occupazione (km)","ore di occupazione","ore*km occupazione","Ore*km disponibilità"]
[]
[]
[]
[null,"c",null,"Cantiere 1",1,15,1500,{"$f":"G124*F124*E124","v":22500}]
[null,"c",null,"Cantiere 2",1,10,1500,{"$f":"G125*F125*E125","v":15000}]
[null,"c",null,"Cantiere 3",1,18,1500,27000]
[null,"c",null,"Cantiere 4",2,20,1500,60000]
[null,"c",null,"Cantiere 5",2,13,1500,39000]
[null,"c",null,"Cantiere 6",1,14,1500,21000]
[null,"c",null,"Cantiere 7",1,5,1500,7500]
[]
[null,null,null,"Intera rete",{"$f":"SUM(E123:E131)","v":9},{"$f":"SUM(F123:F131)","v":95},{"$f":"SUM(G123:G131)","v":10500},{"$f":"SUM(H123:H131)","v":192000},{"$f":"(G116-H132)","v":2480676},null,"Indicatore",{"$f":"I132/G116","v":0.92816188718722359}]
[]
[]
[null,null,3,"Fluidità ai caselli"]
[]
[null,null,null,"Metrica"]
[null,null,null,"Rapporto fra: (i) ore annue effettivamente disponibili per il pagamento automatizzato del pedaggio in ciascuna stazione di esazione, per numero di piste e (ii) ore annue teoriche complessivamente disponibili per il pagamento del pedaggio in ciascuna stazione di esazione, considerato il numero di piste complessive presenti e operative."]
[]
[null,null,null,"Valori di soglia",{"$f":"E$10","v":2027},{"$f":"F$10","v":2028},{"$f":"G$10","v":2029},{"$f":"H$10","v":2030},{"$f":"I$10","v":""}]
[null,null,null,"Soglia minima",0.88,0.88,0.88,0.88,0.88]
[null,null,null,"Soglia equilibrio",0.95,{"$f":"E142+0.005","v":0.95499999999999996},{"$f":"F142+0.005","v":0.96},0.96499999999999997,0.97]
[null,null,null,"Soglia eccellenza",1,1,1,1,1]
[]
[null,null,null,"Dati di base"]
[null,null,null,"Stazioni di esazione","numero piste","ore*km annue disponibili per l'esazione"]
[null,null,null,"Intera rete",{"$f":"E60","v":90.3},{"$f":"$K$60","v":922714.45200000005}]
[]
[]
[null,null,null,"Misurazione","Anno",{"$f":"INDEX($11:$11,MATCH(TRUE,$13:$13,0))","v":2026}]
[null,null,null,"Stazioni di esazione","Somma ore*piste\nindisponibili","ore*km annue disponibili per l'esazione"]
[]
[null,null,null,null,{"$f":"K44*RANDBETWEEN(2,12)/100","v":{"$error":"#VALUE!"}}]
[]
[null,"e1",null,{"$f":"IF(D46=\"\",\"\",D46)","v":"Stazione di esazione 1"},{"$f":"K46*RANDBETWEEN(2,12)/100","v":7026.0456000000004},{"$f":"IFERROR(INDEX($K$45:$K$59,MATCH(D155,$D$45:$D$59,0))-E155,0)","v":93346.034400000004}]
[null,"e1",null,"Stazione di esazione 2",5078.0844000000016,51345.075600000011]
[null,"e1",null,"Stazione di esazione 3",1635.3167999999998,39247.603199999998]
[null,"e1",null,"Stazione di esazione 4",1710.3024000000003,41047.257600000004]
[null,"e1",null,"Stazione di esazione 5",2552.8391999999999,39994.480799999998]
[null,"e1",null,"Stazione di esazione 6",2315.4432000000002,55570.6368]
[null,"e1",null,"Stazione di esazione 7",2532.3407999999995,81879.019199999981]
[null,"e1",null,"Stazione di esazione 8",2585.4264000000003,126685.89360000001]
[null,"e1",null,"Stazione di esazione 9",5188.6180800000002,124526.83392]
[null,"e1",null,"Stazione di esazione 10",4229.2404000000006,56188.479599999999]
[null,"e1",null,"Stazione di esazione 11",5156.9244000000008,52142.2356]
[null,"e1",null,"Stazione di esazione 12",3618.2303999999999,56685.609599999996]
[null,"e1",null,"Stazione di esazione 13",3021.3240000000001,57405.156000000003]
[]
[null,null,null,"Intera rete",{"$f":"SUM(E154:E168)","v":46650.136080000004},{"$f":"SUM(F154:F168)","v":876064.31591999996},null,"Indicatore",{"$f":"F169/$F$147","v":0.94944249981249873}]
[]
[]
[null,null,"4a","Stato della pavimentazione: aderenza"]
[]
[null,null,null,"Metrica"]
[null,null,null,"Parametro CAT (Coefficiente di aderenza trasversale), misurato per ciascuna tratta elementare con apparecchiatura SUMMS o SCRIM, sulla corsia di marcia caratterizzata dal massimo degrado."]
[]
[null,null,null,"Valori di soglia",{"$f":"E$10","v":2027},{"$f":"F$10","v":2028},{"$f":"G$10","v":2029},{"$f":"H$10","v":2030},{"$f":"I$10","v":""}]
[null,null,null,"Soglia minima",0.5,{"$f":"E178+0.01","v":0.51},{"$f":"F178+0.01","v":0.52},0.53,0.54]
[null,null,null,"Soglia equilibrio",0.65,{"$f":"E179+0.01","v":0.66},{"$f":"F179+0.01","v":0.67},0.68,0.69000000000000006]
[null,null,null,"Soglia eccellenza",0.9,{"$f":"E180","v":0.9},{"$f":"F180","v":0.9},0.9,0.9]
[]
[null,null,null,"Dati di base"]
[null,null,null,"Tratte elementari","lunghezza tratta"]
[null,null,null,"Intera rete",{"$f":"E37","v":132.30000000000001}]
[]
[]
[null,null,null,"Misurazione","Anno",{"$f":"INDEX($11:$11,MATCH(TRUE,$13:$13,0))","v":2026}]
[null,null,null,"Tratte elementari","lunghezza tratta","CAT medio misurato"]
[]
[null,null,null,null,null,{"$f":"RANDBETWEEN(50,90)/100","v":0.64}]
[]
[null,"t2",null,{"$f":"IF(D22=\"\",\"\",D22)","v":"Tratta 1"},{"$f":"IF(E22=\"\",\"\",E22)","v":10},{"$f":"RANDBETWEEN(50,90)/100","v":0.75}]
[null,"t2",null,{"$f":"IF(D23=\"\",\"\",D23)","v":"Tratta 2"},6.5,0.76]
[null,"t2",null,{"$f":"IF(D24=\"\",\"\",D24)","v":"Tratta 3"},8,0.81]
[null,"t2",null,{"$f":"IF(D25=\"\",\"\",D25)","v":"Tratta 4"},5.5,0.5]
[null,"t2",null,{"$f":"IF(D26=\"\",\"\",D26)","v":"Tratta 5"},16,0.57999999999999996]
[null,"t2",null,{"$f":"IF(D27=\"\",\"\",D27)","v":"Tratta 6"},21,0.68]
[null,"t2",null,{"$f":"IF(D28=\"\",\"\",D28)","v":"Tratta 7"},2.5,0.73]
[null,"t2",null,{"$f":"IF(D29=\"\",\"\",D29)","v":"Tratta 8"},4,0.85]
[null,"t2",null,{"$f":"IF(D30=\"\",\"\",D30)","v":"Tratta 9"},12.3,0.64]
[null,"t2",null,{"$f":"IF(D31=\"\",\"\",D31)","v":"Tratta 10"},7,0.79]
[null,"t2",null,{"$f":"IF(D32=\"\",\"\",D32)","v":"Tratta 11"},4.5,0.76]
[null,"t2",null,{"$f":"IF(D33=\"\",\"\",D33)","v":"Tratta 12"},12,0.71]
[null,"t2",null,{"$f":"IF(D34=\"\",\"\",D34)","v":"Tratta 13"},15,0.52]
[null,"t2",null,{"$f":"IF(D35=\"\",\"\",D35)","v":"Tratta 14"},8,0.68]
[]
[null,null,null,"Intera rete",{"$f":"SUM(E189:E206)","v":132.30000000000001},null,null,"Indicatore",{"$f":"SUMPRODUCT(F189:F206,E189:E206)/E207","v":0.67299319727891149}]
[]
[]
[null,null,"4b","Stato della pavimentazione: rugosità"]
[]
[null,null,null,"Metrica"]
[null,null,null,"Parametro IRI (International roughness index), misurato per ciascuna tratta elementare con profilometro ARAN o similare, sulla corsia di marcia caratterizzata dal massimo degrado."]
[]
[null,null,null,"Valori di soglia",{"$f":"E$10","v":2027},{"$f":"F$10","v":2028},{"$f":"G$10","v":2029},{"$f":"H$10","v":2030},{"$f":"I$10","v":""}]
[null,null,null,"Soglia minima",4,4,4,4]
[null,null,null,"Soglia equilibrio",2,2,2,2]
[null,null,null,"Soglia eccellenza",0,0,0,0]
[]
[null,null,null,"Dati di base"]
[null,null,null,"Tratte elementari","lunghezza tratta"]
[null,null,null,"Intera rete",{"$f":"E37","v":132.30000000000001}]
[]
[]
[null,null,null,"Misurazione","Anno",{"$f":"INDEX($11:$11,MATCH(TRUE,$13:$13,0))","v":2026}]
[null,null,null,"Tratte elementari","lunghezza tratta","IRI medio misurato"]
[]
[null,null,null,null,null,{"$f":"RANDBETWEEN(0,400)/100","v":2.97}]
[]
[null,"t3",null,{"$f":"IF(D22=\"\",\"\",D22)","v":"Tratta 1"},{"$f":"IF(E22=\"\",\"\",E22)","v":10},{"$f":"RANDBETWEEN(0,400)/100","v":1.76}]
[null,"t3",null,{"$f":"IF(D23=\"\",\"\",D23)","v":"Tratta 2"},6.5,0.89]
[null,"t3",null,{"$f":"IF(D24=\"\",\"\",D24)","v":"Tratta 3"},8,2.36]
[null,"t3",null,{"$f":"IF(D25=\"\",\"\",D25)","v":"Tratta 4"},5.5,1.06]
[null,"t3",null,{"$f":"IF(D26=\"\",\"\",D26)","v":"Tratta 5"},16,3.35]
[null,"t3",null,{"$f":"IF(D27=\"\",\"\",D27)","v":"Tratta 6"},21,3.96]
[null,"t3",null,{"$f":"IF(D28=\"\",\"\",D28)","v":"Tratta 7"},2.5,1.89]
[null,"t3",null,{"$f":"IF(D29=\"\",\"\",D29)","v":"Tratta 8"},4,3.94]
[null,"t3",null,{"$f":"IF(D30=\"\",\"\",D30)","v":"Tratta 9"},12.3,2.77]
[null,"t3",null,{"$f":"IF(D31=\"\",\"\",D31)","v":"Tratta 10"},7,3.15]
[null,"t3",null,{"$f":"IF(D32=\"\",\"\",D32)","v":"Tratta 11"},4.5,2.19]
[null,"t3",null,{"$f":"IF(D33=\"\",\"\",D33)","v":"Tratta 12"},12,2.66]
[null,"t3",null,{"$f":"IF(D34=\"\",\"\",D34)","v":"Tratta 13"},15,2.15]
[null,"t3",null,{"$f":"IF(D35=\"\",\"\",D35)","v":"Tratta 14"},8,2.0099999999999998]
[]
[null,null,null,"Intera rete",{"$f":"SUM(E227:E244)","v":132.30000000000001},null,null,"Indicatore",{"$f":"SUMPRODUCT(F227:F244,E227:E244)/E245","v":2.6573393801965226}]
[]
[]
[null,null,5,"Aggiornamento informazioni tramite panelli a messaggio variabile"]
[]
[null,null,null,"Metrica"]
[null,null,null,"Tempo medio, espresso in secondi, che intercorre tra la ricezione dell’informazione relativa ad un evento presso il centro di controllo e il successivo inoltro al PMV, sulla base di un set di eventi: incidente, evento meteo, code, ostacolo."]
[]
[null,null,null,"Valori di soglia",{"$f":"E$10","v":2027},{"$f":"F$10","v":2028},{"$f":"G$10","v":2029},{"$f":"H$10","v":2030},{"$f":"I$10","v":""}]
[null,null,null,"Soglia minima",120,120,120,120]
[null,null,null,"Soglia equilibrio",90,{"$f":"E255-1","v":89},{"$f":"F255-1","v":88},87]
[null,null,null,"Soglia eccellenza",60,{"$f":"E256","v":60},{"$f":"F256","v":60},60]
[]
[null,null,null,"Misurazione","Anno",{"$f":"INDEX($11:$11,MATCH(TRUE,$13:$13,0))","v":2026}]
[null,null,null,"Tipologia di evento","numero \neventi","tempo medio per evento (secondi)"]
[]
[null,null,null,null,{"$f":"RANDBETWEEN(20,100)","v":21},{"$f":"RANDBETWEEN(35,95)","v":83}]
[]
[null,null,null,"Incidente",{"$f":"RANDBETWEEN(20,100)","v":83},{"$f":"RANDBETWEEN(60,120)","v":64}]
[null,null,null,"Evento meteo",99,{"$f":"RANDBETWEEN(60,120)","v":62}]
[null,null,null,"Code",57,119]
[null,null,null,"Ostacolo",86,61]
[null,null,null,"Intera rete",{"$f":"SUM(E263:E266)","v":325},{"$f":"SUMPRODUCT(F263:F266,E263:E266)/E267","v":72.243076923076927},null,"Indicatore",{"$f":"F267","v":72.243076923076927}]
[]
[]
[null,null,6,"Customer satisfaction rispetto ai livelli di servizio complessivo"]
[]
[null,null,null,"Metrica"]
[null,null,null,"Percentuale di utenti soddisfatti del livello di servizio reso dal concessionario per le seguenti aree di interesse:\nsicurezza stradale (peso: 30);\ninformazione (peso: 30);\nesazione pedaggio (peso: 30);\naree di servizio e sosta (peso: 10)."]
[]
[null,null,null,"Valori di soglia",{"$f":"E$10","v":2027},{"$f":"F$10","v":2028},{"$f":"G$10","v":2029},{"$f":"H$10","v":2030},{"$f":"I$10","v":""}]
[null,null,null,"Soglia minima",0.8,{"$f":"E276+0.005","v":0.80500000000000005},{"$f":"F276+0.005","v":0.81},0.81500000000000006]
[null,null,null,"Soglia equilibrio",0.9,{"$f":"E277+0.005","v":0.90500000000000003},{"$f":"F277+0.005","v":0.91},0.91500000000000004]
[null,null,null,"Soglia eccellenza",1,1,1,1]
[]
[null,null,null,"Dati di base"]
[null,null,null,"Settore di indagine","peso"]
[null,null,null,"Sicurezza stradale",0.3]
[null,null,null,"Informazione",0.3]
[null,null,null,"Esazione pedaggio",0.3]
[null,null,null,"Aree di servizio e sosta",0.1]
[null,null,null,"Intera rete",{"$f":"SUM(E282:E285)","v":0.99999999999999989}]
[]
[null,null,null,"Misurazione","Anno",{"$f":"INDEX($11:$11,MATCH(TRUE,$13:$13,0))","v":2026}]
[null,null,null,"Settore di indagine","peso","Risultato"]
[null,null,null,"Sicurezza stradale",0.3,{"$f":"RANDBETWEEN(70,99)/100","v":0.76}]
[null,null,null,"Informazione",0.3,0.8]
[null,null,null,"Esazione pedaggio",0.3,0.77]
[null,null,null,"Aree di servizio e sosta",0.1,0.85]
[null,null,null,"Intera rete",{"$f":"SUM(E290:E293)","v":0.99999999999999989},{"$f":"SUMPRODUCT(F290:F293,E290:E293)/E294","v":0.78400000000000003},null,"Indicatore",{"$f":"F294","v":0.78400000000000003}]
[]
[]
[null,null,7,"Numero di reclami pervenuti in rapporto al traffico servito"]
[]
[null,null,null,"Metrica"]
[null,null,null,"Rapporto fra: \n(i) numero di reclami pervenuti al concessionario nell’annualità di riferimento, e \n(ii) veicoli transitati (paganti e non paganti) registrati a consuntivo e riferibili al medesimo periodo annuo."]
[]
[null,null,null,"Valori di soglia",{"$f":"E$71","v":2027},{"$f":"F$71","v":2028},2029,2030,""]
[null,null,null,"Soglia minima",30,30,30,30]
[null,null,null,"Soglia equilibrio",20,20,20,20]
[null,null,null,"Soglia eccellenza",10,10,10,10]
[]
[null,null,null,"Dati di base"]
[null,null,null,"Settore di indagine","Transiti complessivi (milioni di veicoli)"]
[null,null,null,"Intera rete",50]
[]
[null,null,null,"Misurazione","Anno",{"$f":"INDEX($11:$11,MATCH(TRUE,$13:$13,0))","v":2026}]
[null,null,null,"Settore di indagine","Transiti complessivi (milioni di veicoli)","Numero reclami pervenuti"]
[null,null,null,"Intera rete",{"$f":"E309","v":50},1200,null,"Indicatore",{"$f":"F313/E313","v":24}]
[]
[]
[]
[null,null,"Calcolo indicatore sintetico di qualità Qt"]
[]
[null,null,null,"Anno di riferimento per applicazione indicatore",{"$f":"E320+2","v":2028}]
[null,null,null,"Anno di riferimento per misura indicatori analitici",{"$f":"INDEX($11:$11,MATCH(TRUE,$13:$13,0))","v":2026}]
[null,null,null,null,null,null,null,"livello minimo","livello di equilibrio","livello di eccellenza"]
[null,null,null,"Impatto tariffario",null,null,null,-0.02,0,0.01]
[]
[null,null,"id","Denominazione indicatori specifici","u.m.","verso della metrica","peso","livello minimo","livello di equilibrio","livello di eccellenza","livello \nmisurato","non raggiunge \nsoglia di livello \nminimo","non raggiunge \nsoglia di livello \ndi equilibrio","Qtj"]
[null,null,1,"velocità media di percorrenza del flusso veicolare","km/h",">",0.25,{"$f":"INDEX($E$72:$I$72,MATCH($E$319,$E$71:$I$71,0))","v":0.75},{"$f":"INDEX($E$73:$I$73,MATCH($E$319,$E$71:$I$71,0))","v":0.90500000000000003},{"$f":"INDEX($E$74:$I$74,MATCH($E$319,$E$71:$I$71,0))","v":1},{"$f":"M101","v":0.8783167841874594},{"$f":"IF($F325=\">\",IF($K325<H325,1,0),IF($K325<H325,0,1))","v":0},1,{"$f":"IF($F325=\">\",\nIFERROR(IF($L$333>0,$H$322,IF($M$333>0,IF(K325>I325,$I$322,\n$H$322*(IF(K325>I325,I325,K325)-I325)/(H325-I325)),\n$J$322*(K325-I325)/(J325-I325))),\"\"),\nIFERROR(IF($L$333>0,$H$322,IF($M$333>0,IF(K325<I325,$I$322,\n$H$322*(IF(K325<I325,I325,K325)-I325)/(H325-I325)),\n$J$322*(K325-I325)/(J325-I325))),\"\"))","v":-0.02}]
[null,null,2,"disponibilità dell’infrastruttura","%",">",0.2,{"$f":"INDEX($E$110:$I$110,MATCH($E$319,$E$109:$I$109,0))","v":0.85},{"$f":"INDEX($E$111:$I$111,MATCH($E$319,$E$109:$I$109,0))","v":0.93500000000000005},{"$f":"INDEX($E$112:$I$112,MATCH($E$319,$E$109:$I$109,0))","v":1},{"$f":"L132","v":0.92816188718722359},0,1,{"$f":"IF($F326=\">\",\nIFERROR(IF($L$333>0,$H$322,IF($M$333>0,IF(K326>I326,$I$322,\n$H$322*(IF(K326>I326,I326,K326)-I326)/(H326-I326)),\n$J$322*(K326-I326)/(J326-I326))),\"\"),\nIFERROR(IF($L$333>0,$H$322,IF($M$333>0,IF(K326<I326,$I$322,\n$H$322*(IF(K326<I326,I326,K326)-I326)/(H326-I326)),\n$J$322*(K326-I326)/(J326-I326))),\"\"))","v":-0.02}]
[null,null,3,"fluidità ai caselli","%",">",0.1,{"$f":"INDEX($E$141:$I$141,MATCH($E$319,$E$140:$I$140,0))","v":0.88},{"$f":"INDEX($E$142:$I$142,MATCH($E$319,$E$140:$I$140,0))","v":0.95499999999999996},{"$f":"INDEX($E$143:$I$143,MATCH($E$319,$E$140:$I$140,0))","v":1},{"$f":"I169","v":0.94944249981249873},0,1,-0.02]
[null,null,"4a","stato della pavimentazione: aderenza","-",">",0.06,{"$f":"INDEX($E$178:$I$178,MATCH($E$319,$E$177:$I$177,0))","v":0.51},{"$f":"INDEX($E$179:$I$179,MATCH($E$319,$E$177:$I$177,0))","v":0.66},{"$f":"INDEX($E$180:$I$180,MATCH($E$319,$E$177:$I$177,0))","v":0.9},{"$f":"I207","v":0.67299319727891149},0,0,-0.02]
[null,null,"4b","stato della pavimentazione: rugosità","m/km","<",0.04,{"$f":"INDEX($E$216:$I$216,MATCH($E$319,$E$215:$I$215,0))","v":4},{"$f":"INDEX($E$217:$I$217,MATCH($E$319,$E$215:$I$215,0))","v":2},{"$f":"INDEX($E$218:$I$218,MATCH($E$319,$E$215:$I$215,0))","v":0},{"$f":"I245","v":2.6573393801965226},0,1,-0.02]
[null,null,5,"aggiornamento informazioni tramite panelli a messaggio variabile",null,"<",0.05,{"$f":"INDEX($E$254:$I$254,MATCH($E$319,$E$253:$I$253,0))","v":120},{"$f":"INDEX($E$255:$I$255,MATCH($E$319,$E$253:$I$253,0))","v":89},{"$f":"INDEX($E$256:$I$256,MATCH($E$319,$E$253:$I$253,0))","v":60},{"$f":"I267","v":72.243076923076927},0,0,-0.02]
[null,null,6,"customer satisfaction rispetto ai livelli di servizio complessivo","%",">",0.25,{"$f":"INDEX($E$276:$I$276,MATCH($E$319,$E$275:$I$275,0))","v":0.80500000000000005},{"$f":"INDEX($E$277:$I$277,MATCH($E$319,$E$275:$I$275,0))","v":0.90500000000000003},{"$f":"INDEX($E$278:$I$278,MATCH($E$319,$E$275:$I$275,0))","v":1},{"$f":"I294","v":0.78400000000000003},1,1,-0.02]
[null,null,7,{"$f":"D297","v":"Numero di reclami pervenuti in rapporto al traffico servito"},"n°/Mtransiti","<",0.05,{"$f":"INDEX($E$303:$I$303,MATCH($E$319,$E$302:$I$302,0))","v":30},{"$f":"INDEX($E$304:$I$304,MATCH($E$319,$E$302:$I$302,0))","v":20},{"$f":"INDEX($E$305:$I$305,MATCH($E$319,$E$302:$I$302,0))","v":10},{"$f":"I313","v":24},{"$f":"IF($F332=\">\",IF($K332<H332,1,0),IF($K332<H332,0,1))","v":0},{"$f":"IF($F332=\">\",IF($K332<I332,1,0),IF($K332<I332,0,1))","v":1},{"$f":"IF($F332=\">\",\nIFERROR(IF($L$333>0,$H$322,IF($M$333>0,IF(K332>I332,$I$322,\n$H$322*(IF(K332>I332,I332,K332)-I332)/(H332-I332)),\n$J$322*(K332-I332)/(J332-I332))),\"\"),\nIFERROR(IF($L$333>0,$H$322,IF($M$333>0,IF(K332<I332,$I$322,\n$H$322*(IF(K332<I332,I332,K332)-I332)/(H332-I332)),\n$J$322*(K332-I332)/(J332-I332))),\"\"))","v":-0.02}]
[null,null,null,null,null,null,{"$f":"SUM(G325:G332)","v":1.0000000000000002},null,null,null,null,{"$f":"SUM(L325:L332)","v":1},{"$f":"SUM(M325:M332)","v":6}]
[]
[null,null,null,null,null,null,null,null,null,null,null,null,null,"Qt"]
[null,null,null,null,null,null,null,null,null,null,null,null,null,{"$f":"SUMPRODUCT(N325:N332,G325:G332)*0","v":0}]
[]
[]
[null,null,"termine foglio di lavoro"]

{"sheet":"Z0.4.a ProgrammaInvest_Spesa","index":6,"n_rows":42,"n_cols":35,"rows_kept":42,"cut":false,"hidden":false,"merged":[]}
[]
[null,null,"Programma degli Investimenti (1/6) - da ultimo aggiornamento approvato"]
[]
[null,null,null,null,null,null,null,null,null,null,null,null,null,null,null,null,null,"Anno",null,null,2024,2025,2026,2027,2028,2029,2030,2031,2032,2033,2034,2035,2036,2037,2038]
[]
[null,null,null,null,null,null,null,null,null,null,null,null,null,null,null,null,null,"Anno base",null,null,1,0,0,0,1,0,0,0,0,1,0,0,0,0,0]
[null,null,null,null,null,null,null,null,null,null,null,null,null,null,null,null,null,"Anno ponte",null,null,0,1,0,0,0,1,0,0,0,0,1,0,0,0,0]
[null,null,null,null,null,null,null,null,null,null,null,null,null,null,null,null,null,"Periodo regolatorio",null,null,0,0,1,1,1,1,2,2,2,2,2,3,3,3,3]
[null,null,null,null,null,null,null,null,null,null,null,null,null,null,null,null,null,"Anno del periodo regolatorio",null,null,0,0,1,2,3,4,1,2,3,4,5,1,2,3,4]
[null,null,null,null,null,null,null,null,null,null,null,null,null,null,null,null,null,"Frazione di anno significativa",null,null,null,null,1,1,1,1,1,1,1,1,1,1,1,1,1]
[]
[null,null,null,null,null,null,null,null,null,null,null,null,null,null,null,null,null,null,null,null,null,"Ultimo adattamento schema: 03/11/2025 14:32:34"]
[]
[null,null,"Programmazione ammissibile in tariffa: Importo della spesa annua complessiva (al lordo di eventuali contributi in c/impianti e in c/capitale)"]
[null,null,"Tabella da alimentare solo con spese per beni reversibili, autorizzati e ammissibili in tariffa"]
[]
[null,null,"Atto convenzionale di riferimento","Rif. macro intervento","Rif. lett. art.","Codice univoco intervento","Descrizione intervento","Codice SIVCA","Tratta autostradale da convenzione","Macro tipologia intervento","Tipologia intervento","Stato lavori","Tipologia CIN","Stati di \navanzamento \nCIN ante","Criterio di ammortamento","Data presunta entrata in esercizio (anno)","Spesa programmata totale","Contributo a fondo perduto","Eventuali dismissioni",null,null,{"$f":"\"Spesa programmata \" & V4","v":"Spesa programmata 2025"},"Spesa programmata 2026",{"$f":"\"Spesa programmata \" & X4","v":"Spesa programmata 2027"},"Spesa programmata 2028","Spesa programmata 2029","Spesa programmata 2030","Spesa programmata 2031","Spesa programmata 2032","Spesa programmata 2033","Spesa programmata 2034","Spesa programmata 2035","Spesa programmata 2036","Spesa programmata 2037","Spesa programmata 2038"]
[]
[null,"x",null,null,null,1,"Intervento 1","SIVCA 1",null,null,"(assoggettata ad ammortamento finanziario)","in corso","CIN ante","SAL contabilizzati","Finanziario",null,{"$f":"SUM(OFFSET(U19,0,0,1,ScadenzaConcessione-AnnoBase+1))","v":0},{"$f":"SUM(OFFSET('Z0.4.b ProgrammaInvest_Contrib'!U19,0,0,1,ScadenzaConcessione-AnnoBase+1))","v":2000},{"$f":"SUM(OFFSET('Z0.4.c ProgrammaInvest_Dismiss'!U19,0,0,1,ScadenzaConcessione-AnnoBase+1))","v":20}]
[null,"x",null,null,null,2,"Intervento 2","SIVCA 2",null,null,"(assoggettata ad ammortamento finanziario)","in corso","CIN ante","SAL da contabilizzare","Finanziario",null,20000,{"$f":"SUM(OFFSET('Z0.4.b ProgrammaInvest_Contrib'!U20,0,0,1,ScadenzaConcessione-AnnoBase+1))","v":1000},{"$f":"SUM(OFFSET('Z0.4.c ProgrammaInvest_Dismiss'!U20,0,0,1,ScadenzaConcessione-AnnoBase+1))","v":20},null,null,null,10000,10000]
[null,"x",null,null,null,3,"Intervento 2","SIVCA 2",null,null,"(assoggettata ad ammortamento finanziario)","in corso","CIN pre2026",null,"Finanziario",null,20000,{"$f":"SUM(OFFSET('Z0.4.b ProgrammaInvest_Contrib'!U21,0,0,1,ScadenzaConcessione-AnnoBase+1))","v":1000},{"$f":"SUM(OFFSET('Z0.4.c ProgrammaInvest_Dismiss'!U21,0,0,1,ScadenzaConcessione-AnnoBase+1))","v":20},null,null,null,10000,10000]
[null,"x",null,null,null,4,"Intervento 2","SIVCA 2",null,null,"(assoggettata ad ammortamento finanziario)","in corso","CIN post2026",null,"Finanziario",null,100000,{"$f":"SUM(OFFSET('Z0.4.b ProgrammaInvest_Contrib'!U22,0,0,1,ScadenzaConcessione-AnnoBase+1))","v":1000},{"$f":"SUM(OFFSET('Z0.4.c ProgrammaInvest_Dismiss'!U22,0,0,1,ScadenzaConcessione-AnnoBase+1))","v":20},null,null,null,50000,50000]
[null,"x",null,null,null,5,"Intervento 3","SIVCA 3",null,null,"Viadotti/Ponti/Cavalcavia","in corso","CIN post2026",null,"Vite utili 1",2028,200,{"$f":"SUM(OFFSET('Z0.4.b ProgrammaInvest_Contrib'!U23,0,0,1,ScadenzaConcessione-AnnoBase+1))","v":20},{"$f":"SUM(OFFSET('Z0.4.c ProgrammaInvest_Dismiss'!U23,0,0,1,ScadenzaConcessione-AnnoBase+1))","v":10},null,null,null,null,100,100]
[null,"x",null,null,null,6,"Intervento 4","SIVCA 4",null,null,"Gallerie","in corso","CIN post2026",null,"Vite utili 1",2029,200,{"$f":"SUM(OFFSET('Z0.4.b ProgrammaInvest_Contrib'!U24,0,0,1,ScadenzaConcessione-AnnoBase+1))","v":20},{"$f":"SUM(OFFSET('Z0.4.c ProgrammaInvest_Dismiss'!U24,0,0,1,ScadenzaConcessione-AnnoBase+1))","v":10},null,null,null,null,null,100,100]
[null,"x",null,null,null,7,"Intervento 5","SIVCA 5",null,null,"Barriere","in corso","CIN post2026",null,"Vite utili 1",2030,200,{"$f":"SUM(OFFSET('Z0.4.b ProgrammaInvest_Contrib'!U25,0,0,1,ScadenzaConcessione-AnnoBase+1))","v":20},{"$f":"SUM(OFFSET('Z0.4.c ProgrammaInvest_Dismiss'!U25,0,0,1,ScadenzaConcessione-AnnoBase+1))","v":10},null,null,null,null,null,null,100,100]
[null,"x",null,null,null,8,"Intervento 6","SIVCA 6",null,null,"Corpo autostradale, opere sul territorio","in corso","CIN post2026",null,"Vite utili 1",2031,200,{"$f":"SUM(OFFSET('Z0.4.b ProgrammaInvest_Contrib'!U26,0,0,1,ScadenzaConcessione-AnnoBase+1))","v":20},{"$f":"SUM(OFFSET('Z0.4.c ProgrammaInvest_Dismiss'!U26,0,0,1,ScadenzaConcessione-AnnoBase+1))","v":10},null,null,null,null,null,null,null,100,100]
[null,"x",null,null,null,9,"Intervento 7","SIVCA 7",null,null,"Reti recinzione","in corso","CIN post2026",null,"Vite utili 1",2032,200,{"$f":"SUM(OFFSET('Z0.4.b ProgrammaInvest_Contrib'!U27,0,0,1,ScadenzaConcessione-AnnoBase+1))","v":20},{"$f":"SUM(OFFSET('Z0.4.c ProgrammaInvest_Dismiss'!U27,0,0,1,ScadenzaConcessione-AnnoBase+1))","v":10},null,null,null,null,null,null,null,null,100,100]
[null,"x",null,null,null,10,"Intervento 8","SIVCA 8",null,null,"Portali e segnaletica","in corso","CIN post2026",null,"Vite utili 1",2033,200,{"$f":"SUM(OFFSET('Z0.4.b ProgrammaInvest_Contrib'!U28,0,0,1,ScadenzaConcessione-AnnoBase+1))","v":20},{"$f":"SUM(OFFSET('Z0.4.c ProgrammaInvest_Dismiss'!U28,0,0,1,ScadenzaConcessione-AnnoBase+1))","v":10},null,null,null,null,null,null,null,null,null,100,100]
[null,"x",null,null,null,11,"Intervento 9","SIVCA 9",null,null,"Pavimentazioni","in corso","CIN post2026",null,"Vite utili 1",2034,200,{"$f":"SUM(OFFSET('Z0.4.b ProgrammaInvest_Contrib'!U29,0,0,1,ScadenzaConcessione-AnnoBase+1))","v":20},{"$f":"SUM(OFFSET('Z0.4.c ProgrammaInvest_Dismiss'!U29,0,0,1,ScadenzaConcessione-AnnoBase+1))","v":10},null,null,null,null,null,null,null,null,null,null,100,100]
[null,"x",null,null,null,12,"Intervento 10","SIVCA 10",null,null,"Infrastrutture tecnologiche ed impianti","in corso","CIN post2026",null,"Vite utili 1",2035,200,{"$f":"SUM(OFFSET('Z0.4.b ProgrammaInvest_Contrib'!U30,0,0,1,ScadenzaConcessione-AnnoBase+1))","v":20},{"$f":"SUM(OFFSET('Z0.4.c ProgrammaInvest_Dismiss'!U30,0,0,1,ScadenzaConcessione-AnnoBase+1))","v":10},null,null,null,null,null,null,null,null,null,null,null,100,100]
[null,"x",null,null,null,13,"Intervento 11","SIVCA 11",null,null,"Stazioni/Barriere di esazione, fabbricati, aree di servizio","in corso","CIN post2026",null,"Vite utili 1",2036,{"$f":"SUM(OFFSET(U31,0,0,1,ScadenzaConcessione-AnnoBase+1))","v":200},{"$f":"SUM(OFFSET('Z0.4.b ProgrammaInvest_Contrib'!U44,0,0,1,ScadenzaConcessione-AnnoBase+1))","v":0},{"$f":"SUM(OFFSET('Z0.4.c ProgrammaInvest_Dismiss'!U44,0,0,1,ScadenzaConcessione-AnnoBase+1))","v":0},null,null,null,null,null,null,null,null,null,null,null,null,100,100]
[null,"x",null,null,null,14,"Intervento 12","SIVCA 12",null,null,"Altro","in corso","CIN post2026",null,"Vite utili 1",2037,200,{"$f":"SUM(OFFSET('Z0.4.b ProgrammaInvest_Contrib'!U45,0,0,1,ScadenzaConcessione-AnnoBase+1))","v":0},{"$f":"SUM(OFFSET('Z0.4.c ProgrammaInvest_Dismiss'!U45,0,0,1,ScadenzaConcessione-AnnoBase+1))","v":0},null,null,null,null,null,null,null,null,null,null,null,null,null,100,100]
[null,"x",null,null,null,15,"Intervento 13","SIVCA 13",null,null,"Viadotti/Ponti/Cavalcavia","in corso","CIN post2026",null,"Vite utili 2",2028,200,{"$f":"SUM(OFFSET('Z0.4.b ProgrammaInvest_Contrib'!U46,0,0,1,ScadenzaConcessione-AnnoBase+1))","v":0},{"$f":"SUM(OFFSET('Z0.4.c ProgrammaInvest_Dismiss'!U46,0,0,1,ScadenzaConcessione-AnnoBase+1))","v":0},null,null,null,null,100,100]
[null,"x",null,null,null,16,"Intervento 14","SIVCA 14",null,null,"Gallerie","in corso","CIN post2026",null,"Vite utili 2",2029,200,{"$f":"SUM(OFFSET('Z0.4.b ProgrammaInvest_Contrib'!U47,0,0,1,ScadenzaConcessione-AnnoBase+1))","v":0},{"$f":"SUM(OFFSET('Z0.4.c ProgrammaInvest_Dismiss'!U47,0,0,1,ScadenzaConcessione-AnnoBase+1))","v":0},null,null,null,null,null,100,100]
[null,"x",null,null,null,17,"Intervento 15","SIVCA 15",null,null,"Barriere","in corso","CIN post2026",null,"Vite utili 2",2030,200,{"$f":"SUM(OFFSET('Z0.4.b ProgrammaInvest_Contrib'!U48,0,0,1,ScadenzaConcessione-AnnoBase+1))","v":0},{"$f":"SUM(OFFSET('Z0.4.c ProgrammaInvest_Dismiss'!U48,0,0,1,ScadenzaConcessione-AnnoBase+1))","v":0},null,null,null,null,null,null,100,100]
[null,"x",null,null,null,18,"Intervento 16","SIVCA 16",null,null,"Corpo autostradale, opere sul territorio","in corso","CIN post2026",null,"Vite utili 2",2031,200,{"$f":"SUM(OFFSET('Z0.4.b ProgrammaInvest_Contrib'!U49,0,0,1,ScadenzaConcessione-AnnoBase+1))","v":0},{"$f":"SUM(OFFSET('Z0.4.c ProgrammaInvest_Dismiss'!U49,0,0,1,ScadenzaConcessione-AnnoBase+1))","v":0},null,null,null,null,null,null,null,100,100]
[null,"x",null,null,null,19,"Intervento 17","SIVCA 17",null,null,"Reti recinzione","in corso","CIN post2026",null,"Vite utili 2",2032,200,{"$f":"SUM(OFFSET('Z0.4.b ProgrammaInvest_Contrib'!U50,0,0,1,ScadenzaConcessione-AnnoBase+1))","v":0},{"$f":"SUM(OFFSET('Z0.4.c ProgrammaInvest_Dismiss'!U50,0,0,1,ScadenzaConcessione-AnnoBase+1))","v":0},null,null,null,null,null,null,null,null,100,100]
[null,"x",null,null,null,20,"Intervento 18","SIVCA 18",null,null,"Portali e segnaletica","in corso","CIN post2026",null,"Vite utili 2",2033,200,{"$f":"SUM(OFFSET('Z0.4.b ProgrammaInvest_Contrib'!U51,0,0,1,ScadenzaConcessione-AnnoBase+1))","v":0},{"$f":"SUM(OFFSET('Z0.4.c ProgrammaInvest_Dismiss'!U51,0,0,1,ScadenzaConcessione-AnnoBase+1))","v":0},null,null,null,null,null,null,null,null,null,100,100]
[null,"x",null,null,null,21,"Intervento 19","SIVCA 19",null,null,"Pavimentazioni","in corso","CIN post2026",null,"Vite utili 2",2034,200,{"$f":"SUM(OFFSET('Z0.4.b ProgrammaInvest_Contrib'!U52,0,0,1,ScadenzaConcessione-AnnoBase+1))","v":0},{"$f":"SUM(OFFSET('Z0.4.c ProgrammaInvest_Dismiss'!U52,0,0,1,ScadenzaConcessione-AnnoBase+1))","v":0},null,null,null,null,null,null,null,null,null,null,100,100]
[null,"x",null,null,null,22,"Intervento 20","SIVCA 20",null,null,"Infrastrutture tecnologiche ed impianti","in corso","CIN post2026",null,"Vite utili 2",2035,200,{"$f":"SUM(OFFSET('Z0.4.b ProgrammaInvest_Contrib'!U53,0,0,1,ScadenzaConcessione-AnnoBase+1))","v":0},{"$f":"SUM(OFFSET('Z0.4.c ProgrammaInvest_Dismiss'!U53,0,0,1,ScadenzaConcessione-AnnoBase+1))","v":0},null,null,null,null,null,null,null,null,null,null,null,100,100]
[null,"x",null,null,null,23,"Intervento 21","SIVCA 21",null,null,"Stazioni/Barriere di esazione, fabbricati, aree di servizio","in corso","CIN post2026",null,"Vite utili 2",2036,{"$f":"SUM(OFFSET(U41,0,0,1,ScadenzaConcessione-AnnoBase+1))","v":200},{"$f":"SUM(OFFSET('Z0.4.b ProgrammaInvest_Contrib'!U54,0,0,1,ScadenzaConcessione-AnnoBase+1))","v":0},{"$f":"SUM(OFFSET('Z0.4.c ProgrammaInvest_Dismiss'!U54,0,0,1,ScadenzaConcessione-AnnoBase+1))","v":0},null,null,null,null,null,null,null,null,null,null,null,null,100,100]
[null,"x",null,null,null,24,"Intervento 22","SIVCA 22",null,null,"Altro","in corso","CIN post2026",null,"Vite utili 2",2037,200,{"$f":"SUM(OFFSET('Z0.4.b ProgrammaInvest_Contrib'!U55,0,0,1,ScadenzaConcessione-AnnoBase+1))","v":0},{"$f":"SUM(OFFSET('Z0.4.c ProgrammaInvest_Dismiss'!U55,0,0,1,ScadenzaConcessione-AnnoBase+1))","v":0},null,null,null,null,null,null,null,null,null,null,null,null,null,100,100]

{"sheet":"Z0.4.b ProgrammaInvest_Contrib","index":7,"n_rows":42,"n_cols":35,"rows_kept":42,"cut":false,"hidden":false,"merged":[]}
[]
[null,null,"Programma degli Investimenti (2/6) - da ultimo aggiornamento approvato"]
[]
[null,null,null,null,null,null,null,null,null,null,null,null,null,null,null,null,null,"Anno",null,null,2024,2025,2026,2027,2028,2029,2030,2031,2032,2033,2034,2035,2036,2037,2038]
[]
[null,null,null,null,null,null,null,null,null,null,null,null,null,null,null,null,null,"Anno base",null,null,1,0,0,0,1,0,0,0,0,1,0,0,0,0,0]
[null,null,null,null,null,null,null,null,null,null,null,null,null,null,null,null,null,"Anno ponte",null,null,0,1,0,0,0,1,0,0,0,0,1,0,0,0,0]
[null,null,null,null,null,null,null,null,null,null,null,null,null,null,null,null,null,"Periodo regolatorio",null,null,0,0,1,1,1,1,2,2,2,2,2,3,3,3,3]
[null,null,null,null,null,null,null,null,null,null,null,null,null,null,null,null,null,"Anno del periodo regolatorio",null,null,0,0,1,2,3,4,1,2,3,4,5,1,2,3,4]
[null,null,null,null,null,null,null,null,null,null,null,null,null,null,null,null,null,"Frazione di anno significativa",null,null,null,null,1,1,1,1,1,1,1,1,1,1,1,1,1]
[]
[null,null,null,null,null,null,null,null,null,null,null,null,null,null,null,null,null,null,null,null,null,"Ultimo adattamento schema: 03/11/2025 14:32:36"]
[]
[null,null,"Programmazione ammissibile in tariffa: Importo annuo eventuali contributi in c/impianti o in c/capitale"]
[null,null,"Tabella da alimentare solo con spese per beni reversibili, autorizzati e ammissibili in tariffa"]
[]
[null,null,"Atto convenzionale di riferimento","Rif. macro intervento","Rif. lett. art.","Codice univoco intervento","Descrizione intervento","Codice SIVCA","Tratta autostradale da convenzione","Macro tipologia intervento","Tipologia intervento","Stato lavori","Tipologia CIN","Stati di \navanzamento \nCIN ante","Criterio di ammortamento","Data presunta entrata in esercizio (anno)","Spesa programmata totale","Contributo a fondo perduto","Eventuali dismissioni",null,null,{"$f":"\"Contributo programmato \" & V4","v":"Contributo programmato 2025"},"Contributo programmato 2026",{"$f":"\"Contributo programmato \" & X4","v":"Contributo programmato 2027"},"Contributo programmato 2028","Contributo programmato 2029","Contributo programmato 2030","Contributo programmato 2031","Contributo programmato 2032","Contributo programmato 2033","Contributo programmato 2034","Contributo programmato 2035","Contributo programmato 2036","Contributo programmato 2037","Contributo programmato 2038"]
[]
[null,"x",{"$f":"IF('Z0.4.a ProgrammaInvest_Spesa'!C19=\"\",\"\",'Z0.4.a ProgrammaInvest_Spesa'!C19)","v":""},{"$f":"IF('Z0.4.a ProgrammaInvest_Spesa'!D19=\"\",\"\",'Z0.4.a ProgrammaInvest_Spesa'!D19)","v":""},{"$f":"IF('Z0.4.a ProgrammaInvest_Spesa'!E19=\"\",\"\",'Z0.4.a ProgrammaInvest_Spesa'!E19)","v":""},{"$f":"IF('Z0.4.a ProgrammaInvest_Spesa'!F19=\"\",\"\",'Z0.4.a ProgrammaInvest_Spesa'!F19)","v":1},{"$f":"IF('Z0.4.a ProgrammaInvest_Spesa'!G19=\"\",\"\",'Z0.4.a ProgrammaInvest_Spesa'!G19)","v":"Intervento 1"},{"$f":"IF('Z0.4.a ProgrammaInvest_Spesa'!H19=\"\",\"\",'Z0.4.a ProgrammaInvest_Spesa'!H19)","v":"SIVCA 1"},{"$f":"IF('Z0.4.a ProgrammaInvest_Spesa'!I19=\"\",\"\",'Z0.4.a ProgrammaInvest_Spesa'!I19)","v":""},{"$f":"IF('Z0.4.a ProgrammaInvest_Spesa'!J19=\"\",\"\",'Z0.4.a ProgrammaInvest_Spesa'!J19)","v":""},{"$f":"IF('Z0.4.a ProgrammaInvest_Spesa'!K19=\"\",\"\",'Z0.4.a ProgrammaInvest_Spesa'!K19)","v":"(assoggettata ad ammortamento finanziario)"},{"$f":"IF('Z0.4.a ProgrammaInvest_Spesa'!L19=\"\",\"\",'Z0.4.a ProgrammaInvest_Spesa'!L19)","v":"in corso"},{"$f":"IF('Z0.4.a ProgrammaInvest_Spesa'!M19=\"\",\"\",'Z0.4.a ProgrammaInvest_Spesa'!M19)","v":"CIN ante"},{"$f":"IF('Z0.4.a ProgrammaInvest_Spesa'!N19=\"\",\"\",'Z0.4.a ProgrammaInvest_Spesa'!N19)","v":"SAL contabilizzati"},{"$f":"IF('Z0.4.a ProgrammaInvest_Spesa'!O19=\"\",\"\",'Z0.4.a ProgrammaInvest_Spesa'!O19)","v":"Finanziario"},{"$f":"IF('Z0.4.a ProgrammaInvest_Spesa'!P19=\"\",\"\",'Z0.4.a ProgrammaInvest_Spesa'!P19)","v":""},{"$f":"IF('Z0.4.a ProgrammaInvest_Spesa'!Q19=\"\",\"\",'Z0.4.a ProgrammaInvest_Spesa'!Q19)","v":0},{"$f":"IF('Z0.4.a ProgrammaInvest_Spesa'!R19=\"\",\"\",'Z0.4.a ProgrammaInvest_Spesa'!R19)","v":2000},{"$f":"IF('Z0.4.a ProgrammaInvest_Spesa'!S19=\"\",\"\",'Z0.4.a ProgrammaInvest_Spesa'!S19)","v":20},null,null,null,2000]
[null,"x",{"$f":"IF('Z0.4.a ProgrammaInvest_Spesa'!C20=\"\",\"\",'Z0.4.a ProgrammaInvest_Spesa'!C20)","v":""},{"$f":"IF('Z0.4.a ProgrammaInvest_Spesa'!D20=\"\",\"\",'Z0.4.a ProgrammaInvest_Spesa'!D20)","v":""},{"$f":"IF('Z0.4.a ProgrammaInvest_Spesa'!E20=\"\",\"\",'Z0.4.a ProgrammaInvest_Spesa'!E20)","v":""},{"$f":"IF('Z0.4.a ProgrammaInvest_Spesa'!F20=\"\",\"\",'Z0.4.a ProgrammaInvest_Spesa'!F20)","v":2},{"$f":"IF('Z0.4.a ProgrammaInvest_Spesa'!G20=\"\",\"\",'Z0.4.a ProgrammaInvest_Spesa'!G20)","v":"Intervento 2"},{"$f":"IF('Z0.4.a ProgrammaInvest_Spesa'!H20=\"\",\"\",'Z0.4.a ProgrammaInvest_Spesa'!H20)","v":"SIVCA 2"},{"$f":"IF('Z0.4.a ProgrammaInvest_Spesa'!I20=\"\",\"\",'Z0.4.a ProgrammaInvest_Spesa'!I20)","v":""},{"$f":"IF('Z0.4.a ProgrammaInvest_Spesa'!J20=\"\",\"\",'Z0.4.a ProgrammaInvest_Spesa'!J20)","v":""},{"$f":"IF('Z0.4.a ProgrammaInvest_Spesa'!K20=\"\",\"\",'Z0.4.a ProgrammaInvest_Spesa'!K20)","v":"(assoggettata ad ammortamento finanziario)"},{"$f":"IF('Z0.4.a ProgrammaInvest_Spesa'!L20=\"\",\"\",'Z0.4.a ProgrammaInvest_Spesa'!L20)","v":"in corso"},{"$f":"IF('Z0.4.a ProgrammaInvest_Spesa'!M20=\"\",\"\",'Z0.4.a ProgrammaInvest_Spesa'!M20)","v":"CIN ante"},{"$f":"IF('Z0.4.a ProgrammaInvest_Spesa'!N20=\"\",\"\",'Z0.4.a ProgrammaInvest_Spesa'!N20)","v":"SAL da contabilizzare"},{"$f":"IF('Z0.4.a ProgrammaInvest_Spesa'!O20=\"\",\"\",'Z0.4.a ProgrammaInvest_Spesa'!O20)","v":"Finanziario"},{"$f":"IF('Z0.4.a ProgrammaInvest_Spesa'!P20=\"\",\"\",'Z0.4.a ProgrammaInvest_Spesa'!P20)","v":""},{"$f":"IF('Z0.4.a ProgrammaInvest_Spesa'!Q20=\"\",\"\",'Z0.4.a ProgrammaInvest_Spesa'!Q20)","v":20000},{"$f":"IF('Z0.4.a ProgrammaInvest_Spesa'!R20=\"\",\"\",'Z0.4.a ProgrammaInvest_Spesa'!R20)","v":1000},{"$f":"IF('Z0.4.a ProgrammaInvest_Spesa'!S20=\"\",\"\",'Z0.4.a ProgrammaInvest_Spesa'!S20)","v":20},null,null,null,1000]
[null,"x",{"$f":"IF('Z0.4.a ProgrammaInvest_Spesa'!C21=\"\",\"\",'Z0.4.a ProgrammaInvest_Spesa'!C21)","v":""},{"$f":"IF('Z0.4.a ProgrammaInvest_Spesa'!D21=\"\",\"\",'Z0.4.a ProgrammaInvest_Spesa'!D21)","v":""},{"$f":"IF('Z0.4.a ProgrammaInvest_Spesa'!E21=\"\",\"\",'Z0.4.a ProgrammaInvest_Spesa'!E21)","v":""},{"$f":"IF('Z0.4.a ProgrammaInvest_Spesa'!F21=\"\",\"\",'Z0.4.a ProgrammaInvest_Spesa'!F21)","v":3},{"$f":"IF('Z0.4.a ProgrammaInvest_Spesa'!G21=\"\",\"\",'Z0.4.a ProgrammaInvest_Spesa'!G21)","v":"Intervento 2"},{"$f":"IF('Z0.4.a ProgrammaInvest_Spesa'!H21=\"\",\"\",'Z0.4.a ProgrammaInvest_Spesa'!H21)","v":"SIVCA 2"},{"$f":"IF('Z0.4.a ProgrammaInvest_Spesa'!I21=\"\",\"\",'Z0.4.a ProgrammaInvest_Spesa'!I21)","v":""},{"$f":"IF('Z0.4.a ProgrammaInvest_Spesa'!J21=\"\",\"\",'Z0.4.a ProgrammaInvest_Spesa'!J21)","v":""},{"$f":"IF('Z0.4.a ProgrammaInvest_Spesa'!K21=\"\",\"\",'Z0.4.a ProgrammaInvest_Spesa'!K21)","v":"(assoggettata ad ammortamento finanziario)"},{"$f":"IF('Z0.4.a ProgrammaInvest_Spesa'!L21=\"\",\"\",'Z0.4.a ProgrammaInvest_Spesa'!L21)","v":"in corso"},{"$f":"IF('Z0.4.a ProgrammaInvest_Spesa'!M21=\"\",\"\",'Z0.4.a ProgrammaInvest_Spesa'!M21)","v":"CIN pre2026"},{"$f":"IF('Z0.4.a ProgrammaInvest_Spesa'!N21=\"\",\"\",'Z0.4.a ProgrammaInvest_Spesa'!N21)","v":""},{"$f":"IF('Z0.4.a ProgrammaInvest_Spesa'!O21=\"\",\"\",'Z0.4.a ProgrammaInvest_Spesa'!O21)","v":"Finanziario"},{"$f":"IF('Z0.4.a ProgrammaInvest_Spesa'!P21=\"\",\"\",'Z0.4.a ProgrammaInvest_Spesa'!P21)","v":""},{"$f":"IF('Z0.4.a ProgrammaInvest_Spesa'!Q21=\"\",\"\",'Z0.4.a ProgrammaInvest_Spesa'!Q21)","v":20000},{"$f":"IF('Z0.4.a ProgrammaInvest_Spesa'!R21=\"\",\"\",'Z0.4.a ProgrammaInvest_Spesa'!R21)","v":1000},{"$f":"IF('Z0.4.a ProgrammaInvest_Spesa'!S21=\"\",\"\",'Z0.4.a ProgrammaInvest_Spesa'!S21)","v":20},null,null,null,1000]
[null,"x",{"$f":"IF('Z0.4.a ProgrammaInvest_Spesa'!C22=\"\",\"\",'Z0.4.a ProgrammaInvest_Spesa'!C22)","v":""},{"$f":"IF('Z0.4.a ProgrammaInvest_Spesa'!D22=\"\",\"\",'Z0.4.a ProgrammaInvest_Spesa'!D22)","v":""},{"$f":"IF('Z0.4.a ProgrammaInvest_Spesa'!E22=\"\",\"\",'Z0.4.a ProgrammaInvest_Spesa'!E22)","v":""},{"$f":"IF('Z0.4.a ProgrammaInvest_Spesa'!F22=\"\",\"\",'Z0.4.a ProgrammaInvest_Spesa'!F22)","v":4},{"$f":"IF('Z0.4.a ProgrammaInvest_Spesa'!G22=\"\",\"\",'Z0.4.a ProgrammaInvest_Spesa'!G22)","v":"Intervento 2"},{"$f":"IF('Z0.4.a ProgrammaInvest_Spesa'!H22=\"\",\"\",'Z0.4.a ProgrammaInvest_Spesa'!H22)","v":"SIVCA 2"},{"$f":"IF('Z0.4.a ProgrammaInvest_Spesa'!I22=\"\",\"\",'Z0.4.a ProgrammaInvest_Spesa'!I22)","v":""},{"$f":"IF('Z0.4.a ProgrammaInvest_Spesa'!J22=\"\",\"\",'Z0.4.a ProgrammaInvest_Spesa'!J22)","v":""},{"$f":"IF('Z0.4.a ProgrammaInvest_Spesa'!K22=\"\",\"\",'Z0.4.a ProgrammaInvest_Spesa'!K22)","v":"(assoggettata ad ammortamento finanziario)"},{"$f":"IF('Z0.4.a ProgrammaInvest_Spesa'!L22=\"\",\"\",'Z0.4.a ProgrammaInvest_Spesa'!L22)","v":"in corso"},{"$f":"IF('Z0.4.a ProgrammaInvest_Spesa'!M22=\"\",\"\",'Z0.4.a ProgrammaInvest_Spesa'!M22)","v":"CIN post2026"},{"$f":"IF('Z0.4.a ProgrammaInvest_Spesa'!N22=\"\",\"\",'Z0.4.a ProgrammaInvest_Spesa'!N22)","v":""},{"$f":"IF('Z0.4.a ProgrammaInvest_Spesa'!O22=\"\",\"\",'Z0.4.a ProgrammaInvest_Spesa'!O22)","v":"Finanziario"},{"$f":"IF('Z0.4.a ProgrammaInvest_Spesa'!P22=\"\",\"\",'Z0.4.a ProgrammaInvest_Spesa'!P22)","v":""},{"$f":"IF('Z0.4.a ProgrammaInvest_Spesa'!Q22=\"\",\"\",'Z0.4.a ProgrammaInvest_Spesa'!Q22)","v":100000},{"$f":"IF('Z0.4.a ProgrammaInvest_Spesa'!R22=\"\",\"\",'Z0.4.a ProgrammaInvest_Spesa'!R22)","v":1000},{"$f":"IF('Z0.4.a ProgrammaInvest_Spesa'!S22=\"\",\"\",'Z0.4.a ProgrammaInvest_Spesa'!S22)","v":20},null,null,null,1000]
[null,"x",{"$f":"IF('Z0.4.a ProgrammaInvest_Spesa'!C23=\"\",\"\",'Z0.4.a ProgrammaInvest_Spesa'!C23)","v":""},{"$f":"IF('Z0.4.a ProgrammaInvest_Spesa'!D23=\"\",\"\",'Z0.4.a ProgrammaInvest_Spesa'!D23)","v":""},{"$f":"IF('Z0.4.a ProgrammaInvest_Spesa'!E23=\"\",\"\",'Z0.4.a ProgrammaInvest_Spesa'!E23)","v":""},{"$f":"IF('Z0.4.a ProgrammaInvest_Spesa'!F23=\"\",\"\",'Z0.4.a ProgrammaInvest_Spesa'!F23)","v":5},{"$f":"IF('Z0.4.a ProgrammaInvest_Spesa'!G23=\"\",\"\",'Z0.4.a ProgrammaInvest_Spesa'!G23)","v":"Intervento 3"},{"$f":"IF('Z0.4.a ProgrammaInvest_Spesa'!H23=\"\",\"\",'Z0.4.a ProgrammaInvest_Spesa'!H23)","v":"SIVCA 3"},{"$f":"IF('Z0.4.a ProgrammaInvest_Spesa'!I23=\"\",\"\",'Z0.4.a ProgrammaInvest_Spesa'!I23)","v":""},{"$f":"IF('Z0.4.a ProgrammaInvest_Spesa'!J23=\"\",\"\",'Z0.4.a ProgrammaInvest_Spesa'!J23)","v":""},{"$f":"IF('Z0.4.a ProgrammaInvest_Spesa'!K23=\"\",\"\",'Z0.4.a ProgrammaInvest_Spesa'!K23)","v":"Viadotti/Ponti/Cavalcavia"},{"$f":"IF('Z0.4.a ProgrammaInvest_Spesa'!L23=\"\",\"\",'Z0.4.a ProgrammaInvest_Spesa'!L23)","v":"in corso"},{"$f":"IF('Z0.4.a ProgrammaInvest_Spesa'!M23=\"\",\"\",'Z0.4.a ProgrammaInvest_Spesa'!M23)","v":"CIN post2026"},{"$f":"IF('Z0.4.a ProgrammaInvest_Spesa'!N23=\"\",\"\",'Z0.4.a ProgrammaInvest_Spesa'!N23)","v":""},{"$f":"IF('Z0.4.a ProgrammaInvest_Spesa'!O23=\"\",\"\",'Z0.4.a ProgrammaInvest_Spesa'!O23)","v":"Vite utili 1"},{"$f":"IF('Z0.4.a ProgrammaInvest_Spesa'!P23=\"\",\"\",'Z0.4.a ProgrammaInvest_Spesa'!P23)","v":2028},{"$f":"IF('Z0.4.a ProgrammaInvest_Spesa'!Q23=\"\",\"\",'Z0.4.a ProgrammaInvest_Spesa'!Q23)","v":200},{"$f":"IF('Z0.4.a ProgrammaInvest_Spesa'!R23=\"\",\"\",'Z0.4.a ProgrammaInvest_Spesa'!R23)","v":20},{"$f":"IF('Z0.4.a ProgrammaInvest_Spesa'!S23=\"\",\"\",'Z0.4.a ProgrammaInvest_Spesa'!S23)","v":10},null,null,null,null,20]
[null,"x",{"$f":"IF('Z0.4.a ProgrammaInvest_Spesa'!C24=\"\",\"\",'Z0.4.a ProgrammaInvest_Spesa'!C24)","v":""},{"$f":"IF('Z0.4.a ProgrammaInvest_Spesa'!D24=\"\",\"\",'Z0.4.a ProgrammaInvest_Spesa'!D24)","v":""},{"$f":"IF('Z0.4.a ProgrammaInvest_Spesa'!E24=\"\",\"\",'Z0.4.a ProgrammaInvest_Spesa'!E24)","v":""},{"$f":"IF('Z0.4.a ProgrammaInvest_Spesa'!F24=\"\",\"\",'Z0.4.a ProgrammaInvest_Spesa'!F24)","v":6},{"$f":"IF('Z0.4.a ProgrammaInvest_Spesa'!G24=\"\",\"\",'Z0.4.a ProgrammaInvest_Spesa'!G24)","v":"Intervento 4"},{"$f":"IF('Z0.4.a ProgrammaInvest_Spesa'!H24=\"\",\"\",'Z0.4.a ProgrammaInvest_Spesa'!H24)","v":"SIVCA 4"},{"$f":"IF('Z0.4.a ProgrammaInvest_Spesa'!I24=\"\",\"\",'Z0.4.a ProgrammaInvest_Spesa'!I24)","v":""},{"$f":"IF('Z0.4.a ProgrammaInvest_Spesa'!J24=\"\",\"\",'Z0.4.a ProgrammaInvest_Spesa'!J24)","v":""},{"$f":"IF('Z0.4.a ProgrammaInvest_Spesa'!K24=\"\",\"\",'Z0.4.a ProgrammaInvest_Spesa'!K24)","v":"Gallerie"},{"$f":"IF('Z0.4.a ProgrammaInvest_Spesa'!L24=\"\",\"\",'Z0.4.a ProgrammaInvest_Spesa'!L24)","v":"in corso"},{"$f":"IF('Z0.4.a ProgrammaInvest_Spesa'!M24=\"\",\"\",'Z0.4.a ProgrammaInvest_Spesa'!M24)","v":"CIN post2026"},{"$f":"IF('Z0.4.a ProgrammaInvest_Spesa'!N24=\"\",\"\",'Z0.4.a ProgrammaInvest_Spesa'!N24)","v":""},{"$f":"IF('Z0.4.a ProgrammaInvest_Spesa'!O24=\"\",\"\",'Z0.4.a ProgrammaInvest_Spesa'!O24)","v":"Vite utili 1"},{"$f":"IF('Z0.4.a ProgrammaInvest_Spesa'!P24=\"\",\"\",'Z0.4.a ProgrammaInvest_Spesa'!P24)","v":2029},{"$f":"IF('Z0.4.a ProgrammaInvest_Spesa'!Q24=\"\",\"\",'Z0.4.a ProgrammaInvest_Spesa'!Q24)","v":200},{"$f":"IF('Z0.4.a ProgrammaInvest_Spesa'!R24=\"\",\"\",'Z0.4.a ProgrammaInvest_Spesa'!R24)","v":20},{"$f":"IF('Z0.4.a ProgrammaInvest_Spesa'!S24=\"\",\"\",'Z0.4.a ProgrammaInvest_Spesa'!S24)","v":10},null,null,null,null,null,20]
[null,"x",{"$f":"IF('Z0.4.a ProgrammaInvest_Spesa'!C25=\"\",\"\",'Z0.4.a ProgrammaInvest_Spesa'!C25)","v":""},{"$f":"IF('Z0.4.a ProgrammaInvest_Spesa'!D25=\"\",\"\",'Z0.4.a ProgrammaInvest_Spesa'!D25)","v":""},{"$f":"IF('Z0.4.a ProgrammaInvest_Spesa'!E25=\"\",\"\",'Z0.4.a ProgrammaInvest_Spesa'!E25)","v":""},{"$f":"IF('Z0.4.a ProgrammaInvest_Spesa'!F25=\"\",\"\",'Z0.4.a ProgrammaInvest_Spesa'!F25)","v":7},{"$f":"IF('Z0.4.a ProgrammaInvest_Spesa'!G25=\"\",\"\",'Z0.4.a ProgrammaInvest_Spesa'!G25)","v":"Intervento 5"},{"$f":"IF('Z0.4.a ProgrammaInvest_Spesa'!H25=\"\",\"\",'Z0.4.a ProgrammaInvest_Spesa'!H25)","v":"SIVCA 5"},{"$f":"IF('Z0.4.a ProgrammaInvest_Spesa'!I25=\"\",\"\",'Z0.4.a ProgrammaInvest_Spesa'!I25)","v":""},{"$f":"IF('Z0.4.a ProgrammaInvest_Spesa'!J25=\"\",\"\",'Z0.4.a ProgrammaInvest_Spesa'!J25)","v":""},{"$f":"IF('Z0.4.a ProgrammaInvest_Spesa'!K25=\"\",\"\",'Z0.4.a ProgrammaInvest_Spesa'!K25)","v":"Barriere"},{"$f":"IF('Z0.4.a ProgrammaInvest_Spesa'!L25=\"\",\"\",'Z0.4.a ProgrammaInvest_Spesa'!L25)","v":"in corso"},{"$f":"IF('Z0.4.a ProgrammaInvest_Spesa'!M25=\"\",\"\",'Z0.4.a ProgrammaInvest_Spesa'!M25)","v":"CIN post2026"},{"$f":"IF('Z0.4.a ProgrammaInvest_Spesa'!N25=\"\",\"\",'Z0.4.a ProgrammaInvest_Spesa'!N25)","v":""},{"$f":"IF('Z0.4.a ProgrammaInvest_Spesa'!O25=\"\",\"\",'Z0.4.a ProgrammaInvest_Spesa'!O25)","v":"Vite utili 1"},{"$f":"IF('Z0.4.a ProgrammaInvest_Spesa'!P25=\"\",\"\",'Z0.4.a ProgrammaInvest_Spesa'!P25)","v":2030},{"$f":"IF('Z0.4.a ProgrammaInvest_Spesa'!Q25=\"\",\"\",'Z0.4.a ProgrammaInvest_Spesa'!Q25)","v":200},{"$f":"IF('Z0.4.a ProgrammaInvest_Spesa'!R25=\"\",\"\",'Z0.4.a ProgrammaInvest_Spesa'!R25)","v":20},{"$f":"IF('Z0.4.a ProgrammaInvest_Spesa'!S25=\"\",\"\",'Z0.4.a ProgrammaInvest_Spesa'!S25)","v":10},null,null,null,null,null,null,20]
[null,"x",{"$f":"IF('Z0.4.a ProgrammaInvest_Spesa'!C26=\"\",\"\",'Z0.4.a ProgrammaInvest_Spesa'!C26)","v":""},{"$f":"IF('Z0.4.a ProgrammaInvest_Spesa'!D26=\"\",\"\",'Z0.4.a ProgrammaInvest_Spesa'!D26)","v":""},{"$f":"IF('Z0.4.a ProgrammaInvest_Spesa'!E26=\"\",\"\",'Z0.4.a ProgrammaInvest_Spesa'!E26)","v":""},{"$f":"IF('Z0.4.a ProgrammaInvest_Spesa'!F26=\"\",\"\",'Z0.4.a ProgrammaInvest_Spesa'!F26)","v":8},{"$f":"IF('Z0.4.a ProgrammaInvest_Spesa'!G26=\"\",\"\",'Z0.4.a ProgrammaInvest_Spesa'!G26)","v":"Intervento 6"},{"$f":"IF('Z0.4.a ProgrammaInvest_Spesa'!H26=\"\",\"\",'Z0.4.a ProgrammaInvest_Spesa'!H26)","v":"SIVCA 6"},{"$f":"IF('Z0.4.a ProgrammaInvest_Spesa'!I26=\"\",\"\",'Z0.4.a ProgrammaInvest_Spesa'!I26)","v":""},{"$f":"IF('Z0.4.a ProgrammaInvest_Spesa'!J26=\"\",\"\",'Z0.4.a ProgrammaInvest_Spesa'!J26)","v":""},{"$f":"IF('Z0.4.a ProgrammaInvest_Spesa'!K26=\"\",\"\",'Z0.4.a ProgrammaInvest_Spesa'!K26)","v":"Corpo autostradale, opere sul territorio"},{"$f":"IF('Z0.4.a ProgrammaInvest_Spesa'!L26=\"\",\"\",'Z0.4.a ProgrammaInvest_Spesa'!L26)","v":"in corso"},{"$f":"IF('Z0.4.a ProgrammaInvest_Spesa'!M26=\"\",\"\",'Z0.4.a ProgrammaInvest_Spesa'!M26)","v":"CIN post2026"},{"$f":"IF('Z0.4.a ProgrammaInvest_Spesa'!N26=\"\",\"\",'Z0.4.a ProgrammaInvest_Spesa'!N26)","v":""},{"$f":"IF('Z0.4.a ProgrammaInvest_Spesa'!O26=\"\",\"\",'Z0.4.a ProgrammaInvest_Spesa'!O26)","v":"Vite utili 1"},{"$f":"IF('Z0.4.a ProgrammaInvest_Spesa'!P26=\"\",\"\",'Z0.4.a ProgrammaInvest_Spesa'!P26)","v":2031},{"$f":"IF('Z0.4.a ProgrammaInvest_Spesa'!Q26=\"\",\"\",'Z0.4.a ProgrammaInvest_Spesa'!Q26)","v":200},{"$f":"IF('Z0.4.a ProgrammaInvest_Spesa'!R26=\"\",\"\",'Z0.4.a ProgrammaInvest_Spesa'!R26)","v":20},{"$f":"IF('Z0.4.a ProgrammaInvest_Spesa'!S26=\"\",\"\",'Z0.4.a ProgrammaInvest_Spesa'!S26)","v":10},null,null,null,null,null,null,null,20]
[null,"x",{"$f":"IF('Z0.4.a ProgrammaInvest_Spesa'!C27=\"\",\"\",'Z0.4.a ProgrammaInvest_Spesa'!C27)","v":""},{"$f":"IF('Z0.4.a ProgrammaInvest_Spesa'!D27=\"\",\"\",'Z0.4.a ProgrammaInvest_Spesa'!D27)","v":""},{"$f":"IF('Z0.4.a ProgrammaInvest_Spesa'!E27=\"\",\"\",'Z0.4.a ProgrammaInvest_Spesa'!E27)","v":""},{"$f":"IF('Z0.4.a ProgrammaInvest_Spesa'!F27=\"\",\"\",'Z0.4.a ProgrammaInvest_Spesa'!F27)","v":9},{"$f":"IF('Z0.4.a ProgrammaInvest_Spesa'!G27=\"\",\"\",'Z0.4.a ProgrammaInvest_Spesa'!G27)","v":"Intervento 7"},{"$f":"IF('Z0.4.a ProgrammaInvest_Spesa'!H27=\"\",\"\",'Z0.4.a ProgrammaInvest_Spesa'!H27)","v":"SIVCA 7"},{"$f":"IF('Z0.4.a ProgrammaInvest_Spesa'!I27=\"\",\"\",'Z0.4.a ProgrammaInvest_Spesa'!I27)","v":""},{"$f":"IF('Z0.4.a ProgrammaInvest_Spesa'!J27=\"\",\"\",'Z0.4.a ProgrammaInvest_Spesa'!J27)","v":""},{"$f":"IF('Z0.4.a ProgrammaInvest_Spesa'!K27=\"\",\"\",'Z0.4.a ProgrammaInvest_Spesa'!K27)","v":"Reti recinzione"},{"$f":"IF('Z0.4.a ProgrammaInvest_Spesa'!L27=\"\",\"\",'Z0.4.a ProgrammaInvest_Spesa'!L27)","v":"in corso"},{"$f":"IF('Z0.4.a ProgrammaInvest_Spesa'!M27=\"\",\"\",'Z0.4.a ProgrammaInvest_Spesa'!M27)","v":"CIN post2026"},{"$f":"IF('Z0.4.a ProgrammaInvest_Spesa'!N27=\"\",\"\",'Z0.4.a ProgrammaInvest_Spesa'!N27)","v":""},{"$f":"IF('Z0.4.a ProgrammaInvest_Spesa'!O27=\"\",\"\",'Z0.4.a ProgrammaInvest_Spesa'!O27)","v":"Vite utili 1"},{"$f":"IF('Z0.4.a ProgrammaInvest_Spesa'!P27=\"\",\"\",'Z0.4.a ProgrammaInvest_Spesa'!P27)","v":2032},{"$f":"IF('Z0.4.a ProgrammaInvest_Spesa'!Q27=\"\",\"\",'Z0.4.a ProgrammaInvest_Spesa'!Q27)","v":200},{"$f":"IF('Z0.4.a ProgrammaInvest_Spesa'!R27=\"\",\"\",'Z0.4.a ProgrammaInvest_Spesa'!R27)","v":20},{"$f":"IF('Z0.4.a ProgrammaInvest_Spesa'!S27=\"\",\"\",'Z0.4.a ProgrammaInvest_Spesa'!S27)","v":10},null,null,null,null,null,null,null,null,20]
[null,"x",{"$f":"IF('Z0.4.a ProgrammaInvest_Spesa'!C28=\"\",\"\",'Z0.4.a ProgrammaInvest_Spesa'!C28)","v":""},{"$f":"IF('Z0.4.a ProgrammaInvest_Spesa'!D28=\"\",\"\",'Z0.4.a ProgrammaInvest_Spesa'!D28)","v":""},{"$f":"IF('Z0.4.a ProgrammaInvest_Spesa'!E28=\"\",\"\",'Z0.4.a ProgrammaInvest_Spesa'!E28)","v":""},{"$f":"IF('Z0.4.a ProgrammaInvest_Spesa'!F28=\"\",\"\",'Z0.4.a ProgrammaInvest_Spesa'!F28)","v":10},{"$f":"IF('Z0.4.a ProgrammaInvest_Spesa'!G28=\"\",\"\",'Z0.4.a ProgrammaInvest_Spesa'!G28)","v":"Intervento 8"},{"$f":"IF('Z0.4.a ProgrammaInvest_Spesa'!H28=\"\",\"\",'Z0.4.a ProgrammaInvest_Spesa'!H28)","v":"SIVCA 8"},{"$f":"IF('Z0.4.a ProgrammaInvest_Spesa'!I28=\"\",\"\",'Z0.4.a ProgrammaInvest_Spesa'!I28)","v":""},{"$f":"IF('Z0.4.a ProgrammaInvest_Spesa'!J28=\"\",\"\",'Z0.4.a ProgrammaInvest_Spesa'!J28)","v":""},{"$f":"IF('Z0.4.a ProgrammaInvest_Spesa'!K28=\"\",\"\",'Z0.4.a ProgrammaInvest_Spesa'!K28)","v":"Portali e segnaletica"},{"$f":"IF('Z0.4.a ProgrammaInvest_Spesa'!L28=\"\",\"\",'Z0.4.a ProgrammaInvest_Spesa'!L28)","v":"in corso"},{"$f":"IF('Z0.4.a ProgrammaInvest_Spesa'!M28=\"\",\"\",'Z0.4.a ProgrammaInvest_Spesa'!M28)","v":"CIN post2026"},{"$f":"IF('Z0.4.a ProgrammaInvest_Spesa'!N28=\"\",\"\",'Z0.4.a ProgrammaInvest_Spesa'!N28)","v":""},{"$f":"IF('Z0.4.a ProgrammaInvest_Spesa'!O28=\"\",\"\",'Z0.4.a ProgrammaInvest_Spesa'!O28)","v":"Vite utili 1"},{"$f":"IF('Z0.4.a ProgrammaInvest_Spesa'!P28=\"\",\"\",'Z0.4.a ProgrammaInvest_Spesa'!P28)","v":2033},{"$f":"IF('Z0.4.a ProgrammaInvest_Spesa'!Q28=\"\",\"\",'Z0.4.a ProgrammaInvest_Spesa'!Q28)","v":200},{"$f":"IF('Z0.4.a ProgrammaInvest_Spesa'!R28=\"\",\"\",'Z0.4.a ProgrammaInvest_Spesa'!R28)","v":20},{"$f":"IF('Z0.4.a ProgrammaInvest_Spesa'!S28=\"\",\"\",'Z0.4.a ProgrammaInvest_Spesa'!S28)","v":10},null,null,null,null,null,null,null,null,null,20]
[null,"x",{"$f":"IF('Z0.4.a ProgrammaInvest_Spesa'!C29=\"\",\"\",'Z0.4.a ProgrammaInvest_Spesa'!C29)","v":""},{"$f":"IF('Z0.4.a ProgrammaInvest_Spesa'!D29=\"\",\"\",'Z0.4.a ProgrammaInvest_Spesa'!D29)","v":""},{"$f":"IF('Z0.4.a ProgrammaInvest_Spesa'!E29=\"\",\"\",'Z0.4.a ProgrammaInvest_Spesa'!E29)","v":""},{"$f":"IF('Z0.4.a ProgrammaInvest_Spesa'!F29=\"\",\"\",'Z0.4.a ProgrammaInvest_Spesa'!F29)","v":11},{"$f":"IF('Z0.4.a ProgrammaInvest_Spesa'!G29=\"\",\"\",'Z0.4.a ProgrammaInvest_Spesa'!G29)","v":"Intervento 9"},{"$f":"IF('Z0.4.a ProgrammaInvest_Spesa'!H29=\"\",\"\",'Z0.4.a ProgrammaInvest_Spesa'!H29)","v":"SIVCA 9"},{"$f":"IF('Z0.4.a ProgrammaInvest_Spesa'!I29=\"\",\"\",'Z0.4.a ProgrammaInvest_Spesa'!I29)","v":""},{"$f":"IF('Z0.4.a ProgrammaInvest_Spesa'!J29=\"\",\"\",'Z0.4.a ProgrammaInvest_Spesa'!J29)","v":""},{"$f":"IF('Z0.4.a ProgrammaInvest_Spesa'!K29=\"\",\"\",'Z0.4.a ProgrammaInvest_Spesa'!K29)","v":"Pavimentazioni"},{"$f":"IF('Z0.4.a ProgrammaInvest_Spesa'!L29=\"\",\"\",'Z0.4.a ProgrammaInvest_Spesa'!L29)","v":"in corso"},{"$f":"IF('Z0.4.a ProgrammaInvest_Spesa'!M29=\"\",\"\",'Z0.4.a ProgrammaInvest_Spesa'!M29)","v":"CIN post2026"},{"$f":"IF('Z0.4.a ProgrammaInvest_Spesa'!N29=\"\",\"\",'Z0.4.a ProgrammaInvest_Spesa'!N29)","v":""},{"$f":"IF('Z0.4.a ProgrammaInvest_Spesa'!O29=\"\",\"\",'Z0.4.a ProgrammaInvest_Spesa'!O29)","v":"Vite utili 1"},{"$f":"IF('Z0.4.a ProgrammaInvest_Spesa'!P29=\"\",\"\",'Z0.4.a ProgrammaInvest_Spesa'!P29)","v":2034},{"$f":"IF('Z0.4.a ProgrammaInvest_Spesa'!Q29=\"\",\"\",'Z0.4.a ProgrammaInvest_Spesa'!Q29)","v":200},{"$f":"IF('Z0.4.a ProgrammaInvest_Spesa'!R29=\"\",\"\",'Z0.4.a ProgrammaInvest_Spesa'!R29)","v":20},{"$f":"IF('Z0.4.a ProgrammaInvest_Spesa'!S29=\"\",\"\",'Z0.4.a ProgrammaInvest_Spesa'!S29)","v":10},null,null,null,null,null,null,null,null,null,null,20]
[null,"x",{"$f":"IF('Z0.4.a ProgrammaInvest_Spesa'!C30=\"\",\"\",'Z0.4.a ProgrammaInvest_Spesa'!C30)","v":""},{"$f":"IF('Z0.4.a ProgrammaInvest_Spesa'!D30=\"\",\"\",'Z0.4.a ProgrammaInvest_Spesa'!D30)","v":""},{"$f":"IF('Z0.4.a ProgrammaInvest_Spesa'!E30=\"\",\"\",'Z0.4.a ProgrammaInvest_Spesa'!E30)","v":""},{"$f":"IF('Z0.4.a ProgrammaInvest_Spesa'!F30=\"\",\"\",'Z0.4.a ProgrammaInvest_Spesa'!F30)","v":12},{"$f":"IF('Z0.4.a ProgrammaInvest_Spesa'!G30=\"\",\"\",'Z0.4.a ProgrammaInvest_Spesa'!G30)","v":"Intervento 10"},{"$f":"IF('Z0.4.a ProgrammaInvest_Spesa'!H30=\"\",\"\",'Z0.4.a ProgrammaInvest_Spesa'!H30)","v":"SIVCA 10"},{"$f":"IF('Z0.4.a ProgrammaInvest_Spesa'!I30=\"\",\"\",'Z0.4.a ProgrammaInvest_Spesa'!I30)","v":""},{"$f":"IF('Z0.4.a ProgrammaInvest_Spesa'!J30=\"\",\"\",'Z0.4.a ProgrammaInvest_Spesa'!J30)","v":""},{"$f":"IF('Z0.4.a ProgrammaInvest_Spesa'!K30=\"\",\"\",'Z0.4.a ProgrammaInvest_Spesa'!K30)","v":"Infrastrutture tecnologiche ed impianti"},{"$f":"IF('Z0.4.a ProgrammaInvest_Spesa'!L30=\"\",\"\",'Z0.4.a ProgrammaInvest_Spesa'!L30)","v":"in corso"},{"$f":"IF('Z0.4.a ProgrammaInvest_Spesa'!M30=\"\",\"\",'Z0.4.a ProgrammaInvest_Spesa'!M30)","v":"CIN post2026"},{"$f":"IF('Z0.4.a ProgrammaInvest_Spesa'!N30=\"\",\"\",'Z0.4.a ProgrammaInvest_Spesa'!N30)","v":""},{"$f":"IF('Z0.4.a ProgrammaInvest_Spesa'!O30=\"\",\"\",'Z0.4.a ProgrammaInvest_Spesa'!O30)","v":"Vite utili 1"},{"$f":"IF('Z0.4.a ProgrammaInvest_Spesa'!P30=\"\",\"\",'Z0.4.a ProgrammaInvest_Spesa'!P30)","v":2035},{"$f":"IF('Z0.4.a ProgrammaInvest_Spesa'!Q30=\"\",\"\",'Z0.4.a ProgrammaInvest_Spesa'!Q30)","v":200},{"$f":"IF('Z0.4.a ProgrammaInvest_Spesa'!R30=\"\",\"\",'Z0.4.a ProgrammaInvest_Spesa'!R30)","v":20},{"$f":"IF('Z0.4.a ProgrammaInvest_Spesa'!S30=\"\",\"\",'Z0.4.a ProgrammaInvest_Spesa'!S30)","v":10},null,null,null,null,null,null,null,null,null,null,null,20]
[null,"x",{"$f":"IF('Z0.4.a ProgrammaInvest_Spesa'!C31=\"\",\"\",'Z0.4.a ProgrammaInvest_Spesa'!C31)","v":""},{"$f":"IF('Z0.4.a ProgrammaInvest_Spesa'!D31=\"\",\"\",'Z0.4.a ProgrammaInvest_Spesa'!D31)","v":""},{"$f":"IF('Z0.4.a ProgrammaInvest_Spesa'!E31=\"\",\"\",'Z0.4.a ProgrammaInvest_Spesa'!E31)","v":""},{"$f":"IF('Z0.4.a ProgrammaInvest_Spesa'!F31=\"\",\"\",'Z0.4.a ProgrammaInvest_Spesa'!F31)","v":13},{"$f":"IF('Z0.4.a ProgrammaInvest_Spesa'!G31=\"\",\"\",'Z0.4.a ProgrammaInvest_Spesa'!G31)","v":"Intervento 11"},{"$f":"IF('Z0.4.a ProgrammaInvest_Spesa'!H31=\"\",\"\",'Z0.4.a ProgrammaInvest_Spesa'!H31)","v":"SIVCA 11"},{"$f":"IF('Z0.4.a ProgrammaInvest_Spesa'!I31=\"\",\"\",'Z0.4.a ProgrammaInvest_Spesa'!I31)","v":""},{"$f":"IF('Z0.4.a ProgrammaInvest_Spesa'!J31=\"\",\"\",'Z0.4.a ProgrammaInvest_Spesa'!J31)","v":""},{"$f":"IF('Z0.4.a ProgrammaInvest_Spesa'!K31=\"\",\"\",'Z0.4.a ProgrammaInvest_Spesa'!K31)","v":"Stazioni/Barriere di esazione, fabbricati, aree di servizio"},{"$f":"IF('Z0.4.a ProgrammaInvest_Spesa'!L31=\"\",\"\",'Z0.4.a ProgrammaInvest_Spesa'!L31)","v":"in corso"},{"$f":"IF('Z0.4.a ProgrammaInvest_Spesa'!M31=\"\",\"\",'Z0.4.a ProgrammaInvest_Spesa'!M31)","v":"CIN post2026"},{"$f":"IF('Z0.4.a ProgrammaInvest_Spesa'!N31=\"\",\"\",'Z0.4.a ProgrammaInvest_Spesa'!N31)","v":""},{"$f":"IF('Z0.4.a ProgrammaInvest_Spesa'!O31=\"\",\"\",'Z0.4.a ProgrammaInvest_Spesa'!O31)","v":"Vite utili 1"},{"$f":"IF('Z0.4.a ProgrammaInvest_Spesa'!P31=\"\",\"\",'Z0.4.a ProgrammaInvest_Spesa'!P31)","v":2036},{"$f":"IF('Z0.4.a ProgrammaInvest_Spesa'!Q31=\"\",\"\",'Z0.4.a ProgrammaInvest_Spesa'!Q31)","v":200},{"$f":"IF('Z0.4.a ProgrammaInvest_Spesa'!R31=\"\",\"\",'Z0.4.a ProgrammaInvest_Spesa'!R31)","v":0},{"$f":"IF('Z0.4.a ProgrammaInvest_Spesa'!S31=\"\",\"\",'Z0.4.a ProgrammaInvest_Spesa'!S31)","v":0},null,null,null,null,null,null,null,null,null,null,null,null,20]
[null,"x",{"$f":"IF('Z0.4.a ProgrammaInvest_Spesa'!C32=\"\",\"\",'Z0.4.a ProgrammaInvest_Spesa'!C32)","v":""},{"$f":"IF('Z0.4.a ProgrammaInvest_Spesa'!D32=\"\",\"\",'Z0.4.a ProgrammaInvest_Spesa'!D32)","v":""},{"$f":"IF('Z0.4.a ProgrammaInvest_Spesa'!E32=\"\",\"\",'Z0.4.a ProgrammaInvest_Spesa'!E32)","v":""},{"$f":"IF('Z0.4.a ProgrammaInvest_Spesa'!F32=\"\",\"\",'Z0.4.a ProgrammaInvest_Spesa'!F32)","v":14},{"$f":"IF('Z0.4.a ProgrammaInvest_Spesa'!G32=\"\",\"\",'Z0.4.a ProgrammaInvest_Spesa'!G32)","v":"Intervento 12"},{"$f":"IF('Z0.4.a ProgrammaInvest_Spesa'!H32=\"\",\"\",'Z0.4.a ProgrammaInvest_Spesa'!H32)","v":"SIVCA 12"},{"$f":"IF('Z0.4.a ProgrammaInvest_Spesa'!I32=\"\",\"\",'Z0.4.a ProgrammaInvest_Spesa'!I32)","v":""},{"$f":"IF('Z0.4.a ProgrammaInvest_Spesa'!J32=\"\",\"\",'Z0.4.a ProgrammaInvest_Spesa'!J32)","v":""},{"$f":"IF('Z0.4.a ProgrammaInvest_Spesa'!K32=\"\",\"\",'Z0.4.a ProgrammaInvest_Spesa'!K32)","v":"Altro"},{"$f":"IF('Z0.4.a ProgrammaInvest_Spesa'!L32=\"\",\"\",'Z0.4.a ProgrammaInvest_Spesa'!L32)","v":"in corso"},{"$f":"IF('Z0.4.a ProgrammaInvest_Spesa'!M32=\"\",\"\",'Z0.4.a ProgrammaInvest_Spesa'!M32)","v":"CIN post2026"},{"$f":"IF('Z0.4.a ProgrammaInvest_Spesa'!N32=\"\",\"\",'Z0.4.a ProgrammaInvest_Spesa'!N32)","v":""},{"$f":"IF('Z0.4.a ProgrammaInvest_Spesa'!O32=\"\",\"\",'Z0.4.a ProgrammaInvest_Spesa'!O32)","v":"Vite utili 1"},{"$f":"IF('Z0.4.a ProgrammaInvest_Spesa'!P32=\"\",\"\",'Z0.4.a ProgrammaInvest_Spesa'!P32)","v":2037},{"$f":"IF('Z0.4.a ProgrammaInvest_Spesa'!Q32=\"\",\"\",'Z0.4.a ProgrammaInvest_Spesa'!Q32)","v":200},{"$f":"IF('Z0.4.a ProgrammaInvest_Spesa'!R32=\"\",\"\",'Z0.4.a ProgrammaInvest_Spesa'!R32)","v":0},{"$f":"IF('Z0.4.a ProgrammaInvest_Spesa'!S32=\"\",\"\",'Z0.4.a ProgrammaInvest_Spesa'!S32)","v":0},null,null,null,null,null,null,null,null,null,null,null,null,null,20]
[null,"x",{"$f":"IF('Z0.4.a ProgrammaInvest_Spesa'!C33=\"\",\"\",'Z0.4.a ProgrammaInvest_Spesa'!C33)","v":""},{"$f":"IF('Z0.4.a ProgrammaInvest_Spesa'!D33=\"\",\"\",'Z0.4.a ProgrammaInvest_Spesa'!D33)","v":""},{"$f":"IF('Z0.4.a ProgrammaInvest_Spesa'!E33=\"\",\"\",'Z0.4.a ProgrammaInvest_Spesa'!E33)","v":""},{"$f":"IF('Z0.4.a ProgrammaInvest_Spesa'!F33=\"\",\"\",'Z0.4.a ProgrammaInvest_Spesa'!F33)","v":15},{"$f":"IF('Z0.4.a ProgrammaInvest_Spesa'!G33=\"\",\"\",'Z0.4.a ProgrammaInvest_Spesa'!G33)","v":"Intervento 13"},{"$f":"IF('Z0.4.a ProgrammaInvest_Spesa'!H33=\"\",\"\",'Z0.4.a ProgrammaInvest_Spesa'!H33)","v":"SIVCA 13"},{"$f":"IF('Z0.4.a ProgrammaInvest_Spesa'!I33=\"\",\"\",'Z0.4.a ProgrammaInvest_Spesa'!I33)","v":""},{"$f":"IF('Z0.4.a ProgrammaInvest_Spesa'!J33=\"\",\"\",'Z0.4.a ProgrammaInvest_Spesa'!J33)","v":""},{"$f":"IF('Z0.4.a ProgrammaInvest_Spesa'!K33=\"\",\"\",'Z0.4.a ProgrammaInvest_Spesa'!K33)","v":"Viadotti/Ponti/Cavalcavia"},{"$f":"IF('Z0.4.a ProgrammaInvest_Spesa'!L33=\"\",\"\",'Z0.4.a ProgrammaInvest_Spesa'!L33)","v":"in corso"},{"$f":"IF('Z0.4.a ProgrammaInvest_Spesa'!M33=\"\",\"\",'Z0.4.a ProgrammaInvest_Spesa'!M33)","v":"CIN post2026"},{"$f":"IF('Z0.4.a ProgrammaInvest_Spesa'!N33=\"\",\"\",'Z0.4.a ProgrammaInvest_Spesa'!N33)","v":""},{"$f":"IF('Z0.4.a ProgrammaInvest_Spesa'!O33=\"\",\"\",'Z0.4.a ProgrammaInvest_Spesa'!O33)","v":"Vite utili 2"},{"$f":"IF('Z0.4.a ProgrammaInvest_Spesa'!P33=\"\",\"\",'Z0.4.a ProgrammaInvest_Spesa'!P33)","v":2028},{"$f":"IF('Z0.4.a ProgrammaInvest_Spesa'!Q33=\"\",\"\",'Z0.4.a ProgrammaInvest_Spesa'!Q33)","v":200},{"$f":"IF('Z0.4.a ProgrammaInvest_Spesa'!R33=\"\",\"\",'Z0.4.a ProgrammaInvest_Spesa'!R33)","v":0},{"$f":"IF('Z0.4.a ProgrammaInvest_Spesa'!S33=\"\",\"\",'Z0.4.a ProgrammaInvest_Spesa'!S33)","v":0},null,null,null,null,20]
[null,"x",{"$f":"IF('Z0.4.a ProgrammaInvest_Spesa'!C34=\"\",\"\",'Z0.4.a ProgrammaInvest_Spesa'!C34)","v":""},{"$f":"IF('Z0.4.a ProgrammaInvest_Spesa'!D34=\"\",\"\",'Z0.4.a ProgrammaInvest_Spesa'!D34)","v":""},{"$f":"IF('Z0.4.a ProgrammaInvest_Spesa'!E34=\"\",\"\",'Z0.4.a ProgrammaInvest_Spesa'!E34)","v":""},{"$f":"IF('Z0.4.a ProgrammaInvest_Spesa'!F34=\"\",\"\",'Z0.4.a ProgrammaInvest_Spesa'!F34)","v":16},{"$f":"IF('Z0.4.a ProgrammaInvest_Spesa'!G34=\"\",\"\",'Z0.4.a ProgrammaInvest_Spesa'!G34)","v":"Intervento 14"},{"$f":"IF('Z0.4.a ProgrammaInvest_Spesa'!H34=\"\",\"\",'Z0.4.a ProgrammaInvest_Spesa'!H34)","v":"SIVCA 14"},{"$f":"IF('Z0.4.a ProgrammaInvest_Spesa'!I34=\"\",\"\",'Z0.4.a ProgrammaInvest_Spesa'!I34)","v":""},{"$f":"IF('Z0.4.a ProgrammaInvest_Spesa'!J34=\"\",\"\",'Z0.4.a ProgrammaInvest_Spesa'!J34)","v":""},{"$f":"IF('Z0.4.a ProgrammaInvest_Spesa'!K34=\"\",\"\",'Z0.4.a ProgrammaInvest_Spesa'!K34)","v":"Gallerie"},{"$f":"IF('Z0.4.a ProgrammaInvest_Spesa'!L34=\"\",\"\",'Z0.4.a ProgrammaInvest_Spesa'!L34)","v":"in corso"},{"$f":"IF('Z0.4.a ProgrammaInvest_Spesa'!M34=\"\",\"\",'Z0.4.a ProgrammaInvest_Spesa'!M34)","v":"CIN post2026"},{"$f":"IF('Z0.4.a ProgrammaInvest_Spesa'!N34=\"\",\"\",'Z0.4.a ProgrammaInvest_Spesa'!N34)","v":""},{"$f":"IF('Z0.4.a ProgrammaInvest_Spesa'!O34=\"\",\"\",'Z0.4.a ProgrammaInvest_Spesa'!O34)","v":"Vite utili 2"},{"$f":"IF('Z0.4.a ProgrammaInvest_Spesa'!P34=\"\",\"\",'Z0.4.a ProgrammaInvest_Spesa'!P34)","v":2029},{"$f":"IF('Z0.4.a ProgrammaInvest_Spesa'!Q34=\"\",\"\",'Z0.4.a ProgrammaInvest_Spesa'!Q34)","v":200},{"$f":"IF('Z0.4.a ProgrammaInvest_Spesa'!R34=\"\",\"\",'Z0.4.a ProgrammaInvest_Spesa'!R34)","v":0},{"$f":"IF('Z0.4.a ProgrammaInvest_Spesa'!S34=\"\",\"\",'Z0.4.a ProgrammaInvest_Spesa'!S34)","v":0},null,null,null,null,null,20]
[null,"x",{"$f":"IF('Z0.4.a ProgrammaInvest_Spesa'!C35=\"\",\"\",'Z0.4.a ProgrammaInvest_Spesa'!C35)","v":""},{"$f":"IF('Z0.4.a ProgrammaInvest_Spesa'!D35=\"\",\"\",'Z0.4.a ProgrammaInvest_Spesa'!D35)","v":""},{"$f":"IF('Z0.4.a ProgrammaInvest_Spesa'!E35=\"\",\"\",'Z0.4.a ProgrammaInvest_Spesa'!E35)","v":""},{"$f":"IF('Z0.4.a ProgrammaInvest_Spesa'!F35=\"\",\"\",'Z0.4.a ProgrammaInvest_Spesa'!F35)","v":17},{"$f":"IF('Z0.4.a ProgrammaInvest_Spesa'!G35=\"\",\"\",'Z0.4.a ProgrammaInvest_Spesa'!G35)","v":"Intervento 15"},{"$f":"IF('Z0.4.a ProgrammaInvest_Spesa'!H35=\"\",\"\",'Z0.4.a ProgrammaInvest_Spesa'!H35)","v":"SIVCA 15"},{"$f":"IF('Z0.4.a ProgrammaInvest_Spesa'!I35=\"\",\"\",'Z0.4.a ProgrammaInvest_Spesa'!I35)","v":""},{"$f":"IF('Z0.4.a ProgrammaInvest_Spesa'!J35=\"\",\"\",'Z0.4.a ProgrammaInvest_Spesa'!J35)","v":""},{"$f":"IF('Z0.4.a ProgrammaInvest_Spesa'!K35=\"\",\"\",'Z0.4.a ProgrammaInvest_Spesa'!K35)","v":"Barriere"},{"$f":"IF('Z0.4.a ProgrammaInvest_Spesa'!L35=\"\",\"\",'Z0.4.a ProgrammaInvest_Spesa'!L35)","v":"in corso"},{"$f":"IF('Z0.4.a ProgrammaInvest_Spesa'!M35=\"\",\"\",'Z0.4.a ProgrammaInvest_Spesa'!M35)","v":"CIN post2026"},{"$f":"IF('Z0.4.a ProgrammaInvest_Spesa'!N35=\"\",\"\",'Z0.4.a ProgrammaInvest_Spesa'!N35)","v":""},{"$f":"IF('Z0.4.a ProgrammaInvest_Spesa'!O35=\"\",\"\",'Z0.4.a ProgrammaInvest_Spesa'!O35)","v":"Vite utili 2"},{"$f":"IF('Z0.4.a ProgrammaInvest_Spesa'!P35=\"\",\"\",'Z0.4.a ProgrammaInvest_Spesa'!P35)","v":2030},{"$f":"IF('Z0.4.a ProgrammaInvest_Spesa'!Q35=\"\",\"\",'Z0.4.a ProgrammaInvest_Spesa'!Q35)","v":200},{"$f":"IF('Z0.4.a ProgrammaInvest_Spesa'!R35=\"\",\"\",'Z0.4.a ProgrammaInvest_Spesa'!R35)","v":0},{"$f":"IF('Z0.4.a ProgrammaInvest_Spesa'!S35=\"\",\"\",'Z0.4.a ProgrammaInvest_Spesa'!S35)","v":0},null,null,null,null,null,null,20]
[null,"x",{"$f":"IF('Z0.4.a ProgrammaInvest_Spesa'!C36=\"\",\"\",'Z0.4.a ProgrammaInvest_Spesa'!C36)","v":""},{"$f":"IF('Z0.4.a ProgrammaInvest_Spesa'!D36=\"\",\"\",'Z0.4.a ProgrammaInvest_Spesa'!D36)","v":""},{"$f":"IF('Z0.4.a ProgrammaInvest_Spesa'!E36=\"\",\"\",'Z0.4.a ProgrammaInvest_Spesa'!E36)","v":""},{"$f":"IF('Z0.4.a ProgrammaInvest_Spesa'!F36=\"\",\"\",'Z0.4.a ProgrammaInvest_Spesa'!F36)","v":18},{"$f":"IF('Z0.4.a ProgrammaInvest_Spesa'!G36=\"\",\"\",'Z0.4.a ProgrammaInvest_Spesa'!G36)","v":"Intervento 16"},{"$f":"IF('Z0.4.a ProgrammaInvest_Spesa'!H36=\"\",\"\",'Z0.4.a ProgrammaInvest_Spesa'!H36)","v":"SIVCA 16"},{"$f":"IF('Z0.4.a ProgrammaInvest_Spesa'!I36=\"\",\"\",'Z0.4.a ProgrammaInvest_Spesa'!I36)","v":""},{"$f":"IF('Z0.4.a ProgrammaInvest_Spesa'!J36=\"\",\"\",'Z0.4.a ProgrammaInvest_Spesa'!J36)","v":""},{"$f":"IF('Z0.4.a ProgrammaInvest_Spesa'!K36=\"\",\"\",'Z0.4.a ProgrammaInvest_Spesa'!K36)","v":"Corpo autostradale, opere sul territorio"},{"$f":"IF('Z0.4.a ProgrammaInvest_Spesa'!L36=\"\",\"\",'Z0.4.a ProgrammaInvest_Spesa'!L36)","v":"in corso"},{"$f":"IF('Z0.4.a ProgrammaInvest_Spesa'!M36=\"\",\"\",'Z0.4.a ProgrammaInvest_Spesa'!M36)","v":"CIN post2026"},{"$f":"IF('Z0.4.a ProgrammaInvest_Spesa'!N36=\"\",\"\",'Z0.4.a ProgrammaInvest_Spesa'!N36)","v":""},{"$f":"IF('Z0.4.a ProgrammaInvest_Spesa'!O36=\"\",\"\",'Z0.4.a ProgrammaInvest_Spesa'!O36)","v":"Vite utili 2"},{"$f":"IF('Z0.4.a ProgrammaInvest_Spesa'!P36=\"\",\"\",'Z0.4.a ProgrammaInvest_Spesa'!P36)","v":2031},{"$f":"IF('Z0.4.a ProgrammaInvest_Spesa'!Q36=\"\",\"\",'Z0.4.a ProgrammaInvest_Spesa'!Q36)","v":200},{"$f":"IF('Z0.4.a ProgrammaInvest_Spesa'!R36=\"\",\"\",'Z0.4.a ProgrammaInvest_Spesa'!R36)","v":0},{"$f":"IF('Z0.4.a ProgrammaInvest_Spesa'!S36=\"\",\"\",'Z0.4.a ProgrammaInvest_Spesa'!S36)","v":0},null,null,null,null,null,null,null,20]
[null,"x",{"$f":"IF('Z0.4.a ProgrammaInvest_Spesa'!C37=\"\",\"\",'Z0.4.a ProgrammaInvest_Spesa'!C37)","v":""},{"$f":"IF('Z0.4.a ProgrammaInvest_Spesa'!D37=\"\",\"\",'Z0.4.a ProgrammaInvest_Spesa'!D37)","v":""},{"$f":"IF('Z0.4.a ProgrammaInvest_Spesa'!E37=\"\",\"\",'Z0.4.a ProgrammaInvest_Spesa'!E37)","v":""},{"$f":"IF('Z0.4.a ProgrammaInvest_Spesa'!F37=\"\",\"\",'Z0.4.a ProgrammaInvest_Spesa'!F37)","v":19},{"$f":"IF('Z0.4.a ProgrammaInvest_Spesa'!G37=\"\",\"\",'Z0.4.a ProgrammaInvest_Spesa'!G37)","v":"Intervento 17"},{"$f":"IF('Z0.4.a ProgrammaInvest_Spesa'!H37=\"\",\"\",'Z0.4.a ProgrammaInvest_Spesa'!H37)","v":"SIVCA 17"},{"$f":"IF('Z0.4.a ProgrammaInvest_Spesa'!I37=\"\",\"\",'Z0.4.a ProgrammaInvest_Spesa'!I37)","v":""},{"$f":"IF('Z0.4.a ProgrammaInvest_Spesa'!J37=\"\",\"\",'Z0.4.a ProgrammaInvest_Spesa'!J37)","v":""},{"$f":"IF('Z0.4.a ProgrammaInvest_Spesa'!K37=\"\",\"\",'Z0.4.a ProgrammaInvest_Spesa'!K37)","v":"Reti recinzione"},{"$f":"IF('Z0.4.a ProgrammaInvest_Spesa'!L37=\"\",\"\",'Z0.4.a ProgrammaInvest_Spesa'!L37)","v":"in corso"},{"$f":"IF('Z0.4.a ProgrammaInvest_Spesa'!M37=\"\",\"\",'Z0.4.a ProgrammaInvest_Spesa'!M37)","v":"CIN post2026"},{"$f":"IF('Z0.4.a ProgrammaInvest_Spesa'!N37=\"\",\"\",'Z0.4.a ProgrammaInvest_Spesa'!N37)","v":""},{"$f":"IF('Z0.4.a ProgrammaInvest_Spesa'!O37=\"\",\"\",'Z0.4.a ProgrammaInvest_Spesa'!O37)","v":"Vite utili 2"},{"$f":"IF('Z0.4.a ProgrammaInvest_Spesa'!P37=\"\",\"\",'Z0.4.a ProgrammaInvest_Spesa'!P37)","v":2032},{"$f":"IF('Z0.4.a ProgrammaInvest_Spesa'!Q37=\"\",\"\",'Z0.4.a ProgrammaInvest_Spesa'!Q37)","v":200},{"$f":"IF('Z0.4.a ProgrammaInvest_Spesa'!R37=\"\",\"\",'Z0.4.a ProgrammaInvest_Spesa'!R37)","v":0},{"$f":"IF('Z0.4.a ProgrammaInvest_Spesa'!S37=\"\",\"\",'Z0.4.a ProgrammaInvest_Spesa'!S37)","v":0},null,null,null,null,null,null,null,null,20]
[null,"x",{"$f":"IF('Z0.4.a ProgrammaInvest_Spesa'!C38=\"\",\"\",'Z0.4.a ProgrammaInvest_Spesa'!C38)","v":""},{"$f":"IF('Z0.4.a ProgrammaInvest_Spesa'!D38=\"\",\"\",'Z0.4.a ProgrammaInvest_Spesa'!D38)","v":""},{"$f":"IF('Z0.4.a ProgrammaInvest_Spesa'!E38=\"\",\"\",'Z0.4.a ProgrammaInvest_Spesa'!E38)","v":""},{"$f":"IF('Z0.4.a ProgrammaInvest_Spesa'!F38=\"\",\"\",'Z0.4.a ProgrammaInvest_Spesa'!F38)","v":20},{"$f":"IF('Z0.4.a ProgrammaInvest_Spesa'!G38=\"\",\"\",'Z0.4.a ProgrammaInvest_Spesa'!G38)","v":"Intervento 18"},{"$f":"IF('Z0.4.a ProgrammaInvest_Spesa'!H38=\"\",\"\",'Z0.4.a ProgrammaInvest_Spesa'!H38)","v":"SIVCA 18"},{"$f":"IF('Z0.4.a ProgrammaInvest_Spesa'!I38=\"\",\"\",'Z0.4.a ProgrammaInvest_Spesa'!I38)","v":""},{"$f":"IF('Z0.4.a ProgrammaInvest_Spesa'!J38=\"\",\"\",'Z0.4.a ProgrammaInvest_Spesa'!J38)","v":""},{"$f":"IF('Z0.4.a ProgrammaInvest_Spesa'!K38=\"\",\"\",'Z0.4.a ProgrammaInvest_Spesa'!K38)","v":"Portali e segnaletica"},{"$f":"IF('Z0.4.a ProgrammaInvest_Spesa'!L38=\"\",\"\",'Z0.4.a ProgrammaInvest_Spesa'!L38)","v":"in corso"},{"$f":"IF('Z0.4.a ProgrammaInvest_Spesa'!M38=\"\",\"\",'Z0.4.a ProgrammaInvest_Spesa'!M38)","v":"CIN post2026"},{"$f":"IF('Z0.4.a ProgrammaInvest_Spesa'!N38=\"\",\"\",'Z0.4.a ProgrammaInvest_Spesa'!N38)","v":""},{"$f":"IF('Z0.4.a ProgrammaInvest_Spesa'!O38=\"\",\"\",'Z0.4.a ProgrammaInvest_Spesa'!O38)","v":"Vite utili 2"},{"$f":"IF('Z0.4.a ProgrammaInvest_Spesa'!P38=\"\",\"\",'Z0.4.a ProgrammaInvest_Spesa'!P38)","v":2033},{"$f":"IF('Z0.4.a ProgrammaInvest_Spesa'!Q38=\"\",\"\",'Z0.4.a ProgrammaInvest_Spesa'!Q38)","v":200},{"$f":"IF('Z0.4.a ProgrammaInvest_Spesa'!R38=\"\",\"\",'Z0.4.a ProgrammaInvest_Spesa'!R38)","v":0},{"$f":"IF('Z0.4.a ProgrammaInvest_Spesa'!S38=\"\",\"\",'Z0.4.a ProgrammaInvest_Spesa'!S38)","v":0},null,null,null,null,null,null,null,null,null,20]
[null,"x",{"$f":"IF('Z0.4.a ProgrammaInvest_Spesa'!C39=\"\",\"\",'Z0.4.a ProgrammaInvest_Spesa'!C39)","v":""},{"$f":"IF('Z0.4.a ProgrammaInvest_Spesa'!D39=\"\",\"\",'Z0.4.a ProgrammaInvest_Spesa'!D39)","v":""},{"$f":"IF('Z0.4.a ProgrammaInvest_Spesa'!E39=\"\",\"\",'Z0.4.a ProgrammaInvest_Spesa'!E39)","v":""},{"$f":"IF('Z0.4.a ProgrammaInvest_Spesa'!F39=\"\",\"\",'Z0.4.a ProgrammaInvest_Spesa'!F39)","v":21},{"$f":"IF('Z0.4.a ProgrammaInvest_Spesa'!G39=\"\",\"\",'Z0.4.a ProgrammaInvest_Spesa'!G39)","v":"Intervento 19"},{"$f":"IF('Z0.4.a ProgrammaInvest_Spesa'!H39=\"\",\"\",'Z0.4.a ProgrammaInvest_Spesa'!H39)","v":"SIVCA 19"},{"$f":"IF('Z0.4.a ProgrammaInvest_Spesa'!I39=\"\",\"\",'Z0.4.a ProgrammaInvest_Spesa'!I39)","v":""},{"$f":"IF('Z0.4.a ProgrammaInvest_Spesa'!J39=\"\",\"\",'Z0.4.a ProgrammaInvest_Spesa'!J39)","v":""},{"$f":"IF('Z0.4.a ProgrammaInvest_Spesa'!K39=\"\",\"\",'Z0.4.a ProgrammaInvest_Spesa'!K39)","v":"Pavimentazioni"},{"$f":"IF('Z0.4.a ProgrammaInvest_Spesa'!L39=\"\",\"\",'Z0.4.a ProgrammaInvest_Spesa'!L39)","v":"in corso"},{"$f":"IF('Z0.4.a ProgrammaInvest_Spesa'!M39=\"\",\"\",'Z0.4.a ProgrammaInvest_Spesa'!M39)","v":"CIN post2026"},{"$f":"IF('Z0.4.a ProgrammaInvest_Spesa'!N39=\"\",\"\",'Z0.4.a ProgrammaInvest_Spesa'!N39)","v":""},{"$f":"IF('Z0.4.a ProgrammaInvest_Spesa'!O39=\"\",\"\",'Z0.4.a ProgrammaInvest_Spesa'!O39)","v":"Vite utili 2"},{"$f":"IF('Z0.4.a ProgrammaInvest_Spesa'!P39=\"\",\"\",'Z0.4.a ProgrammaInvest_Spesa'!P39)","v":2034},{"$f":"IF('Z0.4.a ProgrammaInvest_Spesa'!Q39=\"\",\"\",'Z0.4.a ProgrammaInvest_Spesa'!Q39)","v":200},{"$f":"IF('Z0.4.a ProgrammaInvest_Spesa'!R39=\"\",\"\",'Z0.4.a ProgrammaInvest_Spesa'!R39)","v":0},{"$f":"IF('Z0.4.a ProgrammaInvest_Spesa'!S39=\"\",\"\",'Z0.4.a ProgrammaInvest_Spesa'!S39)","v":0},null,null,null,null,null,null,null,null,null,null,20]
[null,"x",{"$f":"IF('Z0.4.a ProgrammaInvest_Spesa'!C40=\"\",\"\",'Z0.4.a ProgrammaInvest_Spesa'!C40)","v":""},{"$f":"IF('Z0.4.a ProgrammaInvest_Spesa'!D40=\"\",\"\",'Z0.4.a ProgrammaInvest_Spesa'!D40)","v":""},{"$f":"IF('Z0.4.a ProgrammaInvest_Spesa'!E40=\"\",\"\",'Z0.4.a ProgrammaInvest_Spesa'!E40)","v":""},{"$f":"IF('Z0.4.a ProgrammaInvest_Spesa'!F40=\"\",\"\",'Z0.4.a ProgrammaInvest_Spesa'!F40)","v":22},{"$f":"IF('Z0.4.a ProgrammaInvest_Spesa'!G40=\"\",\"\",'Z0.4.a ProgrammaInvest_Spesa'!G40)","v":"Intervento 20"},{"$f":"IF('Z0.4.a ProgrammaInvest_Spesa'!H40=\"\",\"\",'Z0.4.a ProgrammaInvest_Spesa'!H40)","v":"SIVCA 20"},{"$f":"IF('Z0.4.a ProgrammaInvest_Spesa'!I40=\"\",\"\",'Z0.4.a ProgrammaInvest_Spesa'!I40)","v":""},{"$f":"IF('Z0.4.a ProgrammaInvest_Spesa'!J40=\"\",\"\",'Z0.4.a ProgrammaInvest_Spesa'!J40)","v":""},{"$f":"IF('Z0.4.a ProgrammaInvest_Spesa'!K40=\"\",\"\",'Z0.4.a ProgrammaInvest_Spesa'!K40)","v":"Infrastrutture tecnologiche ed impianti"},{"$f":"IF('Z0.4.a ProgrammaInvest_Spesa'!L40=\"\",\"\",'Z0.4.a ProgrammaInvest_Spesa'!L40)","v":"in corso"},{"$f":"IF('Z0.4.a ProgrammaInvest_Spesa'!M40=\"\",\"\",'Z0.4.a ProgrammaInvest_Spesa'!M40)","v":"CIN post2026"},{"$f":"IF('Z0.4.a ProgrammaInvest_Spesa'!N40=\"\",\"\",'Z0.4.a ProgrammaInvest_Spesa'!N40)","v":""},{"$f":"IF('Z0.4.a ProgrammaInvest_Spesa'!O40=\"\",\"\",'Z0.4.a ProgrammaInvest_Spesa'!O40)","v":"Vite utili 2"},{"$f":"IF('Z0.4.a ProgrammaInvest_Spesa'!P40=\"\",\"\",'Z0.4.a ProgrammaInvest_Spesa'!P40)","v":2035},{"$f":"IF('Z0.4.a ProgrammaInvest_Spesa'!Q40=\"\",\"\",'Z0.4.a ProgrammaInvest_Spesa'!Q40)","v":200},{"$f":"IF('Z0.4.a ProgrammaInvest_Spesa'!R40=\"\",\"\",'Z0.4.a ProgrammaInvest_Spesa'!R40)","v":0},{"$f":"IF('Z0.4.a ProgrammaInvest_Spesa'!S40=\"\",\"\",'Z0.4.a ProgrammaInvest_Spesa'!S40)","v":0},null,null,null,null,null,null,null,null,null,null,null,20]
[null,"x",{"$f":"IF('Z0.4.a ProgrammaInvest_Spesa'!C41=\"\",\"\",'Z0.4.a ProgrammaInvest_Spesa'!C41)","v":""},{"$f":"IF('Z0.4.a ProgrammaInvest_Spesa'!D41=\"\",\"\",'Z0.4.a ProgrammaInvest_Spesa'!D41)","v":""},{"$f":"IF('Z0.4.a ProgrammaInvest_Spesa'!E41=\"\",\"\",'Z0.4.a ProgrammaInvest_Spesa'!E41)","v":""},{"$f":"IF('Z0.4.a ProgrammaInvest_Spesa'!F41=\"\",\"\",'Z0.4.a ProgrammaInvest_Spesa'!F41)","v":23},{"$f":"IF('Z0.4.a ProgrammaInvest_Spesa'!G41=\"\",\"\",'Z0.4.a ProgrammaInvest_Spesa'!G41)","v":"Intervento 21"},{"$f":"IF('Z0.4.a ProgrammaInvest_Spesa'!H41=\"\",\"\",'Z0.4.a ProgrammaInvest_Spesa'!H41)","v":"SIVCA 21"},{"$f":"IF('Z0.4.a ProgrammaInvest_Spesa'!I41=\"\",\"\",'Z0.4.a ProgrammaInvest_Spesa'!I41)","v":""},{"$f":"IF('Z0.4.a ProgrammaInvest_Spesa'!J41=\"\",\"\",'Z0.4.a ProgrammaInvest_Spesa'!J41)","v":""},{"$f":"IF('Z0.4.a ProgrammaInvest_Spesa'!K41=\"\",\"\",'Z0.4.a ProgrammaInvest_Spesa'!K41)","v":"Stazioni/Barriere di esazione, fabbricati, aree di servizio"},{"$f":"IF('Z0.4.a ProgrammaInvest_Spesa'!L41=\"\",\"\",'Z0.4.a ProgrammaInvest_Spesa'!L41)","v":"in corso"},{"$f":"IF('Z0.4.a ProgrammaInvest_Spesa'!M41=\"\",\"\",'Z0.4.a ProgrammaInvest_Spesa'!M41)","v":"CIN post2026"},{"$f":"IF('Z0.4.a ProgrammaInvest_Spesa'!N41=\"\",\"\",'Z0.4.a ProgrammaInvest_Spesa'!N41)","v":""},{"$f":"IF('Z0.4.a ProgrammaInvest_Spesa'!O41=\"\",\"\",'Z0.4.a ProgrammaInvest_Spesa'!O41)","v":"Vite utili 2"},{"$f":"IF('Z0.4.a ProgrammaInvest_Spesa'!P41=\"\",\"\",'Z0.4.a ProgrammaInvest_Spesa'!P41)","v":2036},{"$f":"IF('Z0.4.a ProgrammaInvest_Spesa'!Q41=\"\",\"\",'Z0.4.a ProgrammaInvest_Spesa'!Q41)","v":200},{"$f":"IF('Z0.4.a ProgrammaInvest_Spesa'!R41=\"\",\"\",'Z0.4.a ProgrammaInvest_Spesa'!R41)","v":0},{"$f":"IF('Z0.4.a ProgrammaInvest_Spesa'!S41=\"\",\"\",'Z0.4.a ProgrammaInvest_Spesa'!S41)","v":0},null,null,null,null,null,null,null,null,null,null,null,null,20]
[null,"x",{"$f":"IF('Z0.4.a ProgrammaInvest_Spesa'!C42=\"\",\"\",'Z0.4.a ProgrammaInvest_Spesa'!C42)","v":""},{"$f":"IF('Z0.4.a ProgrammaInvest_Spesa'!D42=\"\",\"\",'Z0.4.a ProgrammaInvest_Spesa'!D42)","v":""},{"$f":"IF('Z0.4.a ProgrammaInvest_Spesa'!E42=\"\",\"\",'Z0.4.a ProgrammaInvest_Spesa'!E42)","v":""},{"$f":"IF('Z0.4.a ProgrammaInvest_Spesa'!F42=\"\",\"\",'Z0.4.a ProgrammaInvest_Spesa'!F42)","v":24},{"$f":"IF('Z0.4.a ProgrammaInvest_Spesa'!G42=\"\",\"\",'Z0.4.a ProgrammaInvest_Spesa'!G42)","v":"Intervento 22"},{"$f":"IF('Z0.4.a ProgrammaInvest_Spesa'!H42=\"\",\"\",'Z0.4.a ProgrammaInvest_Spesa'!H42)","v":"SIVCA 22"},{"$f":"IF('Z0.4.a ProgrammaInvest_Spesa'!I42=\"\",\"\",'Z0.4.a ProgrammaInvest_Spesa'!I42)","v":""},{"$f":"IF('Z0.4.a ProgrammaInvest_Spesa'!J42=\"\",\"\",'Z0.4.a ProgrammaInvest_Spesa'!J42)","v":""},{"$f":"IF('Z0.4.a ProgrammaInvest_Spesa'!K42=\"\",\"\",'Z0.4.a ProgrammaInvest_Spesa'!K42)","v":"Altro"},{"$f":"IF('Z0.4.a ProgrammaInvest_Spesa'!L42=\"\",\"\",'Z0.4.a ProgrammaInvest_Spesa'!L42)","v":"in corso"},{"$f":"IF('Z0.4.a ProgrammaInvest_Spesa'!M42=\"\",\"\",'Z0.4.a ProgrammaInvest_Spesa'!M42)","v":"CIN post2026"},{"$f":"IF('Z0.4.a ProgrammaInvest_Spesa'!N42=\"\",\"\",'Z0.4.a ProgrammaInvest_Spesa'!N42)","v":""},{"$f":"IF('Z0.4.a ProgrammaInvest_Spesa'!O42=\"\",\"\",'Z0.4.a ProgrammaInvest_Spesa'!O42)","v":"Vite utili 2"},{"$f":"IF('Z0.4.a ProgrammaInvest_Spesa'!P42=\"\",\"\",'Z0.4.a ProgrammaInvest_Spesa'!P42)","v":2037},{"$f":"IF('Z0.4.a ProgrammaInvest_Spesa'!Q42=\"\",\"\",'Z0.4.a ProgrammaInvest_Spesa'!Q42)","v":200},{"$f":"IF('Z0.4.a ProgrammaInvest_Spesa'!R42=\"\",\"\",'Z0.4.a ProgrammaInvest_Spesa'!R42)","v":0},{"$f":"IF('Z0.4.a ProgrammaInvest_Spesa'!S42=\"\",\"\",'Z0.4.a ProgrammaInvest_Spesa'!S42)","v":0},null,null,null,null,null,null,null,null,null,null,null,null,null,20]

{"sheet":"Z0.4.c ProgrammaInvest_Dismiss","index":8,"n_rows":42,"n_cols":35,"rows_kept":42,"cut":false,"hidden":false,"merged":[]}
[]
[null,null,"Programma degli Investimenti (3/6) - da ultimo aggiornamento approvato"]
[]
[null,null,null,null,null,null,null,null,null,null,null,null,null,null,null,null,null,"Anno",null,null,2024,2025,2026,2027,2028,2029,2030,2031,2032,2033,2034,2035,2036,2037,2038]
[]
[null,null,null,null,null,null,null,null,null,null,null,null,null,null,null,null,null,"Anno base",null,null,1,0,0,0,1,0,0,0,0,1,0,0,0,0,0]
[null,null,null,null,null,null,null,null,null,null,null,null,null,null,null,null,null,"Anno ponte",null,null,0,1,0,0,0,1,0,0,0,0,1,0,0,0,0]
[null,null,null,null,null,null,null,null,null,null,null,null,null,null,null,null,null,"Periodo regolatorio",null,null,0,0,1,1,1,1,2,2,2,2,2,3,3,3,3]
[null,null,null,null,null,null,null,null,null,null,null,null,null,null,null,null,null,"Anno del periodo regolatorio",null,null,0,0,1,2,3,4,1,2,3,4,5,1,2,3,4]
[null,null,null,null,null,null,null,null,null,null,null,null,null,null,null,null,null,"Frazione di anno significativa",null,null,null,null,1,1,1,1,1,1,1,1,1,1,1,1,1]
[]
[null,null,null,null,null,null,null,null,null,null,null,null,null,null,null,null,null,null,null,null,null,"Ultimo adattamento schema: 03/11/2025 14:32:38"]
[]
[null,null,"Programmazione ammissibile in tariffa: Importo annuo eventuali dismissioni"]
[null,null,"Tabella da alimentare solo con spese per beni reversibili, autorizzati e ammissibili in tariffa"]
[]
[null,null,"Atto convenzionale di riferimento","Rif. macro intervento","Rif. lett. art.","Codice univoco intervento","Descrizione intervento","Codice SIVCA","Tratta autostradale da convenzione","Macro tipologia intervento","Tipologia intervento","Stato lavori","Tipologia CIN","Stati di \navanzamento \nCIN ante","Criterio di ammortamento","Data presunta entrata in esercizio (anno)","Spesa programmata totale","Contributo a fondo perduto","Eventuali dismissioni",null,null,{"$f":"\"Dismissioni \" & V4","v":"Dismissioni 2025"},"Dismissioni 2026",{"$f":"\"Dismissioni \" & X4","v":"Dismissioni 2027"},"Dismissioni 2028","Dismissioni 2029","Dismissioni 2030","Dismissioni 2031","Dismissioni 2032","Dismissioni 2033","Dismissioni 2034","Dismissioni 2035","Dismissioni 2036","Dismissioni 2037","Dismissioni 2038"]
[]
[null,"x",{"$f":"IF('Z0.4.a ProgrammaInvest_Spesa'!C19=\"\",\"\",'Z0.4.a ProgrammaInvest_Spesa'!C19)","v":""},{"$f":"IF('Z0.4.a ProgrammaInvest_Spesa'!D19=\"\",\"\",'Z0.4.a ProgrammaInvest_Spesa'!D19)","v":""},{"$f":"IF('Z0.4.a ProgrammaInvest_Spesa'!E19=\"\",\"\",'Z0.4.a ProgrammaInvest_Spesa'!E19)","v":""},{"$f":"IF('Z0.4.a ProgrammaInvest_Spesa'!F19=\"\",\"\",'Z0.4.a ProgrammaInvest_Spesa'!F19)","v":1},{"$f":"IF('Z0.4.a ProgrammaInvest_Spesa'!G19=\"\",\"\",'Z0.4.a ProgrammaInvest_Spesa'!G19)","v":"Intervento 1"},{"$f":"IF('Z0.4.a ProgrammaInvest_Spesa'!H19=\"\",\"\",'Z0.4.a ProgrammaInvest_Spesa'!H19)","v":"SIVCA 1"},{"$f":"IF('Z0.4.a ProgrammaInvest_Spesa'!I19=\"\",\"\",'Z0.4.a ProgrammaInvest_Spesa'!I19)","v":""},{"$f":"IF('Z0.4.a ProgrammaInvest_Spesa'!J19=\"\",\"\",'Z0.4.a ProgrammaInvest_Spesa'!J19)","v":""},{"$f":"IF('Z0.4.a ProgrammaInvest_Spesa'!K19=\"\",\"\",'Z0.4.a ProgrammaInvest_Spesa'!K19)","v":"(assoggettata ad ammortamento finanziario)"},{"$f":"IF('Z0.4.a ProgrammaInvest_Spesa'!L19=\"\",\"\",'Z0.4.a ProgrammaInvest_Spesa'!L19)","v":"in corso"},{"$f":"IF('Z0.4.a ProgrammaInvest_Spesa'!M19=\"\",\"\",'Z0.4.a ProgrammaInvest_Spesa'!M19)","v":"CIN ante"},{"$f":"IF('Z0.4.a ProgrammaInvest_Spesa'!N19=\"\",\"\",'Z0.4.a ProgrammaInvest_Spesa'!N19)","v":"SAL contabilizzati"},{"$f":"IF('Z0.4.a ProgrammaInvest_Spesa'!O19=\"\",\"\",'Z0.4.a ProgrammaInvest_Spesa'!O19)","v":"Finanziario"},{"$f":"IF('Z0.4.a ProgrammaInvest_Spesa'!P19=\"\",\"\",'Z0.4.a ProgrammaInvest_Spesa'!P19)","v":""},{"$f":"IF('Z0.4.a ProgrammaInvest_Spesa'!Q19=\"\",\"\",'Z0.4.a ProgrammaInvest_Spesa'!Q19)","v":0},{"$f":"IF('Z0.4.a ProgrammaInvest_Spesa'!R19=\"\",\"\",'Z0.4.a ProgrammaInvest_Spesa'!R19)","v":2000},{"$f":"IF('Z0.4.a ProgrammaInvest_Spesa'!S19=\"\",\"\",'Z0.4.a ProgrammaInvest_Spesa'!S19)","v":20},null,null,null,null,null,null,null,null,null,null,null,null,null,null,20]
[null,"x",{"$f":"IF('Z0.4.a ProgrammaInvest_Spesa'!C20=\"\",\"\",'Z0.4.a ProgrammaInvest_Spesa'!C20)","v":""},{"$f":"IF('Z0.4.a ProgrammaInvest_Spesa'!D20=\"\",\"\",'Z0.4.a ProgrammaInvest_Spesa'!D20)","v":""},{"$f":"IF('Z0.4.a ProgrammaInvest_Spesa'!E20=\"\",\"\",'Z0.4.a ProgrammaInvest_Spesa'!E20)","v":""},{"$f":"IF('Z0.4.a ProgrammaInvest_Spesa'!F20=\"\",\"\",'Z0.4.a ProgrammaInvest_Spesa'!F20)","v":2},{"$f":"IF('Z0.4.a ProgrammaInvest_Spesa'!G20=\"\",\"\",'Z0.4.a ProgrammaInvest_Spesa'!G20)","v":"Intervento 2"},{"$f":"IF('Z0.4.a ProgrammaInvest_Spesa'!H20=\"\",\"\",'Z0.4.a ProgrammaInvest_Spesa'!H20)","v":"SIVCA 2"},{"$f":"IF('Z0.4.a ProgrammaInvest_Spesa'!I20=\"\",\"\",'Z0.4.a ProgrammaInvest_Spesa'!I20)","v":""},{"$f":"IF('Z0.4.a ProgrammaInvest_Spesa'!J20=\"\",\"\",'Z0.4.a ProgrammaInvest_Spesa'!J20)","v":""},{"$f":"IF('Z0.4.a ProgrammaInvest_Spesa'!K20=\"\",\"\",'Z0.4.a ProgrammaInvest_Spesa'!K20)","v":"(assoggettata ad ammortamento finanziario)"},{"$f":"IF('Z0.4.a ProgrammaInvest_Spesa'!L20=\"\",\"\",'Z0.4.a ProgrammaInvest_Spesa'!L20)","v":"in corso"},{"$f":"IF('Z0.4.a ProgrammaInvest_Spesa'!M20=\"\",\"\",'Z0.4.a ProgrammaInvest_Spesa'!M20)","v":"CIN ante"},{"$f":"IF('Z0.4.a ProgrammaInvest_Spesa'!N20=\"\",\"\",'Z0.4.a ProgrammaInvest_Spesa'!N20)","v":"SAL da contabilizzare"},{"$f":"IF('Z0.4.a ProgrammaInvest_Spesa'!O20=\"\",\"\",'Z0.4.a ProgrammaInvest_Spesa'!O20)","v":"Finanziario"},{"$f":"IF('Z0.4.a ProgrammaInvest_Spesa'!P20=\"\",\"\",'Z0.4.a ProgrammaInvest_Spesa'!P20)","v":""},{"$f":"IF('Z0.4.a ProgrammaInvest_Spesa'!Q20=\"\",\"\",'Z0.4.a ProgrammaInvest_Spesa'!Q20)","v":20000},{"$f":"IF('Z0.4.a ProgrammaInvest_Spesa'!R20=\"\",\"\",'Z0.4.a ProgrammaInvest_Spesa'!R20)","v":1000},{"$f":"IF('Z0.4.a ProgrammaInvest_Spesa'!S20=\"\",\"\",'Z0.4.a ProgrammaInvest_Spesa'!S20)","v":20},null,null,null,null,null,null,null,null,null,null,null,null,null,null,20]
[null,"x",{"$f":"IF('Z0.4.a ProgrammaInvest_Spesa'!C21=\"\",\"\",'Z0.4.a ProgrammaInvest_Spesa'!C21)","v":""},{"$f":"IF('Z0.4.a ProgrammaInvest_Spesa'!D21=\"\",\"\",'Z0.4.a ProgrammaInvest_Spesa'!D21)","v":""},{"$f":"IF('Z0.4.a ProgrammaInvest_Spesa'!E21=\"\",\"\",'Z0.4.a ProgrammaInvest_Spesa'!E21)","v":""},{"$f":"IF('Z0.4.a ProgrammaInvest_Spesa'!F21=\"\",\"\",'Z0.4.a ProgrammaInvest_Spesa'!F21)","v":3},{"$f":"IF('Z0.4.a ProgrammaInvest_Spesa'!G21=\"\",\"\",'Z0.4.a ProgrammaInvest_Spesa'!G21)","v":"Intervento 2"},{"$f":"IF('Z0.4.a ProgrammaInvest_Spesa'!H21=\"\",\"\",'Z0.4.a ProgrammaInvest_Spesa'!H21)","v":"SIVCA 2"},{"$f":"IF('Z0.4.a ProgrammaInvest_Spesa'!I21=\"\",\"\",'Z0.4.a ProgrammaInvest_Spesa'!I21)","v":""},{"$f":"IF('Z0.4.a ProgrammaInvest_Spesa'!J21=\"\",\"\",'Z0.4.a ProgrammaInvest_Spesa'!J21)","v":""},{"$f":"IF('Z0.4.a ProgrammaInvest_Spesa'!K21=\"\",\"\",'Z0.4.a ProgrammaInvest_Spesa'!K21)","v":"(assoggettata ad ammortamento finanziario)"},{"$f":"IF('Z0.4.a ProgrammaInvest_Spesa'!L21=\"\",\"\",'Z0.4.a ProgrammaInvest_Spesa'!L21)","v":"in corso"},{"$f":"IF('Z0.4.a ProgrammaInvest_Spesa'!M21=\"\",\"\",'Z0.4.a ProgrammaInvest_Spesa'!M21)","v":"CIN pre2026"},{"$f":"IF('Z0.4.a ProgrammaInvest_Spesa'!N21=\"\",\"\",'Z0.4.a ProgrammaInvest_Spesa'!N21)","v":""},{"$f":"IF('Z0.4.a ProgrammaInvest_Spesa'!O21=\"\",\"\",'Z0.4.a ProgrammaInvest_Spesa'!O21)","v":"Finanziario"},{"$f":"IF('Z0.4.a ProgrammaInvest_Spesa'!P21=\"\",\"\",'Z0.4.a ProgrammaInvest_Spesa'!P21)","v":""},{"$f":"IF('Z0.4.a ProgrammaInvest_Spesa'!Q21=\"\",\"\",'Z0.4.a ProgrammaInvest_Spesa'!Q21)","v":20000},{"$f":"IF('Z0.4.a ProgrammaInvest_Spesa'!R21=\"\",\"\",'Z0.4.a ProgrammaInvest_Spesa'!R21)","v":1000},{"$f":"IF('Z0.4.a ProgrammaInvest_Spesa'!S21=\"\",\"\",'Z0.4.a ProgrammaInvest_Spesa'!S21)","v":20},null,null,null,null,null,null,null,null,null,null,null,null,null,null,20]
[null,"x",{"$f":"IF('Z0.4.a ProgrammaInvest_Spesa'!C22=\"\",\"\",'Z0.4.a ProgrammaInvest_Spesa'!C22)","v":""},{"$f":"IF('Z0.4.a ProgrammaInvest_Spesa'!D22=\"\",\"\",'Z0.4.a ProgrammaInvest_Spesa'!D22)","v":""},{"$f":"IF('Z0.4.a ProgrammaInvest_Spesa'!E22=\"\",\"\",'Z0.4.a ProgrammaInvest_Spesa'!E22)","v":""},{"$f":"IF('Z0.4.a ProgrammaInvest_Spesa'!F22=\"\",\"\",'Z0.4.a ProgrammaInvest_Spesa'!F22)","v":4},{"$f":"IF('Z0.4.a ProgrammaInvest_Spesa'!G22=\"\",\"\",'Z0.4.a ProgrammaInvest_Spesa'!G22)","v":"Intervento 2"},{"$f":"IF('Z0.4.a ProgrammaInvest_Spesa'!H22=\"\",\"\",'Z0.4.a ProgrammaInvest_Spesa'!H22)","v":"SIVCA 2"},{"$f":"IF('Z0.4.a ProgrammaInvest_Spesa'!I22=\"\",\"\",'Z0.4.a ProgrammaInvest_Spesa'!I22)","v":""},{"$f":"IF('Z0.4.a ProgrammaInvest_Spesa'!J22=\"\",\"\",'Z0.4.a ProgrammaInvest_Spesa'!J22)","v":""},{"$f":"IF('Z0.4.a ProgrammaInvest_Spesa'!K22=\"\",\"\",'Z0.4.a ProgrammaInvest_Spesa'!K22)","v":"(assoggettata ad ammortamento finanziario)"},{"$f":"IF('Z0.4.a ProgrammaInvest_Spesa'!L22=\"\",\"\",'Z0.4.a ProgrammaInvest_Spesa'!L22)","v":"in corso"},{"$f":"IF('Z0.4.a ProgrammaInvest_Spesa'!M22=\"\",\"\",'Z0.4.a ProgrammaInvest_Spesa'!M22)","v":"CIN post2026"},{"$f":"IF('Z0.4.a ProgrammaInvest_Spesa'!N22=\"\",\"\",'Z0.4.a ProgrammaInvest_Spesa'!N22)","v":""},{"$f":"IF('Z0.4.a ProgrammaInvest_Spesa'!O22=\"\",\"\",'Z0.4.a ProgrammaInvest_Spesa'!O22)","v":"Finanziario"},{"$f":"IF('Z0.4.a ProgrammaInvest_Spesa'!P22=\"\",\"\",'Z0.4.a ProgrammaInvest_Spesa'!P22)","v":""},{"$f":"IF('Z0.4.a ProgrammaInvest_Spesa'!Q22=\"\",\"\",'Z0.4.a ProgrammaInvest_Spesa'!Q22)","v":100000},{"$f":"IF('Z0.4.a ProgrammaInvest_Spesa'!R22=\"\",\"\",'Z0.4.a ProgrammaInvest_Spesa'!R22)","v":1000},{"$f":"IF('Z0.4.a ProgrammaInvest_Spesa'!S22=\"\",\"\",'Z0.4.a ProgrammaInvest_Spesa'!S22)","v":20},null,null,null,null,null,null,null,null,null,null,null,null,null,null,20]
[null,"x",{"$f":"IF('Z0.4.a ProgrammaInvest_Spesa'!C23=\"\",\"\",'Z0.4.a ProgrammaInvest_Spesa'!C23)","v":""},{"$f":"IF('Z0.4.a ProgrammaInvest_Spesa'!D23=\"\",\"\",'Z0.4.a ProgrammaInvest_Spesa'!D23)","v":""},{"$f":"IF('Z0.4.a ProgrammaInvest_Spesa'!E23=\"\",\"\",'Z0.4.a ProgrammaInvest_Spesa'!E23)","v":""},{"$f":"IF('Z0.4.a ProgrammaInvest_Spesa'!F23=\"\",\"\",'Z0.4.a ProgrammaInvest_Spesa'!F23)","v":5},{"$f":"IF('Z0.4.a ProgrammaInvest_Spesa'!G23=\"\",\"\",'Z0.4.a ProgrammaInvest_Spesa'!G23)","v":"Intervento 3"},{"$f":"IF('Z0.4.a ProgrammaInvest_Spesa'!H23=\"\",\"\",'Z0.4.a ProgrammaInvest_Spesa'!H23)","v":"SIVCA 3"},{"$f":"IF('Z0.4.a ProgrammaInvest_Spesa'!I23=\"\",\"\",'Z0.4.a ProgrammaInvest_Spesa'!I23)","v":""},{"$f":"IF('Z0.4.a ProgrammaInvest_Spesa'!J23=\"\",\"\",'Z0.4.a ProgrammaInvest_Spesa'!J23)","v":""},{"$f":"IF('Z0.4.a ProgrammaInvest_Spesa'!K23=\"\",\"\",'Z0.4.a ProgrammaInvest_Spesa'!K23)","v":"Viadotti/Ponti/Cavalcavia"},{"$f":"IF('Z0.4.a ProgrammaInvest_Spesa'!L23=\"\",\"\",'Z0.4.a ProgrammaInvest_Spesa'!L23)","v":"in corso"},{"$f":"IF('Z0.4.a ProgrammaInvest_Spesa'!M23=\"\",\"\",'Z0.4.a ProgrammaInvest_Spesa'!M23)","v":"CIN post2026"},{"$f":"IF('Z0.4.a ProgrammaInvest_Spesa'!N23=\"\",\"\",'Z0.4.a ProgrammaInvest_Spesa'!N23)","v":""},{"$f":"IF('Z0.4.a ProgrammaInvest_Spesa'!O23=\"\",\"\",'Z0.4.a ProgrammaInvest_Spesa'!O23)","v":"Vite utili 1"},{"$f":"IF('Z0.4.a ProgrammaInvest_Spesa'!P23=\"\",\"\",'Z0.4.a ProgrammaInvest_Spesa'!P23)","v":2028},{"$f":"IF('Z0.4.a ProgrammaInvest_Spesa'!Q23=\"\",\"\",'Z0.4.a ProgrammaInvest_Spesa'!Q23)","v":200},{"$f":"IF('Z0.4.a ProgrammaInvest_Spesa'!R23=\"\",\"\",'Z0.4.a ProgrammaInvest_Spesa'!R23)","v":20},{"$f":"IF('Z0.4.a ProgrammaInvest_Spesa'!S23=\"\",\"\",'Z0.4.a ProgrammaInvest_Spesa'!S23)","v":10},null,null,null,null,null,null,null,null,null,null,null,null,null,null,null,10]
[null,"x",{"$f":"IF('Z0.4.a ProgrammaInvest_Spesa'!C24=\"\",\"\",'Z0.4.a ProgrammaInvest_Spesa'!C24)","v":""},{"$f":"IF('Z0.4.a ProgrammaInvest_Spesa'!D24=\"\",\"\",'Z0.4.a ProgrammaInvest_Spesa'!D24)","v":""},{"$f":"IF('Z0.4.a ProgrammaInvest_Spesa'!E24=\"\",\"\",'Z0.4.a ProgrammaInvest_Spesa'!E24)","v":""},{"$f":"IF('Z0.4.a ProgrammaInvest_Spesa'!F24=\"\",\"\",'Z0.4.a ProgrammaInvest_Spesa'!F24)","v":6},{"$f":"IF('Z0.4.a ProgrammaInvest_Spesa'!G24=\"\",\"\",'Z0.4.a ProgrammaInvest_Spesa'!G24)","v":"Intervento 4"},{"$f":"IF('Z0.4.a ProgrammaInvest_Spesa'!H24=\"\",\"\",'Z0.4.a ProgrammaInvest_Spesa'!H24)","v":"SIVCA 4"},{"$f":"IF('Z0.4.a ProgrammaInvest_Spesa'!I24=\"\",\"\",'Z0.4.a ProgrammaInvest_Spesa'!I24)","v":""},{"$f":"IF('Z0.4.a ProgrammaInvest_Spesa'!J24=\"\",\"\",'Z0.4.a ProgrammaInvest_Spesa'!J24)","v":""},{"$f":"IF('Z0.4.a ProgrammaInvest_Spesa'!K24=\"\",\"\",'Z0.4.a ProgrammaInvest_Spesa'!K24)","v":"Gallerie"},{"$f":"IF('Z0.4.a ProgrammaInvest_Spesa'!L24=\"\",\"\",'Z0.4.a ProgrammaInvest_Spesa'!L24)","v":"in corso"},{"$f":"IF('Z0.4.a ProgrammaInvest_Spesa'!M24=\"\",\"\",'Z0.4.a ProgrammaInvest_Spesa'!M24)","v":"CIN post2026"},{"$f":"IF('Z0.4.a ProgrammaInvest_Spesa'!N24=\"\",\"\",'Z0.4.a ProgrammaInvest_Spesa'!N24)","v":""},{"$f":"IF('Z0.4.a ProgrammaInvest_Spesa'!O24=\"\",\"\",'Z0.4.a ProgrammaInvest_Spesa'!O24)","v":"Vite utili 1"},{"$f":"IF('Z0.4.a ProgrammaInvest_Spesa'!P24=\"\",\"\",'Z0.4.a ProgrammaInvest_Spesa'!P24)","v":2029},{"$f":"IF('Z0.4.a ProgrammaInvest_Spesa'!Q24=\"\",\"\",'Z0.4.a ProgrammaInvest_Spesa'!Q24)","v":200},{"$f":"IF('Z0.4.a ProgrammaInvest_Spesa'!R24=\"\",\"\",'Z0.4.a ProgrammaInvest_Spesa'!R24)","v":20},{"$f":"IF('Z0.4.a ProgrammaInvest_Spesa'!S24=\"\",\"\",'Z0.4.a ProgrammaInvest_Spesa'!S24)","v":10},null,null,null,null,null,null,null,null,null,null,null,null,null,null,null,10]
[null,"x",{"$f":"IF('Z0.4.a ProgrammaInvest_Spesa'!C25=\"\",\"\",'Z0.4.a ProgrammaInvest_Spesa'!C25)","v":""},{"$f":"IF('Z0.4.a ProgrammaInvest_Spesa'!D25=\"\",\"\",'Z0.4.a ProgrammaInvest_Spesa'!D25)","v":""},{"$f":"IF('Z0.4.a ProgrammaInvest_Spesa'!E25=\"\",\"\",'Z0.4.a ProgrammaInvest_Spesa'!E25)","v":""},{"$f":"IF('Z0.4.a ProgrammaInvest_Spesa'!F25=\"\",\"\",'Z0.4.a ProgrammaInvest_Spesa'!F25)","v":7},{"$f":"IF('Z0.4.a ProgrammaInvest_Spesa'!G25=\"\",\"\",'Z0.4.a ProgrammaInvest_Spesa'!G25)","v":"Intervento 5"},{"$f":"IF('Z0.4.a ProgrammaInvest_Spesa'!H25=\"\",\"\",'Z0.4.a ProgrammaInvest_Spesa'!H25)","v":"SIVCA 5"},{"$f":"IF('Z0.4.a ProgrammaInvest_Spesa'!I25=\"\",\"\",'Z0.4.a ProgrammaInvest_Spesa'!I25)","v":""},{"$f":"IF('Z0.4.a ProgrammaInvest_Spesa'!J25=\"\",\"\",'Z0.4.a ProgrammaInvest_Spesa'!J25)","v":""},{"$f":"IF('Z0.4.a ProgrammaInvest_Spesa'!K25=\"\",\"\",'Z0.4.a ProgrammaInvest_Spesa'!K25)","v":"Barriere"},{"$f":"IF('Z0.4.a ProgrammaInvest_Spesa'!L25=\"\",\"\",'Z0.4.a ProgrammaInvest_Spesa'!L25)","v":"in corso"},{"$f":"IF('Z0.4.a ProgrammaInvest_Spesa'!M25=\"\",\"\",'Z0.4.a ProgrammaInvest_Spesa'!M25)","v":"CIN post2026"},{"$f":"IF('Z0.4.a ProgrammaInvest_Spesa'!N25=\"\",\"\",'Z0.4.a ProgrammaInvest_Spesa'!N25)","v":""},{"$f":"IF('Z0.4.a ProgrammaInvest_Spesa'!O25=\"\",\"\",'Z0.4.a ProgrammaInvest_Spesa'!O25)","v":"Vite utili 1"},{"$f":"IF('Z0.4.a ProgrammaInvest_Spesa'!P25=\"\",\"\",'Z0.4.a ProgrammaInvest_Spesa'!P25)","v":2030},{"$f":"IF('Z0.4.a ProgrammaInvest_Spesa'!Q25=\"\",\"\",'Z0.4.a ProgrammaInvest_Spesa'!Q25)","v":200},{"$f":"IF('Z0.4.a ProgrammaInvest_Spesa'!R25=\"\",\"\",'Z0.4.a ProgrammaInvest_Spesa'!R25)","v":20},{"$f":"IF('Z0.4.a ProgrammaInvest_Spesa'!S25=\"\",\"\",'Z0.4.a ProgrammaInvest_Spesa'!S25)","v":10},null,null,null,null,null,null,null,null,null,null,null,null,null,null,null,10]
[null,"x",{"$f":"IF('Z0.4.a ProgrammaInvest_Spesa'!C26=\"\",\"\",'Z0.4.a ProgrammaInvest_Spesa'!C26)","v":""},{"$f":"IF('Z0.4.a ProgrammaInvest_Spesa'!D26=\"\",\"\",'Z0.4.a ProgrammaInvest_Spesa'!D26)","v":""},{"$f":"IF('Z0.4.a ProgrammaInvest_Spesa'!E26=\"\",\"\",'Z0.4.a ProgrammaInvest_Spesa'!E26)","v":""},{"$f":"IF('Z0.4.a ProgrammaInvest_Spesa'!F26=\"\",\"\",'Z0.4.a ProgrammaInvest_Spesa'!F26)","v":8},{"$f":"IF('Z0.4.a ProgrammaInvest_Spesa'!G26=\"\",\"\",'Z0.4.a ProgrammaInvest_Spesa'!G26)","v":"Intervento 6"},{"$f":"IF('Z0.4.a ProgrammaInvest_Spesa'!H26=\"\",\"\",'Z0.4.a ProgrammaInvest_Spesa'!H26)","v":"SIVCA 6"},{"$f":"IF('Z0.4.a ProgrammaInvest_Spesa'!I26=\"\",\"\",'Z0.4.a ProgrammaInvest_Spesa'!I26)","v":""},{"$f":"IF('Z0.4.a ProgrammaInvest_Spesa'!J26=\"\",\"\",'Z0.4.a ProgrammaInvest_Spesa'!J26)","v":""},{"$f":"IF('Z0.4.a ProgrammaInvest_Spesa'!K26=\"\",\"\",'Z0.4.a ProgrammaInvest_Spesa'!K26)","v":"Corpo autostradale, opere sul territorio"},{"$f":"IF('Z0.4.a ProgrammaInvest_Spesa'!L26=\"\",\"\",'Z0.4.a ProgrammaInvest_Spesa'!L26)","v":"in corso"},{"$f":"IF('Z0.4.a ProgrammaInvest_Spesa'!M26=\"\",\"\",'Z0.4.a ProgrammaInvest_Spesa'!M26)","v":"CIN post2026"},{"$f":"IF('Z0.4.a ProgrammaInvest_Spesa'!N26=\"\",\"\",'Z0.4.a ProgrammaInvest_Spesa'!N26)","v":""},{"$f":"IF('Z0.4.a ProgrammaInvest_Spesa'!O26=\"\",\"\",'Z0.4.a ProgrammaInvest_Spesa'!O26)","v":"Vite utili 1"},{"$f":"IF('Z0.4.a ProgrammaInvest_Spesa'!P26=\"\",\"\",'Z0.4.a ProgrammaInvest_Spesa'!P26)","v":2031},{"$f":"IF('Z0.4.a ProgrammaInvest_Spesa'!Q26=\"\",\"\",'Z0.4.a ProgrammaInvest_Spesa'!Q26)","v":200},{"$f":"IF('Z0.4.a ProgrammaInvest_Spesa'!R26=\"\",\"\",'Z0.4.a ProgrammaInvest_Spesa'!R26)","v":20},{"$f":"IF('Z0.4.a ProgrammaInvest_Spesa'!S26=\"\",\"\",'Z0.4.a ProgrammaInvest_Spesa'!S26)","v":10},null,null,null,null,null,null,null,null,null,null,null,null,null,null,null,10]
[null,"x",{"$f":"IF('Z0.4.a ProgrammaInvest_Spesa'!C27=\"\",\"\",'Z0.4.a ProgrammaInvest_Spesa'!C27)","v":""},{"$f":"IF('Z0.4.a ProgrammaInvest_Spesa'!D27=\"\",\"\",'Z0.4.a ProgrammaInvest_Spesa'!D27)","v":""},{"$f":"IF('Z0.4.a ProgrammaInvest_Spesa'!E27=\"\",\"\",'Z0.4.a ProgrammaInvest_Spesa'!E27)","v":""},{"$f":"IF('Z0.4.a ProgrammaInvest_Spesa'!F27=\"\",\"\",'Z0.4.a ProgrammaInvest_Spesa'!F27)","v":9},{"$f":"IF('Z0.4.a ProgrammaInvest_Spesa'!G27=\"\",\"\",'Z0.4.a ProgrammaInvest_Spesa'!G27)","v":"Intervento 7"},{"$f":"IF('Z0.4.a ProgrammaInvest_Spesa'!H27=\"\",\"\",'Z0.4.a ProgrammaInvest_Spesa'!H27)","v":"SIVCA 7"},{"$f":"IF('Z0.4.a ProgrammaInvest_Spesa'!I27=\"\",\"\",'Z0.4.a ProgrammaInvest_Spesa'!I27)","v":""},{"$f":"IF('Z0.4.a ProgrammaInvest_Spesa'!J27=\"\",\"\",'Z0.4.a ProgrammaInvest_Spesa'!J27)","v":""},{"$f":"IF('Z0.4.a ProgrammaInvest_Spesa'!K27=\"\",\"\",'Z0.4.a ProgrammaInvest_Spesa'!K27)","v":"Reti recinzione"},{"$f":"IF('Z0.4.a ProgrammaInvest_Spesa'!L27=\"\",\"\",'Z0.4.a ProgrammaInvest_Spesa'!L27)","v":"in corso"},{"$f":"IF('Z0.4.a ProgrammaInvest_Spesa'!M27=\"\",\"\",'Z0.4.a ProgrammaInvest_Spesa'!M27)","v":"CIN post2026"},{"$f":"IF('Z0.4.a ProgrammaInvest_Spesa'!N27=\"\",\"\",'Z0.4.a ProgrammaInvest_Spesa'!N27)","v":""},{"$f":"IF('Z0.4.a ProgrammaInvest_Spesa'!O27=\"\",\"\",'Z0.4.a ProgrammaInvest_Spesa'!O27)","v":"Vite utili 1"},{"$f":"IF('Z0.4.a ProgrammaInvest_Spesa'!P27=\"\",\"\",'Z0.4.a ProgrammaInvest_Spesa'!P27)","v":2032},{"$f":"IF('Z0.4.a ProgrammaInvest_Spesa'!Q27=\"\",\"\",'Z0.4.a ProgrammaInvest_Spesa'!Q27)","v":200},{"$f":"IF('Z0.4.a ProgrammaInvest_Spesa'!R27=\"\",\"\",'Z0.4.a ProgrammaInvest_Spesa'!R27)","v":20},{"$f":"IF('Z0.4.a ProgrammaInvest_Spesa'!S27=\"\",\"\",'Z0.4.a ProgrammaInvest_Spesa'!S27)","v":10},null,null,null,null,null,null,null,null,null,null,null,null,null,null,null,10]
[null,"x",{"$f":"IF('Z0.4.a ProgrammaInvest_Spesa'!C28=\"\",\"\",'Z0.4.a ProgrammaInvest_Spesa'!C28)","v":""},{"$f":"IF('Z0.4.a ProgrammaInvest_Spesa'!D28=\"\",\"\",'Z0.4.a ProgrammaInvest_Spesa'!D28)","v":""},{"$f":"IF('Z0.4.a ProgrammaInvest_Spesa'!E28=\"\",\"\",'Z0.4.a ProgrammaInvest_Spesa'!E28)","v":""},{"$f":"IF('Z0.4.a ProgrammaInvest_Spesa'!F28=\"\",\"\",'Z0.4.a ProgrammaInvest_Spesa'!F28)","v":10},{"$f":"IF('Z0.4.a ProgrammaInvest_Spesa'!G28=\"\",\"\",'Z0.4.a ProgrammaInvest_Spesa'!G28)","v":"Intervento 8"},{"$f":"IF('Z0.4.a ProgrammaInvest_Spesa'!H28=\"\",\"\",'Z0.4.a ProgrammaInvest_Spesa'!H28)","v":"SIVCA 8"},{"$f":"IF('Z0.4.a ProgrammaInvest_Spesa'!I28=\"\",\"\",'Z0.4.a ProgrammaInvest_Spesa'!I28)","v":""},{"$f":"IF('Z0.4.a ProgrammaInvest_Spesa'!J28=\"\",\"\",'Z0.4.a ProgrammaInvest_Spesa'!J28)","v":""},{"$f":"IF('Z0.4.a ProgrammaInvest_Spesa'!K28=\"\",\"\",'Z0.4.a ProgrammaInvest_Spesa'!K28)","v":"Portali e segnaletica"},{"$f":"IF('Z0.4.a ProgrammaInvest_Spesa'!L28=\"\",\"\",'Z0.4.a ProgrammaInvest_Spesa'!L28)","v":"in corso"},{"$f":"IF('Z0.4.a ProgrammaInvest_Spesa'!M28=\"\",\"\",'Z0.4.a ProgrammaInvest_Spesa'!M28)","v":"CIN post2026"},{"$f":"IF('Z0.4.a ProgrammaInvest_Spesa'!N28=\"\",\"\",'Z0.4.a ProgrammaInvest_Spesa'!N28)","v":""},{"$f":"IF('Z0.4.a ProgrammaInvest_Spesa'!O28=\"\",\"\",'Z0.4.a ProgrammaInvest_Spesa'!O28)","v":"Vite utili 1"},{"$f":"IF('Z0.4.a ProgrammaInvest_Spesa'!P28=\"\",\"\",'Z0.4.a ProgrammaInvest_Spesa'!P28)","v":2033},{"$f":"IF('Z0.4.a ProgrammaInvest_Spesa'!Q28=\"\",\"\",'Z0.4.a ProgrammaInvest_Spesa'!Q28)","v":200},{"$f":"IF('Z0.4.a ProgrammaInvest_Spesa'!R28=\"\",\"\",'Z0.4.a ProgrammaInvest_Spesa'!R28)","v":20},{"$f":"IF('Z0.4.a ProgrammaInvest_Spesa'!S28=\"\",\"\",'Z0.4.a ProgrammaInvest_Spesa'!S28)","v":10},null,null,null,null,null,null,null,null,null,null,null,null,null,null,null,10]
[null,"x",{"$f":"IF('Z0.4.a ProgrammaInvest_Spesa'!C29=\"\",\"\",'Z0.4.a ProgrammaInvest_Spesa'!C29)","v":""},{"$f":"IF('Z0.4.a ProgrammaInvest_Spesa'!D29=\"\",\"\",'Z0.4.a ProgrammaInvest_Spesa'!D29)","v":""},{"$f":"IF('Z0.4.a ProgrammaInvest_Spesa'!E29=\"\",\"\",'Z0.4.a ProgrammaInvest_Spesa'!E29)","v":""},{"$f":"IF('Z0.4.a ProgrammaInvest_Spesa'!F29=\"\",\"\",'Z0.4.a ProgrammaInvest_Spesa'!F29)","v":11},{"$f":"IF('Z0.4.a ProgrammaInvest_Spesa'!G29=\"\",\"\",'Z0.4.a ProgrammaInvest_Spesa'!G29)","v":"Intervento 9"},{"$f":"IF('Z0.4.a ProgrammaInvest_Spesa'!H29=\"\",\"\",'Z0.4.a ProgrammaInvest_Spesa'!H29)","v":"SIVCA 9"},{"$f":"IF('Z0.4.a ProgrammaInvest_Spesa'!I29=\"\",\"\",'Z0.4.a ProgrammaInvest_Spesa'!I29)","v":""},{"$f":"IF('Z0.4.a ProgrammaInvest_Spesa'!J29=\"\",\"\",'Z0.4.a ProgrammaInvest_Spesa'!J29)","v":""},{"$f":"IF('Z0.4.a ProgrammaInvest_Spesa'!K29=\"\",\"\",'Z0.4.a ProgrammaInvest_Spesa'!K29)","v":"Pavimentazioni"},{"$f":"IF('Z0.4.a ProgrammaInvest_Spesa'!L29=\"\",\"\",'Z0.4.a ProgrammaInvest_Spesa'!L29)","v":"in corso"},{"$f":"IF('Z0.4.a ProgrammaInvest_Spesa'!M29=\"\",\"\",'Z0.4.a ProgrammaInvest_Spesa'!M29)","v":"CIN post2026"},{"$f":"IF('Z0.4.a ProgrammaInvest_Spesa'!N29=\"\",\"\",'Z0.4.a ProgrammaInvest_Spesa'!N29)","v":""},{"$f":"IF('Z0.4.a ProgrammaInvest_Spesa'!O29=\"\",\"\",'Z0.4.a ProgrammaInvest_Spesa'!O29)","v":"Vite utili 1"},{"$f":"IF('Z0.4.a ProgrammaInvest_Spesa'!P29=\"\",\"\",'Z0.4.a ProgrammaInvest_Spesa'!P29)","v":2034},{"$f":"IF('Z0.4.a ProgrammaInvest_Spesa'!Q29=\"\",\"\",'Z0.4.a ProgrammaInvest_Spesa'!Q29)","v":200},{"$f":"IF('Z0.4.a ProgrammaInvest_Spesa'!R29=\"\",\"\",'Z0.4.a ProgrammaInvest_Spesa'!R29)","v":20},{"$f":"IF('Z0.4.a ProgrammaInvest_Spesa'!S29=\"\",\"\",'Z0.4.a ProgrammaInvest_Spesa'!S29)","v":10},null,null,null,null,null,null,null,null,null,null,null,null,null,null,null,10]
[null,"x",{"$f":"IF('Z0.4.a ProgrammaInvest_Spesa'!C30=\"\",\"\",'Z0.4.a ProgrammaInvest_Spesa'!C30)","v":""},{"$f":"IF('Z0.4.a ProgrammaInvest_Spesa'!D30=\"\",\"\",'Z0.4.a ProgrammaInvest_Spesa'!D30)","v":""},{"$f":"IF('Z0.4.a ProgrammaInvest_Spesa'!E30=\"\",\"\",'Z0.4.a ProgrammaInvest_Spesa'!E30)","v":""},{"$f":"IF('Z0.4.a ProgrammaInvest_Spesa'!F30=\"\",\"\",'Z0.4.a ProgrammaInvest_Spesa'!F30)","v":12},{"$f":"IF('Z0.4.a ProgrammaInvest_Spesa'!G30=\"\",\"\",'Z0.4.a ProgrammaInvest_Spesa'!G30)","v":"Intervento 10"},{"$f":"IF('Z0.4.a ProgrammaInvest_Spesa'!H30=\"\",\"\",'Z0.4.a ProgrammaInvest_Spesa'!H30)","v":"SIVCA 10"},{"$f":"IF('Z0.4.a ProgrammaInvest_Spesa'!I30=\"\",\"\",'Z0.4.a ProgrammaInvest_Spesa'!I30)","v":""},{"$f":"IF('Z0.4.a ProgrammaInvest_Spesa'!J30=\"\",\"\",'Z0.4.a ProgrammaInvest_Spesa'!J30)","v":""},{"$f":"IF('Z0.4.a ProgrammaInvest_Spesa'!K30=\"\",\"\",'Z0.4.a ProgrammaInvest_Spesa'!K30)","v":"Infrastrutture tecnologiche ed impianti"},{"$f":"IF('Z0.4.a ProgrammaInvest_Spesa'!L30=\"\",\"\",'Z0.4.a ProgrammaInvest_Spesa'!L30)","v":"in corso"},{"$f":"IF('Z0.4.a ProgrammaInvest_Spesa'!M30=\"\",\"\",'Z0.4.a ProgrammaInvest_Spesa'!M30)","v":"CIN post2026"},{"$f":"IF('Z0.4.a ProgrammaInvest_Spesa'!N30=\"\",\"\",'Z0.4.a ProgrammaInvest_Spesa'!N30)","v":""},{"$f":"IF('Z0.4.a ProgrammaInvest_Spesa'!O30=\"\",\"\",'Z0.4.a ProgrammaInvest_Spesa'!O30)","v":"Vite utili 1"},{"$f":"IF('Z0.4.a ProgrammaInvest_Spesa'!P30=\"\",\"\",'Z0.4.a ProgrammaInvest_Spesa'!P30)","v":2035},{"$f":"IF('Z0.4.a ProgrammaInvest_Spesa'!Q30=\"\",\"\",'Z0.4.a ProgrammaInvest_Spesa'!Q30)","v":200},{"$f":"IF('Z0.4.a ProgrammaInvest_Spesa'!R30=\"\",\"\",'Z0.4.a ProgrammaInvest_Spesa'!R30)","v":20},{"$f":"IF('Z0.4.a ProgrammaInvest_Spesa'!S30=\"\",\"\",'Z0.4.a ProgrammaInvest_Spesa'!S30)","v":10},null,null,null,null,null,null,null,null,null,null,null,null,null,null,null,10]
[null,"x",{"$f":"IF('Z0.4.a ProgrammaInvest_Spesa'!C31=\"\",\"\",'Z0.4.a ProgrammaInvest_Spesa'!C31)","v":""},{"$f":"IF('Z0.4.a ProgrammaInvest_Spesa'!D31=\"\",\"\",'Z0.4.a ProgrammaInvest_Spesa'!D31)","v":""},{"$f":"IF('Z0.4.a ProgrammaInvest_Spesa'!E31=\"\",\"\",'Z0.4.a ProgrammaInvest_Spesa'!E31)","v":""},{"$f":"IF('Z0.4.a ProgrammaInvest_Spesa'!F31=\"\",\"\",'Z0.4.a ProgrammaInvest_Spesa'!F31)","v":13},{"$f":"IF('Z0.4.a ProgrammaInvest_Spesa'!G31=\"\",\"\",'Z0.4.a ProgrammaInvest_Spesa'!G31)","v":"Intervento 11"},{"$f":"IF('Z0.4.a ProgrammaInvest_Spesa'!H31=\"\",\"\",'Z0.4.a ProgrammaInvest_Spesa'!H31)","v":"SIVCA 11"},{"$f":"IF('Z0.4.a ProgrammaInvest_Spesa'!I31=\"\",\"\",'Z0.4.a ProgrammaInvest_Spesa'!I31)","v":""},{"$f":"IF('Z0.4.a ProgrammaInvest_Spesa'!J31=\"\",\"\",'Z0.4.a ProgrammaInvest_Spesa'!J31)","v":""},{"$f":"IF('Z0.4.a ProgrammaInvest_Spesa'!K31=\"\",\"\",'Z0.4.a ProgrammaInvest_Spesa'!K31)","v":"Stazioni/Barriere di esazione, fabbricati, aree di servizio"},{"$f":"IF('Z0.4.a ProgrammaInvest_Spesa'!L31=\"\",\"\",'Z0.4.a ProgrammaInvest_Spesa'!L31)","v":"in corso"},{"$f":"IF('Z0.4.a ProgrammaInvest_Spesa'!M31=\"\",\"\",'Z0.4.a ProgrammaInvest_Spesa'!M31)","v":"CIN post2026"},{"$f":"IF('Z0.4.a ProgrammaInvest_Spesa'!N31=\"\",\"\",'Z0.4.a ProgrammaInvest_Spesa'!N31)","v":""},{"$f":"IF('Z0.4.a ProgrammaInvest_Spesa'!O31=\"\",\"\",'Z0.4.a ProgrammaInvest_Spesa'!O31)","v":"Vite utili 1"},{"$f":"IF('Z0.4.a ProgrammaInvest_Spesa'!P31=\"\",\"\",'Z0.4.a ProgrammaInvest_Spesa'!P31)","v":2036},{"$f":"IF('Z0.4.a ProgrammaInvest_Spesa'!Q31=\"\",\"\",'Z0.4.a ProgrammaInvest_Spesa'!Q31)","v":200},{"$f":"IF('Z0.4.a ProgrammaInvest_Spesa'!R31=\"\",\"\",'Z0.4.a ProgrammaInvest_Spesa'!R31)","v":0},{"$f":"IF('Z0.4.a ProgrammaInvest_Spesa'!S31=\"\",\"\",'Z0.4.a ProgrammaInvest_Spesa'!S31)","v":0},null,null,null,null,null,null,null,null,null,null,null,null,null,null,null,10]
[null,"x",{"$f":"IF('Z0.4.a ProgrammaInvest_Spesa'!C32=\"\",\"\",'Z0.4.a ProgrammaInvest_Spesa'!C32)","v":""},{"$f":"IF('Z0.4.a ProgrammaInvest_Spesa'!D32=\"\",\"\",'Z0.4.a ProgrammaInvest_Spesa'!D32)","v":""},{"$f":"IF('Z0.4.a ProgrammaInvest_Spesa'!E32=\"\",\"\",'Z0.4.a ProgrammaInvest_Spesa'!E32)","v":""},{"$f":"IF('Z0.4.a ProgrammaInvest_Spesa'!F32=\"\",\"\",'Z0.4.a ProgrammaInvest_Spesa'!F32)","v":14},{"$f":"IF('Z0.4.a ProgrammaInvest_Spesa'!G32=\"\",\"\",'Z0.4.a ProgrammaInvest_Spesa'!G32)","v":"Intervento 12"},{"$f":"IF('Z0.4.a ProgrammaInvest_Spesa'!H32=\"\",\"\",'Z0.4.a ProgrammaInvest_Spesa'!H32)","v":"SIVCA 12"},{"$f":"IF('Z0.4.a ProgrammaInvest_Spesa'!I32=\"\",\"\",'Z0.4.a ProgrammaInvest_Spesa'!I32)","v":""},{"$f":"IF('Z0.4.a ProgrammaInvest_Spesa'!J32=\"\",\"\",'Z0.4.a ProgrammaInvest_Spesa'!J32)","v":""},{"$f":"IF('Z0.4.a ProgrammaInvest_Spesa'!K32=\"\",\"\",'Z0.4.a ProgrammaInvest_Spesa'!K32)","v":"Altro"},{"$f":"IF('Z0.4.a ProgrammaInvest_Spesa'!L32=\"\",\"\",'Z0.4.a ProgrammaInvest_Spesa'!L32)","v":"in corso"},{"$f":"IF('Z0.4.a ProgrammaInvest_Spesa'!M32=\"\",\"\",'Z0.4.a ProgrammaInvest_Spesa'!M32)","v":"CIN post2026"},{"$f":"IF('Z0.4.a ProgrammaInvest_Spesa'!N32=\"\",\"\",'Z0.4.a ProgrammaInvest_Spesa'!N32)","v":""},{"$f":"IF('Z0.4.a ProgrammaInvest_Spesa'!O32=\"\",\"\",'Z0.4.a ProgrammaInvest_Spesa'!O32)","v":"Vite utili 1"},{"$f":"IF('Z0.4.a ProgrammaInvest_Spesa'!P32=\"\",\"\",'Z0.4.a ProgrammaInvest_Spesa'!P32)","v":2037},{"$f":"IF('Z0.4.a ProgrammaInvest_Spesa'!Q32=\"\",\"\",'Z0.4.a ProgrammaInvest_Spesa'!Q32)","v":200},{"$f":"IF('Z0.4.a ProgrammaInvest_Spesa'!R32=\"\",\"\",'Z0.4.a ProgrammaInvest_Spesa'!R32)","v":0},{"$f":"IF('Z0.4.a ProgrammaInvest_Spesa'!S32=\"\",\"\",'Z0.4.a ProgrammaInvest_Spesa'!S32)","v":0},null,null,null,null,null,null,null,null,null,null,null,null,null,null,null,10]
[null,"x",{"$f":"IF('Z0.4.a ProgrammaInvest_Spesa'!C33=\"\",\"\",'Z0.4.a ProgrammaInvest_Spesa'!C33)","v":""},{"$f":"IF('Z0.4.a ProgrammaInvest_Spesa'!D33=\"\",\"\",'Z0.4.a ProgrammaInvest_Spesa'!D33)","v":""},{"$f":"IF('Z0.4.a ProgrammaInvest_Spesa'!E33=\"\",\"\",'Z0.4.a ProgrammaInvest_Spesa'!E33)","v":""},{"$f":"IF('Z0.4.a ProgrammaInvest_Spesa'!F33=\"\",\"\",'Z0.4.a ProgrammaInvest_Spesa'!F33)","v":15},{"$f":"IF('Z0.4.a ProgrammaInvest_Spesa'!G33=\"\",\"\",'Z0.4.a ProgrammaInvest_Spesa'!G33)","v":"Intervento 13"},{"$f":"IF('Z0.4.a ProgrammaInvest_Spesa'!H33=\"\",\"\",'Z0.4.a ProgrammaInvest_Spesa'!H33)","v":"SIVCA 13"},{"$f":"IF('Z0.4.a ProgrammaInvest_Spesa'!I33=\"\",\"\",'Z0.4.a ProgrammaInvest_Spesa'!I33)","v":""},{"$f":"IF('Z0.4.a ProgrammaInvest_Spesa'!J33=\"\",\"\",'Z0.4.a ProgrammaInvest_Spesa'!J33)","v":""},{"$f":"IF('Z0.4.a ProgrammaInvest_Spesa'!K33=\"\",\"\",'Z0.4.a ProgrammaInvest_Spesa'!K33)","v":"Viadotti/Ponti/Cavalcavia"},{"$f":"IF('Z0.4.a ProgrammaInvest_Spesa'!L33=\"\",\"\",'Z0.4.a ProgrammaInvest_Spesa'!L33)","v":"in corso"},{"$f":"IF('Z0.4.a ProgrammaInvest_Spesa'!M33=\"\",\"\",'Z0.4.a ProgrammaInvest_Spesa'!M33)","v":"CIN post2026"},{"$f":"IF('Z0.4.a ProgrammaInvest_Spesa'!N33=\"\",\"\",'Z0.4.a ProgrammaInvest_Spesa'!N33)","v":""},{"$f":"IF('Z0.4.a ProgrammaInvest_Spesa'!O33=\"\",\"\",'Z0.4.a ProgrammaInvest_Spesa'!O33)","v":"Vite utili 2"},{"$f":"IF('Z0.4.a ProgrammaInvest_Spesa'!P33=\"\",\"\",'Z0.4.a ProgrammaInvest_Spesa'!P33)","v":2028},{"$f":"IF('Z0.4.a ProgrammaInvest_Spesa'!Q33=\"\",\"\",'Z0.4.a ProgrammaInvest_Spesa'!Q33)","v":200},{"$f":"IF('Z0.4.a ProgrammaInvest_Spesa'!R33=\"\",\"\",'Z0.4.a ProgrammaInvest_Spesa'!R33)","v":0},{"$f":"IF('Z0.4.a ProgrammaInvest_Spesa'!S33=\"\",\"\",'Z0.4.a ProgrammaInvest_Spesa'!S33)","v":0},null,null,null,null,null,null,null,null,null,null,null,null,null,null,null,10]
[null,"x",{"$f":"IF('Z0.4.a ProgrammaInvest_Spesa'!C34=\"\",\"\",'Z0.4.a ProgrammaInvest_Spesa'!C34)","v":""},{"$f":"IF('Z0.4.a ProgrammaInvest_Spesa'!D34=\"\",\"\",'Z0.4.a ProgrammaInvest_Spesa'!D34)","v":""},{"$f":"IF('Z0.4.a ProgrammaInvest_Spesa'!E34=\"\",\"\",'Z0.4.a ProgrammaInvest_Spesa'!E34)","v":""},{"$f":"IF('Z0.4.a ProgrammaInvest_Spesa'!F34=\"\",\"\",'Z0.4.a ProgrammaInvest_Spesa'!F34)","v":16},{"$f":"IF('Z0.4.a ProgrammaInvest_Spesa'!G34=\"\",\"\",'Z0.4.a ProgrammaInvest_Spesa'!G34)","v":"Intervento 14"},{"$f":"IF('Z0.4.a ProgrammaInvest_Spesa'!H34=\"\",\"\",'Z0.4.a ProgrammaInvest_Spesa'!H34)","v":"SIVCA 14"},{"$f":"IF('Z0.4.a ProgrammaInvest_Spesa'!I34=\"\",\"\",'Z0.4.a ProgrammaInvest_Spesa'!I34)","v":""},{"$f":"IF('Z0.4.a ProgrammaInvest_Spesa'!J34=\"\",\"\",'Z0.4.a ProgrammaInvest_Spesa'!J34)","v":""},{"$f":"IF('Z0.4.a ProgrammaInvest_Spesa'!K34=\"\",\"\",'Z0.4.a ProgrammaInvest_Spesa'!K34)","v":"Gallerie"},{"$f":"IF('Z0.4.a ProgrammaInvest_Spesa'!L34=\"\",\"\",'Z0.4.a ProgrammaInvest_Spesa'!L34)","v":"in corso"},{"$f":"IF('Z0.4.a ProgrammaInvest_Spesa'!M34=\"\",\"\",'Z0.4.a ProgrammaInvest_Spesa'!M34)","v":"CIN post2026"},{"$f":"IF('Z0.4.a ProgrammaInvest_Spesa'!N34=\"\",\"\",'Z0.4.a ProgrammaInvest_Spesa'!N34)","v":""},{"$f":"IF('Z0.4.a ProgrammaInvest_Spesa'!O34=\"\",\"\",'Z0.4.a ProgrammaInvest_Spesa'!O34)","v":"Vite utili 2"},{"$f":"IF('Z0.4.a ProgrammaInvest_Spesa'!P34=\"\",\"\",'Z0.4.a ProgrammaInvest_Spesa'!P34)","v":2029},{"$f":"IF('Z0.4.a ProgrammaInvest_Spesa'!Q34=\"\",\"\",'Z0.4.a ProgrammaInvest_Spesa'!Q34)","v":200},{"$f":"IF('Z0.4.a ProgrammaInvest_Spesa'!R34=\"\",\"\",'Z0.4.a ProgrammaInvest_Spesa'!R34)","v":0},{"$f":"IF('Z0.4.a ProgrammaInvest_Spesa'!S34=\"\",\"\",'Z0.4.a ProgrammaInvest_Spesa'!S34)","v":0},null,null,null,null,null,null,null,null,null,null,null,null,null,null,null,10]
[null,"x",{"$f":"IF('Z0.4.a ProgrammaInvest_Spesa'!C35=\"\",\"\",'Z0.4.a ProgrammaInvest_Spesa'!C35)","v":""},{"$f":"IF('Z0.4.a ProgrammaInvest_Spesa'!D35=\"\",\"\",'Z0.4.a ProgrammaInvest_Spesa'!D35)","v":""},{"$f":"IF('Z0.4.a ProgrammaInvest_Spesa'!E35=\"\",\"\",'Z0.4.a ProgrammaInvest_Spesa'!E35)","v":""},{"$f":"IF('Z0.4.a ProgrammaInvest_Spesa'!F35=\"\",\"\",'Z0.4.a ProgrammaInvest_Spesa'!F35)","v":17},{"$f":"IF('Z0.4.a ProgrammaInvest_Spesa'!G35=\"\",\"\",'Z0.4.a ProgrammaInvest_Spesa'!G35)","v":"Intervento 15"},{"$f":"IF('Z0.4.a ProgrammaInvest_Spesa'!H35=\"\",\"\",'Z0.4.a ProgrammaInvest_Spesa'!H35)","v":"SIVCA 15"},{"$f":"IF('Z0.4.a ProgrammaInvest_Spesa'!I35=\"\",\"\",'Z0.4.a ProgrammaInvest_Spesa'!I35)","v":""},{"$f":"IF('Z0.4.a ProgrammaInvest_Spesa'!J35=\"\",\"\",'Z0.4.a ProgrammaInvest_Spesa'!J35)","v":""},{"$f":"IF('Z0.4.a ProgrammaInvest_Spesa'!K35=\"\",\"\",'Z0.4.a ProgrammaInvest_Spesa'!K35)","v":"Barriere"},{"$f":"IF('Z0.4.a ProgrammaInvest_Spesa'!L35=\"\",\"\",'Z0.4.a ProgrammaInvest_Spesa'!L35)","v":"in corso"},{"$f":"IF('Z0.4.a ProgrammaInvest_Spesa'!M35=\"\",\"\",'Z0.4.a ProgrammaInvest_Spesa'!M35)","v":"CIN post2026"},{"$f":"IF('Z0.4.a ProgrammaInvest_Spesa'!N35=\"\",\"\",'Z0.4.a ProgrammaInvest_Spesa'!N35)","v":""},{"$f":"IF('Z0.4.a ProgrammaInvest_Spesa'!O35=\"\",\"\",'Z0.4.a ProgrammaInvest_Spesa'!O35)","v":"Vite utili 2"},{"$f":"IF('Z0.4.a ProgrammaInvest_Spesa'!P35=\"\",\"\",'Z0.4.a ProgrammaInvest_Spesa'!P35)","v":2030},{"$f":"IF('Z0.4.a ProgrammaInvest_Spesa'!Q35=\"\",\"\",'Z0.4.a ProgrammaInvest_Spesa'!Q35)","v":200},{"$f":"IF('Z0.4.a ProgrammaInvest_Spesa'!R35=\"\",\"\",'Z0.4.a ProgrammaInvest_Spesa'!R35)","v":0},{"$f":"IF('Z0.4.a ProgrammaInvest_Spesa'!S35=\"\",\"\",'Z0.4.a ProgrammaInvest_Spesa'!S35)","v":0},null,null,null,null,null,null,null,null,null,null,null,null,null,null,null,10]
[null,"x",{"$f":"IF('Z0.4.a ProgrammaInvest_Spesa'!C36=\"\",\"\",'Z0.4.a ProgrammaInvest_Spesa'!C36)","v":""},{"$f":"IF('Z0.4.a ProgrammaInvest_Spesa'!D36=\"\",\"\",'Z0.4.a ProgrammaInvest_Spesa'!D36)","v":""},{"$f":"IF('Z0.4.a ProgrammaInvest_Spesa'!E36=\"\",\"\",'Z0.4.a ProgrammaInvest_Spesa'!E36)","v":""},{"$f":"IF('Z0.4.a ProgrammaInvest_Spesa'!F36=\"\",\"\",'Z0.4.a ProgrammaInvest_Spesa'!F36)","v":18},{"$f":"IF('Z0.4.a ProgrammaInvest_Spesa'!G36=\"\",\"\",'Z0.4.a ProgrammaInvest_Spesa'!G36)","v":"Intervento 16"},{"$f":"IF('Z0.4.a ProgrammaInvest_Spesa'!H36=\"\",\"\",'Z0.4.a ProgrammaInvest_Spesa'!H36)","v":"SIVCA 16"},{"$f":"IF('Z0.4.a ProgrammaInvest_Spesa'!I36=\"\",\"\",'Z0.4.a ProgrammaInvest_Spesa'!I36)","v":""},{"$f":"IF('Z0.4.a ProgrammaInvest_Spesa'!J36=\"\",\"\",'Z0.4.a ProgrammaInvest_Spesa'!J36)","v":""},{"$f":"IF('Z0.4.a ProgrammaInvest_Spesa'!K36=\"\",\"\",'Z0.4.a ProgrammaInvest_Spesa'!K36)","v":"Corpo autostradale, opere sul territorio"},{"$f":"IF('Z0.4.a ProgrammaInvest_Spesa'!L36=\"\",\"\",'Z0.4.a ProgrammaInvest_Spesa'!L36)","v":"in corso"},{"$f":"IF('Z0.4.a ProgrammaInvest_Spesa'!M36=\"\",\"\",'Z0.4.a ProgrammaInvest_Spesa'!M36)","v":"CIN post2026"},{"$f":"IF('Z0.4.a ProgrammaInvest_Spesa'!N36=\"\",\"\",'Z0.4.a ProgrammaInvest_Spesa'!N36)","v":""},{"$f":"IF('Z0.4.a ProgrammaInvest_Spesa'!O36=\"\",\"\",'Z0.4.a ProgrammaInvest_Spesa'!O36)","v":"Vite utili 2"},{"$f":"IF('Z0.4.a ProgrammaInvest_Spesa'!P36=\"\",\"\",'Z0.4.a ProgrammaInvest_Spesa'!P36)","v":2031},{"$f":"IF('Z0.4.a ProgrammaInvest_Spesa'!Q36=\"\",\"\",'Z0.4.a ProgrammaInvest_Spesa'!Q36)","v":200},{"$f":"IF('Z0.4.a ProgrammaInvest_Spesa'!R36=\"\",\"\",'Z0.4.a ProgrammaInvest_Spesa'!R36)","v":0},{"$f":"IF('Z0.4.a ProgrammaInvest_Spesa'!S36=\"\",\"\",'Z0.4.a ProgrammaInvest_Spesa'!S36)","v":0},null,null,null,null,null,null,null,null,null,null,null,null,null,null,null,10]
[null,"x",{"$f":"IF('Z0.4.a ProgrammaInvest_Spesa'!C37=\"\",\"\",'Z0.4.a ProgrammaInvest_Spesa'!C37)","v":""},{"$f":"IF('Z0.4.a ProgrammaInvest_Spesa'!D37=\"\",\"\",'Z0.4.a ProgrammaInvest_Spesa'!D37)","v":""},{"$f":"IF('Z0.4.a ProgrammaInvest_Spesa'!E37=\"\",\"\",'Z0.4.a ProgrammaInvest_Spesa'!E37)","v":""},{"$f":"IF('Z0.4.a ProgrammaInvest_Spesa'!F37=\"\",\"\",'Z0.4.a ProgrammaInvest_Spesa'!F37)","v":19},{"$f":"IF('Z0.4.a ProgrammaInvest_Spesa'!G37=\"\",\"\",'Z0.4.a ProgrammaInvest_Spesa'!G37)","v":"Intervento 17"},{"$f":"IF('Z0.4.a ProgrammaInvest_Spesa'!H37=\"\",\"\",'Z0.4.a ProgrammaInvest_Spesa'!H37)","v":"SIVCA 17"},{"$f":"IF('Z0.4.a ProgrammaInvest_Spesa'!I37=\"\",\"\",'Z0.4.a ProgrammaInvest_Spesa'!I37)","v":""},{"$f":"IF('Z0.4.a ProgrammaInvest_Spesa'!J37=\"\",\"\",'Z0.4.a ProgrammaInvest_Spesa'!J37)","v":""},{"$f":"IF('Z0.4.a ProgrammaInvest_Spesa'!K37=\"\",\"\",'Z0.4.a ProgrammaInvest_Spesa'!K37)","v":"Reti recinzione"},{"$f":"IF('Z0.4.a ProgrammaInvest_Spesa'!L37=\"\",\"\",'Z0.4.a ProgrammaInvest_Spesa'!L37)","v":"in corso"},{"$f":"IF('Z0.4.a ProgrammaInvest_Spesa'!M37=\"\",\"\",'Z0.4.a ProgrammaInvest_Spesa'!M37)","v":"CIN post2026"},{"$f":"IF('Z0.4.a ProgrammaInvest_Spesa'!N37=\"\",\"\",'Z0.4.a ProgrammaInvest_Spesa'!N37)","v":""},{"$f":"IF('Z0.4.a ProgrammaInvest_Spesa'!O37=\"\",\"\",'Z0.4.a ProgrammaInvest_Spesa'!O37)","v":"Vite utili 2"},{"$f":"IF('Z0.4.a ProgrammaInvest_Spesa'!P37=\"\",\"\",'Z0.4.a ProgrammaInvest_Spesa'!P37)","v":2032},{"$f":"IF('Z0.4.a ProgrammaInvest_Spesa'!Q37=\"\",\"\",'Z0.4.a ProgrammaInvest_Spesa'!Q37)","v":200},{"$f":"IF('Z0.4.a ProgrammaInvest_Spesa'!R37=\"\",\"\",'Z0.4.a ProgrammaInvest_Spesa'!R37)","v":0},{"$f":"IF('Z0.4.a ProgrammaInvest_Spesa'!S37=\"\",\"\",'Z0.4.a ProgrammaInvest_Spesa'!S37)","v":0},null,null,null,null,null,null,null,null,null,null,null,null,null,null,null,10]
[null,"x",{"$f":"IF('Z0.4.a ProgrammaInvest_Spesa'!C38=\"\",\"\",'Z0.4.a ProgrammaInvest_Spesa'!C38)","v":""},{"$f":"IF('Z0.4.a ProgrammaInvest_Spesa'!D38=\"\",\"\",'Z0.4.a ProgrammaInvest_Spesa'!D38)","v":""},{"$f":"IF('Z0.4.a ProgrammaInvest_Spesa'!E38=\"\",\"\",'Z0.4.a ProgrammaInvest_Spesa'!E38)","v":""},{"$f":"IF('Z0.4.a ProgrammaInvest_Spesa'!F38=\"\",\"\",'Z0.4.a ProgrammaInvest_Spesa'!F38)","v":20},{"$f":"IF('Z0.4.a ProgrammaInvest_Spesa'!G38=\"\",\"\",'Z0.4.a ProgrammaInvest_Spesa'!G38)","v":"Intervento 18"},{"$f":"IF('Z0.4.a ProgrammaInvest_Spesa'!H38=\"\",\"\",'Z0.4.a ProgrammaInvest_Spesa'!H38)","v":"SIVCA 18"},{"$f":"IF('Z0.4.a ProgrammaInvest_Spesa'!I38=\"\",\"\",'Z0.4.a ProgrammaInvest_Spesa'!I38)","v":""},{"$f":"IF('Z0.4.a ProgrammaInvest_Spesa'!J38=\"\",\"\",'Z0.4.a ProgrammaInvest_Spesa'!J38)","v":""},{"$f":"IF('Z0.4.a ProgrammaInvest_Spesa'!K38=\"\",\"\",'Z0.4.a ProgrammaInvest_Spesa'!K38)","v":"Portali e segnaletica"},{"$f":"IF('Z0.4.a ProgrammaInvest_Spesa'!L38=\"\",\"\",'Z0.4.a ProgrammaInvest_Spesa'!L38)","v":"in corso"},{"$f":"IF('Z0.4.a ProgrammaInvest_Spesa'!M38=\"\",\"\",'Z0.4.a ProgrammaInvest_Spesa'!M38)","v":"CIN post2026"},{"$f":"IF('Z0.4.a ProgrammaInvest_Spesa'!N38=\"\",\"\",'Z0.4.a ProgrammaInvest_Spesa'!N38)","v":""},{"$f":"IF('Z0.4.a ProgrammaInvest_Spesa'!O38=\"\",\"\",'Z0.4.a ProgrammaInvest_Spesa'!O38)","v":"Vite utili 2"},{"$f":"IF('Z0.4.a ProgrammaInvest_Spesa'!P38=\"\",\"\",'Z0.4.a ProgrammaInvest_Spesa'!P38)","v":2033},{"$f":"IF('Z0.4.a ProgrammaInvest_Spesa'!Q38=\"\",\"\",'Z0.4.a ProgrammaInvest_Spesa'!Q38)","v":200},{"$f":"IF('Z0.4.a ProgrammaInvest_Spesa'!R38=\"\",\"\",'Z0.4.a ProgrammaInvest_Spesa'!R38)","v":0},{"$f":"IF('Z0.4.a ProgrammaInvest_Spesa'!S38=\"\",\"\",'Z0.4.a ProgrammaInvest_Spesa'!S38)","v":0},null,null,null,null,null,null,null,null,null,null,null,null,null,null,null,10]
[null,"x",{"$f":"IF('Z0.4.a ProgrammaInvest_Spesa'!C39=\"\",\"\",'Z0.4.a ProgrammaInvest_Spesa'!C39)","v":""},{"$f":"IF('Z0.4.a ProgrammaInvest_Spesa'!D39=\"\",\"\",'Z0.4.a ProgrammaInvest_Spesa'!D39)","v":""},{"$f":"IF('Z0.4.a ProgrammaInvest_Spesa'!E39=\"\",\"\",'Z0.4.a ProgrammaInvest_Spesa'!E39)","v":""},{"$f":"IF('Z0.4.a ProgrammaInvest_Spesa'!F39=\"\",\"\",'Z0.4.a ProgrammaInvest_Spesa'!F39)","v":21},{"$f":"IF('Z0.4.a ProgrammaInvest_Spesa'!G39=\"\",\"\",'Z0.4.a ProgrammaInvest_Spesa'!G39)","v":"Intervento 19"},{"$f":"IF('Z0.4.a ProgrammaInvest_Spesa'!H39=\"\",\"\",'Z0.4.a ProgrammaInvest_Spesa'!H39)","v":"SIVCA 19"},{"$f":"IF('Z0.4.a ProgrammaInvest_Spesa'!I39=\"\",\"\",'Z0.4.a ProgrammaInvest_Spesa'!I39)","v":""},{"$f":"IF('Z0.4.a ProgrammaInvest_Spesa'!J39=\"\",\"\",'Z0.4.a ProgrammaInvest_Spesa'!J39)","v":""},{"$f":"IF('Z0.4.a ProgrammaInvest_Spesa'!K39=\"\",\"\",'Z0.4.a ProgrammaInvest_Spesa'!K39)","v":"Pavimentazioni"},{"$f":"IF('Z0.4.a ProgrammaInvest_Spesa'!L39=\"\",\"\",'Z0.4.a ProgrammaInvest_Spesa'!L39)","v":"in corso"},{"$f":"IF('Z0.4.a ProgrammaInvest_Spesa'!M39=\"\",\"\",'Z0.4.a ProgrammaInvest_Spesa'!M39)","v":"CIN post2026"},{"$f":"IF('Z0.4.a ProgrammaInvest_Spesa'!N39=\"\",\"\",'Z0.4.a ProgrammaInvest_Spesa'!N39)","v":""},{"$f":"IF('Z0.4.a ProgrammaInvest_Spesa'!O39=\"\",\"\",'Z0.4.a ProgrammaInvest_Spesa'!O39)","v":"Vite utili 2"},{"$f":"IF('Z0.4.a ProgrammaInvest_Spesa'!P39=\"\",\"\",'Z0.4.a ProgrammaInvest_Spesa'!P39)","v":2034},{"$f":"IF('Z0.4.a ProgrammaInvest_Spesa'!Q39=\"\",\"\",'Z0.4.a ProgrammaInvest_Spesa'!Q39)","v":200},{"$f":"IF('Z0.4.a ProgrammaInvest_Spesa'!R39=\"\",\"\",'Z0.4.a ProgrammaInvest_Spesa'!R39)","v":0},{"$f":"IF('Z0.4.a ProgrammaInvest_Spesa'!S39=\"\",\"\",'Z0.4.a ProgrammaInvest_Spesa'!S39)","v":0},null,null,null,null,null,null,null,null,null,null,null,null,null,null,null,10]
[null,"x",{"$f":"IF('Z0.4.a ProgrammaInvest_Spesa'!C40=\"\",\"\",'Z0.4.a ProgrammaInvest_Spesa'!C40)","v":""},{"$f":"IF('Z0.4.a ProgrammaInvest_Spesa'!D40=\"\",\"\",'Z0.4.a ProgrammaInvest_Spesa'!D40)","v":""},{"$f":"IF('Z0.4.a ProgrammaInvest_Spesa'!E40=\"\",\"\",'Z0.4.a ProgrammaInvest_Spesa'!E40)","v":""},{"$f":"IF('Z0.4.a ProgrammaInvest_Spesa'!F40=\"\",\"\",'Z0.4.a ProgrammaInvest_Spesa'!F40)","v":22},{"$f":"IF('Z0.4.a ProgrammaInvest_Spesa'!G40=\"\",\"\",'Z0.4.a ProgrammaInvest_Spesa'!G40)","v":"Intervento 20"},{"$f":"IF('Z0.4.a ProgrammaInvest_Spesa'!H40=\"\",\"\",'Z0.4.a ProgrammaInvest_Spesa'!H40)","v":"SIVCA 20"},{"$f":"IF('Z0.4.a ProgrammaInvest_Spesa'!I40=\"\",\"\",'Z0.4.a ProgrammaInvest_Spesa'!I40)","v":""},{"$f":"IF('Z0.4.a ProgrammaInvest_Spesa'!J40=\"\",\"\",'Z0.4.a ProgrammaInvest_Spesa'!J40)","v":""},{"$f":"IF('Z0.4.a ProgrammaInvest_Spesa'!K40=\"\",\"\",'Z0.4.a ProgrammaInvest_Spesa'!K40)","v":"Infrastrutture tecnologiche ed impianti"},{"$f":"IF('Z0.4.a ProgrammaInvest_Spesa'!L40=\"\",\"\",'Z0.4.a ProgrammaInvest_Spesa'!L40)","v":"in corso"},{"$f":"IF('Z0.4.a ProgrammaInvest_Spesa'!M40=\"\",\"\",'Z0.4.a ProgrammaInvest_Spesa'!M40)","v":"CIN post2026"},{"$f":"IF('Z0.4.a ProgrammaInvest_Spesa'!N40=\"\",\"\",'Z0.4.a ProgrammaInvest_Spesa'!N40)","v":""},{"$f":"IF('Z0.4.a ProgrammaInvest_Spesa'!O40=\"\",\"\",'Z0.4.a ProgrammaInvest_Spesa'!O40)","v":"Vite utili 2"},{"$f":"IF('Z0.4.a ProgrammaInvest_Spesa'!P40=\"\",\"\",'Z0.4.a ProgrammaInvest_Spesa'!P40)","v":2035},{"$f":"IF('Z0.4.a ProgrammaInvest_Spesa'!Q40=\"\",\"\",'Z0.4.a ProgrammaInvest_Spesa'!Q40)","v":200},{"$f":"IF('Z0.4.a ProgrammaInvest_Spesa'!R40=\"\",\"\",'Z0.4.a ProgrammaInvest_Spesa'!R40)","v":0},{"$f":"IF('Z0.4.a ProgrammaInvest_Spesa'!S40=\"\",\"\",'Z0.4.a ProgrammaInvest_Spesa'!S40)","v":0},null,null,null,null,null,null,null,null,null,null,null,null,null,null,null,10]
[null,"x",{"$f":"IF('Z0.4.a ProgrammaInvest_Spesa'!C41=\"\",\"\",'Z0.4.a ProgrammaInvest_Spesa'!C41)","v":""},{"$f":"IF('Z0.4.a ProgrammaInvest_Spesa'!D41=\"\",\"\",'Z0.4.a ProgrammaInvest_Spesa'!D41)","v":""},{"$f":"IF('Z0.4.a ProgrammaInvest_Spesa'!E41=\"\",\"\",'Z0.4.a ProgrammaInvest_Spesa'!E41)","v":""},{"$f":"IF('Z0.4.a ProgrammaInvest_Spesa'!F41=\"\",\"\",'Z0.4.a ProgrammaInvest_Spesa'!F41)","v":23},{"$f":"IF('Z0.4.a ProgrammaInvest_Spesa'!G41=\"\",\"\",'Z0.4.a ProgrammaInvest_Spesa'!G41)","v":"Intervento 21"},{"$f":"IF('Z0.4.a ProgrammaInvest_Spesa'!H41=\"\",\"\",'Z0.4.a ProgrammaInvest_Spesa'!H41)","v":"SIVCA 21"},{"$f":"IF('Z0.4.a ProgrammaInvest_Spesa'!I41=\"\",\"\",'Z0.4.a ProgrammaInvest_Spesa'!I41)","v":""},{"$f":"IF('Z0.4.a ProgrammaInvest_Spesa'!J41=\"\",\"\",'Z0.4.a ProgrammaInvest_Spesa'!J41)","v":""},{"$f":"IF('Z0.4.a ProgrammaInvest_Spesa'!K41=\"\",\"\",'Z0.4.a ProgrammaInvest_Spesa'!K41)","v":"Stazioni/Barriere di esazione, fabbricati, aree di servizio"},{"$f":"IF('Z0.4.a ProgrammaInvest_Spesa'!L41=\"\",\"\",'Z0.4.a ProgrammaInvest_Spesa'!L41)","v":"in corso"},{"$f":"IF('Z0.4.a ProgrammaInvest_Spesa'!M41=\"\",\"\",'Z0.4.a ProgrammaInvest_Spesa'!M41)","v":"CIN post2026"},{"$f":"IF('Z0.4.a ProgrammaInvest_Spesa'!N41=\"\",\"\",'Z0.4.a ProgrammaInvest_Spesa'!N41)","v":""},{"$f":"IF('Z0.4.a ProgrammaInvest_Spesa'!O41=\"\",\"\",'Z0.4.a ProgrammaInvest_Spesa'!O41)","v":"Vite utili 2"},{"$f":"IF('Z0.4.a ProgrammaInvest_Spesa'!P41=\"\",\"\",'Z0.4.a ProgrammaInvest_Spesa'!P41)","v":2036},{"$f":"IF('Z0.4.a ProgrammaInvest_Spesa'!Q41=\"\",\"\",'Z0.4.a ProgrammaInvest_Spesa'!Q41)","v":200},{"$f":"IF('Z0.4.a ProgrammaInvest_Spesa'!R41=\"\",\"\",'Z0.4.a ProgrammaInvest_Spesa'!R41)","v":0},{"$f":"IF('Z0.4.a ProgrammaInvest_Spesa'!S41=\"\",\"\",'Z0.4.a ProgrammaInvest_Spesa'!S41)","v":0},null,null,null,null,null,null,null,null,null,null,null,null,null,null,null,10]
[null,"x",{"$f":"IF('Z0.4.a ProgrammaInvest_Spesa'!C42=\"\",\"\",'Z0.4.a ProgrammaInvest_Spesa'!C42)","v":""},{"$f":"IF('Z0.4.a ProgrammaInvest_Spesa'!D42=\"\",\"\",'Z0.4.a ProgrammaInvest_Spesa'!D42)","v":""},{"$f":"IF('Z0.4.a ProgrammaInvest_Spesa'!E42=\"\",\"\",'Z0.4.a ProgrammaInvest_Spesa'!E42)","v":""},{"$f":"IF('Z0.4.a ProgrammaInvest_Spesa'!F42=\"\",\"\",'Z0.4.a ProgrammaInvest_Spesa'!F42)","v":24},{"$f":"IF('Z0.4.a ProgrammaInvest_Spesa'!G42=\"\",\"\",'Z0.4.a ProgrammaInvest_Spesa'!G42)","v":"Intervento 22"},{"$f":"IF('Z0.4.a ProgrammaInvest_Spesa'!H42=\"\",\"\",'Z0.4.a ProgrammaInvest_Spesa'!H42)","v":"SIVCA 22"},{"$f":"IF('Z0.4.a ProgrammaInvest_Spesa'!I42=\"\",\"\",'Z0.4.a ProgrammaInvest_Spesa'!I42)","v":""},{"$f":"IF('Z0.4.a ProgrammaInvest_Spesa'!J42=\"\",\"\",'Z0.4.a ProgrammaInvest_Spesa'!J42)","v":""},{"$f":"IF('Z0.4.a ProgrammaInvest_Spesa'!K42=\"\",\"\",'Z0.4.a ProgrammaInvest_Spesa'!K42)","v":"Altro"},{"$f":"IF('Z0.4.a ProgrammaInvest_Spesa'!L42=\"\",\"\",'Z0.4.a ProgrammaInvest_Spesa'!L42)","v":"in corso"},{"$f":"IF('Z0.4.a ProgrammaInvest_Spesa'!M42=\"\",\"\",'Z0.4.a ProgrammaInvest_Spesa'!M42)","v":"CIN post2026"},{"$f":"IF('Z0.4.a ProgrammaInvest_Spesa'!N42=\"\",\"\",'Z0.4.a ProgrammaInvest_Spesa'!N42)","v":""},{"$f":"IF('Z0.4.a ProgrammaInvest_Spesa'!O42=\"\",\"\",'Z0.4.a ProgrammaInvest_Spesa'!O42)","v":"Vite utili 2"},{"$f":"IF('Z0.4.a ProgrammaInvest_Spesa'!P42=\"\",\"\",'Z0.4.a ProgrammaInvest_Spesa'!P42)","v":2037},{"$f":"IF('Z0.4.a ProgrammaInvest_Spesa'!Q42=\"\",\"\",'Z0.4.a ProgrammaInvest_Spesa'!Q42)","v":200},{"$f":"IF('Z0.4.a ProgrammaInvest_Spesa'!R42=\"\",\"\",'Z0.4.a ProgrammaInvest_Spesa'!R42)","v":0},{"$f":"IF('Z0.4.a ProgrammaInvest_Spesa'!S42=\"\",\"\",'Z0.4.a ProgrammaInvest_Spesa'!S42)","v":0},null,null,null,null,null,null,null,null,null,null,null,null,null,null,null,10]

{"sheet":"Z0.5.a InvestNoTar_Spesa","index":9,"n_rows":19,"n_cols":34,"rows_kept":19,"cut":false,"hidden":false,"merged":[]}
[]
[null,null,"Programma degli Investimenti (4/6) - da ultimo aggiornamento approvato"]
[]
[null,null,null,null,null,null,null,null,null,null,null,null,null,null,null,null,"Anno",null,null,2024,2025,2026,2027,2028,2029,2030,2031,2032,2033,2034,2035,2036,2037,2038]
[]
[null,null,null,null,null,null,null,null,null,null,null,null,null,null,null,null,"Anno base",null,null,1,0,0,0,1,0,0,0,0,1,0,0,0,0,0]
[null,null,null,null,null,null,null,null,null,null,null,null,null,null,null,null,"Anno ponte",null,null,0,1,0,0,0,1,0,0,0,0,1,0,0,0,0]
[null,null,null,null,null,null,null,null,null,null,null,null,null,null,null,null,"Periodo regolatorio",null,null,0,0,1,1,1,1,2,2,2,2,2,3,3,3,3]
[null,null,null,null,null,null,null,null,null,null,null,null,null,null,null,null,"Anno del periodo regolatorio",null,null,0,0,1,2,3,4,1,2,3,4,5,1,2,3,4]
[null,null,null,null,null,null,null,null,null,null,null,null,null,null,null,null,"Frazione di anno significativa",null,null,null,null,1,1,1,1,1,1,1,1,1,1,1,1,1]
[]
[null,null,null,null,null,null,null,null,null,null,null,null,null,null,null,null,null,null,null,null,"Ultimo adattamento schema: 03/11/2025 14:32:40"]
[]
[null,null,"Programmazione non ammissibile in tariffa: Importo della spesa annua complessiva (al lordo di eventuali contributi in c/impianti e in c/capitale)"]
[null,null,"Tabella da alimentare solo con spese per beni reversibili, autorizzati ma non ammissibili in tariffa"]
[]
[null,null,"Atto convenzionale di riferimento","Rif. macro intervento","Rif. lett. art.","Codice univoco intervento","Descrizione intervento","Codice SIVCA","Tratta autostradale da convenzione","Macro tipologia intervento","Tipologia intervento","Stato lavori","Tipologia remunerazione","Criterio di ammortamento","Data presunta entrata in esercizio (anno)","Spesa programmata totale","Contributo a fondo perduto","Eventuali dismissioni",null,null,{"$f":"\"Spesa programmata \" & U4","v":"Spesa programmata 2025"},"Spesa programmata 2026",{"$f":"\"Spesa programmata \" & W4","v":"Spesa programmata 2027"},"Spesa programmata 2028","Spesa programmata 2029","Spesa programmata 2030","Spesa programmata 2031","Spesa programmata 2032","Spesa programmata 2033","Spesa programmata 2034","Spesa programmata 2035","Spesa programmata 2036","Spesa programmata 2037","Spesa programmata 2038"]
[]
[null,"x",null,null,null,null,null,null,null,null,null,null,null,null,null,{"$f":"SUM(OFFSET(T19,0,0,1,ScadenzaConcessione-AnnoBase+1))","v":0},{"$f":"SUM(OFFSET('Z0.5.b InvestNoTar_Contrib'!T19,0,0,1,ScadenzaConcessione-AnnoBase+1))","v":0},{"$f":"SUM(OFFSET('Z0.5.c InvestNoTar_Dismiss'!T19,0,0,1,ScadenzaConcessione-AnnoBase+1))","v":0}]

{"sheet":"Z0.5.b InvestNoTar_Contrib","index":10,"n_rows":19,"n_cols":34,"rows_kept":19,"cut":false,"hidden":false,"merged":[]}
[]
[null,null,"Programma degli Investimenti (5/6) - da ultimo aggiornamento approvato"]
[]
[null,null,null,null,null,null,null,null,null,null,null,null,null,null,null,null,"Anno",null,null,2024,2025,2026,2027,2028,2029,2030,2031,2032,2033,2034,2035,2036,2037,2038]
[]
[null,null,null,null,null,null,null,null,null,null,null,null,null,null,null,null,"Anno base",null,null,1,0,0,0,1,0,0,0,0,1,0,0,0,0,0]
[null,null,null,null,null,null,null,null,null,null,null,null,null,null,null,null,"Anno ponte",null,null,0,1,0,0,0,1,0,0,0,0,1,0,0,0,0]
[null,null,null,null,null,null,null,null,null,null,null,null,null,null,null,null,"Periodo regolatorio",null,null,0,0,1,1,1,1,2,2,2,2,2,3,3,3,3]
[null,null,null,null,null,null,null,null,null,null,null,null,null,null,null,null,"Anno del periodo regolatorio",null,null,0,0,1,2,3,4,1,2,3,4,5,1,2,3,4]
[null,null,null,null,null,null,null,null,null,null,null,null,null,null,null,null,"Frazione di anno significativa",null,null,null,null,1,1,1,1,1,1,1,1,1,1,1,1,1]
[]
[null,null,null,null,null,null,null,null,null,null,null,null,null,null,null,null,null,null,null,null,"Ultimo adattamento schema: 03/11/2025 14:32:41"]
[]
[null,null,"Programmazione non ammissibile in tariffa: Importo annuo eventuali contributi in c/impianti o in c/capitale"]
[null,null,"Tabella da alimentare solo con spese per beni reversibili, autorizzati ma non ammissibili in tariffa"]
[]
[null,null,"Atto convenzionale di riferimento","Rif. macro intervento","Rif. lett. art.","Codice univoco intervento","Descrizione intervento","Codice SIVCA","Tratta autostradale da convenzione","Macro tipologia intervento","Tipologia intervento","Stato lavori","Tipologia remunerazione","Criterio di ammortamento","Data presunta entrata in esercizio (anno)","Spesa programmata totale","Contributo a fondo perduto","Eventuali dismissioni",null,null,{"$f":"\"Contributo programmato \" & U4","v":"Contributo programmato 2025"},"Contributo programmato 2026",{"$f":"\"Contributo programmato \" & W4","v":"Contributo programmato 2027"},"Contributo programmato 2028","Contributo programmato 2029","Contributo programmato 2030","Contributo programmato 2031","Contributo programmato 2032","Contributo programmato 2033","Contributo programmato 2034","Contributo programmato 2035","Contributo programmato 2036","Contributo programmato 2037","Contributo programmato 2038"]
[]
[null,"x",{"$f":"IF('Z0.5.a InvestNoTar_Spesa'!C19=\"\",\"\",'Z0.5.a InvestNoTar_Spesa'!C19)","v":""},{"$f":"IF('Z0.5.a InvestNoTar_Spesa'!D19=\"\",\"\",'Z0.5.a InvestNoTar_Spesa'!D19)","v":""},{"$f":"IF('Z0.5.a InvestNoTar_Spesa'!E19=\"\",\"\",'Z0.5.a InvestNoTar_Spesa'!E19)","v":""},{"$f":"IF('Z0.5.a InvestNoTar_Spesa'!F19=\"\",\"\",'Z0.5.a InvestNoTar_Spesa'!F19)","v":""},{"$f":"IF('Z0.5.a InvestNoTar_Spesa'!G19=\"\",\"\",'Z0.5.a InvestNoTar_Spesa'!G19)","v":""},{"$f":"IF('Z0.5.a InvestNoTar_Spesa'!H19=\"\",\"\",'Z0.5.a InvestNoTar_Spesa'!H19)","v":""},{"$f":"IF('Z0.5.a InvestNoTar_Spesa'!I19=\"\",\"\",'Z0.5.a InvestNoTar_Spesa'!I19)","v":""},{"$f":"IF('Z0.5.a InvestNoTar_Spesa'!J19=\"\",\"\",'Z0.5.a InvestNoTar_Spesa'!J19)","v":""},{"$f":"IF('Z0.5.a InvestNoTar_Spesa'!K19=\"\",\"\",'Z0.5.a InvestNoTar_Spesa'!K19)","v":""},{"$f":"IF('Z0.5.a InvestNoTar_Spesa'!L19=\"\",\"\",'Z0.5.a InvestNoTar_Spesa'!L19)","v":""},{"$f":"IF('Z0.5.a InvestNoTar_Spesa'!M19=\"\",\"\",'Z0.5.a InvestNoTar_Spesa'!M19)","v":""},{"$f":"IF('Z0.5.a InvestNoTar_Spesa'!N19=\"\",\"\",'Z0.5.a InvestNoTar_Spesa'!N19)","v":""},{"$f":"IF('Z0.5.a InvestNoTar_Spesa'!O19=\"\",\"\",'Z0.5.a InvestNoTar_Spesa'!O19)","v":""},{"$f":"IF('Z0.5.a InvestNoTar_Spesa'!P19=\"\",\"\",'Z0.5.a InvestNoTar_Spesa'!P19)","v":0},{"$f":"IF('Z0.5.a InvestNoTar_Spesa'!Q19=\"\",\"\",'Z0.5.a InvestNoTar_Spesa'!Q19)","v":0},{"$f":"IF('Z0.5.a InvestNoTar_Spesa'!R19=\"\",\"\",'Z0.5.a InvestNoTar_Spesa'!R19)","v":0}]

{"sheet":"Z0.5.c InvestNoTar_Dismiss","index":11,"n_rows":19,"n_cols":34,"rows_kept":19,"cut":false,"hidden":false,"merged":[]}
[]
[null,null,"Programma degli Investimenti (6/6) - da ultimo aggiornamento approvato"]
[]
[null,null,null,null,null,null,null,null,null,null,null,null,null,null,null,null,"Anno",null,null,2024,2025,2026,2027,2028,2029,2030,2031,2032,2033,2034,2035,2036,2037,2038]
[]
[null,null,null,null,null,null,null,null,null,null,null,null,null,null,null,null,"Anno base",null,null,1,0,0,0,1,0,0,0,0,1,0,0,0,0,0]
[null,null,null,null,null,null,null,null,null,null,null,null,null,null,null,null,"Anno ponte",null,null,0,1,0,0,0,1,0,0,0,0,1,0,0,0,0]
[null,null,null,null,null,null,null,null,null,null,null,null,null,null,null,null,"Periodo regolatorio",null,null,0,0,1,1,1,1,2,2,2,2,2,3,3,3,3]
[null,null,null,null,null,null,null,null,null,null,null,null,null,null,null,null,"Anno del periodo regolatorio",null,null,0,0,1,2,3,4,1,2,3,4,5,1,2,3,4]
[null,null,null,null,null,null,null,null,null,null,null,null,null,null,null,null,"Frazione di anno significativa",null,null,null,null,1,1,1,1,1,1,1,1,1,1,1,1,1]
[]
[null,null,null,null,null,null,null,null,null,null,null,null,null,null,null,null,null,null,null,null,"Ultimo adattamento schema: 03/11/2025 14:32:43"]
[]
[null,null,"Programmazione non ammissibile in tariffa: Importo annuo eventuali dismissioni"]
[null,null,"Tabella da alimentare solo con spese per beni reversibili, autorizzati ma non ammissibili in tariffa"]
[]
[null,null,"Atto convenzionale di riferimento","Rif. macro intervento","Rif. lett. art.","Codice univoco intervento","Descrizione intervento","Codice SIVCA","Tratta autostradale da convenzione","Macro tipologia intervento","Tipologia intervento","Stato lavori","Tipologia remunerazione","Criterio di ammortamento","Data presunta entrata in esercizio (anno)","Spesa programmata totale","Contributo a fondo perduto","Eventuali dismissioni",null,null,{"$f":"\"Dismissioni \" & U4","v":"Dismissioni 2025"},"Dismissioni 2026",{"$f":"\"Dismissioni \" & W4","v":"Dismissioni 2027"},"Dismissioni 2028","Dismissioni 2029","Dismissioni 2030","Dismissioni 2031","Dismissioni 2032","Dismissioni 2033","Dismissioni 2034","Dismissioni 2035","Dismissioni 2036","Dismissioni 2037","Dismissioni 2038"]
[]
[null,"x",{"$f":"IF('Z0.5.a InvestNoTar_Spesa'!C19=\"\",\"\",'Z0.5.a InvestNoTar_Spesa'!C19)","v":""},{"$f":"IF('Z0.5.a InvestNoTar_Spesa'!D19=\"\",\"\",'Z0.5.a InvestNoTar_Spesa'!D19)","v":""},{"$f":"IF('Z0.5.a InvestNoTar_Spesa'!E19=\"\",\"\",'Z0.5.a InvestNoTar_Spesa'!E19)","v":""},{"$f":"IF('Z0.5.a InvestNoTar_Spesa'!F19=\"\",\"\",'Z0.5.a InvestNoTar_Spesa'!F19)","v":""},{"$f":"IF('Z0.5.a InvestNoTar_Spesa'!G19=\"\",\"\",'Z0.5.a InvestNoTar_Spesa'!G19)","v":""},{"$f":"IF('Z0.5.a InvestNoTar_Spesa'!H19=\"\",\"\",'Z0.5.a InvestNoTar_Spesa'!H19)","v":""},{"$f":"IF('Z0.5.a InvestNoTar_Spesa'!I19=\"\",\"\",'Z0.5.a InvestNoTar_Spesa'!I19)","v":""},{"$f":"IF('Z0.5.a InvestNoTar_Spesa'!J19=\"\",\"\",'Z0.5.a InvestNoTar_Spesa'!J19)","v":""},{"$f":"IF('Z0.5.a InvestNoTar_Spesa'!K19=\"\",\"\",'Z0.5.a InvestNoTar_Spesa'!K19)","v":""},{"$f":"IF('Z0.5.a InvestNoTar_Spesa'!L19=\"\",\"\",'Z0.5.a InvestNoTar_Spesa'!L19)","v":""},{"$f":"IF('Z0.5.a InvestNoTar_Spesa'!M19=\"\",\"\",'Z0.5.a InvestNoTar_Spesa'!M19)","v":""},{"$f":"IF('Z0.5.a InvestNoTar_Spesa'!N19=\"\",\"\",'Z0.5.a InvestNoTar_Spesa'!N19)","v":""},{"$f":"IF('Z0.5.a InvestNoTar_Spesa'!O19=\"\",\"\",'Z0.5.a InvestNoTar_Spesa'!O19)","v":""},{"$f":"IF('Z0.5.a InvestNoTar_Spesa'!P19=\"\",\"\",'Z0.5.a InvestNoTar_Spesa'!P19)","v":0},{"$f":"IF('Z0.5.a InvestNoTar_Spesa'!Q19=\"\",\"\",'Z0.5.a InvestNoTar_Spesa'!Q19)","v":0},{"$f":"IF('Z0.5.a InvestNoTar_Spesa'!R19=\"\",\"\",'Z0.5.a InvestNoTar_Spesa'!R19)","v":0}]

{"sheet":"Z0.6.a ProgInvest_Spesa agg","index":12,"n_rows":44,"n_cols":38,"rows_kept":44,"cut":false,"hidden":false,"merged":[]}
[]
[null,null,"Programma degli Investimenti - aggiornamento (1/6)"]
[]
[null,null,null,null,null,null,null,null,null,null,null,null,null,null,null,null,null,null,null,null,"Anno",null,null,2024,2025,2026,2027,2028,2029,2030,2031,2032,2033,2034,2035,2036,2037,2038]
[]
[null,null,null,null,null,null,null,null,null,null,null,null,null,null,null,null,null,null,null,null,"Anno base",null,null,1,0,0,0,1,0,0,0,0,1,0,0,0,0,0]
[null,null,null,null,null,null,null,null,null,null,null,null,null,null,null,null,null,null,null,null,"Anno ponte",null,null,0,1,0,0,0,1,0,0,0,0,1,0,0,0,0]
[null,null,null,null,null,null,null,null,null,null,null,null,null,null,null,null,null,null,null,null,"Periodo regolatorio",null,null,0,0,1,1,1,1,2,2,2,2,2,3,3,3,3]
[null,null,null,null,null,null,null,null,null,null,null,null,null,null,null,null,null,null,null,null,"Anno del periodo regolatorio",null,null,0,0,1,2,3,4,1,2,3,4,5,1,2,3,4]
[null,null,null,null,null,null,null,null,null,null,null,null,null,null,null,null,null,null,null,null,"Frazione di anno significativa",null,null,null,null,1,1,1,1,1,1,1,1,1,1,1,1,1]
[]
[null,null,null,null,null,null,null,null,null,null,null,null,null,null,null,null,null,null,null,null,null,null,null,null,"Ultimo adattamento schema: 03/11/2025 14:32:45"]
[]
[null,null,"Programmazione ammissibile in tariffa: Importo della spesa annua complessiva (al lordo di eventuali contributi in c/impianti e in c/capitale)"]
[null,null,"Tabella da alimentare solo con spese per beni reversibili, autorizzati e ammissibili in tariffa"]
[]
[null,null,"Atto convenzionale di riferimento","Rif. macro intervento","Rif. lett. art.","Codice univoco intervento","Descrizione intervento","Codice SIVCA","Tratta autostradale da convenzione","Macro tipologia intervento","Tipologia intervento","Stato lavori","Tipologia CIN","Stati di \navanzamento \nCIN ante","Criterio di ammortamento","Data presunta entrata in esercizio (anno)","Status intervento","Responsabilità della variazione","Spesa programmata totale","Contributo a fondo perduto","Eventuali dismissioni","Variazione importi programmati",null,null,{"$f":"\"Spesa programmata aggiornata    \" & Y4","v":"Spesa programmata aggiornata    2025"},{"$f":"\"Spesa programmata aggiornata    \" & Z4","v":"Spesa programmata aggiornata    2026"},{"$f":"\"Spesa programmata aggiornata    \" & AA4","v":"Spesa programmata aggiornata    2027"},"Spesa programmata aggiornata    2028","Spesa programmata aggiornata    2029","Spesa programmata aggiornata    2030","Spesa programmata aggiornata    2031","Spesa programmata aggiornata    2032","Spesa programmata aggiornata    2033","Spesa programmata aggiornata    2034","Spesa programmata aggiornata    2035","Spesa programmata aggiornata    2036","Spesa programmata aggiornata    2037","Spesa programmata aggiornata    2038"]
[]
[null,"x",null,null,null,1,"Intervento 1","SIVCA 1",null,null,"(assoggettata ad ammortamento finanziario)","in corso","CIN ante","SAL contabilizzati","Finanziario",null,{"$f":"IF(ISNA(INDEX('Z0.4.a ProgrammaInvest_Spesa'!F:F,MATCH(F19,'Z0.4.a ProgrammaInvest_Spesa'!F:F,0))),\"nuovo, urgente\",\"pianificato\")","v":"pianificato"},null,{"$f":"SUM(OFFSET(X19,0,0,1,ScadenzaConcessione-AnnoBase+1))","v":0},{"$f":"SUM(OFFSET('Z0.6.b ProgInvest_Contr agg'!X19,0,0,1,ScadenzaConcessione-AnnoBase+1))","v":2000},{"$f":"SUM(OFFSET('Z0.6.c ProgInvest_Dism agg'!X19,0,0,1,ScadenzaConcessione-AnnoBase+1))","v":20},false]
[null,"x",null,null,null,2,"Intervento 2","SIVCA 2",null,null,"(assoggettata ad ammortamento finanziario)","in corso","CIN ante","SAL da contabilizzare","Finanziario",null,{"$f":"IF(ISNA(INDEX('Z0.4.a ProgrammaInvest_Spesa'!F:F,MATCH(F20,'Z0.4.a ProgrammaInvest_Spesa'!F:F,0))),\"nuovo, urgente\",\"pianificato\")","v":"pianificato"},null,20000,{"$f":"SUM(OFFSET('Z0.6.b ProgInvest_Contr agg'!X20,0,0,1,ScadenzaConcessione-AnnoBase+1))","v":1000},{"$f":"SUM(OFFSET('Z0.6.c ProgInvest_Dism agg'!X20,0,0,1,ScadenzaConcessione-AnnoBase+1))","v":20},false,null,null,null,10000,10000]
[null,"x",null,null,null,3,"Intervento 2","SIVCA 2",null,null,"(assoggettata ad ammortamento finanziario)","in corso","CIN pre2026",null,"Finanziario",null,{"$f":"IF(ISNA(INDEX('Z0.4.a ProgrammaInvest_Spesa'!F:F,MATCH(F21,'Z0.4.a ProgrammaInvest_Spesa'!F:F,0))),\"nuovo, urgente\",\"pianificato\")","v":"pianificato"},null,20000,{"$f":"SUM(OFFSET('Z0.6.b ProgInvest_Contr agg'!X21,0,0,1,ScadenzaConcessione-AnnoBase+1))","v":1000},{"$f":"SUM(OFFSET('Z0.6.c ProgInvest_Dism agg'!X21,0,0,1,ScadenzaConcessione-AnnoBase+1))","v":20},false,null,null,null,10000,10000]
[null,"x",null,null,null,4,"Intervento 2","SIVCA 2",null,null,"(assoggettata ad ammortamento finanziario)","in corso","CIN post2026",null,"Finanziario",null,{"$f":"IF(ISNA(INDEX('Z0.4.a ProgrammaInvest_Spesa'!F:F,MATCH(F22,'Z0.4.a ProgrammaInvest_Spesa'!F:F,0))),\"nuovo, urgente\",\"pianificato\")","v":"pianificato"},null,100000,{"$f":"SUM(OFFSET('Z0.6.b ProgInvest_Contr agg'!X22,0,0,1,ScadenzaConcessione-AnnoBase+1))","v":1000},{"$f":"SUM(OFFSET('Z0.6.c ProgInvest_Dism agg'!X22,0,0,1,ScadenzaConcessione-AnnoBase+1))","v":20},false,null,null,null,50000,50000]
[null,"x",null,null,null,5,"Intervento 3","SIVCA 3",null,null,"Viadotti/Ponti/Cavalcavia","in corso","CIN post2026",null,"Vite utili 1",2028,{"$f":"IF(ISNA(INDEX('Z0.4.a ProgrammaInvest_Spesa'!F:F,MATCH(F23,'Z0.4.a ProgrammaInvest_Spesa'!F:F,0))),\"nuovo, urgente\",\"pianificato\")","v":"pianificato"},null,200,{"$f":"SUM(OFFSET('Z0.6.b ProgInvest_Contr agg'!X23,0,0,1,ScadenzaConcessione-AnnoBase+1))","v":20},{"$f":"SUM(OFFSET('Z0.6.c ProgInvest_Dism agg'!X23,0,0,1,ScadenzaConcessione-AnnoBase+1))","v":10},false,null,null,null,null,100,100]
[null,"x",null,null,null,6,"Intervento 4","SIVCA 4",null,null,"Gallerie","in corso","CIN post2026",null,"Vite utili 1",2029,{"$f":"IF(ISNA(INDEX('Z0.4.a ProgrammaInvest_Spesa'!F:F,MATCH(F24,'Z0.4.a ProgrammaInvest_Spesa'!F:F,0))),\"nuovo, urgente\",\"pianificato\")","v":"pianificato"},null,200,{"$f":"SUM(OFFSET('Z0.6.b ProgInvest_Contr agg'!X24,0,0,1,ScadenzaConcessione-AnnoBase+1))","v":20},{"$f":"SUM(OFFSET('Z0.6.c ProgInvest_Dism agg'!X24,0,0,1,ScadenzaConcessione-AnnoBase+1))","v":10},false,null,null,null,null,null,100,100]
[null,"x",null,null,null,7,"Intervento 5","SIVCA 5",null,null,"Barriere","in corso","CIN post2026",null,"Vite utili 1",2030,{"$f":"IF(ISNA(INDEX('Z0.4.a ProgrammaInvest_Spesa'!F:F,MATCH(F25,'Z0.4.a ProgrammaInvest_Spesa'!F:F,0))),\"nuovo, urgente\",\"pianificato\")","v":"pianificato"},null,200,{"$f":"SUM(OFFSET('Z0.6.b ProgInvest_Contr agg'!X25,0,0,1,ScadenzaConcessione-AnnoBase+1))","v":20},{"$f":"SUM(OFFSET('Z0.6.c ProgInvest_Dism agg'!X25,0,0,1,ScadenzaConcessione-AnnoBase+1))","v":10},false,null,null,null,null,null,null,100,100]
[null,"x",null,null,null,8,"Intervento 6","SIVCA 6",null,null,"Corpo autostradale, opere sul territorio","in corso","CIN post2026",null,"Vite utili 1",2031,{"$f":"IF(ISNA(INDEX('Z0.4.a ProgrammaInvest_Spesa'!F:F,MATCH(F26,'Z0.4.a ProgrammaInvest_Spesa'!F:F,0))),\"nuovo, urgente\",\"pianificato\")","v":"pianificato"},null,200,{"$f":"SUM(OFFSET('Z0.6.b ProgInvest_Contr agg'!X26,0,0,1,ScadenzaConcessione-AnnoBase+1))","v":20},{"$f":"SUM(OFFSET('Z0.6.c ProgInvest_Dism agg'!X26,0,0,1,ScadenzaConcessione-AnnoBase+1))","v":10},false,null,null,null,null,null,null,null,100,100]
[null,"x",null,null,null,9,"Intervento 7","SIVCA 7",null,null,"Reti recinzione","in corso","CIN post2026",null,"Vite utili 1",2032,{"$f":"IF(ISNA(INDEX('Z0.4.a ProgrammaInvest_Spesa'!F:F,MATCH(F27,'Z0.4.a ProgrammaInvest_Spesa'!F:F,0))),\"nuovo, urgente\",\"pianificato\")","v":"pianificato"},null,200,{"$f":"SUM(OFFSET('Z0.6.b ProgInvest_Contr agg'!X27,0,0,1,ScadenzaConcessione-AnnoBase+1))","v":20},{"$f":"SUM(OFFSET('Z0.6.c ProgInvest_Dism agg'!X27,0,0,1,ScadenzaConcessione-AnnoBase+1))","v":10},false,null,null,null,null,null,null,null,null,100,100]
[null,"x",null,null,null,10,"Intervento 8","SIVCA 8",null,null,"Portali e segnaletica","in corso","CIN post2026",null,"Vite utili 1",2033,{"$f":"IF(ISNA(INDEX('Z0.4.a ProgrammaInvest_Spesa'!F:F,MATCH(F28,'Z0.4.a ProgrammaInvest_Spesa'!F:F,0))),\"nuovo, urgente\",\"pianificato\")","v":"pianificato"},null,200,{"$f":"SUM(OFFSET('Z0.6.b ProgInvest_Contr agg'!X28,0,0,1,ScadenzaConcessione-AnnoBase+1))","v":20},{"$f":"SUM(OFFSET('Z0.6.c ProgInvest_Dism agg'!X28,0,0,1,ScadenzaConcessione-AnnoBase+1))","v":10},false,null,null,null,null,null,null,null,null,null,100,100]
[null,"x",null,null,null,11,"Intervento 9","SIVCA 9",null,null,"Pavimentazioni","in corso","CIN post2026",null,"Vite utili 1",2034,{"$f":"IF(ISNA(INDEX('Z0.4.a ProgrammaInvest_Spesa'!F:F,MATCH(F29,'Z0.4.a ProgrammaInvest_Spesa'!F:F,0))),\"nuovo, urgente\",\"pianificato\")","v":"pianificato"},null,200,{"$f":"SUM(OFFSET('Z0.6.b ProgInvest_Contr agg'!X29,0,0,1,ScadenzaConcessione-AnnoBase+1))","v":20},{"$f":"SUM(OFFSET('Z0.6.c ProgInvest_Dism agg'!X29,0,0,1,ScadenzaConcessione-AnnoBase+1))","v":10},false,null,null,null,null,null,null,null,null,null,null,100,100]
[null,"x",null,null,null,12,"Intervento 10","SIVCA 10",null,null,"Infrastrutture tecnologiche ed impianti","in corso","CIN post2026",null,"Vite utili 1",2035,{"$f":"IF(ISNA(INDEX('Z0.4.a ProgrammaInvest_Spesa'!F:F,MATCH(F30,'Z0.4.a ProgrammaInvest_Spesa'!F:F,0))),\"nuovo, urgente\",\"pianificato\")","v":"pianificato"},null,200,{"$f":"SUM(OFFSET('Z0.6.b ProgInvest_Contr agg'!X30,0,0,1,ScadenzaConcessione-AnnoBase+1))","v":20},{"$f":"SUM(OFFSET('Z0.6.c ProgInvest_Dism agg'!X30,0,0,1,ScadenzaConcessione-AnnoBase+1))","v":10},false,null,null,null,null,null,null,null,null,null,null,null,100,100]
[null,"x",null,null,null,13,"Intervento 11","SIVCA 11",null,null,"Stazioni/Barriere di esazione, fabbricati, aree di servizio","in corso","CIN post2026",null,"Vite utili 1",2036,{"$f":"IF(ISNA(INDEX('Z0.4.a ProgrammaInvest_Spesa'!F:F,MATCH(F31,'Z0.4.a ProgrammaInvest_Spesa'!F:F,0))),\"nuovo, urgente\",\"pianificato\")","v":"pianificato"},null,200,{"$f":"SUM(OFFSET('Z0.6.b ProgInvest_Contr agg'!X31,0,0,1,ScadenzaConcessione-AnnoBase+1))","v":20},{"$f":"SUM(OFFSET('Z0.6.c ProgInvest_Dism agg'!X31,0,0,1,ScadenzaConcessione-AnnoBase+1))","v":10},false,null,null,null,null,null,null,null,null,null,null,null,null,100,100]
[null,"x",null,null,null,14,"Intervento 12","SIVCA 12",null,null,"Altro","in corso","CIN post2026",null,"Vite utili 1",2037,{"$f":"IF(ISNA(INDEX('Z0.4.a ProgrammaInvest_Spesa'!F:F,MATCH(F32,'Z0.4.a ProgrammaInvest_Spesa'!F:F,0))),\"nuovo, urgente\",\"pianificato\")","v":"pianificato"},null,{"$f":"SUM(OFFSET(X32,0,0,1,ScadenzaConcessione-AnnoBase+1))","v":200},{"$f":"SUM(OFFSET('Z0.6.b ProgInvest_Contr agg'!X32,0,0,1,ScadenzaConcessione-AnnoBase+1))","v":20},{"$f":"SUM(OFFSET('Z0.6.c ProgInvest_Dism agg'!X32,0,0,1,ScadenzaConcessione-AnnoBase+1))","v":10},false,null,null,null,null,null,null,null,null,null,null,null,null,null,100,100]
[null,"x",null,null,null,15,"Intervento 13","SIVCA 13",null,null,"Viadotti/Ponti/Cavalcavia","in corso","CIN post2026",null,"Vite utili 2",2028,{"$f":"IF(ISNA(INDEX('Z0.4.a ProgrammaInvest_Spesa'!F:F,MATCH(F33,'Z0.4.a ProgrammaInvest_Spesa'!F:F,0))),\"nuovo, urgente\",\"pianificato\")","v":"pianificato"},null,200,{"$f":"SUM(OFFSET('Z0.6.b ProgInvest_Contr agg'!X33,0,0,1,ScadenzaConcessione-AnnoBase+1))","v":20},{"$f":"SUM(OFFSET('Z0.6.c ProgInvest_Dism agg'!X33,0,0,1,ScadenzaConcessione-AnnoBase+1))","v":10},false,null,null,null,null,100,100]
[null,"x",null,null,null,16,"Intervento 14","SIVCA 14",null,null,"Gallerie","in corso","CIN post2026",null,"Vite utili 2",2029,{"$f":"IF(ISNA(INDEX('Z0.4.a ProgrammaInvest_Spesa'!F:F,MATCH(F34,'Z0.4.a ProgrammaInvest_Spesa'!F:F,0))),\"nuovo, urgente\",\"pianificato\")","v":"pianificato"},null,{"$f":"SUM(OFFSET(X34,0,0,1,ScadenzaConcessione-AnnoBase+1))","v":200},{"$f":"SUM(OFFSET('Z0.6.b ProgInvest_Contr agg'!X34,0,0,1,ScadenzaConcessione-AnnoBase+1))","v":20},{"$f":"SUM(OFFSET('Z0.6.c ProgInvest_Dism agg'!X34,0,0,1,ScadenzaConcessione-AnnoBase+1))","v":10},false,null,null,null,null,null,100,100]
[null,"x",null,null,null,17,"Intervento 15","SIVCA 15",null,null,"Barriere","in corso","CIN post2026",null,"Vite utili 2",2030,{"$f":"IF(ISNA(INDEX('Z0.4.a ProgrammaInvest_Spesa'!F:F,MATCH(F35,'Z0.4.a ProgrammaInvest_Spesa'!F:F,0))),\"nuovo, urgente\",\"pianificato\")","v":"pianificato"},null,200,{"$f":"SUM(OFFSET('Z0.6.b ProgInvest_Contr agg'!X35,0,0,1,ScadenzaConcessione-AnnoBase+1))","v":20},{"$f":"SUM(OFFSET('Z0.6.c ProgInvest_Dism agg'!X35,0,0,1,ScadenzaConcessione-AnnoBase+1))","v":10},false,null,null,null,null,null,null,100,100]
[null,"x",null,null,null,18,"Intervento 16","SIVCA 16",null,null,"Corpo autostradale, opere sul territorio","in corso","CIN post2026",null,"Vite utili 2",2031,{"$f":"IF(ISNA(INDEX('Z0.4.a ProgrammaInvest_Spesa'!F:F,MATCH(F36,'Z0.4.a ProgrammaInvest_Spesa'!F:F,0))),\"nuovo, urgente\",\"pianificato\")","v":"pianificato"},null,200,{"$f":"SUM(OFFSET('Z0.6.b ProgInvest_Contr agg'!X36,0,0,1,ScadenzaConcessione-AnnoBase+1))","v":20},{"$f":"SUM(OFFSET('Z0.6.c ProgInvest_Dism agg'!X36,0,0,1,ScadenzaConcessione-AnnoBase+1))","v":10},false,null,null,null,null,null,null,null,100,100]
[null,"x",null,null,null,19,"Intervento 17","SIVCA 17",null,null,"Reti recinzione","in corso","CIN post2026",null,"Vite utili 2",2032,{"$f":"IF(ISNA(INDEX('Z0.4.a ProgrammaInvest_Spesa'!F:F,MATCH(F37,'Z0.4.a ProgrammaInvest_Spesa'!F:F,0))),\"nuovo, urgente\",\"pianificato\")","v":"pianificato"},null,200,{"$f":"SUM(OFFSET('Z0.6.b ProgInvest_Contr agg'!X37,0,0,1,ScadenzaConcessione-AnnoBase+1))","v":20},{"$f":"SUM(OFFSET('Z0.6.c ProgInvest_Dism agg'!X37,0,0,1,ScadenzaConcessione-AnnoBase+1))","v":10},false,null,null,null,null,null,null,null,null,100,100]
[null,"x",null,null,null,20,"Intervento 18","SIVCA 18",null,null,"Portali e segnaletica","in corso","CIN post2026",null,"Vite utili 2",2033,{"$f":"IF(ISNA(INDEX('Z0.4.a ProgrammaInvest_Spesa'!F:F,MATCH(F38,'Z0.4.a ProgrammaInvest_Spesa'!F:F,0))),\"nuovo, urgente\",\"pianificato\")","v":"pianificato"},null,200,{"$f":"SUM(OFFSET('Z0.6.b ProgInvest_Contr agg'!X38,0,0,1,ScadenzaConcessione-AnnoBase+1))","v":20},{"$f":"SUM(OFFSET('Z0.6.c ProgInvest_Dism agg'!X38,0,0,1,ScadenzaConcessione-AnnoBase+1))","v":10},false,null,null,null,null,null,null,null,null,null,100,100]
[null,"x",null,null,null,21,"Intervento 19","SIVCA 19",null,null,"Pavimentazioni","in corso","CIN post2026",null,"Vite utili 2",2034,{"$f":"IF(ISNA(INDEX('Z0.4.a ProgrammaInvest_Spesa'!F:F,MATCH(F39,'Z0.4.a ProgrammaInvest_Spesa'!F:F,0))),\"nuovo, urgente\",\"pianificato\")","v":"pianificato"},null,200,{"$f":"SUM(OFFSET('Z0.6.b ProgInvest_Contr agg'!X39,0,0,1,ScadenzaConcessione-AnnoBase+1))","v":20},{"$f":"SUM(OFFSET('Z0.6.c ProgInvest_Dism agg'!X39,0,0,1,ScadenzaConcessione-AnnoBase+1))","v":10},false,null,null,null,null,null,null,null,null,null,null,100,100]
[null,"x",null,null,null,22,"Intervento 20","SIVCA 20",null,null,"Infrastrutture tecnologiche ed impianti","in corso","CIN post2026",null,"Vite utili 2",2035,{"$f":"IF(ISNA(INDEX('Z0.4.a ProgrammaInvest_Spesa'!F:F,MATCH(F40,'Z0.4.a ProgrammaInvest_Spesa'!F:F,0))),\"nuovo, urgente\",\"pianificato\")","v":"pianificato"},null,200,{"$f":"SUM(OFFSET('Z0.6.b ProgInvest_Contr agg'!X40,0,0,1,ScadenzaConcessione-AnnoBase+1))","v":20},{"$f":"SUM(OFFSET('Z0.6.c ProgInvest_Dism agg'!X40,0,0,1,ScadenzaConcessione-AnnoBase+1))","v":10},false,null,null,null,null,null,null,null,null,null,null,null,100,100]
[null,"x",null,null,null,23,"Intervento 21","SIVCA 21",null,null,"Stazioni/Barriere di esazione, fabbricati, aree di servizio","in corso","CIN post2026",null,"Vite utili 2",2036,{"$f":"IF(ISNA(INDEX('Z0.4.a ProgrammaInvest_Spesa'!F:F,MATCH(F41,'Z0.4.a ProgrammaInvest_Spesa'!F:F,0))),\"nuovo, urgente\",\"pianificato\")","v":"pianificato"},null,200,{"$f":"SUM(OFFSET('Z0.6.b ProgInvest_Contr agg'!X41,0,0,1,ScadenzaConcessione-AnnoBase+1))","v":20},{"$f":"SUM(OFFSET('Z0.6.c ProgInvest_Dism agg'!X41,0,0,1,ScadenzaConcessione-AnnoBase+1))","v":10},false,null,null,null,null,null,null,null,null,null,null,null,null,100,100]
[null,"x",null,null,null,24,"Intervento 22","SIVCA 22",null,null,"Altro","in corso","CIN post2026",null,"Vite utili 2",2037,{"$f":"IF(ISNA(INDEX('Z0.4.a ProgrammaInvest_Spesa'!F:F,MATCH(F42,'Z0.4.a ProgrammaInvest_Spesa'!F:F,0))),\"nuovo, urgente\",\"pianificato\")","v":"pianificato"},null,200,{"$f":"SUM(OFFSET('Z0.6.b ProgInvest_Contr agg'!X42,0,0,1,ScadenzaConcessione-AnnoBase+1))","v":20},{"$f":"SUM(OFFSET('Z0.6.c ProgInvest_Dism agg'!X42,0,0,1,ScadenzaConcessione-AnnoBase+1))","v":10},false,null,null,null,null,null,null,null,null,null,null,null,null,null,100,100]
[null,"x",null,null,null,25,"Intervento 23","SIVCA 23",null,null,"(assoggettata ad ammortamento finanziario)","in corso","CIN post2026",null,"Finanziario",null,{"$f":"IF(ISNA(INDEX('Z0.4.a ProgrammaInvest_Spesa'!F:F,MATCH(F43,'Z0.4.a ProgrammaInvest_Spesa'!F:F,0))),\"nuovo, urgente\",\"pianificato\")","v":"nuovo, urgente"},null,{"$f":"SUM(OFFSET(X43,0,0,1,ScadenzaConcessione-AnnoBase+1))","v":0},{"$f":"SUM(OFFSET('Z0.6.b ProgInvest_Contr agg'!X43,0,0,1,ScadenzaConcessione-AnnoBase+1))","v":0},{"$f":"SUM(OFFSET('Z0.6.c ProgInvest_Dism agg'!X43,0,0,1,ScadenzaConcessione-AnnoBase+1))","v":0},true,null,null,null,null,0,0]
[null,"x",null,null,null,26,"Intervento 24","SIVCA 24",null,null,"Viadotti/Ponti/Cavalcavia","in corso","CIN post2026",null,"Vite utili 2",2029,{"$f":"IF(ISNA(INDEX('Z0.4.a ProgrammaInvest_Spesa'!F:F,MATCH(F44,'Z0.4.a ProgrammaInvest_Spesa'!F:F,0))),\"nuovo, urgente\",\"pianificato\")","v":"nuovo, urgente"},null,0,{"$f":"SUM(OFFSET('Z0.6.b ProgInvest_Contr agg'!X44,0,0,1,ScadenzaConcessione-AnnoBase+1))","v":0},{"$f":"SUM(OFFSET('Z0.6.c ProgInvest_Dism agg'!X44,0,0,1,ScadenzaConcessione-AnnoBase+1))","v":0},true,null,null,null,null,0,0]

{"sheet":"Z0.6.b ProgInvest_Contr agg","index":13,"n_rows":44,"n_cols":38,"rows_kept":44,"cut":false,"hidden":false,"merged":[]}
[]
[null,null,"Programma degli Investimenti - aggiornamento (2/6)"]
[]
[null,null,null,null,null,null,null,null,null,null,null,null,null,null,null,null,null,null,null,null,"Anno",null,null,2024,2025,2026,2027,2028,2029,2030,2031,2032,2033,2034,2035,2036,2037,2038]
[]
[null,null,null,null,null,null,null,null,null,null,null,null,null,null,null,null,null,null,null,null,"Anno base",null,null,1,0,0,0,1,0,0,0,0,1,0,0,0,0,0]
[null,null,null,null,null,null,null,null,null,null,null,null,null,null,null,null,null,null,null,null,"Anno ponte",null,null,0,1,0,0,0,1,0,0,0,0,1,0,0,0,0]
[null,null,null,null,null,null,null,null,null,null,null,null,null,null,null,null,null,null,null,null,"Periodo regolatorio",null,null,0,0,1,1,1,1,2,2,2,2,2,3,3,3,3]
[null,null,null,null,null,null,null,null,null,null,null,null,null,null,null,null,null,null,null,null,"Anno del periodo regolatorio",null,null,0,0,1,2,3,4,1,2,3,4,5,1,2,3,4]
[null,null,null,null,null,null,null,null,null,null,null,null,null,null,null,null,null,null,null,null,"Frazione di anno significativa",null,null,null,null,1,1,1,1,1,1,1,1,1,1,1,1,1]
[]
[null,null,null,null,null,null,null,null,null,null,null,null,null,null,null,null,null,null,null,null,null,null,null,null,"Ultimo adattamento schema: 03/11/2025 14:32:46"]
[]
[null,null,"Programmazione ammissibile in tariffa: Importo annuo eventuali contributi in c/impianti o in c/capitale"]
[null,null,"Tabella da alimentare solo con spese per beni reversibili, autorizzati e ammissibili in tariffa"]
[]
[null,null,"Atto convenzionale di riferimento","Rif. macro intervento","Rif. lett. art.","Codice univoco intervento","Descrizione intervento","Codice SIVCA","Tratta autostradale da convenzione","Macro tipologia intervento","Tipologia intervento","Stato lavori","Tipologia CIN","Stati di \navanzamento \nCIN ante","Criterio di ammortamento","Data presunta entrata in esercizio (anno)","Status intervento","Responsabilità della variazione","Spesa programmata totale","Contributo a fondo perduto","Eventuali dismissioni","Variazione importi programmati",null,null,{"$f":"\"Contributo programmato aggiornato    \" & Y4","v":"Contributo programmato aggiornato    2025"},{"$f":"\"Contributo programmato aggiornato    \" & Z4","v":"Contributo programmato aggiornato    2026"},{"$f":"\"Contributo programmato aggiornato    \" & AA4","v":"Contributo programmato aggiornato    2027"},"Contributo programmato aggiornato    2028","Contributo programmato aggiornato    2029","Contributo programmato aggiornato    2030","Contributo programmato aggiornato    2031","Contributo programmato aggiornato    2032","Contributo programmato aggiornato    2033","Contributo programmato aggiornato    2034","Contributo programmato aggiornato    2035","Contributo programmato aggiornato    2036","Contributo programmato aggiornato    2037","Contributo programmato aggiornato    2038"]
[]
[null,"x",{"$f":"IF('Z0.6.a ProgInvest_Spesa agg'!C19=\"\",\"\",'Z0.6.a ProgInvest_Spesa agg'!C19)","v":""},{"$f":"IF('Z0.6.a ProgInvest_Spesa agg'!D19=\"\",\"\",'Z0.6.a ProgInvest_Spesa agg'!D19)","v":""},{"$f":"IF('Z0.6.a ProgInvest_Spesa agg'!E19=\"\",\"\",'Z0.6.a ProgInvest_Spesa agg'!E19)","v":""},{"$f":"IF('Z0.6.a ProgInvest_Spesa agg'!F19=\"\",\"\",'Z0.6.a ProgInvest_Spesa agg'!F19)","v":1},{"$f":"IF('Z0.6.a ProgInvest_Spesa agg'!G19=\"\",\"\",'Z0.6.a ProgInvest_Spesa agg'!G19)","v":"Intervento 1"},{"$f":"IF('Z0.6.a ProgInvest_Spesa agg'!H19=\"\",\"\",'Z0.6.a ProgInvest_Spesa agg'!H19)","v":"SIVCA 1"},{"$f":"IF('Z0.6.a ProgInvest_Spesa agg'!I19=\"\",\"\",'Z0.6.a ProgInvest_Spesa agg'!I19)","v":""},{"$f":"IF('Z0.6.a ProgInvest_Spesa agg'!J19=\"\",\"\",'Z0.6.a ProgInvest_Spesa agg'!J19)","v":""},{"$f":"IF('Z0.6.a ProgInvest_Spesa agg'!K19=\"\",\"\",'Z0.6.a ProgInvest_Spesa agg'!K19)","v":"(assoggettata ad ammortamento finanziario)"},{"$f":"IF('Z0.6.a ProgInvest_Spesa agg'!L19=\"\",\"\",'Z0.6.a ProgInvest_Spesa agg'!L19)","v":"in corso"},{"$f":"IF('Z0.6.a ProgInvest_Spesa agg'!M19=\"\",\"\",'Z0.6.a ProgInvest_Spesa agg'!M19)","v":"CIN ante"},{"$f":"IF('Z0.6.a ProgInvest_Spesa agg'!N19=\"\",\"\",'Z0.6.a ProgInvest_Spesa agg'!N19)","v":"SAL contabilizzati"},{"$f":"IF('Z0.6.a ProgInvest_Spesa agg'!O19=\"\",\"\",'Z0.6.a ProgInvest_Spesa agg'!O19)","v":"Finanziario"},{"$f":"IF('Z0.6.a ProgInvest_Spesa agg'!P19=\"\",\"\",'Z0.6.a ProgInvest_Spesa agg'!P19)","v":""},{"$f":"IF('Z0.6.a ProgInvest_Spesa agg'!Q19=\"\",\"\",'Z0.6.a ProgInvest_Spesa agg'!Q19)","v":"pianificato"},{"$f":"IF('Z0.6.a ProgInvest_Spesa agg'!R19=\"\",\"\",'Z0.6.a ProgInvest_Spesa agg'!R19)","v":""},{"$f":"IF('Z0.6.a ProgInvest_Spesa agg'!S19=\"\",\"\",'Z0.6.a ProgInvest_Spesa agg'!S19)","v":0},{"$f":"IF('Z0.6.a ProgInvest_Spesa agg'!T19=\"\",\"\",'Z0.6.a ProgInvest_Spesa agg'!T19)","v":2000},{"$f":"IF('Z0.6.a ProgInvest_Spesa agg'!U19=\"\",\"\",'Z0.6.a ProgInvest_Spesa agg'!U19)","v":20},false,null,null,null,2000]
[null,"x",{"$f":"IF('Z0.6.a ProgInvest_Spesa agg'!C20=\"\",\"\",'Z0.6.a ProgInvest_Spesa agg'!C20)","v":""},{"$f":"IF('Z0.6.a ProgInvest_Spesa agg'!D20=\"\",\"\",'Z0.6.a ProgInvest_Spesa agg'!D20)","v":""},{"$f":"IF('Z0.6.a ProgInvest_Spesa agg'!E20=\"\",\"\",'Z0.6.a ProgInvest_Spesa agg'!E20)","v":""},{"$f":"IF('Z0.6.a ProgInvest_Spesa agg'!F20=\"\",\"\",'Z0.6.a ProgInvest_Spesa agg'!F20)","v":2},{"$f":"IF('Z0.6.a ProgInvest_Spesa agg'!G20=\"\",\"\",'Z0.6.a ProgInvest_Spesa agg'!G20)","v":"Intervento 2"},{"$f":"IF('Z0.6.a ProgInvest_Spesa agg'!H20=\"\",\"\",'Z0.6.a ProgInvest_Spesa agg'!H20)","v":"SIVCA 2"},{"$f":"IF('Z0.6.a ProgInvest_Spesa agg'!I20=\"\",\"\",'Z0.6.a ProgInvest_Spesa agg'!I20)","v":""},{"$f":"IF('Z0.6.a ProgInvest_Spesa agg'!J20=\"\",\"\",'Z0.6.a ProgInvest_Spesa agg'!J20)","v":""},{"$f":"IF('Z0.6.a ProgInvest_Spesa agg'!K20=\"\",\"\",'Z0.6.a ProgInvest_Spesa agg'!K20)","v":"(assoggettata ad ammortamento finanziario)"},{"$f":"IF('Z0.6.a ProgInvest_Spesa agg'!L20=\"\",\"\",'Z0.6.a ProgInvest_Spesa agg'!L20)","v":"in corso"},{"$f":"IF('Z0.6.a ProgInvest_Spesa agg'!M20=\"\",\"\",'Z0.6.a ProgInvest_Spesa agg'!M20)","v":"CIN ante"},{"$f":"IF('Z0.6.a ProgInvest_Spesa agg'!N20=\"\",\"\",'Z0.6.a ProgInvest_Spesa agg'!N20)","v":"SAL da contabilizzare"},{"$f":"IF('Z0.6.a ProgInvest_Spesa agg'!O20=\"\",\"\",'Z0.6.a ProgInvest_Spesa agg'!O20)","v":"Finanziario"},{"$f":"IF('Z0.6.a ProgInvest_Spesa agg'!P20=\"\",\"\",'Z0.6.a ProgInvest_Spesa agg'!P20)","v":""},{"$f":"IF('Z0.6.a ProgInvest_Spesa agg'!Q20=\"\",\"\",'Z0.6.a ProgInvest_Spesa agg'!Q20)","v":"pianificato"},{"$f":"IF('Z0.6.a ProgInvest_Spesa agg'!R20=\"\",\"\",'Z0.6.a ProgInvest_Spesa agg'!R20)","v":""},{"$f":"IF('Z0.6.a ProgInvest_Spesa agg'!S20=\"\",\"\",'Z0.6.a ProgInvest_Spesa agg'!S20)","v":20000},{"$f":"IF('Z0.6.a ProgInvest_Spesa agg'!T20=\"\",\"\",'Z0.6.a ProgInvest_Spesa agg'!T20)","v":1000},{"$f":"IF('Z0.6.a ProgInvest_Spesa agg'!U20=\"\",\"\",'Z0.6.a ProgInvest_Spesa agg'!U20)","v":20},false,null,null,null,1000]
[null,"x",{"$f":"IF('Z0.6.a ProgInvest_Spesa agg'!C21=\"\",\"\",'Z0.6.a ProgInvest_Spesa agg'!C21)","v":""},{"$f":"IF('Z0.6.a ProgInvest_Spesa agg'!D21=\"\",\"\",'Z0.6.a ProgInvest_Spesa agg'!D21)","v":""},{"$f":"IF('Z0.6.a ProgInvest_Spesa agg'!E21=\"\",\"\",'Z0.6.a ProgInvest_Spesa agg'!E21)","v":""},{"$f":"IF('Z0.6.a ProgInvest_Spesa agg'!F21=\"\",\"\",'Z0.6.a ProgInvest_Spesa agg'!F21)","v":3},{"$f":"IF('Z0.6.a ProgInvest_Spesa agg'!G21=\"\",\"\",'Z0.6.a ProgInvest_Spesa agg'!G21)","v":"Intervento 2"},{"$f":"IF('Z0.6.a ProgInvest_Spesa agg'!H21=\"\",\"\",'Z0.6.a ProgInvest_Spesa agg'!H21)","v":"SIVCA 2"},{"$f":"IF('Z0.6.a ProgInvest_Spesa agg'!I21=\"\",\"\",'Z0.6.a ProgInvest_Spesa agg'!I21)","v":""},{"$f":"IF('Z0.6.a ProgInvest_Spesa agg'!J21=\"\",\"\",'Z0.6.a ProgInvest_Spesa agg'!J21)","v":""},{"$f":"IF('Z0.6.a ProgInvest_Spesa agg'!K21=\"\",\"\",'Z0.6.a ProgInvest_Spesa agg'!K21)","v":"(assoggettata ad ammortamento finanziario)"},{"$f":"IF('Z0.6.a ProgInvest_Spesa agg'!L21=\"\",\"\",'Z0.6.a ProgInvest_Spesa agg'!L21)","v":"in corso"},{"$f":"IF('Z0.6.a ProgInvest_Spesa agg'!M21=\"\",\"\",'Z0.6.a ProgInvest_Spesa agg'!M21)","v":"CIN pre2026"},{"$f":"IF('Z0.6.a ProgInvest_Spesa agg'!N21=\"\",\"\",'Z0.6.a ProgInvest_Spesa agg'!N21)","v":""},{"$f":"IF('Z0.6.a ProgInvest_Spesa agg'!O21=\"\",\"\",'Z0.6.a ProgInvest_Spesa agg'!O21)","v":"Finanziario"},{"$f":"IF('Z0.6.a ProgInvest_Spesa agg'!P21=\"\",\"\",'Z0.6.a ProgInvest_Spesa agg'!P21)","v":""},{"$f":"IF('Z0.6.a ProgInvest_Spesa agg'!Q21=\"\",\"\",'Z0.6.a ProgInvest_Spesa agg'!Q21)","v":"pianificato"},{"$f":"IF('Z0.6.a ProgInvest_Spesa agg'!R21=\"\",\"\",'Z0.6.a ProgInvest_Spesa agg'!R21)","v":""},{"$f":"IF('Z0.6.a ProgInvest_Spesa agg'!S21=\"\",\"\",'Z0.6.a ProgInvest_Spesa agg'!S21)","v":20000},{"$f":"IF('Z0.6.a ProgInvest_Spesa agg'!T21=\"\",\"\",'Z0.6.a ProgInvest_Spesa agg'!T21)","v":1000},{"$f":"IF('Z0.6.a ProgInvest_Spesa agg'!U21=\"\",\"\",'Z0.6.a ProgInvest_Spesa agg'!U21)","v":20},false,null,null,null,1000]
[null,"x",{"$f":"IF('Z0.6.a ProgInvest_Spesa agg'!C22=\"\",\"\",'Z0.6.a ProgInvest_Spesa agg'!C22)","v":""},{"$f":"IF('Z0.6.a ProgInvest_Spesa agg'!D22=\"\",\"\",'Z0.6.a ProgInvest_Spesa agg'!D22)","v":""},{"$f":"IF('Z0.6.a ProgInvest_Spesa agg'!E22=\"\",\"\",'Z0.6.a ProgInvest_Spesa agg'!E22)","v":""},{"$f":"IF('Z0.6.a ProgInvest_Spesa agg'!F22=\"\",\"\",'Z0.6.a ProgInvest_Spesa agg'!F22)","v":4},{"$f":"IF('Z0.6.a ProgInvest_Spesa agg'!G22=\"\",\"\",'Z0.6.a ProgInvest_Spesa agg'!G22)","v":"Intervento 2"},{"$f":"IF('Z0.6.a ProgInvest_Spesa agg'!H22=\"\",\"\",'Z0.6.a ProgInvest_Spesa agg'!H22)","v":"SIVCA 2"},{"$f":"IF('Z0.6.a ProgInvest_Spesa agg'!I22=\"\",\"\",'Z0.6.a ProgInvest_Spesa agg'!I22)","v":""},{"$f":"IF('Z0.6.a ProgInvest_Spesa agg'!J22=\"\",\"\",'Z0.6.a ProgInvest_Spesa agg'!J22)","v":""},{"$f":"IF('Z0.6.a ProgInvest_Spesa agg'!K22=\"\",\"\",'Z0.6.a ProgInvest_Spesa agg'!K22)","v":"(assoggettata ad ammortamento finanziario)"},{"$f":"IF('Z0.6.a ProgInvest_Spesa agg'!L22=\"\",\"\",'Z0.6.a ProgInvest_Spesa agg'!L22)","v":"in corso"},{"$f":"IF('Z0.6.a ProgInvest_Spesa agg'!M22=\"\",\"\",'Z0.6.a ProgInvest_Spesa agg'!M22)","v":"CIN post2026"},{"$f":"IF('Z0.6.a ProgInvest_Spesa agg'!N22=\"\",\"\",'Z0.6.a ProgInvest_Spesa agg'!N22)","v":""},{"$f":"IF('Z0.6.a ProgInvest_Spesa agg'!O22=\"\",\"\",'Z0.6.a ProgInvest_Spesa agg'!O22)","v":"Finanziario"},{"$f":"IF('Z0.6.a ProgInvest_Spesa agg'!P22=\"\",\"\",'Z0.6.a ProgInvest_Spesa agg'!P22)","v":""},{"$f":"IF('Z0.6.a ProgInvest_Spesa agg'!Q22=\"\",\"\",'Z0.6.a ProgInvest_Spesa agg'!Q22)","v":"pianificato"},{"$f":"IF('Z0.6.a ProgInvest_Spesa agg'!R22=\"\",\"\",'Z0.6.a ProgInvest_Spesa agg'!R22)","v":""},{"$f":"IF('Z0.6.a ProgInvest_Spesa agg'!S22=\"\",\"\",'Z0.6.a ProgInvest_Spesa agg'!S22)","v":100000},{"$f":"IF('Z0.6.a ProgInvest_Spesa agg'!T22=\"\",\"\",'Z0.6.a ProgInvest_Spesa agg'!T22)","v":1000},{"$f":"IF('Z0.6.a ProgInvest_Spesa agg'!U22=\"\",\"\",'Z0.6.a ProgInvest_Spesa agg'!U22)","v":20},false,null,null,null,1000]
[null,"x",{"$f":"IF('Z0.6.a ProgInvest_Spesa agg'!C23=\"\",\"\",'Z0.6.a ProgInvest_Spesa agg'!C23)","v":""},{"$f":"IF('Z0.6.a ProgInvest_Spesa agg'!D23=\"\",\"\",'Z0.6.a ProgInvest_Spesa agg'!D23)","v":""},{"$f":"IF('Z0.6.a ProgInvest_Spesa agg'!E23=\"\",\"\",'Z0.6.a ProgInvest_Spesa agg'!E23)","v":""},{"$f":"IF('Z0.6.a ProgInvest_Spesa agg'!F23=\"\",\"\",'Z0.6.a ProgInvest_Spesa agg'!F23)","v":5},{"$f":"IF('Z0.6.a ProgInvest_Spesa agg'!G23=\"\",\"\",'Z0.6.a ProgInvest_Spesa agg'!G23)","v":"Intervento 3"},{"$f":"IF('Z0.6.a ProgInvest_Spesa agg'!H23=\"\",\"\",'Z0.6.a ProgInvest_Spesa agg'!H23)","v":"SIVCA 3"},{"$f":"IF('Z0.6.a ProgInvest_Spesa agg'!I23=\"\",\"\",'Z0.6.a ProgInvest_Spesa agg'!I23)","v":""},{"$f":"IF('Z0.6.a ProgInvest_Spesa agg'!J23=\"\",\"\",'Z0.6.a ProgInvest_Spesa agg'!J23)","v":""},{"$f":"IF('Z0.6.a ProgInvest_Spesa agg'!K23=\"\",\"\",'Z0.6.a ProgInvest_Spesa agg'!K23)","v":"Viadotti/Ponti/Cavalcavia"},{"$f":"IF('Z0.6.a ProgInvest_Spesa agg'!L23=\"\",\"\",'Z0.6.a ProgInvest_Spesa agg'!L23)","v":"in corso"},{"$f":"IF('Z0.6.a ProgInvest_Spesa agg'!M23=\"\",\"\",'Z0.6.a ProgInvest_Spesa agg'!M23)","v":"CIN post2026"},{"$f":"IF('Z0.6.a ProgInvest_Spesa agg'!N23=\"\",\"\",'Z0.6.a ProgInvest_Spesa agg'!N23)","v":""},{"$f":"IF('Z0.6.a ProgInvest_Spesa agg'!O23=\"\",\"\",'Z0.6.a ProgInvest_Spesa agg'!O23)","v":"Vite utili 1"},{"$f":"IF('Z0.6.a ProgInvest_Spesa agg'!P23=\"\",\"\",'Z0.6.a ProgInvest_Spesa agg'!P23)","v":2028},{"$f":"IF('Z0.6.a ProgInvest_Spesa agg'!Q23=\"\",\"\",'Z0.6.a ProgInvest_Spesa agg'!Q23)","v":"pianificato"},{"$f":"IF('Z0.6.a ProgInvest_Spesa agg'!R23=\"\",\"\",'Z0.6.a ProgInvest_Spesa agg'!R23)","v":""},{"$f":"IF('Z0.6.a ProgInvest_Spesa agg'!S23=\"\",\"\",'Z0.6.a ProgInvest_Spesa agg'!S23)","v":200},{"$f":"IF('Z0.6.a ProgInvest_Spesa agg'!T23=\"\",\"\",'Z0.6.a ProgInvest_Spesa agg'!T23)","v":20},{"$f":"IF('Z0.6.a ProgInvest_Spesa agg'!U23=\"\",\"\",'Z0.6.a ProgInvest_Spesa agg'!U23)","v":10},false,null,null,null,null,20]
[null,"x",{"$f":"IF('Z0.6.a ProgInvest_Spesa agg'!C24=\"\",\"\",'Z0.6.a ProgInvest_Spesa agg'!C24)","v":""},{"$f":"IF('Z0.6.a ProgInvest_Spesa agg'!D24=\"\",\"\",'Z0.6.a ProgInvest_Spesa agg'!D24)","v":""},{"$f":"IF('Z0.6.a ProgInvest_Spesa agg'!E24=\"\",\"\",'Z0.6.a ProgInvest_Spesa agg'!E24)","v":""},{"$f":"IF('Z0.6.a ProgInvest_Spesa agg'!F24=\"\",\"\",'Z0.6.a ProgInvest_Spesa agg'!F24)","v":6},{"$f":"IF('Z0.6.a ProgInvest_Spesa agg'!G24=\"\",\"\",'Z0.6.a ProgInvest_Spesa agg'!G24)","v":"Intervento 4"},{"$f":"IF('Z0.6.a ProgInvest_Spesa agg'!H24=\"\",\"\",'Z0.6.a ProgInvest_Spesa agg'!H24)","v":"SIVCA 4"},{"$f":"IF('Z0.6.a ProgInvest_Spesa agg'!I24=\"\",\"\",'Z0.6.a ProgInvest_Spesa agg'!I24)","v":""},{"$f":"IF('Z0.6.a ProgInvest_Spesa agg'!J24=\"\",\"\",'Z0.6.a ProgInvest_Spesa agg'!J24)","v":""},{"$f":"IF('Z0.6.a ProgInvest_Spesa agg'!K24=\"\",\"\",'Z0.6.a ProgInvest_Spesa agg'!K24)","v":"Gallerie"},{"$f":"IF('Z0.6.a ProgInvest_Spesa agg'!L24=\"\",\"\",'Z0.6.a ProgInvest_Spesa agg'!L24)","v":"in corso"},{"$f":"IF('Z0.6.a ProgInvest_Spesa agg'!M24=\"\",\"\",'Z0.6.a ProgInvest_Spesa agg'!M24)","v":"CIN post2026"},{"$f":"IF('Z0.6.a ProgInvest_Spesa agg'!N24=\"\",\"\",'Z0.6.a ProgInvest_Spesa agg'!N24)","v":""},{"$f":"IF('Z0.6.a ProgInvest_Spesa agg'!O24=\"\",\"\",'Z0.6.a ProgInvest_Spesa agg'!O24)","v":"Vite utili 1"},{"$f":"IF('Z0.6.a ProgInvest_Spesa agg'!P24=\"\",\"\",'Z0.6.a ProgInvest_Spesa agg'!P24)","v":2029},{"$f":"IF('Z0.6.a ProgInvest_Spesa agg'!Q24=\"\",\"\",'Z0.6.a ProgInvest_Spesa agg'!Q24)","v":"pianificato"},{"$f":"IF('Z0.6.a ProgInvest_Spesa agg'!R24=\"\",\"\",'Z0.6.a ProgInvest_Spesa agg'!R24)","v":""},{"$f":"IF('Z0.6.a ProgInvest_Spesa agg'!S24=\"\",\"\",'Z0.6.a ProgInvest_Spesa agg'!S24)","v":200},{"$f":"IF('Z0.6.a ProgInvest_Spesa agg'!T24=\"\",\"\",'Z0.6.a ProgInvest_Spesa agg'!T24)","v":20},{"$f":"IF('Z0.6.a ProgInvest_Spesa agg'!U24=\"\",\"\",'Z0.6.a ProgInvest_Spesa agg'!U24)","v":10},false,null,null,null,null,null,20]
[null,"x",{"$f":"IF('Z0.6.a ProgInvest_Spesa agg'!C25=\"\",\"\",'Z0.6.a ProgInvest_Spesa agg'!C25)","v":""},{"$f":"IF('Z0.6.a ProgInvest_Spesa agg'!D25=\"\",\"\",'Z0.6.a ProgInvest_Spesa agg'!D25)","v":""},{"$f":"IF('Z0.6.a ProgInvest_Spesa agg'!E25=\"\",\"\",'Z0.6.a ProgInvest_Spesa agg'!E25)","v":""},{"$f":"IF('Z0.6.a ProgInvest_Spesa agg'!F25=\"\",\"\",'Z0.6.a ProgInvest_Spesa agg'!F25)","v":7},{"$f":"IF('Z0.6.a ProgInvest_Spesa agg'!G25=\"\",\"\",'Z0.6.a ProgInvest_Spesa agg'!G25)","v":"Intervento 5"},{"$f":"IF('Z0.6.a ProgInvest_Spesa agg'!H25=\"\",\"\",'Z0.6.a ProgInvest_Spesa agg'!H25)","v":"SIVCA 5"},{"$f":"IF('Z0.6.a ProgInvest_Spesa agg'!I25=\"\",\"\",'Z0.6.a ProgInvest_Spesa agg'!I25)","v":""},{"$f":"IF('Z0.6.a ProgInvest_Spesa agg'!J25=\"\",\"\",'Z0.6.a ProgInvest_Spesa agg'!J25)","v":""},{"$f":"IF('Z0.6.a ProgInvest_Spesa agg'!K25=\"\",\"\",'Z0.6.a ProgInvest_Spesa agg'!K25)","v":"Barriere"},{"$f":"IF('Z0.6.a ProgInvest_Spesa agg'!L25=\"\",\"\",'Z0.6.a ProgInvest_Spesa agg'!L25)","v":"in corso"},{"$f":"IF('Z0.6.a ProgInvest_Spesa agg'!M25=\"\",\"\",'Z0.6.a ProgInvest_Spesa agg'!M25)","v":"CIN post2026"},{"$f":"IF('Z0.6.a ProgInvest_Spesa agg'!N25=\"\",\"\",'Z0.6.a ProgInvest_Spesa agg'!N25)","v":""},{"$f":"IF('Z0.6.a ProgInvest_Spesa agg'!O25=\"\",\"\",'Z0.6.a ProgInvest_Spesa agg'!O25)","v":"Vite utili 1"},{"$f":"IF('Z0.6.a ProgInvest_Spesa agg'!P25=\"\",\"\",'Z0.6.a ProgInvest_Spesa agg'!P25)","v":2030},{"$f":"IF('Z0.6.a ProgInvest_Spesa agg'!Q25=\"\",\"\",'Z0.6.a ProgInvest_Spesa agg'!Q25)","v":"pianificato"},{"$f":"IF('Z0.6.a ProgInvest_Spesa agg'!R25=\"\",\"\",'Z0.6.a ProgInvest_Spesa agg'!R25)","v":""},{"$f":"IF('Z0.6.a ProgInvest_Spesa agg'!S25=\"\",\"\",'Z0.6.a ProgInvest_Spesa agg'!S25)","v":200},{"$f":"IF('Z0.6.a ProgInvest_Spesa agg'!T25=\"\",\"\",'Z0.6.a ProgInvest_Spesa agg'!T25)","v":20},{"$f":"IF('Z0.6.a ProgInvest_Spesa agg'!U25=\"\",\"\",'Z0.6.a ProgInvest_Spesa agg'!U25)","v":10},false,null,null,null,null,null,null,20]
[null,"x",{"$f":"IF('Z0.6.a ProgInvest_Spesa agg'!C26=\"\",\"\",'Z0.6.a ProgInvest_Spesa agg'!C26)","v":""},{"$f":"IF('Z0.6.a ProgInvest_Spesa agg'!D26=\"\",\"\",'Z0.6.a ProgInvest_Spesa agg'!D26)","v":""},{"$f":"IF('Z0.6.a ProgInvest_Spesa agg'!E26=\"\",\"\",'Z0.6.a ProgInvest_Spesa agg'!E26)","v":""},{"$f":"IF('Z0.6.a ProgInvest_Spesa agg'!F26=\"\",\"\",'Z0.6.a ProgInvest_Spesa agg'!F26)","v":8},{"$f":"IF('Z0.6.a ProgInvest_Spesa agg'!G26=\"\",\"\",'Z0.6.a ProgInvest_Spesa agg'!G26)","v":"Intervento 6"},{"$f":"IF('Z0.6.a ProgInvest_Spesa agg'!H26=\"\",\"\",'Z0.6.a ProgInvest_Spesa agg'!H26)","v":"SIVCA 6"},{"$f":"IF('Z0.6.a ProgInvest_Spesa agg'!I26=\"\",\"\",'Z0.6.a ProgInvest_Spesa agg'!I26)","v":""},{"$f":"IF('Z0.6.a ProgInvest_Spesa agg'!J26=\"\",\"\",'Z0.6.a ProgInvest_Spesa agg'!J26)","v":""},{"$f":"IF('Z0.6.a ProgInvest_Spesa agg'!K26=\"\",\"\",'Z0.6.a ProgInvest_Spesa agg'!K26)","v":"Corpo autostradale, opere sul territorio"},{"$f":"IF('Z0.6.a ProgInvest_Spesa agg'!L26=\"\",\"\",'Z0.6.a ProgInvest_Spesa agg'!L26)","v":"in corso"},{"$f":"IF('Z0.6.a ProgInvest_Spesa agg'!M26=\"\",\"\",'Z0.6.a ProgInvest_Spesa agg'!M26)","v":"CIN post2026"},{"$f":"IF('Z0.6.a ProgInvest_Spesa agg'!N26=\"\",\"\",'Z0.6.a ProgInvest_Spesa agg'!N26)","v":""},{"$f":"IF('Z0.6.a ProgInvest_Spesa agg'!O26=\"\",\"\",'Z0.6.a ProgInvest_Spesa agg'!O26)","v":"Vite utili 1"},{"$f":"IF('Z0.6.a ProgInvest_Spesa agg'!P26=\"\",\"\",'Z0.6.a ProgInvest_Spesa agg'!P26)","v":2031},{"$f":"IF('Z0.6.a ProgInvest_Spesa agg'!Q26=\"\",\"\",'Z0.6.a ProgInvest_Spesa agg'!Q26)","v":"pianificato"},{"$f":"IF('Z0.6.a ProgInvest_Spesa agg'!R26=\"\",\"\",'Z0.6.a ProgInvest_Spesa agg'!R26)","v":""},{"$f":"IF('Z0.6.a ProgInvest_Spesa agg'!S26=\"\",\"\",'Z0.6.a ProgInvest_Spesa agg'!S26)","v":200},{"$f":"IF('Z0.6.a ProgInvest_Spesa agg'!T26=\"\",\"\",'Z0.6.a ProgInvest_Spesa agg'!T26)","v":20},{"$f":"IF('Z0.6.a ProgInvest_Spesa agg'!U26=\"\",\"\",'Z0.6.a ProgInvest_Spesa agg'!U26)","v":10},false,null,null,null,null,null,null,null,20]
[null,"x",{"$f":"IF('Z0.6.a ProgInvest_Spesa agg'!C27=\"\",\"\",'Z0.6.a ProgInvest_Spesa agg'!C27)","v":""},{"$f":"IF('Z0.6.a ProgInvest_Spesa agg'!D27=\"\",\"\",'Z0.6.a ProgInvest_Spesa agg'!D27)","v":""},{"$f":"IF('Z0.6.a ProgInvest_Spesa agg'!E27=\"\",\"\",'Z0.6.a ProgInvest_Spesa agg'!E27)","v":""},{"$f":"IF('Z0.6.a ProgInvest_Spesa agg'!F27=\"\",\"\",'Z0.6.a ProgInvest_Spesa agg'!F27)","v":9},{"$f":"IF('Z0.6.a ProgInvest_Spesa agg'!G27=\"\",\"\",'Z0.6.a ProgInvest_Spesa agg'!G27)","v":"Intervento 7"},{"$f":"IF('Z0.6.a ProgInvest_Spesa agg'!H27=\"\",\"\",'Z0.6.a ProgInvest_Spesa agg'!H27)","v":"SIVCA 7"},{"$f":"IF('Z0.6.a ProgInvest_Spesa agg'!I27=\"\",\"\",'Z0.6.a ProgInvest_Spesa agg'!I27)","v":""},{"$f":"IF('Z0.6.a ProgInvest_Spesa agg'!J27=\"\",\"\",'Z0.6.a ProgInvest_Spesa agg'!J27)","v":""},{"$f":"IF('Z0.6.a ProgInvest_Spesa agg'!K27=\"\",\"\",'Z0.6.a ProgInvest_Spesa agg'!K27)","v":"Reti recinzione"},{"$f":"IF('Z0.6.a ProgInvest_Spesa agg'!L27=\"\",\"\",'Z0.6.a ProgInvest_Spesa agg'!L27)","v":"in corso"},{"$f":"IF('Z0.6.a ProgInvest_Spesa agg'!M27=\"\",\"\",'Z0.6.a ProgInvest_Spesa agg'!M27)","v":"CIN post2026"},{"$f":"IF('Z0.6.a ProgInvest_Spesa agg'!N27=\"\",\"\",'Z0.6.a ProgInvest_Spesa agg'!N27)","v":""},{"$f":"IF('Z0.6.a ProgInvest_Spesa agg'!O27=\"\",\"\",'Z0.6.a ProgInvest_Spesa agg'!O27)","v":"Vite utili 1"},{"$f":"IF('Z0.6.a ProgInvest_Spesa agg'!P27=\"\",\"\",'Z0.6.a ProgInvest_Spesa agg'!P27)","v":2032},{"$f":"IF('Z0.6.a ProgInvest_Spesa agg'!Q27=\"\",\"\",'Z0.6.a ProgInvest_Spesa agg'!Q27)","v":"pianificato"},{"$f":"IF('Z0.6.a ProgInvest_Spesa agg'!R27=\"\",\"\",'Z0.6.a ProgInvest_Spesa agg'!R27)","v":""},{"$f":"IF('Z0.6.a ProgInvest_Spesa agg'!S27=\"\",\"\",'Z0.6.a ProgInvest_Spesa agg'!S27)","v":200},{"$f":"IF('Z0.6.a ProgInvest_Spesa agg'!T27=\"\",\"\",'Z0.6.a ProgInvest_Spesa agg'!T27)","v":20},{"$f":"IF('Z0.6.a ProgInvest_Spesa agg'!U27=\"\",\"\",'Z0.6.a ProgInvest_Spesa agg'!U27)","v":10},false,null,null,null,null,null,null,null,null,20]
[null,"x",{"$f":"IF('Z0.6.a ProgInvest_Spesa agg'!C28=\"\",\"\",'Z0.6.a ProgInvest_Spesa agg'!C28)","v":""},{"$f":"IF('Z0.6.a ProgInvest_Spesa agg'!D28=\"\",\"\",'Z0.6.a ProgInvest_Spesa agg'!D28)","v":""},{"$f":"IF('Z0.6.a ProgInvest_Spesa agg'!E28=\"\",\"\",'Z0.6.a ProgInvest_Spesa agg'!E28)","v":""},{"$f":"IF('Z0.6.a ProgInvest_Spesa agg'!F28=\"\",\"\",'Z0.6.a ProgInvest_Spesa agg'!F28)","v":10},{"$f":"IF('Z0.6.a ProgInvest_Spesa agg'!G28=\"\",\"\",'Z0.6.a ProgInvest_Spesa agg'!G28)","v":"Intervento 8"},{"$f":"IF('Z0.6.a ProgInvest_Spesa agg'!H28=\"\",\"\",'Z0.6.a ProgInvest_Spesa agg'!H28)","v":"SIVCA 8"},{"$f":"IF('Z0.6.a ProgInvest_Spesa agg'!I28=\"\",\"\",'Z0.6.a ProgInvest_Spesa agg'!I28)","v":""},{"$f":"IF('Z0.6.a ProgInvest_Spesa agg'!J28=\"\",\"\",'Z0.6.a ProgInvest_Spesa agg'!J28)","v":""},{"$f":"IF('Z0.6.a ProgInvest_Spesa agg'!K28=\"\",\"\",'Z0.6.a ProgInvest_Spesa agg'!K28)","v":"Portali e segnaletica"},{"$f":"IF('Z0.6.a ProgInvest_Spesa agg'!L28=\"\",\"\",'Z0.6.a ProgInvest_Spesa agg'!L28)","v":"in corso"},{"$f":"IF('Z0.6.a ProgInvest_Spesa agg'!M28=\"\",\"\",'Z0.6.a ProgInvest_Spesa agg'!M28)","v":"CIN post2026"},{"$f":"IF('Z0.6.a ProgInvest_Spesa agg'!N28=\"\",\"\",'Z0.6.a ProgInvest_Spesa agg'!N28)","v":""},{"$f":"IF('Z0.6.a ProgInvest_Spesa agg'!O28=\"\",\"\",'Z0.6.a ProgInvest_Spesa agg'!O28)","v":"Vite utili 1"},{"$f":"IF('Z0.6.a ProgInvest_Spesa agg'!P28=\"\",\"\",'Z0.6.a ProgInvest_Spesa agg'!P28)","v":2033},{"$f":"IF('Z0.6.a ProgInvest_Spesa agg'!Q28=\"\",\"\",'Z0.6.a ProgInvest_Spesa agg'!Q28)","v":"pianificato"},{"$f":"IF('Z0.6.a ProgInvest_Spesa agg'!R28=\"\",\"\",'Z0.6.a ProgInvest_Spesa agg'!R28)","v":""},{"$f":"IF('Z0.6.a ProgInvest_Spesa agg'!S28=\"\",\"\",'Z0.6.a ProgInvest_Spesa agg'!S28)","v":200},{"$f":"IF('Z0.6.a ProgInvest_Spesa agg'!T28=\"\",\"\",'Z0.6.a ProgInvest_Spesa agg'!T28)","v":20},{"$f":"IF('Z0.6.a ProgInvest_Spesa agg'!U28=\"\",\"\",'Z0.6.a ProgInvest_Spesa agg'!U28)","v":10},false,null,null,null,null,null,null,null,null,null,20]
[null,"x",{"$f":"IF('Z0.6.a ProgInvest_Spesa agg'!C29=\"\",\"\",'Z0.6.a ProgInvest_Spesa agg'!C29)","v":""},{"$f":"IF('Z0.6.a ProgInvest_Spesa agg'!D29=\"\",\"\",'Z0.6.a ProgInvest_Spesa agg'!D29)","v":""},{"$f":"IF('Z0.6.a ProgInvest_Spesa agg'!E29=\"\",\"\",'Z0.6.a ProgInvest_Spesa agg'!E29)","v":""},{"$f":"IF('Z0.6.a ProgInvest_Spesa agg'!F29=\"\",\"\",'Z0.6.a ProgInvest_Spesa agg'!F29)","v":11},{"$f":"IF('Z0.6.a ProgInvest_Spesa agg'!G29=\"\",\"\",'Z0.6.a ProgInvest_Spesa agg'!G29)","v":"Intervento 9"},{"$f":"IF('Z0.6.a ProgInvest_Spesa agg'!H29=\"\",\"\",'Z0.6.a ProgInvest_Spesa agg'!H29)","v":"SIVCA 9"},{"$f":"IF('Z0.6.a ProgInvest_Spesa agg'!I29=\"\",\"\",'Z0.6.a ProgInvest_Spesa agg'!I29)","v":""},{"$f":"IF('Z0.6.a ProgInvest_Spesa agg'!J29=\"\",\"\",'Z0.6.a ProgInvest_Spesa agg'!J29)","v":""},{"$f":"IF('Z0.6.a ProgInvest_Spesa agg'!K29=\"\",\"\",'Z0.6.a ProgInvest_Spesa agg'!K29)","v":"Pavimentazioni"},{"$f":"IF('Z0.6.a ProgInvest_Spesa agg'!L29=\"\",\"\",'Z0.6.a ProgInvest_Spesa agg'!L29)","v":"in corso"},{"$f":"IF('Z0.6.a ProgInvest_Spesa agg'!M29=\"\",\"\",'Z0.6.a ProgInvest_Spesa agg'!M29)","v":"CIN post2026"},{"$f":"IF('Z0.6.a ProgInvest_Spesa agg'!N29=\"\",\"\",'Z0.6.a ProgInvest_Spesa agg'!N29)","v":""},{"$f":"IF('Z0.6.a ProgInvest_Spesa agg'!O29=\"\",\"\",'Z0.6.a ProgInvest_Spesa agg'!O29)","v":"Vite utili 1"},{"$f":"IF('Z0.6.a ProgInvest_Spesa agg'!P29=\"\",\"\",'Z0.6.a ProgInvest_Spesa agg'!P29)","v":2034},{"$f":"IF('Z0.6.a ProgInvest_Spesa agg'!Q29=\"\",\"\",'Z0.6.a ProgInvest_Spesa agg'!Q29)","v":"pianificato"},{"$f":"IF('Z0.6.a ProgInvest_Spesa agg'!R29=\"\",\"\",'Z0.6.a ProgInvest_Spesa agg'!R29)","v":""},{"$f":"IF('Z0.6.a ProgInvest_Spesa agg'!S29=\"\",\"\",'Z0.6.a ProgInvest_Spesa agg'!S29)","v":200},{"$f":"IF('Z0.6.a ProgInvest_Spesa agg'!T29=\"\",\"\",'Z0.6.a ProgInvest_Spesa agg'!T29)","v":20},{"$f":"IF('Z0.6.a ProgInvest_Spesa agg'!U29=\"\",\"\",'Z0.6.a ProgInvest_Spesa agg'!U29)","v":10},false,null,null,null,null,null,null,null,null,null,null,20]
[null,"x",{"$f":"IF('Z0.6.a ProgInvest_Spesa agg'!C30=\"\",\"\",'Z0.6.a ProgInvest_Spesa agg'!C30)","v":""},{"$f":"IF('Z0.6.a ProgInvest_Spesa agg'!D30=\"\",\"\",'Z0.6.a ProgInvest_Spesa agg'!D30)","v":""},{"$f":"IF('Z0.6.a ProgInvest_Spesa agg'!E30=\"\",\"\",'Z0.6.a ProgInvest_Spesa agg'!E30)","v":""},{"$f":"IF('Z0.6.a ProgInvest_Spesa agg'!F30=\"\",\"\",'Z0.6.a ProgInvest_Spesa agg'!F30)","v":12},{"$f":"IF('Z0.6.a ProgInvest_Spesa agg'!G30=\"\",\"\",'Z0.6.a ProgInvest_Spesa agg'!G30)","v":"Intervento 10"},{"$f":"IF('Z0.6.a ProgInvest_Spesa agg'!H30=\"\",\"\",'Z0.6.a ProgInvest_Spesa agg'!H30)","v":"SIVCA 10"},{"$f":"IF('Z0.6.a ProgInvest_Spesa agg'!I30=\"\",\"\",'Z0.6.a ProgInvest_Spesa agg'!I30)","v":""},{"$f":"IF('Z0.6.a ProgInvest_Spesa agg'!J30=\"\",\"\",'Z0.6.a ProgInvest_Spesa agg'!J30)","v":""},{"$f":"IF('Z0.6.a ProgInvest_Spesa agg'!K30=\"\",\"\",'Z0.6.a ProgInvest_Spesa agg'!K30)","v":"Infrastrutture tecnologiche ed impianti"},{"$f":"IF('Z0.6.a ProgInvest_Spesa agg'!L30=\"\",\"\",'Z0.6.a ProgInvest_Spesa agg'!L30)","v":"in corso"},{"$f":"IF('Z0.6.a ProgInvest_Spesa agg'!M30=\"\",\"\",'Z0.6.a ProgInvest_Spesa agg'!M30)","v":"CIN post2026"},{"$f":"IF('Z0.6.a ProgInvest_Spesa agg'!N30=\"\",\"\",'Z0.6.a ProgInvest_Spesa agg'!N30)","v":""},{"$f":"IF('Z0.6.a ProgInvest_Spesa agg'!O30=\"\",\"\",'Z0.6.a ProgInvest_Spesa agg'!O30)","v":"Vite utili 1"},{"$f":"IF('Z0.6.a ProgInvest_Spesa agg'!P30=\"\",\"\",'Z0.6.a ProgInvest_Spesa agg'!P30)","v":2035},{"$f":"IF('Z0.6.a ProgInvest_Spesa agg'!Q30=\"\",\"\",'Z0.6.a ProgInvest_Spesa agg'!Q30)","v":"pianificato"},{"$f":"IF('Z0.6.a ProgInvest_Spesa agg'!R30=\"\",\"\",'Z0.6.a ProgInvest_Spesa agg'!R30)","v":""},{"$f":"IF('Z0.6.a ProgInvest_Spesa agg'!S30=\"\",\"\",'Z0.6.a ProgInvest_Spesa agg'!S30)","v":200},{"$f":"IF('Z0.6.a ProgInvest_Spesa agg'!T30=\"\",\"\",'Z0.6.a ProgInvest_Spesa agg'!T30)","v":20},{"$f":"IF('Z0.6.a ProgInvest_Spesa agg'!U30=\"\",\"\",'Z0.6.a ProgInvest_Spesa agg'!U30)","v":10},false,null,null,null,null,null,null,null,null,null,null,null,20]
[null,"x",{"$f":"IF('Z0.6.a ProgInvest_Spesa agg'!C31=\"\",\"\",'Z0.6.a ProgInvest_Spesa agg'!C31)","v":""},{"$f":"IF('Z0.6.a ProgInvest_Spesa agg'!D31=\"\",\"\",'Z0.6.a ProgInvest_Spesa agg'!D31)","v":""},{"$f":"IF('Z0.6.a ProgInvest_Spesa agg'!E31=\"\",\"\",'Z0.6.a ProgInvest_Spesa agg'!E31)","v":""},{"$f":"IF('Z0.6.a ProgInvest_Spesa agg'!F31=\"\",\"\",'Z0.6.a ProgInvest_Spesa agg'!F31)","v":13},{"$f":"IF('Z0.6.a ProgInvest_Spesa agg'!G31=\"\",\"\",'Z0.6.a ProgInvest_Spesa agg'!G31)","v":"Intervento 11"},{"$f":"IF('Z0.6.a ProgInvest_Spesa agg'!H31=\"\",\"\",'Z0.6.a ProgInvest_Spesa agg'!H31)","v":"SIVCA 11"},{"$f":"IF('Z0.6.a ProgInvest_Spesa agg'!I31=\"\",\"\",'Z0.6.a ProgInvest_Spesa agg'!I31)","v":""},{"$f":"IF('Z0.6.a ProgInvest_Spesa agg'!J31=\"\",\"\",'Z0.6.a ProgInvest_Spesa agg'!J31)","v":""},{"$f":"IF('Z0.6.a ProgInvest_Spesa agg'!K31=\"\",\"\",'Z0.6.a ProgInvest_Spesa agg'!K31)","v":"Stazioni/Barriere di esazione, fabbricati, aree di servizio"},{"$f":"IF('Z0.6.a ProgInvest_Spesa agg'!L31=\"\",\"\",'Z0.6.a ProgInvest_Spesa agg'!L31)","v":"in corso"},{"$f":"IF('Z0.6.a ProgInvest_Spesa agg'!M31=\"\",\"\",'Z0.6.a ProgInvest_Spesa agg'!M31)","v":"CIN post2026"},{"$f":"IF('Z0.6.a ProgInvest_Spesa agg'!N31=\"\",\"\",'Z0.6.a ProgInvest_Spesa agg'!N31)","v":""},{"$f":"IF('Z0.6.a ProgInvest_Spesa agg'!O31=\"\",\"\",'Z0.6.a ProgInvest_Spesa agg'!O31)","v":"Vite utili 1"},{"$f":"IF('Z0.6.a ProgInvest_Spesa agg'!P31=\"\",\"\",'Z0.6.a ProgInvest_Spesa agg'!P31)","v":2036},{"$f":"IF('Z0.6.a ProgInvest_Spesa agg'!Q31=\"\",\"\",'Z0.6.a ProgInvest_Spesa agg'!Q31)","v":"pianificato"},{"$f":"IF('Z0.6.a ProgInvest_Spesa agg'!R31=\"\",\"\",'Z0.6.a ProgInvest_Spesa agg'!R31)","v":""},{"$f":"IF('Z0.6.a ProgInvest_Spesa agg'!S31=\"\",\"\",'Z0.6.a ProgInvest_Spesa agg'!S31)","v":200},{"$f":"IF('Z0.6.a ProgInvest_Spesa agg'!T31=\"\",\"\",'Z0.6.a ProgInvest_Spesa agg'!T31)","v":20},{"$f":"IF('Z0.6.a ProgInvest_Spesa agg'!U31=\"\",\"\",'Z0.6.a ProgInvest_Spesa agg'!U31)","v":10},false,null,null,null,null,null,null,null,null,null,null,null,null,20]
[null,"x",{"$f":"IF('Z0.6.a ProgInvest_Spesa agg'!C32=\"\",\"\",'Z0.6.a ProgInvest_Spesa agg'!C32)","v":""},{"$f":"IF('Z0.6.a ProgInvest_Spesa agg'!D32=\"\",\"\",'Z0.6.a ProgInvest_Spesa agg'!D32)","v":""},{"$f":"IF('Z0.6.a ProgInvest_Spesa agg'!E32=\"\",\"\",'Z0.6.a ProgInvest_Spesa agg'!E32)","v":""},{"$f":"IF('Z0.6.a ProgInvest_Spesa agg'!F32=\"\",\"\",'Z0.6.a ProgInvest_Spesa agg'!F32)","v":14},{"$f":"IF('Z0.6.a ProgInvest_Spesa agg'!G32=\"\",\"\",'Z0.6.a ProgInvest_Spesa agg'!G32)","v":"Intervento 12"},{"$f":"IF('Z0.6.a ProgInvest_Spesa agg'!H32=\"\",\"\",'Z0.6.a ProgInvest_Spesa agg'!H32)","v":"SIVCA 12"},{"$f":"IF('Z0.6.a ProgInvest_Spesa agg'!I32=\"\",\"\",'Z0.6.a ProgInvest_Spesa agg'!I32)","v":""},{"$f":"IF('Z0.6.a ProgInvest_Spesa agg'!J32=\"\",\"\",'Z0.6.a ProgInvest_Spesa agg'!J32)","v":""},{"$f":"IF('Z0.6.a ProgInvest_Spesa agg'!K32=\"\",\"\",'Z0.6.a ProgInvest_Spesa agg'!K32)","v":"Altro"},{"$f":"IF('Z0.6.a ProgInvest_Spesa agg'!L32=\"\",\"\",'Z0.6.a ProgInvest_Spesa agg'!L32)","v":"in corso"},{"$f":"IF('Z0.6.a ProgInvest_Spesa agg'!M32=\"\",\"\",'Z0.6.a ProgInvest_Spesa agg'!M32)","v":"CIN post2026"},{"$f":"IF('Z0.6.a ProgInvest_Spesa agg'!N32=\"\",\"\",'Z0.6.a ProgInvest_Spesa agg'!N32)","v":""},{"$f":"IF('Z0.6.a ProgInvest_Spesa agg'!O32=\"\",\"\",'Z0.6.a ProgInvest_Spesa agg'!O32)","v":"Vite utili 1"},{"$f":"IF('Z0.6.a ProgInvest_Spesa agg'!P32=\"\",\"\",'Z0.6.a ProgInvest_Spesa agg'!P32)","v":2037},{"$f":"IF('Z0.6.a ProgInvest_Spesa agg'!Q32=\"\",\"\",'Z0.6.a ProgInvest_Spesa agg'!Q32)","v":"pianificato"},{"$f":"IF('Z0.6.a ProgInvest_Spesa agg'!R32=\"\",\"\",'Z0.6.a ProgInvest_Spesa agg'!R32)","v":""},{"$f":"IF('Z0.6.a ProgInvest_Spesa agg'!S32=\"\",\"\",'Z0.6.a ProgInvest_Spesa agg'!S32)","v":200},{"$f":"IF('Z0.6.a ProgInvest_Spesa agg'!T32=\"\",\"\",'Z0.6.a ProgInvest_Spesa agg'!T32)","v":20},{"$f":"IF('Z0.6.a ProgInvest_Spesa agg'!U32=\"\",\"\",'Z0.6.a ProgInvest_Spesa agg'!U32)","v":10},false,null,null,null,null,null,null,null,null,null,null,null,null,null,20]
[null,"x",{"$f":"IF('Z0.6.a ProgInvest_Spesa agg'!C33=\"\",\"\",'Z0.6.a ProgInvest_Spesa agg'!C33)","v":""},{"$f":"IF('Z0.6.a ProgInvest_Spesa agg'!D33=\"\",\"\",'Z0.6.a ProgInvest_Spesa agg'!D33)","v":""},{"$f":"IF('Z0.6.a ProgInvest_Spesa agg'!E33=\"\",\"\",'Z0.6.a ProgInvest_Spesa agg'!E33)","v":""},{"$f":"IF('Z0.6.a ProgInvest_Spesa agg'!F33=\"\",\"\",'Z0.6.a ProgInvest_Spesa agg'!F33)","v":15},{"$f":"IF('Z0.6.a ProgInvest_Spesa agg'!G33=\"\",\"\",'Z0.6.a ProgInvest_Spesa agg'!G33)","v":"Intervento 13"},{"$f":"IF('Z0.6.a ProgInvest_Spesa agg'!H33=\"\",\"\",'Z0.6.a ProgInvest_Spesa agg'!H33)","v":"SIVCA 13"},{"$f":"IF('Z0.6.a ProgInvest_Spesa agg'!I33=\"\",\"\",'Z0.6.a ProgInvest_Spesa agg'!I33)","v":""},{"$f":"IF('Z0.6.a ProgInvest_Spesa agg'!J33=\"\",\"\",'Z0.6.a ProgInvest_Spesa agg'!J33)","v":""},{"$f":"IF('Z0.6.a ProgInvest_Spesa agg'!K33=\"\",\"\",'Z0.6.a ProgInvest_Spesa agg'!K33)","v":"Viadotti/Ponti/Cavalcavia"},{"$f":"IF('Z0.6.a ProgInvest_Spesa agg'!L33=\"\",\"\",'Z0.6.a ProgInvest_Spesa agg'!L33)","v":"in corso"},{"$f":"IF('Z0.6.a ProgInvest_Spesa agg'!M33=\"\",\"\",'Z0.6.a ProgInvest_Spesa agg'!M33)","v":"CIN post2026"},{"$f":"IF('Z0.6.a ProgInvest_Spesa agg'!N33=\"\",\"\",'Z0.6.a ProgInvest_Spesa agg'!N33)","v":""},{"$f":"IF('Z0.6.a ProgInvest_Spesa agg'!O33=\"\",\"\",'Z0.6.a ProgInvest_Spesa agg'!O33)","v":"Vite utili 2"},{"$f":"IF('Z0.6.a ProgInvest_Spesa agg'!P33=\"\",\"\",'Z0.6.a ProgInvest_Spesa agg'!P33)","v":2028},{"$f":"IF('Z0.6.a ProgInvest_Spesa agg'!Q33=\"\",\"\",'Z0.6.a ProgInvest_Spesa agg'!Q33)","v":"pianificato"},{"$f":"IF('Z0.6.a ProgInvest_Spesa agg'!R33=\"\",\"\",'Z0.6.a ProgInvest_Spesa agg'!R33)","v":""},{"$f":"IF('Z0.6.a ProgInvest_Spesa agg'!S33=\"\",\"\",'Z0.6.a ProgInvest_Spesa agg'!S33)","v":200},{"$f":"IF('Z0.6.a ProgInvest_Spesa agg'!T33=\"\",\"\",'Z0.6.a ProgInvest_Spesa agg'!T33)","v":20},{"$f":"IF('Z0.6.a ProgInvest_Spesa agg'!U33=\"\",\"\",'Z0.6.a ProgInvest_Spesa agg'!U33)","v":10},false,null,null,null,null,20]
[null,"x",{"$f":"IF('Z0.6.a ProgInvest_Spesa agg'!C34=\"\",\"\",'Z0.6.a ProgInvest_Spesa agg'!C34)","v":""},{"$f":"IF('Z0.6.a ProgInvest_Spesa agg'!D34=\"\",\"\",'Z0.6.a ProgInvest_Spesa agg'!D34)","v":""},{"$f":"IF('Z0.6.a ProgInvest_Spesa agg'!E34=\"\",\"\",'Z0.6.a ProgInvest_Spesa agg'!E34)","v":""},{"$f":"IF('Z0.6.a ProgInvest_Spesa agg'!F34=\"\",\"\",'Z0.6.a ProgInvest_Spesa agg'!F34)","v":16},{"$f":"IF('Z0.6.a ProgInvest_Spesa agg'!G34=\"\",\"\",'Z0.6.a ProgInvest_Spesa agg'!G34)","v":"Intervento 14"},{"$f":"IF('Z0.6.a ProgInvest_Spesa agg'!H34=\"\",\"\",'Z0.6.a ProgInvest_Spesa agg'!H34)","v":"SIVCA 14"},{"$f":"IF('Z0.6.a ProgInvest_Spesa agg'!I34=\"\",\"\",'Z0.6.a ProgInvest_Spesa agg'!I34)","v":""},{"$f":"IF('Z0.6.a ProgInvest_Spesa agg'!J34=\"\",\"\",'Z0.6.a ProgInvest_Spesa agg'!J34)","v":""},{"$f":"IF('Z0.6.a ProgInvest_Spesa agg'!K34=\"\",\"\",'Z0.6.a ProgInvest_Spesa agg'!K34)","v":"Gallerie"},{"$f":"IF('Z0.6.a ProgInvest_Spesa agg'!L34=\"\",\"\",'Z0.6.a ProgInvest_Spesa agg'!L34)","v":"in corso"},{"$f":"IF('Z0.6.a ProgInvest_Spesa agg'!M34=\"\",\"\",'Z0.6.a ProgInvest_Spesa agg'!M34)","v":"CIN post2026"},{"$f":"IF('Z0.6.a ProgInvest_Spesa agg'!N34=\"\",\"\",'Z0.6.a ProgInvest_Spesa agg'!N34)","v":""},{"$f":"IF('Z0.6.a ProgInvest_Spesa agg'!O34=\"\",\"\",'Z0.6.a ProgInvest_Spesa agg'!O34)","v":"Vite utili 2"},{"$f":"IF('Z0.6.a ProgInvest_Spesa agg'!P34=\"\",\"\",'Z0.6.a ProgInvest_Spesa agg'!P34)","v":2029},{"$f":"IF('Z0.6.a ProgInvest_Spesa agg'!Q34=\"\",\"\",'Z0.6.a ProgInvest_Spesa agg'!Q34)","v":"pianificato"},{"$f":"IF('Z0.6.a ProgInvest_Spesa agg'!R34=\"\",\"\",'Z0.6.a ProgInvest_Spesa agg'!R34)","v":""},{"$f":"IF('Z0.6.a ProgInvest_Spesa agg'!S34=\"\",\"\",'Z0.6.a ProgInvest_Spesa agg'!S34)","v":200},{"$f":"IF('Z0.6.a ProgInvest_Spesa agg'!T34=\"\",\"\",'Z0.6.a ProgInvest_Spesa agg'!T34)","v":20},{"$f":"IF('Z0.6.a ProgInvest_Spesa agg'!U34=\"\",\"\",'Z0.6.a ProgInvest_Spesa agg'!U34)","v":10},false,null,null,null,null,null,20]
[null,"x",{"$f":"IF('Z0.6.a ProgInvest_Spesa agg'!C35=\"\",\"\",'Z0.6.a ProgInvest_Spesa agg'!C35)","v":""},{"$f":"IF('Z0.6.a ProgInvest_Spesa agg'!D35=\"\",\"\",'Z0.6.a ProgInvest_Spesa agg'!D35)","v":""},{"$f":"IF('Z0.6.a ProgInvest_Spesa agg'!E35=\"\",\"\",'Z0.6.a ProgInvest_Spesa agg'!E35)","v":""},{"$f":"IF('Z0.6.a ProgInvest_Spesa agg'!F35=\"\",\"\",'Z0.6.a ProgInvest_Spesa agg'!F35)","v":17},{"$f":"IF('Z0.6.a ProgInvest_Spesa agg'!G35=\"\",\"\",'Z0.6.a ProgInvest_Spesa agg'!G35)","v":"Intervento 15"},{"$f":"IF('Z0.6.a ProgInvest_Spesa agg'!H35=\"\",\"\",'Z0.6.a ProgInvest_Spesa agg'!H35)","v":"SIVCA 15"},{"$f":"IF('Z0.6.a ProgInvest_Spesa agg'!I35=\"\",\"\",'Z0.6.a ProgInvest_Spesa agg'!I35)","v":""},{"$f":"IF('Z0.6.a ProgInvest_Spesa agg'!J35=\"\",\"\",'Z0.6.a ProgInvest_Spesa agg'!J35)","v":""},{"$f":"IF('Z0.6.a ProgInvest_Spesa agg'!K35=\"\",\"\",'Z0.6.a ProgInvest_Spesa agg'!K35)","v":"Barriere"},{"$f":"IF('Z0.6.a ProgInvest_Spesa agg'!L35=\"\",\"\",'Z0.6.a ProgInvest_Spesa agg'!L35)","v":"in corso"},{"$f":"IF('Z0.6.a ProgInvest_Spesa agg'!M35=\"\",\"\",'Z0.6.a ProgInvest_Spesa agg'!M35)","v":"CIN post2026"},{"$f":"IF('Z0.6.a ProgInvest_Spesa agg'!N35=\"\",\"\",'Z0.6.a ProgInvest_Spesa agg'!N35)","v":""},{"$f":"IF('Z0.6.a ProgInvest_Spesa agg'!O35=\"\",\"\",'Z0.6.a ProgInvest_Spesa agg'!O35)","v":"Vite utili 2"},{"$f":"IF('Z0.6.a ProgInvest_Spesa agg'!P35=\"\",\"\",'Z0.6.a ProgInvest_Spesa agg'!P35)","v":2030},{"$f":"IF('Z0.6.a ProgInvest_Spesa agg'!Q35=\"\",\"\",'Z0.6.a ProgInvest_Spesa agg'!Q35)","v":"pianificato"},{"$f":"IF('Z0.6.a ProgInvest_Spesa agg'!R35=\"\",\"\",'Z0.6.a ProgInvest_Spesa agg'!R35)","v":""},{"$f":"IF('Z0.6.a ProgInvest_Spesa agg'!S35=\"\",\"\",'Z0.6.a ProgInvest_Spesa agg'!S35)","v":200},{"$f":"IF('Z0.6.a ProgInvest_Spesa agg'!T35=\"\",\"\",'Z0.6.a ProgInvest_Spesa agg'!T35)","v":20},{"$f":"IF('Z0.6.a ProgInvest_Spesa agg'!U35=\"\",\"\",'Z0.6.a ProgInvest_Spesa agg'!U35)","v":10},false,null,null,null,null,null,null,20]
[null,"x",{"$f":"IF('Z0.6.a ProgInvest_Spesa agg'!C36=\"\",\"\",'Z0.6.a ProgInvest_Spesa agg'!C36)","v":""},{"$f":"IF('Z0.6.a ProgInvest_Spesa agg'!D36=\"\",\"\",'Z0.6.a ProgInvest_Spesa agg'!D36)","v":""},{"$f":"IF('Z0.6.a ProgInvest_Spesa agg'!E36=\"\",\"\",'Z0.6.a ProgInvest_Spesa agg'!E36)","v":""},{"$f":"IF('Z0.6.a ProgInvest_Spesa agg'!F36=\"\",\"\",'Z0.6.a ProgInvest_Spesa agg'!F36)","v":18},{"$f":"IF('Z0.6.a ProgInvest_Spesa agg'!G36=\"\",\"\",'Z0.6.a ProgInvest_Spesa agg'!G36)","v":"Intervento 16"},{"$f":"IF('Z0.6.a ProgInvest_Spesa agg'!H36=\"\",\"\",'Z0.6.a ProgInvest_Spesa agg'!H36)","v":"SIVCA 16"},{"$f":"IF('Z0.6.a ProgInvest_Spesa agg'!I36=\"\",\"\",'Z0.6.a ProgInvest_Spesa agg'!I36)","v":""},{"$f":"IF('Z0.6.a ProgInvest_Spesa agg'!J36=\"\",\"\",'Z0.6.a ProgInvest_Spesa agg'!J36)","v":""},{"$f":"IF('Z0.6.a ProgInvest_Spesa agg'!K36=\"\",\"\",'Z0.6.a ProgInvest_Spesa agg'!K36)","v":"Corpo autostradale, opere sul territorio"},{"$f":"IF('Z0.6.a ProgInvest_Spesa agg'!L36=\"\",\"\",'Z0.6.a ProgInvest_Spesa agg'!L36)","v":"in corso"},{"$f":"IF('Z0.6.a ProgInvest_Spesa agg'!M36=\"\",\"\",'Z0.6.a ProgInvest_Spesa agg'!M36)","v":"CIN post2026"},{"$f":"IF('Z0.6.a ProgInvest_Spesa agg'!N36=\"\",\"\",'Z0.6.a ProgInvest_Spesa agg'!N36)","v":""},{"$f":"IF('Z0.6.a ProgInvest_Spesa agg'!O36=\"\",\"\",'Z0.6.a ProgInvest_Spesa agg'!O36)","v":"Vite utili 2"},{"$f":"IF('Z0.6.a ProgInvest_Spesa agg'!P36=\"\",\"\",'Z0.6.a ProgInvest_Spesa agg'!P36)","v":2031},{"$f":"IF('Z0.6.a ProgInvest_Spesa agg'!Q36=\"\",\"\",'Z0.6.a ProgInvest_Spesa agg'!Q36)","v":"pianificato"},{"$f":"IF('Z0.6.a ProgInvest_Spesa agg'!R36=\"\",\"\",'Z0.6.a ProgInvest_Spesa agg'!R36)","v":""},{"$f":"IF('Z0.6.a ProgInvest_Spesa agg'!S36=\"\",\"\",'Z0.6.a ProgInvest_Spesa agg'!S36)","v":200},{"$f":"IF('Z0.6.a ProgInvest_Spesa agg'!T36=\"\",\"\",'Z0.6.a ProgInvest_Spesa agg'!T36)","v":20},{"$f":"IF('Z0.6.a ProgInvest_Spesa agg'!U36=\"\",\"\",'Z0.6.a ProgInvest_Spesa agg'!U36)","v":10},false,null,null,null,null,null,null,null,20]
[null,"x",{"$f":"IF('Z0.6.a ProgInvest_Spesa agg'!C37=\"\",\"\",'Z0.6.a ProgInvest_Spesa agg'!C37)","v":""},{"$f":"IF('Z0.6.a ProgInvest_Spesa agg'!D37=\"\",\"\",'Z0.6.a ProgInvest_Spesa agg'!D37)","v":""},{"$f":"IF('Z0.6.a ProgInvest_Spesa agg'!E37=\"\",\"\",'Z0.6.a ProgInvest_Spesa agg'!E37)","v":""},{"$f":"IF('Z0.6.a ProgInvest_Spesa agg'!F37=\"\",\"\",'Z0.6.a ProgInvest_Spesa agg'!F37)","v":19},{"$f":"IF('Z0.6.a ProgInvest_Spesa agg'!G37=\"\",\"\",'Z0.6.a ProgInvest_Spesa agg'!G37)","v":"Intervento 17"},{"$f":"IF('Z0.6.a ProgInvest_Spesa agg'!H37=\"\",\"\",'Z0.6.a ProgInvest_Spesa agg'!H37)","v":"SIVCA 17"},{"$f":"IF('Z0.6.a ProgInvest_Spesa agg'!I37=\"\",\"\",'Z0.6.a ProgInvest_Spesa agg'!I37)","v":""},{"$f":"IF('Z0.6.a ProgInvest_Spesa agg'!J37=\"\",\"\",'Z0.6.a ProgInvest_Spesa agg'!J37)","v":""},{"$f":"IF('Z0.6.a ProgInvest_Spesa agg'!K37=\"\",\"\",'Z0.6.a ProgInvest_Spesa agg'!K37)","v":"Reti recinzione"},{"$f":"IF('Z0.6.a ProgInvest_Spesa agg'!L37=\"\",\"\",'Z0.6.a ProgInvest_Spesa agg'!L37)","v":"in corso"},{"$f":"IF('Z0.6.a ProgInvest_Spesa agg'!M37=\"\",\"\",'Z0.6.a ProgInvest_Spesa agg'!M37)","v":"CIN post2026"},{"$f":"IF('Z0.6.a ProgInvest_Spesa agg'!N37=\"\",\"\",'Z0.6.a ProgInvest_Spesa agg'!N37)","v":""},{"$f":"IF('Z0.6.a ProgInvest_Spesa agg'!O37=\"\",\"\",'Z0.6.a ProgInvest_Spesa agg'!O37)","v":"Vite utili 2"},{"$f":"IF('Z0.6.a ProgInvest_Spesa agg'!P37=\"\",\"\",'Z0.6.a ProgInvest_Spesa agg'!P37)","v":2032},{"$f":"IF('Z0.6.a ProgInvest_Spesa agg'!Q37=\"\",\"\",'Z0.6.a ProgInvest_Spesa agg'!Q37)","v":"pianificato"},{"$f":"IF('Z0.6.a ProgInvest_Spesa agg'!R37=\"\",\"\",'Z0.6.a ProgInvest_Spesa agg'!R37)","v":""},{"$f":"IF('Z0.6.a ProgInvest_Spesa agg'!S37=\"\",\"\",'Z0.6.a ProgInvest_Spesa agg'!S37)","v":200},{"$f":"IF('Z0.6.a ProgInvest_Spesa agg'!T37=\"\",\"\",'Z0.6.a ProgInvest_Spesa agg'!T37)","v":20},{"$f":"IF('Z0.6.a ProgInvest_Spesa agg'!U37=\"\",\"\",'Z0.6.a ProgInvest_Spesa agg'!U37)","v":10},false,null,null,null,null,null,null,null,null,20]
[null,"x",{"$f":"IF('Z0.6.a ProgInvest_Spesa agg'!C38=\"\",\"\",'Z0.6.a ProgInvest_Spesa agg'!C38)","v":""},{"$f":"IF('Z0.6.a ProgInvest_Spesa agg'!D38=\"\",\"\",'Z0.6.a ProgInvest_Spesa agg'!D38)","v":""},{"$f":"IF('Z0.6.a ProgInvest_Spesa agg'!E38=\"\",\"\",'Z0.6.a ProgInvest_Spesa agg'!E38)","v":""},{"$f":"IF('Z0.6.a ProgInvest_Spesa agg'!F38=\"\",\"\",'Z0.6.a ProgInvest_Spesa agg'!F38)","v":20},{"$f":"IF('Z0.6.a ProgInvest_Spesa agg'!G38=\"\",\"\",'Z0.6.a ProgInvest_Spesa agg'!G38)","v":"Intervento 18"},{"$f":"IF('Z0.6.a ProgInvest_Spesa agg'!H38=\"\",\"\",'Z0.6.a ProgInvest_Spesa agg'!H38)","v":"SIVCA 18"},{"$f":"IF('Z0.6.a ProgInvest_Spesa agg'!I38=\"\",\"\",'Z0.6.a ProgInvest_Spesa agg'!I38)","v":""},{"$f":"IF('Z0.6.a ProgInvest_Spesa agg'!J38=\"\",\"\",'Z0.6.a ProgInvest_Spesa agg'!J38)","v":""},{"$f":"IF('Z0.6.a ProgInvest_Spesa agg'!K38=\"\",\"\",'Z0.6.a ProgInvest_Spesa agg'!K38)","v":"Portali e segnaletica"},{"$f":"IF('Z0.6.a ProgInvest_Spesa agg'!L38=\"\",\"\",'Z0.6.a ProgInvest_Spesa agg'!L38)","v":"in corso"},{"$f":"IF('Z0.6.a ProgInvest_Spesa agg'!M38=\"\",\"\",'Z0.6.a ProgInvest_Spesa agg'!M38)","v":"CIN post2026"},{"$f":"IF('Z0.6.a ProgInvest_Spesa agg'!N38=\"\",\"\",'Z0.6.a ProgInvest_Spesa agg'!N38)","v":""},{"$f":"IF('Z0.6.a ProgInvest_Spesa agg'!O38=\"\",\"\",'Z0.6.a ProgInvest_Spesa agg'!O38)","v":"Vite utili 2"},{"$f":"IF('Z0.6.a ProgInvest_Spesa agg'!P38=\"\",\"\",'Z0.6.a ProgInvest_Spesa agg'!P38)","v":2033},{"$f":"IF('Z0.6.a ProgInvest_Spesa agg'!Q38=\"\",\"\",'Z0.6.a ProgInvest_Spesa agg'!Q38)","v":"pianificato"},{"$f":"IF('Z0.6.a ProgInvest_Spesa agg'!R38=\"\",\"\",'Z0.6.a ProgInvest_Spesa agg'!R38)","v":""},{"$f":"IF('Z0.6.a ProgInvest_Spesa agg'!S38=\"\",\"\",'Z0.6.a ProgInvest_Spesa agg'!S38)","v":200},{"$f":"IF('Z0.6.a ProgInvest_Spesa agg'!T38=\"\",\"\",'Z0.6.a ProgInvest_Spesa agg'!T38)","v":20},{"$f":"IF('Z0.6.a ProgInvest_Spesa agg'!U38=\"\",\"\",'Z0.6.a ProgInvest_Spesa agg'!U38)","v":10},false,null,null,null,null,null,null,null,null,null,20]
[null,"x",{"$f":"IF('Z0.6.a ProgInvest_Spesa agg'!C39=\"\",\"\",'Z0.6.a ProgInvest_Spesa agg'!C39)","v":""},{"$f":"IF('Z0.6.a ProgInvest_Spesa agg'!D39=\"\",\"\",'Z0.6.a ProgInvest_Spesa agg'!D39)","v":""},{"$f":"IF('Z0.6.a ProgInvest_Spesa agg'!E39=\"\",\"\",'Z0.6.a ProgInvest_Spesa agg'!E39)","v":""},{"$f":"IF('Z0.6.a ProgInvest_Spesa agg'!F39=\"\",\"\",'Z0.6.a ProgInvest_Spesa agg'!F39)","v":21},{"$f":"IF('Z0.6.a ProgInvest_Spesa agg'!G39=\"\",\"\",'Z0.6.a ProgInvest_Spesa agg'!G39)","v":"Intervento 19"},{"$f":"IF('Z0.6.a ProgInvest_Spesa agg'!H39=\"\",\"\",'Z0.6.a ProgInvest_Spesa agg'!H39)","v":"SIVCA 19"},{"$f":"IF('Z0.6.a ProgInvest_Spesa agg'!I39=\"\",\"\",'Z0.6.a ProgInvest_Spesa agg'!I39)","v":""},{"$f":"IF('Z0.6.a ProgInvest_Spesa agg'!J39=\"\",\"\",'Z0.6.a ProgInvest_Spesa agg'!J39)","v":""},{"$f":"IF('Z0.6.a ProgInvest_Spesa agg'!K39=\"\",\"\",'Z0.6.a ProgInvest_Spesa agg'!K39)","v":"Pavimentazioni"},{"$f":"IF('Z0.6.a ProgInvest_Spesa agg'!L39=\"\",\"\",'Z0.6.a ProgInvest_Spesa agg'!L39)","v":"in corso"},{"$f":"IF('Z0.6.a ProgInvest_Spesa agg'!M39=\"\",\"\",'Z0.6.a ProgInvest_Spesa agg'!M39)","v":"CIN post2026"},{"$f":"IF('Z0.6.a ProgInvest_Spesa agg'!N39=\"\",\"\",'Z0.6.a ProgInvest_Spesa agg'!N39)","v":""},{"$f":"IF('Z0.6.a ProgInvest_Spesa agg'!O39=\"\",\"\",'Z0.6.a ProgInvest_Spesa agg'!O39)","v":"Vite utili 2"},{"$f":"IF('Z0.6.a ProgInvest_Spesa agg'!P39=\"\",\"\",'Z0.6.a ProgInvest_Spesa agg'!P39)","v":2034},{"$f":"IF('Z0.6.a ProgInvest_Spesa agg'!Q39=\"\",\"\",'Z0.6.a ProgInvest_Spesa agg'!Q39)","v":"pianificato"},{"$f":"IF('Z0.6.a ProgInvest_Spesa agg'!R39=\"\",\"\",'Z0.6.a ProgInvest_Spesa agg'!R39)","v":""},{"$f":"IF('Z0.6.a ProgInvest_Spesa agg'!S39=\"\",\"\",'Z0.6.a ProgInvest_Spesa agg'!S39)","v":200},{"$f":"IF('Z0.6.a ProgInvest_Spesa agg'!T39=\"\",\"\",'Z0.6.a ProgInvest_Spesa agg'!T39)","v":20},{"$f":"IF('Z0.6.a ProgInvest_Spesa agg'!U39=\"\",\"\",'Z0.6.a ProgInvest_Spesa agg'!U39)","v":10},false,null,null,null,null,null,null,null,null,null,null,20]
[null,"x",{"$f":"IF('Z0.6.a ProgInvest_Spesa agg'!C40=\"\",\"\",'Z0.6.a ProgInvest_Spesa agg'!C40)","v":""},{"$f":"IF('Z0.6.a ProgInvest_Spesa agg'!D40=\"\",\"\",'Z0.6.a ProgInvest_Spesa agg'!D40)","v":""},{"$f":"IF('Z0.6.a ProgInvest_Spesa agg'!E40=\"\",\"\",'Z0.6.a ProgInvest_Spesa agg'!E40)","v":""},{"$f":"IF('Z0.6.a ProgInvest_Spesa agg'!F40=\"\",\"\",'Z0.6.a ProgInvest_Spesa agg'!F40)","v":22},{"$f":"IF('Z0.6.a ProgInvest_Spesa agg'!G40=\"\",\"\",'Z0.6.a ProgInvest_Spesa agg'!G40)","v":"Intervento 20"},{"$f":"IF('Z0.6.a ProgInvest_Spesa agg'!H40=\"\",\"\",'Z0.6.a ProgInvest_Spesa agg'!H40)","v":"SIVCA 20"},{"$f":"IF('Z0.6.a ProgInvest_Spesa agg'!I40=\"\",\"\",'Z0.6.a ProgInvest_Spesa agg'!I40)","v":""},{"$f":"IF('Z0.6.a ProgInvest_Spesa agg'!J40=\"\",\"\",'Z0.6.a ProgInvest_Spesa agg'!J40)","v":""},{"$f":"IF('Z0.6.a ProgInvest_Spesa agg'!K40=\"\",\"\",'Z0.6.a ProgInvest_Spesa agg'!K40)","v":"Infrastrutture tecnologiche ed impianti"},{"$f":"IF('Z0.6.a ProgInvest_Spesa agg'!L40=\"\",\"\",'Z0.6.a ProgInvest_Spesa agg'!L40)","v":"in corso"},{"$f":"IF('Z0.6.a ProgInvest_Spesa agg'!M40=\"\",\"\",'Z0.6.a ProgInvest_Spesa agg'!M40)","v":"CIN post2026"},{"$f":"IF('Z0.6.a ProgInvest_Spesa agg'!N40=\"\",\"\",'Z0.6.a ProgInvest_Spesa agg'!N40)","v":""},{"$f":"IF('Z0.6.a ProgInvest_Spesa agg'!O40=\"\",\"\",'Z0.6.a ProgInvest_Spesa agg'!O40)","v":"Vite utili 2"},{"$f":"IF('Z0.6.a ProgInvest_Spesa agg'!P40=\"\",\"\",'Z0.6.a ProgInvest_Spesa agg'!P40)","v":2035},{"$f":"IF('Z0.6.a ProgInvest_Spesa agg'!Q40=\"\",\"\",'Z0.6.a ProgInvest_Spesa agg'!Q40)","v":"pianificato"},{"$f":"IF('Z0.6.a ProgInvest_Spesa agg'!R40=\"\",\"\",'Z0.6.a ProgInvest_Spesa agg'!R40)","v":""},{"$f":"IF('Z0.6.a ProgInvest_Spesa agg'!S40=\"\",\"\",'Z0.6.a ProgInvest_Spesa agg'!S40)","v":200},{"$f":"IF('Z0.6.a ProgInvest_Spesa agg'!T40=\"\",\"\",'Z0.6.a ProgInvest_Spesa agg'!T40)","v":20},{"$f":"IF('Z0.6.a ProgInvest_Spesa agg'!U40=\"\",\"\",'Z0.6.a ProgInvest_Spesa agg'!U40)","v":10},false,null,null,null,null,null,null,null,null,null,null,null,20]
[null,"x",{"$f":"IF('Z0.6.a ProgInvest_Spesa agg'!C41=\"\",\"\",'Z0.6.a ProgInvest_Spesa agg'!C41)","v":""},{"$f":"IF('Z0.6.a ProgInvest_Spesa agg'!D41=\"\",\"\",'Z0.6.a ProgInvest_Spesa agg'!D41)","v":""},{"$f":"IF('Z0.6.a ProgInvest_Spesa agg'!E41=\"\",\"\",'Z0.6.a ProgInvest_Spesa agg'!E41)","v":""},{"$f":"IF('Z0.6.a ProgInvest_Spesa agg'!F41=\"\",\"\",'Z0.6.a ProgInvest_Spesa agg'!F41)","v":23},{"$f":"IF('Z0.6.a ProgInvest_Spesa agg'!G41=\"\",\"\",'Z0.6.a ProgInvest_Spesa agg'!G41)","v":"Intervento 21"},{"$f":"IF('Z0.6.a ProgInvest_Spesa agg'!H41=\"\",\"\",'Z0.6.a ProgInvest_Spesa agg'!H41)","v":"SIVCA 21"},{"$f":"IF('Z0.6.a ProgInvest_Spesa agg'!I41=\"\",\"\",'Z0.6.a ProgInvest_Spesa agg'!I41)","v":""},{"$f":"IF('Z0.6.a ProgInvest_Spesa agg'!J41=\"\",\"\",'Z0.6.a ProgInvest_Spesa agg'!J41)","v":""},{"$f":"IF('Z0.6.a ProgInvest_Spesa agg'!K41=\"\",\"\",'Z0.6.a ProgInvest_Spesa agg'!K41)","v":"Stazioni/Barriere di esazione, fabbricati, aree di servizio"},{"$f":"IF('Z0.6.a ProgInvest_Spesa agg'!L41=\"\",\"\",'Z0.6.a ProgInvest_Spesa agg'!L41)","v":"in corso"},{"$f":"IF('Z0.6.a ProgInvest_Spesa agg'!M41=\"\",\"\",'Z0.6.a ProgInvest_Spesa agg'!M41)","v":"CIN post2026"},{"$f":"IF('Z0.6.a ProgInvest_Spesa agg'!N41=\"\",\"\",'Z0.6.a ProgInvest_Spesa agg'!N41)","v":""},{"$f":"IF('Z0.6.a ProgInvest_Spesa agg'!O41=\"\",\"\",'Z0.6.a ProgInvest_Spesa agg'!O41)","v":"Vite utili 2"},{"$f":"IF('Z0.6.a ProgInvest_Spesa agg'!P41=\"\",\"\",'Z0.6.a ProgInvest_Spesa agg'!P41)","v":2036},{"$f":"IF('Z0.6.a ProgInvest_Spesa agg'!Q41=\"\",\"\",'Z0.6.a ProgInvest_Spesa agg'!Q41)","v":"pianificato"},{"$f":"IF('Z0.6.a ProgInvest_Spesa agg'!R41=\"\",\"\",'Z0.6.a ProgInvest_Spesa agg'!R41)","v":""},{"$f":"IF('Z0.6.a ProgInvest_Spesa agg'!S41=\"\",\"\",'Z0.6.a ProgInvest_Spesa agg'!S41)","v":200},{"$f":"IF('Z0.6.a ProgInvest_Spesa agg'!T41=\"\",\"\",'Z0.6.a ProgInvest_Spesa agg'!T41)","v":20},{"$f":"IF('Z0.6.a ProgInvest_Spesa agg'!U41=\"\",\"\",'Z0.6.a ProgInvest_Spesa agg'!U41)","v":10},false,null,null,null,null,null,null,null,null,null,null,null,null,20]
[null,"x",{"$f":"IF('Z0.6.a ProgInvest_Spesa agg'!C42=\"\",\"\",'Z0.6.a ProgInvest_Spesa agg'!C42)","v":""},{"$f":"IF('Z0.6.a ProgInvest_Spesa agg'!D42=\"\",\"\",'Z0.6.a ProgInvest_Spesa agg'!D42)","v":""},{"$f":"IF('Z0.6.a ProgInvest_Spesa agg'!E42=\"\",\"\",'Z0.6.a ProgInvest_Spesa agg'!E42)","v":""},{"$f":"IF('Z0.6.a ProgInvest_Spesa agg'!F42=\"\",\"\",'Z0.6.a ProgInvest_Spesa agg'!F42)","v":24},{"$f":"IF('Z0.6.a ProgInvest_Spesa agg'!G42=\"\",\"\",'Z0.6.a ProgInvest_Spesa agg'!G42)","v":"Intervento 22"},{"$f":"IF('Z0.6.a ProgInvest_Spesa agg'!H42=\"\",\"\",'Z0.6.a ProgInvest_Spesa agg'!H42)","v":"SIVCA 22"},{"$f":"IF('Z0.6.a ProgInvest_Spesa agg'!I42=\"\",\"\",'Z0.6.a ProgInvest_Spesa agg'!I42)","v":""},{"$f":"IF('Z0.6.a ProgInvest_Spesa agg'!J42=\"\",\"\",'Z0.6.a ProgInvest_Spesa agg'!J42)","v":""},{"$f":"IF('Z0.6.a ProgInvest_Spesa agg'!K42=\"\",\"\",'Z0.6.a ProgInvest_Spesa agg'!K42)","v":"Altro"},{"$f":"IF('Z0.6.a ProgInvest_Spesa agg'!L42=\"\",\"\",'Z0.6.a ProgInvest_Spesa agg'!L42)","v":"in corso"},{"$f":"IF('Z0.6.a ProgInvest_Spesa agg'!M42=\"\",\"\",'Z0.6.a ProgInvest_Spesa agg'!M42)","v":"CIN post2026"},{"$f":"IF('Z0.6.a ProgInvest_Spesa agg'!N42=\"\",\"\",'Z0.6.a ProgInvest_Spesa agg'!N42)","v":""},{"$f":"IF('Z0.6.a ProgInvest_Spesa agg'!O42=\"\",\"\",'Z0.6.a ProgInvest_Spesa agg'!O42)","v":"Vite utili 2"},{"$f":"IF('Z0.6.a ProgInvest_Spesa agg'!P42=\"\",\"\",'Z0.6.a ProgInvest_Spesa agg'!P42)","v":2037},{"$f":"IF('Z0.6.a ProgInvest_Spesa agg'!Q42=\"\",\"\",'Z0.6.a ProgInvest_Spesa agg'!Q42)","v":"pianificato"},{"$f":"IF('Z0.6.a ProgInvest_Spesa agg'!R42=\"\",\"\",'Z0.6.a ProgInvest_Spesa agg'!R42)","v":""},{"$f":"IF('Z0.6.a ProgInvest_Spesa agg'!S42=\"\",\"\",'Z0.6.a ProgInvest_Spesa agg'!S42)","v":200},{"$f":"IF('Z0.6.a ProgInvest_Spesa agg'!T42=\"\",\"\",'Z0.6.a ProgInvest_Spesa agg'!T42)","v":20},{"$f":"IF('Z0.6.a ProgInvest_Spesa agg'!U42=\"\",\"\",'Z0.6.a ProgInvest_Spesa agg'!U42)","v":10},false,null,null,null,null,null,null,null,null,null,null,null,null,null,20]
[null,"x",{"$f":"IF('Z0.6.a ProgInvest_Spesa agg'!C43=\"\",\"\",'Z0.6.a ProgInvest_Spesa agg'!C43)","v":""},{"$f":"IF('Z0.6.a ProgInvest_Spesa agg'!D43=\"\",\"\",'Z0.6.a ProgInvest_Spesa agg'!D43)","v":""},{"$f":"IF('Z0.6.a ProgInvest_Spesa agg'!E43=\"\",\"\",'Z0.6.a ProgInvest_Spesa agg'!E43)","v":""},{"$f":"IF('Z0.6.a ProgInvest_Spesa agg'!F43=\"\",\"\",'Z0.6.a ProgInvest_Spesa agg'!F43)","v":25},{"$f":"IF('Z0.6.a ProgInvest_Spesa agg'!G43=\"\",\"\",'Z0.6.a ProgInvest_Spesa agg'!G43)","v":"Intervento 23"},{"$f":"IF('Z0.6.a ProgInvest_Spesa agg'!H43=\"\",\"\",'Z0.6.a ProgInvest_Spesa agg'!H43)","v":"SIVCA 23"},{"$f":"IF('Z0.6.a ProgInvest_Spesa agg'!I43=\"\",\"\",'Z0.6.a ProgInvest_Spesa agg'!I43)","v":""},{"$f":"IF('Z0.6.a ProgInvest_Spesa agg'!J43=\"\",\"\",'Z0.6.a ProgInvest_Spesa agg'!J43)","v":""},{"$f":"IF('Z0.6.a ProgInvest_Spesa agg'!K43=\"\",\"\",'Z0.6.a ProgInvest_Spesa agg'!K43)","v":"(assoggettata ad ammortamento finanziario)"},{"$f":"IF('Z0.6.a ProgInvest_Spesa agg'!L43=\"\",\"\",'Z0.6.a ProgInvest_Spesa agg'!L43)","v":"in corso"},{"$f":"IF('Z0.6.a ProgInvest_Spesa agg'!M43=\"\",\"\",'Z0.6.a ProgInvest_Spesa agg'!M43)","v":"CIN post2026"},{"$f":"IF('Z0.6.a ProgInvest_Spesa agg'!N43=\"\",\"\",'Z0.6.a ProgInvest_Spesa agg'!N43)","v":""},{"$f":"IF('Z0.6.a ProgInvest_Spesa agg'!O43=\"\",\"\",'Z0.6.a ProgInvest_Spesa agg'!O43)","v":"Finanziario"},{"$f":"IF('Z0.6.a ProgInvest_Spesa agg'!P43=\"\",\"\",'Z0.6.a ProgInvest_Spesa agg'!P43)","v":""},{"$f":"IF('Z0.6.a ProgInvest_Spesa agg'!Q43=\"\",\"\",'Z0.6.a ProgInvest_Spesa agg'!Q43)","v":"nuovo, urgente"},{"$f":"IF('Z0.6.a ProgInvest_Spesa agg'!R43=\"\",\"\",'Z0.6.a ProgInvest_Spesa agg'!R43)","v":""},{"$f":"IF('Z0.6.a ProgInvest_Spesa agg'!S43=\"\",\"\",'Z0.6.a ProgInvest_Spesa agg'!S43)","v":0},{"$f":"IF('Z0.6.a ProgInvest_Spesa agg'!T43=\"\",\"\",'Z0.6.a ProgInvest_Spesa agg'!T43)","v":0},{"$f":"IF('Z0.6.a ProgInvest_Spesa agg'!U43=\"\",\"\",'Z0.6.a ProgInvest_Spesa agg'!U43)","v":0},false,null,null,null,null,0]
[null,"x",{"$f":"IF('Z0.6.a ProgInvest_Spesa agg'!C44=\"\",\"\",'Z0.6.a ProgInvest_Spesa agg'!C44)","v":""},{"$f":"IF('Z0.6.a ProgInvest_Spesa agg'!D44=\"\",\"\",'Z0.6.a ProgInvest_Spesa agg'!D44)","v":""},{"$f":"IF('Z0.6.a ProgInvest_Spesa agg'!E44=\"\",\"\",'Z0.6.a ProgInvest_Spesa agg'!E44)","v":""},{"$f":"IF('Z0.6.a ProgInvest_Spesa agg'!F44=\"\",\"\",'Z0.6.a ProgInvest_Spesa agg'!F44)","v":26},{"$f":"IF('Z0.6.a ProgInvest_Spesa agg'!G44=\"\",\"\",'Z0.6.a ProgInvest_Spesa agg'!G44)","v":"Intervento 24"},{"$f":"IF('Z0.6.a ProgInvest_Spesa agg'!H44=\"\",\"\",'Z0.6.a ProgInvest_Spesa agg'!H44)","v":"SIVCA 24"},{"$f":"IF('Z0.6.a ProgInvest_Spesa agg'!I44=\"\",\"\",'Z0.6.a ProgInvest_Spesa agg'!I44)","v":""},{"$f":"IF('Z0.6.a ProgInvest_Spesa agg'!J44=\"\",\"\",'Z0.6.a ProgInvest_Spesa agg'!J44)","v":""},{"$f":"IF('Z0.6.a ProgInvest_Spesa agg'!K44=\"\",\"\",'Z0.6.a ProgInvest_Spesa agg'!K44)","v":"Viadotti/Ponti/Cavalcavia"},{"$f":"IF('Z0.6.a ProgInvest_Spesa agg'!L44=\"\",\"\",'Z0.6.a ProgInvest_Spesa agg'!L44)","v":"in corso"},{"$f":"IF('Z0.6.a ProgInvest_Spesa agg'!M44=\"\",\"\",'Z0.6.a ProgInvest_Spesa agg'!M44)","v":"CIN post2026"},{"$f":"IF('Z0.6.a ProgInvest_Spesa agg'!N44=\"\",\"\",'Z0.6.a ProgInvest_Spesa agg'!N44)","v":""},{"$f":"IF('Z0.6.a ProgInvest_Spesa agg'!O44=\"\",\"\",'Z0.6.a ProgInvest_Spesa agg'!O44)","v":"Vite utili 2"},{"$f":"IF('Z0.6.a ProgInvest_Spesa agg'!P44=\"\",\"\",'Z0.6.a ProgInvest_Spesa agg'!P44)","v":2029},{"$f":"IF('Z0.6.a ProgInvest_Spesa agg'!Q44=\"\",\"\",'Z0.6.a ProgInvest_Spesa agg'!Q44)","v":"nuovo, urgente"},{"$f":"IF('Z0.6.a ProgInvest_Spesa agg'!R44=\"\",\"\",'Z0.6.a ProgInvest_Spesa agg'!R44)","v":""},{"$f":"IF('Z0.6.a ProgInvest_Spesa agg'!S44=\"\",\"\",'Z0.6.a ProgInvest_Spesa agg'!S44)","v":0},{"$f":"IF('Z0.6.a ProgInvest_Spesa agg'!T44=\"\",\"\",'Z0.6.a ProgInvest_Spesa agg'!T44)","v":0},{"$f":"IF('Z0.6.a ProgInvest_Spesa agg'!U44=\"\",\"\",'Z0.6.a ProgInvest_Spesa agg'!U44)","v":0},false,null,null,null,null,0]

{"sheet":"Z0.6.c ProgInvest_Dism agg","index":14,"n_rows":44,"n_cols":38,"rows_kept":44,"cut":false,"hidden":false,"merged":[]}
[]
[null,null,"Programma degli Investimenti - aggiornamento (3/6)"]
[]
[null,null,null,null,null,null,null,null,null,null,null,null,null,null,null,null,null,null,null,null,"Anno",null,null,2024,2025,2026,2027,2028,2029,2030,2031,2032,2033,2034,2035,2036,2037,2038]
[]
[null,null,null,null,null,null,null,null,null,null,null,null,null,null,null,null,null,null,null,null,"Anno base",null,null,1,0,0,0,1,0,0,0,0,1,0,0,0,0,0]
[null,null,null,null,null,null,null,null,null,null,null,null,null,null,null,null,null,null,null,null,"Anno ponte",null,null,0,1,0,0,0,1,0,0,0,0,1,0,0,0,0]
[null,null,null,null,null,null,null,null,null,null,null,null,null,null,null,null,null,null,null,null,"Periodo regolatorio",null,null,0,0,1,1,1,1,2,2,2,2,2,3,3,3,3]
[null,null,null,null,null,null,null,null,null,null,null,null,null,null,null,null,null,null,null,null,"Anno del periodo regolatorio",null,null,0,0,1,2,3,4,1,2,3,4,5,1,2,3,4]
[null,null,null,null,null,null,null,null,null,null,null,null,null,null,null,null,null,null,null,null,"Frazione di anno significativa",null,null,null,null,1,1,1,1,1,1,1,1,1,1,1,1,1]
[]
[null,null,null,null,null,null,null,null,null,null,null,null,null,null,null,null,null,null,null,null,null,null,null,null,"Ultimo adattamento schema: 03/11/2025 14:32:48"]
[]
[null,null,"Programmazione ammissibile in tariffa: Importo annuo eventuali dismissioni"]
[null,null,"Tabella da alimentare solo con spese per beni reversibili, autorizzati e ammissibili in tariffa"]
[]
[null,null,"Atto convenzionale di riferimento","Rif. macro intervento","Rif. lett. art.","Codice univoco intervento","Descrizione intervento","Codice SIVCA","Tratta autostradale da convenzione","Macro tipologia intervento","Tipologia intervento","Stato lavori","Tipologia CIN","Stati di \navanzamento \nCIN ante","Criterio di ammortamento","Data presunta entrata in esercizio (anno)","Status intervento","Responsabilità della variazione","Spesa programmata totale","Contributo a fondo perduto","Eventuali dismissioni","Variazione importi programmati",null,null,{"$f":"\"Dismissioni aggiornate    \" & Y4","v":"Dismissioni aggiornate    2025"},"Dismissioni aggiornate    2026","Dismissioni aggiornate    2027","Dismissioni aggiornate    2028","Dismissioni aggiornate    2029","Dismissioni aggiornate    2030","Dismissioni aggiornate    2031","Dismissioni aggiornate    2032","Dismissioni aggiornate    2033","Dismissioni aggiornate    2034","Dismissioni aggiornate    2035","Dismissioni aggiornate    2036","Dismissioni aggiornate    2037","Dismissioni aggiornate    2038"]
[]
[null,"x",{"$f":"IF('Z0.6.a ProgInvest_Spesa agg'!C19=\"\",\"\",'Z0.6.a ProgInvest_Spesa agg'!C19)","v":""},{"$f":"IF('Z0.6.a ProgInvest_Spesa agg'!D19=\"\",\"\",'Z0.6.a ProgInvest_Spesa agg'!D19)","v":""},{"$f":"IF('Z0.6.a ProgInvest_Spesa agg'!E19=\"\",\"\",'Z0.6.a ProgInvest_Spesa agg'!E19)","v":""},{"$f":"IF('Z0.6.a ProgInvest_Spesa agg'!F19=\"\",\"\",'Z0.6.a ProgInvest_Spesa agg'!F19)","v":1},{"$f":"IF('Z0.6.a ProgInvest_Spesa agg'!G19=\"\",\"\",'Z0.6.a ProgInvest_Spesa agg'!G19)","v":"Intervento 1"},{"$f":"IF('Z0.6.a ProgInvest_Spesa agg'!H19=\"\",\"\",'Z0.6.a ProgInvest_Spesa agg'!H19)","v":"SIVCA 1"},{"$f":"IF('Z0.6.a ProgInvest_Spesa agg'!I19=\"\",\"\",'Z0.6.a ProgInvest_Spesa agg'!I19)","v":""},{"$f":"IF('Z0.6.a ProgInvest_Spesa agg'!J19=\"\",\"\",'Z0.6.a ProgInvest_Spesa agg'!J19)","v":""},{"$f":"IF('Z0.6.a ProgInvest_Spesa agg'!K19=\"\",\"\",'Z0.6.a ProgInvest_Spesa agg'!K19)","v":"(assoggettata ad ammortamento finanziario)"},{"$f":"IF('Z0.6.a ProgInvest_Spesa agg'!L19=\"\",\"\",'Z0.6.a ProgInvest_Spesa agg'!L19)","v":"in corso"},{"$f":"IF('Z0.6.a ProgInvest_Spesa agg'!M19=\"\",\"\",'Z0.6.a ProgInvest_Spesa agg'!M19)","v":"CIN ante"},{"$f":"IF('Z0.6.a ProgInvest_Spesa agg'!N19=\"\",\"\",'Z0.6.a ProgInvest_Spesa agg'!N19)","v":"SAL contabilizzati"},{"$f":"IF('Z0.6.a ProgInvest_Spesa agg'!O19=\"\",\"\",'Z0.6.a ProgInvest_Spesa agg'!O19)","v":"Finanziario"},{"$f":"IF('Z0.6.a ProgInvest_Spesa agg'!P19=\"\",\"\",'Z0.6.a ProgInvest_Spesa agg'!P19)","v":""},{"$f":"IF('Z0.6.a ProgInvest_Spesa agg'!Q19=\"\",\"\",'Z0.6.a ProgInvest_Spesa agg'!Q19)","v":"pianificato"},{"$f":"IF('Z0.6.a ProgInvest_Spesa agg'!R19=\"\",\"\",'Z0.6.a ProgInvest_Spesa agg'!R19)","v":""},{"$f":"IF('Z0.6.a ProgInvest_Spesa agg'!S19=\"\",\"\",'Z0.6.a ProgInvest_Spesa agg'!S19)","v":0},{"$f":"IF('Z0.6.a ProgInvest_Spesa agg'!T19=\"\",\"\",'Z0.6.a ProgInvest_Spesa agg'!T19)","v":2000},{"$f":"IF('Z0.6.a ProgInvest_Spesa agg'!U19=\"\",\"\",'Z0.6.a ProgInvest_Spesa agg'!U19)","v":20},false,null,null,null,null,null,null,null,null,null,null,null,null,null,null,20]
[null,"x",{"$f":"IF('Z0.6.a ProgInvest_Spesa agg'!C20=\"\",\"\",'Z0.6.a ProgInvest_Spesa agg'!C20)","v":""},{"$f":"IF('Z0.6.a ProgInvest_Spesa agg'!D20=\"\",\"\",'Z0.6.a ProgInvest_Spesa agg'!D20)","v":""},{"$f":"IF('Z0.6.a ProgInvest_Spesa agg'!E20=\"\",\"\",'Z0.6.a ProgInvest_Spesa agg'!E20)","v":""},{"$f":"IF('Z0.6.a ProgInvest_Spesa agg'!F20=\"\",\"\",'Z0.6.a ProgInvest_Spesa agg'!F20)","v":2},{"$f":"IF('Z0.6.a ProgInvest_Spesa agg'!G20=\"\",\"\",'Z0.6.a ProgInvest_Spesa agg'!G20)","v":"Intervento 2"},{"$f":"IF('Z0.6.a ProgInvest_Spesa agg'!H20=\"\",\"\",'Z0.6.a ProgInvest_Spesa agg'!H20)","v":"SIVCA 2"},{"$f":"IF('Z0.6.a ProgInvest_Spesa agg'!I20=\"\",\"\",'Z0.6.a ProgInvest_Spesa agg'!I20)","v":""},{"$f":"IF('Z0.6.a ProgInvest_Spesa agg'!J20=\"\",\"\",'Z0.6.a ProgInvest_Spesa agg'!J20)","v":""},{"$f":"IF('Z0.6.a ProgInvest_Spesa agg'!K20=\"\",\"\",'Z0.6.a ProgInvest_Spesa agg'!K20)","v":"(assoggettata ad ammortamento finanziario)"},{"$f":"IF('Z0.6.a ProgInvest_Spesa agg'!L20=\"\",\"\",'Z0.6.a ProgInvest_Spesa agg'!L20)","v":"in corso"},{"$f":"IF('Z0.6.a ProgInvest_Spesa agg'!M20=\"\",\"\",'Z0.6.a ProgInvest_Spesa agg'!M20)","v":"CIN ante"},{"$f":"IF('Z0.6.a ProgInvest_Spesa agg'!N20=\"\",\"\",'Z0.6.a ProgInvest_Spesa agg'!N20)","v":"SAL da contabilizzare"},{"$f":"IF('Z0.6.a ProgInvest_Spesa agg'!O20=\"\",\"\",'Z0.6.a ProgInvest_Spesa agg'!O20)","v":"Finanziario"},{"$f":"IF('Z0.6.a ProgInvest_Spesa agg'!P20=\"\",\"\",'Z0.6.a ProgInvest_Spesa agg'!P20)","v":""},{"$f":"IF('Z0.6.a ProgInvest_Spesa agg'!Q20=\"\",\"\",'Z0.6.a ProgInvest_Spesa agg'!Q20)","v":"pianificato"},{"$f":"IF('Z0.6.a ProgInvest_Spesa agg'!R20=\"\",\"\",'Z0.6.a ProgInvest_Spesa agg'!R20)","v":""},{"$f":"IF('Z0.6.a ProgInvest_Spesa agg'!S20=\"\",\"\",'Z0.6.a ProgInvest_Spesa agg'!S20)","v":20000},{"$f":"IF('Z0.6.a ProgInvest_Spesa agg'!T20=\"\",\"\",'Z0.6.a ProgInvest_Spesa agg'!T20)","v":1000},{"$f":"IF('Z0.6.a ProgInvest_Spesa agg'!U20=\"\",\"\",'Z0.6.a ProgInvest_Spesa agg'!U20)","v":20},false,null,null,null,null,null,null,null,null,null,null,null,null,null,null,20]
[null,"x",{"$f":"IF('Z0.6.a ProgInvest_Spesa agg'!C21=\"\",\"\",'Z0.6.a ProgInvest_Spesa agg'!C21)","v":""},{"$f":"IF('Z0.6.a ProgInvest_Spesa agg'!D21=\"\",\"\",'Z0.6.a ProgInvest_Spesa agg'!D21)","v":""},{"$f":"IF('Z0.6.a ProgInvest_Spesa agg'!E21=\"\",\"\",'Z0.6.a ProgInvest_Spesa agg'!E21)","v":""},{"$f":"IF('Z0.6.a ProgInvest_Spesa agg'!F21=\"\",\"\",'Z0.6.a ProgInvest_Spesa agg'!F21)","v":3},{"$f":"IF('Z0.6.a ProgInvest_Spesa agg'!G21=\"\",\"\",'Z0.6.a ProgInvest_Spesa agg'!G21)","v":"Intervento 2"},{"$f":"IF('Z0.6.a ProgInvest_Spesa agg'!H21=\"\",\"\",'Z0.6.a ProgInvest_Spesa agg'!H21)","v":"SIVCA 2"},{"$f":"IF('Z0.6.a ProgInvest_Spesa agg'!I21=\"\",\"\",'Z0.6.a ProgInvest_Spesa agg'!I21)","v":""},{"$f":"IF('Z0.6.a ProgInvest_Spesa agg'!J21=\"\",\"\",'Z0.6.a ProgInvest_Spesa agg'!J21)","v":""},{"$f":"IF('Z0.6.a ProgInvest_Spesa agg'!K21=\"\",\"\",'Z0.6.a ProgInvest_Spesa agg'!K21)","v":"(assoggettata ad ammortamento finanziario)"},{"$f":"IF('Z0.6.a ProgInvest_Spesa agg'!L21=\"\",\"\",'Z0.6.a ProgInvest_Spesa agg'!L21)","v":"in corso"},{"$f":"IF('Z0.6.a ProgInvest_Spesa agg'!M21=\"\",\"\",'Z0.6.a ProgInvest_Spesa agg'!M21)","v":"CIN pre2026"},{"$f":"IF('Z0.6.a ProgInvest_Spesa agg'!N21=\"\",\"\",'Z0.6.a ProgInvest_Spesa agg'!N21)","v":""},{"$f":"IF('Z0.6.a ProgInvest_Spesa agg'!O21=\"\",\"\",'Z0.6.a ProgInvest_Spesa agg'!O21)","v":"Finanziario"},{"$f":"IF('Z0.6.a ProgInvest_Spesa agg'!P21=\"\",\"\",'Z0.6.a ProgInvest_Spesa agg'!P21)","v":""},{"$f":"IF('Z0.6.a ProgInvest_Spesa agg'!Q21=\"\",\"\",'Z0.6.a ProgInvest_Spesa agg'!Q21)","v":"pianificato"},{"$f":"IF('Z0.6.a ProgInvest_Spesa agg'!R21=\"\",\"\",'Z0.6.a ProgInvest_Spesa agg'!R21)","v":""},{"$f":"IF('Z0.6.a ProgInvest_Spesa agg'!S21=\"\",\"\",'Z0.6.a ProgInvest_Spesa agg'!S21)","v":20000},{"$f":"IF('Z0.6.a ProgInvest_Spesa agg'!T21=\"\",\"\",'Z0.6.a ProgInvest_Spesa agg'!T21)","v":1000},{"$f":"IF('Z0.6.a ProgInvest_Spesa agg'!U21=\"\",\"\",'Z0.6.a ProgInvest_Spesa agg'!U21)","v":20},false,null,null,null,null,null,null,null,null,null,null,null,null,null,null,20]
[null,"x",{"$f":"IF('Z0.6.a ProgInvest_Spesa agg'!C22=\"\",\"\",'Z0.6.a ProgInvest_Spesa agg'!C22)","v":""},{"$f":"IF('Z0.6.a ProgInvest_Spesa agg'!D22=\"\",\"\",'Z0.6.a ProgInvest_Spesa agg'!D22)","v":""},{"$f":"IF('Z0.6.a ProgInvest_Spesa agg'!E22=\"\",\"\",'Z0.6.a ProgInvest_Spesa agg'!E22)","v":""},{"$f":"IF('Z0.6.a ProgInvest_Spesa agg'!F22=\"\",\"\",'Z0.6.a ProgInvest_Spesa agg'!F22)","v":4},{"$f":"IF('Z0.6.a ProgInvest_Spesa agg'!G22=\"\",\"\",'Z0.6.a ProgInvest_Spesa agg'!G22)","v":"Intervento 2"},{"$f":"IF('Z0.6.a ProgInvest_Spesa agg'!H22=\"\",\"\",'Z0.6.a ProgInvest_Spesa agg'!H22)","v":"SIVCA 2"},{"$f":"IF('Z0.6.a ProgInvest_Spesa agg'!I22=\"\",\"\",'Z0.6.a ProgInvest_Spesa agg'!I22)","v":""},{"$f":"IF('Z0.6.a ProgInvest_Spesa agg'!J22=\"\",\"\",'Z0.6.a ProgInvest_Spesa agg'!J22)","v":""},{"$f":"IF('Z0.6.a ProgInvest_Spesa agg'!K22=\"\",\"\",'Z0.6.a ProgInvest_Spesa agg'!K22)","v":"(assoggettata ad ammortamento finanziario)"},{"$f":"IF('Z0.6.a ProgInvest_Spesa agg'!L22=\"\",\"\",'Z0.6.a ProgInvest_Spesa agg'!L22)","v":"in corso"},{"$f":"IF('Z0.6.a ProgInvest_Spesa agg'!M22=\"\",\"\",'Z0.6.a ProgInvest_Spesa agg'!M22)","v":"CIN post2026"},{"$f":"IF('Z0.6.a ProgInvest_Spesa agg'!N22=\"\",\"\",'Z0.6.a ProgInvest_Spesa agg'!N22)","v":""},{"$f":"IF('Z0.6.a ProgInvest_Spesa agg'!O22=\"\",\"\",'Z0.6.a ProgInvest_Spesa agg'!O22)","v":"Finanziario"},{"$f":"IF('Z0.6.a ProgInvest_Spesa agg'!P22=\"\",\"\",'Z0.6.a ProgInvest_Spesa agg'!P22)","v":""},{"$f":"IF('Z0.6.a ProgInvest_Spesa agg'!Q22=\"\",\"\",'Z0.6.a ProgInvest_Spesa agg'!Q22)","v":"pianificato"},{"$f":"IF('Z0.6.a ProgInvest_Spesa agg'!R22=\"\",\"\",'Z0.6.a ProgInvest_Spesa agg'!R22)","v":""},{"$f":"IF('Z0.6.a ProgInvest_Spesa agg'!S22=\"\",\"\",'Z0.6.a ProgInvest_Spesa agg'!S22)","v":100000},{"$f":"IF('Z0.6.a ProgInvest_Spesa agg'!T22=\"\",\"\",'Z0.6.a ProgInvest_Spesa agg'!T22)","v":1000},{"$f":"IF('Z0.6.a ProgInvest_Spesa agg'!U22=\"\",\"\",'Z0.6.a ProgInvest_Spesa agg'!U22)","v":20},false,null,null,null,null,null,null,null,null,null,null,null,null,null,null,20]
[null,"x",{"$f":"IF('Z0.6.a ProgInvest_Spesa agg'!C23=\"\",\"\",'Z0.6.a ProgInvest_Spesa agg'!C23)","v":""},{"$f":"IF('Z0.6.a ProgInvest_Spesa agg'!D23=\"\",\"\",'Z0.6.a ProgInvest_Spesa agg'!D23)","v":""},{"$f":"IF('Z0.6.a ProgInvest_Spesa agg'!E23=\"\",\"\",'Z0.6.a ProgInvest_Spesa agg'!E23)","v":""},{"$f":"IF('Z0.6.a ProgInvest_Spesa agg'!F23=\"\",\"\",'Z0.6.a ProgInvest_Spesa agg'!F23)","v":5},{"$f":"IF('Z0.6.a ProgInvest_Spesa agg'!G23=\"\",\"\",'Z0.6.a ProgInvest_Spesa agg'!G23)","v":"Intervento 3"},{"$f":"IF('Z0.6.a ProgInvest_Spesa agg'!H23=\"\",\"\",'Z0.6.a ProgInvest_Spesa agg'!H23)","v":"SIVCA 3"},{"$f":"IF('Z0.6.a ProgInvest_Spesa agg'!I23=\"\",\"\",'Z0.6.a ProgInvest_Spesa agg'!I23)","v":""},{"$f":"IF('Z0.6.a ProgInvest_Spesa agg'!J23=\"\",\"\",'Z0.6.a ProgInvest_Spesa agg'!J23)","v":""},{"$f":"IF('Z0.6.a ProgInvest_Spesa agg'!K23=\"\",\"\",'Z0.6.a ProgInvest_Spesa agg'!K23)","v":"Viadotti/Ponti/Cavalcavia"},{"$f":"IF('Z0.6.a ProgInvest_Spesa agg'!L23=\"\",\"\",'Z0.6.a ProgInvest_Spesa agg'!L23)","v":"in corso"},{"$f":"IF('Z0.6.a ProgInvest_Spesa agg'!M23=\"\",\"\",'Z0.6.a ProgInvest_Spesa agg'!M23)","v":"CIN post2026"},{"$f":"IF('Z0.6.a ProgInvest_Spesa agg'!N23=\"\",\"\",'Z0.6.a ProgInvest_Spesa agg'!N23)","v":""},{"$f":"IF('Z0.6.a ProgInvest_Spesa agg'!O23=\"\",\"\",'Z0.6.a ProgInvest_Spesa agg'!O23)","v":"Vite utili 1"},{"$f":"IF('Z0.6.a ProgInvest_Spesa agg'!P23=\"\",\"\",'Z0.6.a ProgInvest_Spesa agg'!P23)","v":2028},{"$f":"IF('Z0.6.a ProgInvest_Spesa agg'!Q23=\"\",\"\",'Z0.6.a ProgInvest_Spesa agg'!Q23)","v":"pianificato"},{"$f":"IF('Z0.6.a ProgInvest_Spesa agg'!R23=\"\",\"\",'Z0.6.a ProgInvest_Spesa agg'!R23)","v":""},{"$f":"IF('Z0.6.a ProgInvest_Spesa agg'!S23=\"\",\"\",'Z0.6.a ProgInvest_Spesa agg'!S23)","v":200},{"$f":"IF('Z0.6.a ProgInvest_Spesa agg'!T23=\"\",\"\",'Z0.6.a ProgInvest_Spesa agg'!T23)","v":20},{"$f":"IF('Z0.6.a ProgInvest_Spesa agg'!U23=\"\",\"\",'Z0.6.a ProgInvest_Spesa agg'!U23)","v":10},false,null,null,null,null,null,null,null,null,null,null,null,null,null,null,null,10]
[null,"x",{"$f":"IF('Z0.6.a ProgInvest_Spesa agg'!C24=\"\",\"\",'Z0.6.a ProgInvest_Spesa agg'!C24)","v":""},{"$f":"IF('Z0.6.a ProgInvest_Spesa agg'!D24=\"\",\"\",'Z0.6.a ProgInvest_Spesa agg'!D24)","v":""},{"$f":"IF('Z0.6.a ProgInvest_Spesa agg'!E24=\"\",\"\",'Z0.6.a ProgInvest_Spesa agg'!E24)","v":""},{"$f":"IF('Z0.6.a ProgInvest_Spesa agg'!F24=\"\",\"\",'Z0.6.a ProgInvest_Spesa agg'!F24)","v":6},{"$f":"IF('Z0.6.a ProgInvest_Spesa agg'!G24=\"\",\"\",'Z0.6.a ProgInvest_Spesa agg'!G24)","v":"Intervento 4"},{"$f":"IF('Z0.6.a ProgInvest_Spesa agg'!H24=\"\",\"\",'Z0.6.a ProgInvest_Spesa agg'!H24)","v":"SIVCA 4"},{"$f":"IF('Z0.6.a ProgInvest_Spesa agg'!I24=\"\",\"\",'Z0.6.a ProgInvest_Spesa agg'!I24)","v":""},{"$f":"IF('Z0.6.a ProgInvest_Spesa agg'!J24=\"\",\"\",'Z0.6.a ProgInvest_Spesa agg'!J24)","v":""},{"$f":"IF('Z0.6.a ProgInvest_Spesa agg'!K24=\"\",\"\",'Z0.6.a ProgInvest_Spesa agg'!K24)","v":"Gallerie"},{"$f":"IF('Z0.6.a ProgInvest_Spesa agg'!L24=\"\",\"\",'Z0.6.a ProgInvest_Spesa agg'!L24)","v":"in corso"},{"$f":"IF('Z0.6.a ProgInvest_Spesa agg'!M24=\"\",\"\",'Z0.6.a ProgInvest_Spesa agg'!M24)","v":"CIN post2026"},{"$f":"IF('Z0.6.a ProgInvest_Spesa agg'!N24=\"\",\"\",'Z0.6.a ProgInvest_Spesa agg'!N24)","v":""},{"$f":"IF('Z0.6.a ProgInvest_Spesa agg'!O24=\"\",\"\",'Z0.6.a ProgInvest_Spesa agg'!O24)","v":"Vite utili 1"},{"$f":"IF('Z0.6.a ProgInvest_Spesa agg'!P24=\"\",\"\",'Z0.6.a ProgInvest_Spesa agg'!P24)","v":2029},{"$f":"IF('Z0.6.a ProgInvest_Spesa agg'!Q24=\"\",\"\",'Z0.6.a ProgInvest_Spesa agg'!Q24)","v":"pianificato"},{"$f":"IF('Z0.6.a ProgInvest_Spesa agg'!R24=\"\",\"\",'Z0.6.a ProgInvest_Spesa agg'!R24)","v":""},{"$f":"IF('Z0.6.a ProgInvest_Spesa agg'!S24=\"\",\"\",'Z0.6.a ProgInvest_Spesa agg'!S24)","v":200},{"$f":"IF('Z0.6.a ProgInvest_Spesa agg'!T24=\"\",\"\",'Z0.6.a ProgInvest_Spesa agg'!T24)","v":20},{"$f":"IF('Z0.6.a ProgInvest_Spesa agg'!U24=\"\",\"\",'Z0.6.a ProgInvest_Spesa agg'!U24)","v":10},false,null,null,null,null,null,null,null,null,null,null,null,null,null,null,null,10]
[null,"x",{"$f":"IF('Z0.6.a ProgInvest_Spesa agg'!C25=\"\",\"\",'Z0.6.a ProgInvest_Spesa agg'!C25)","v":""},{"$f":"IF('Z0.6.a ProgInvest_Spesa agg'!D25=\"\",\"\",'Z0.6.a ProgInvest_Spesa agg'!D25)","v":""},{"$f":"IF('Z0.6.a ProgInvest_Spesa agg'!E25=\"\",\"\",'Z0.6.a ProgInvest_Spesa agg'!E25)","v":""},{"$f":"IF('Z0.6.a ProgInvest_Spesa agg'!F25=\"\",\"\",'Z0.6.a ProgInvest_Spesa agg'!F25)","v":7},{"$f":"IF('Z0.6.a ProgInvest_Spesa agg'!G25=\"\",\"\",'Z0.6.a ProgInvest_Spesa agg'!G25)","v":"Intervento 5"},{"$f":"IF('Z0.6.a ProgInvest_Spesa agg'!H25=\"\",\"\",'Z0.6.a ProgInvest_Spesa agg'!H25)","v":"SIVCA 5"},{"$f":"IF('Z0.6.a ProgInvest_Spesa agg'!I25=\"\",\"\",'Z0.6.a ProgInvest_Spesa agg'!I25)","v":""},{"$f":"IF('Z0.6.a ProgInvest_Spesa agg'!J25=\"\",\"\",'Z0.6.a ProgInvest_Spesa agg'!J25)","v":""},{"$f":"IF('Z0.6.a ProgInvest_Spesa agg'!K25=\"\",\"\",'Z0.6.a ProgInvest_Spesa agg'!K25)","v":"Barriere"},{"$f":"IF('Z0.6.a ProgInvest_Spesa agg'!L25=\"\",\"\",'Z0.6.a ProgInvest_Spesa agg'!L25)","v":"in corso"},{"$f":"IF('Z0.6.a ProgInvest_Spesa agg'!M25=\"\",\"\",'Z0.6.a ProgInvest_Spesa agg'!M25)","v":"CIN post2026"},{"$f":"IF('Z0.6.a ProgInvest_Spesa agg'!N25=\"\",\"\",'Z0.6.a ProgInvest_Spesa agg'!N25)","v":""},{"$f":"IF('Z0.6.a ProgInvest_Spesa agg'!O25=\"\",\"\",'Z0.6.a ProgInvest_Spesa agg'!O25)","v":"Vite utili 1"},{"$f":"IF('Z0.6.a ProgInvest_Spesa agg'!P25=\"\",\"\",'Z0.6.a ProgInvest_Spesa agg'!P25)","v":2030},{"$f":"IF('Z0.6.a ProgInvest_Spesa agg'!Q25=\"\",\"\",'Z0.6.a ProgInvest_Spesa agg'!Q25)","v":"pianificato"},{"$f":"IF('Z0.6.a ProgInvest_Spesa agg'!R25=\"\",\"\",'Z0.6.a ProgInvest_Spesa agg'!R25)","v":""},{"$f":"IF('Z0.6.a ProgInvest_Spesa agg'!S25=\"\",\"\",'Z0.6.a ProgInvest_Spesa agg'!S25)","v":200},{"$f":"IF('Z0.6.a ProgInvest_Spesa agg'!T25=\"\",\"\",'Z0.6.a ProgInvest_Spesa agg'!T25)","v":20},{"$f":"IF('Z0.6.a ProgInvest_Spesa agg'!U25=\"\",\"\",'Z0.6.a ProgInvest_Spesa agg'!U25)","v":10},false,null,null,null,null,null,null,null,null,null,null,null,null,null,null,null,10]
[null,"x",{"$f":"IF('Z0.6.a ProgInvest_Spesa agg'!C26=\"\",\"\",'Z0.6.a ProgInvest_Spesa agg'!C26)","v":""},{"$f":"IF('Z0.6.a ProgInvest_Spesa agg'!D26=\"\",\"\",'Z0.6.a ProgInvest_Spesa agg'!D26)","v":""},{"$f":"IF('Z0.6.a ProgInvest_Spesa agg'!E26=\"\",\"\",'Z0.6.a ProgInvest_Spesa agg'!E26)","v":""},{"$f":"IF('Z0.6.a ProgInvest_Spesa agg'!F26=\"\",\"\",'Z0.6.a ProgInvest_Spesa agg'!F26)","v":8},{"$f":"IF('Z0.6.a ProgInvest_Spesa agg'!G26=\"\",\"\",'Z0.6.a ProgInvest_Spesa agg'!G26)","v":"Intervento 6"},{"$f":"IF('Z0.6.a ProgInvest_Spesa agg'!H26=\"\",\"\",'Z0.6.a ProgInvest_Spesa agg'!H26)","v":"SIVCA 6"},{"$f":"IF('Z0.6.a ProgInvest_Spesa agg'!I26=\"\",\"\",'Z0.6.a ProgInvest_Spesa agg'!I26)","v":""},{"$f":"IF('Z0.6.a ProgInvest_Spesa agg'!J26=\"\",\"\",'Z0.6.a ProgInvest_Spesa agg'!J26)","v":""},{"$f":"IF('Z0.6.a ProgInvest_Spesa agg'!K26=\"\",\"\",'Z0.6.a ProgInvest_Spesa agg'!K26)","v":"Corpo autostradale, opere sul territorio"},{"$f":"IF('Z0.6.a ProgInvest_Spesa agg'!L26=\"\",\"\",'Z0.6.a ProgInvest_Spesa agg'!L26)","v":"in corso"},{"$f":"IF('Z0.6.a ProgInvest_Spesa agg'!M26=\"\",\"\",'Z0.6.a ProgInvest_Spesa agg'!M26)","v":"CIN post2026"},{"$f":"IF('Z0.6.a ProgInvest_Spesa agg'!N26=\"\",\"\",'Z0.6.a ProgInvest_Spesa agg'!N26)","v":""},{"$f":"IF('Z0.6.a ProgInvest_Spesa agg'!O26=\"\",\"\",'Z0.6.a ProgInvest_Spesa agg'!O26)","v":"Vite utili 1"},{"$f":"IF('Z0.6.a ProgInvest_Spesa agg'!P26=\"\",\"\",'Z0.6.a ProgInvest_Spesa agg'!P26)","v":2031},{"$f":"IF('Z0.6.a ProgInvest_Spesa agg'!Q26=\"\",\"\",'Z0.6.a ProgInvest_Spesa agg'!Q26)","v":"pianificato"},{"$f":"IF('Z0.6.a ProgInvest_Spesa agg'!R26=\"\",\"\",'Z0.6.a ProgInvest_Spesa agg'!R26)","v":""},{"$f":"IF('Z0.6.a ProgInvest_Spesa agg'!S26=\"\",\"\",'Z0.6.a ProgInvest_Spesa agg'!S26)","v":200},{"$f":"IF('Z0.6.a ProgInvest_Spesa agg'!T26=\"\",\"\",'Z0.6.a ProgInvest_Spesa agg'!T26)","v":20},{"$f":"IF('Z0.6.a ProgInvest_Spesa agg'!U26=\"\",\"\",'Z0.6.a ProgInvest_Spesa agg'!U26)","v":10},false,null,null,null,null,null,null,null,null,null,null,null,null,null,null,null,10]
[null,"x",{"$f":"IF('Z0.6.a ProgInvest_Spesa agg'!C27=\"\",\"\",'Z0.6.a ProgInvest_Spesa agg'!C27)","v":""},{"$f":"IF('Z0.6.a ProgInvest_Spesa agg'!D27=\"\",\"\",'Z0.6.a ProgInvest_Spesa agg'!D27)","v":""},{"$f":"IF('Z0.6.a ProgInvest_Spesa agg'!E27=\"\",\"\",'Z0.6.a ProgInvest_Spesa agg'!E27)","v":""},{"$f":"IF('Z0.6.a ProgInvest_Spesa agg'!F27=\"\",\"\",'Z0.6.a ProgInvest_Spesa agg'!F27)","v":9},{"$f":"IF('Z0.6.a ProgInvest_Spesa agg'!G27=\"\",\"\",'Z0.6.a ProgInvest_Spesa agg'!G27)","v":"Intervento 7"},{"$f":"IF('Z0.6.a ProgInvest_Spesa agg'!H27=\"\",\"\",'Z0.6.a ProgInvest_Spesa agg'!H27)","v":"SIVCA 7"},{"$f":"IF('Z0.6.a ProgInvest_Spesa agg'!I27=\"\",\"\",'Z0.6.a ProgInvest_Spesa agg'!I27)","v":""},{"$f":"IF('Z0.6.a ProgInvest_Spesa agg'!J27=\"\",\"\",'Z0.6.a ProgInvest_Spesa agg'!J27)","v":""},{"$f":"IF('Z0.6.a ProgInvest_Spesa agg'!K27=\"\",\"\",'Z0.6.a ProgInvest_Spesa agg'!K27)","v":"Reti recinzione"},{"$f":"IF('Z0.6.a ProgInvest_Spesa agg'!L27=\"\",\"\",'Z0.6.a ProgInvest_Spesa agg'!L27)","v":"in corso"},{"$f":"IF('Z0.6.a ProgInvest_Spesa agg'!M27=\"\",\"\",'Z0.6.a ProgInvest_Spesa agg'!M27)","v":"CIN post2026"},{"$f":"IF('Z0.6.a ProgInvest_Spesa agg'!N27=\"\",\"\",'Z0.6.a ProgInvest_Spesa agg'!N27)","v":""},{"$f":"IF('Z0.6.a ProgInvest_Spesa agg'!O27=\"\",\"\",'Z0.6.a ProgInvest_Spesa agg'!O27)","v":"Vite utili 1"},{"$f":"IF('Z0.6.a ProgInvest_Spesa agg'!P27=\"\",\"\",'Z0.6.a ProgInvest_Spesa agg'!P27)","v":2032},{"$f":"IF('Z0.6.a ProgInvest_Spesa agg'!Q27=\"\",\"\",'Z0.6.a ProgInvest_Spesa agg'!Q27)","v":"pianificato"},{"$f":"IF('Z0.6.a ProgInvest_Spesa agg'!R27=\"\",\"\",'Z0.6.a ProgInvest_Spesa agg'!R27)","v":""},{"$f":"IF('Z0.6.a ProgInvest_Spesa agg'!S27=\"\",\"\",'Z0.6.a ProgInvest_Spesa agg'!S27)","v":200},{"$f":"IF('Z0.6.a ProgInvest_Spesa agg'!T27=\"\",\"\",'Z0.6.a ProgInvest_Spesa agg'!T27)","v":20},{"$f":"IF('Z0.6.a ProgInvest_Spesa agg'!U27=\"\",\"\",'Z0.6.a ProgInvest_Spesa agg'!U27)","v":10},false,null,null,null,null,null,null,null,null,null,null,null,null,null,null,null,10]
[null,"x",{"$f":"IF('Z0.6.a ProgInvest_Spesa agg'!C28=\"\",\"\",'Z0.6.a ProgInvest_Spesa agg'!C28)","v":""},{"$f":"IF('Z0.6.a ProgInvest_Spesa agg'!D28=\"\",\"\",'Z0.6.a ProgInvest_Spesa agg'!D28)","v":""},{"$f":"IF('Z0.6.a ProgInvest_Spesa agg'!E28=\"\",\"\",'Z0.6.a ProgInvest_Spesa agg'!E28)","v":""},{"$f":"IF('Z0.6.a ProgInvest_Spesa agg'!F28=\"\",\"\",'Z0.6.a ProgInvest_Spesa agg'!F28)","v":10},{"$f":"IF('Z0.6.a ProgInvest_Spesa agg'!G28=\"\",\"\",'Z0.6.a ProgInvest_Spesa agg'!G28)","v":"Intervento 8"},{"$f":"IF('Z0.6.a ProgInvest_Spesa agg'!H28=\"\",\"\",'Z0.6.a ProgInvest_Spesa agg'!H28)","v":"SIVCA 8"},{"$f":"IF('Z0.6.a ProgInvest_Spesa agg'!I28=\"\",\"\",'Z0.6.a ProgInvest_Spesa agg'!I28)","v":""},{"$f":"IF('Z0.6.a ProgInvest_Spesa agg'!J28=\"\",\"\",'Z0.6.a ProgInvest_Spesa agg'!J28)","v":""},{"$f":"IF('Z0.6.a ProgInvest_Spesa agg'!K28=\"\",\"\",'Z0.6.a ProgInvest_Spesa agg'!K28)","v":"Portali e segnaletica"},{"$f":"IF('Z0.6.a ProgInvest_Spesa agg'!L28=\"\",\"\",'Z0.6.a ProgInvest_Spesa agg'!L28)","v":"in corso"},{"$f":"IF('Z0.6.a ProgInvest_Spesa agg'!M28=\"\",\"\",'Z0.6.a ProgInvest_Spesa agg'!M28)","v":"CIN post2026"},{"$f":"IF('Z0.6.a ProgInvest_Spesa agg'!N28=\"\",\"\",'Z0.6.a ProgInvest_Spesa agg'!N28)","v":""},{"$f":"IF('Z0.6.a ProgInvest_Spesa agg'!O28=\"\",\"\",'Z0.6.a ProgInvest_Spesa agg'!O28)","v":"Vite utili 1"},{"$f":"IF('Z0.6.a ProgInvest_Spesa agg'!P28=\"\",\"\",'Z0.6.a ProgInvest_Spesa agg'!P28)","v":2033},{"$f":"IF('Z0.6.a ProgInvest_Spesa agg'!Q28=\"\",\"\",'Z0.6.a ProgInvest_Spesa agg'!Q28)","v":"pianificato"},{"$f":"IF('Z0.6.a ProgInvest_Spesa agg'!R28=\"\",\"\",'Z0.6.a ProgInvest_Spesa agg'!R28)","v":""},{"$f":"IF('Z0.6.a ProgInvest_Spesa agg'!S28=\"\",\"\",'Z0.6.a ProgInvest_Spesa agg'!S28)","v":200},{"$f":"IF('Z0.6.a ProgInvest_Spesa agg'!T28=\"\",\"\",'Z0.6.a ProgInvest_Spesa agg'!T28)","v":20},{"$f":"IF('Z0.6.a ProgInvest_Spesa agg'!U28=\"\",\"\",'Z0.6.a ProgInvest_Spesa agg'!U28)","v":10},false,null,null,null,null,null,null,null,null,null,null,null,null,null,null,null,10]
[null,"x",{"$f":"IF('Z0.6.a ProgInvest_Spesa agg'!C29=\"\",\"\",'Z0.6.a ProgInvest_Spesa agg'!C29)","v":""},{"$f":"IF('Z0.6.a ProgInvest_Spesa agg'!D29=\"\",\"\",'Z0.6.a ProgInvest_Spesa agg'!D29)","v":""},{"$f":"IF('Z0.6.a ProgInvest_Spesa agg'!E29=\"\",\"\",'Z0.6.a ProgInvest_Spesa agg'!E29)","v":""},{"$f":"IF('Z0.6.a ProgInvest_Spesa agg'!F29=\"\",\"\",'Z0.6.a ProgInvest_Spesa agg'!F29)","v":11},{"$f":"IF('Z0.6.a ProgInvest_Spesa agg'!G29=\"\",\"\",'Z0.6.a ProgInvest_Spesa agg'!G29)","v":"Intervento 9"},{"$f":"IF('Z0.6.a ProgInvest_Spesa agg'!H29=\"\",\"\",'Z0.6.a ProgInvest_Spesa agg'!H29)","v":"SIVCA 9"},{"$f":"IF('Z0.6.a ProgInvest_Spesa agg'!I29=\"\",\"\",'Z0.6.a ProgInvest_Spesa agg'!I29)","v":""},{"$f":"IF('Z0.6.a ProgInvest_Spesa agg'!J29=\"\",\"\",'Z0.6.a ProgInvest_Spesa agg'!J29)","v":""},{"$f":"IF('Z0.6.a ProgInvest_Spesa agg'!K29=\"\",\"\",'Z0.6.a ProgInvest_Spesa agg'!K29)","v":"Pavimentazioni"},{"$f":"IF('Z0.6.a ProgInvest_Spesa agg'!L29=\"\",\"\",'Z0.6.a ProgInvest_Spesa agg'!L29)","v":"in corso"},{"$f":"IF('Z0.6.a ProgInvest_Spesa agg'!M29=\"\",\"\",'Z0.6.a ProgInvest_Spesa agg'!M29)","v":"CIN post2026"},{"$f":"IF('Z0.6.a ProgInvest_Spesa agg'!N29=\"\",\"\",'Z0.6.a ProgInvest_Spesa agg'!N29)","v":""},{"$f":"IF('Z0.6.a ProgInvest_Spesa agg'!O29=\"\",\"\",'Z0.6.a ProgInvest_Spesa agg'!O29)","v":"Vite utili 1"},{"$f":"IF('Z0.6.a ProgInvest_Spesa agg'!P29=\"\",\"\",'Z0.6.a ProgInvest_Spesa agg'!P29)","v":2034},{"$f":"IF('Z0.6.a ProgInvest_Spesa agg'!Q29=\"\",\"\",'Z0.6.a ProgInvest_Spesa agg'!Q29)","v":"pianificato"},{"$f":"IF('Z0.6.a ProgInvest_Spesa agg'!R29=\"\",\"\",'Z0.6.a ProgInvest_Spesa agg'!R29)","v":""},{"$f":"IF('Z0.6.a ProgInvest_Spesa agg'!S29=\"\",\"\",'Z0.6.a ProgInvest_Spesa agg'!S29)","v":200},{"$f":"IF('Z0.6.a ProgInvest_Spesa agg'!T29=\"\",\"\",'Z0.6.a ProgInvest_Spesa agg'!T29)","v":20},{"$f":"IF('Z0.6.a ProgInvest_Spesa agg'!U29=\"\",\"\",'Z0.6.a ProgInvest_Spesa agg'!U29)","v":10},false,null,null,null,null,null,null,null,null,null,null,null,null,null,null,null,10]
[null,"x",{"$f":"IF('Z0.6.a ProgInvest_Spesa agg'!C30=\"\",\"\",'Z0.6.a ProgInvest_Spesa agg'!C30)","v":""},{"$f":"IF('Z0.6.a ProgInvest_Spesa agg'!D30=\"\",\"\",'Z0.6.a ProgInvest_Spesa agg'!D30)","v":""},{"$f":"IF('Z0.6.a ProgInvest_Spesa agg'!E30=\"\",\"\",'Z0.6.a ProgInvest_Spesa agg'!E30)","v":""},{"$f":"IF('Z0.6.a ProgInvest_Spesa agg'!F30=\"\",\"\",'Z0.6.a ProgInvest_Spesa agg'!F30)","v":12},{"$f":"IF('Z0.6.a ProgInvest_Spesa agg'!G30=\"\",\"\",'Z0.6.a ProgInvest_Spesa agg'!G30)","v":"Intervento 10"},{"$f":"IF('Z0.6.a ProgInvest_Spesa agg'!H30=\"\",\"\",'Z0.6.a ProgInvest_Spesa agg'!H30)","v":"SIVCA 10"},{"$f":"IF('Z0.6.a ProgInvest_Spesa agg'!I30=\"\",\"\",'Z0.6.a ProgInvest_Spesa agg'!I30)","v":""},{"$f":"IF('Z0.6.a ProgInvest_Spesa agg'!J30=\"\",\"\",'Z0.6.a ProgInvest_Spesa agg'!J30)","v":""},{"$f":"IF('Z0.6.a ProgInvest_Spesa agg'!K30=\"\",\"\",'Z0.6.a ProgInvest_Spesa agg'!K30)","v":"Infrastrutture tecnologiche ed impianti"},{"$f":"IF('Z0.6.a ProgInvest_Spesa agg'!L30=\"\",\"\",'Z0.6.a ProgInvest_Spesa agg'!L30)","v":"in corso"},{"$f":"IF('Z0.6.a ProgInvest_Spesa agg'!M30=\"\",\"\",'Z0.6.a ProgInvest_Spesa agg'!M30)","v":"CIN post2026"},{"$f":"IF('Z0.6.a ProgInvest_Spesa agg'!N30=\"\",\"\",'Z0.6.a ProgInvest_Spesa agg'!N30)","v":""},{"$f":"IF('Z0.6.a ProgInvest_Spesa agg'!O30=\"\",\"\",'Z0.6.a ProgInvest_Spesa agg'!O30)","v":"Vite utili 1"},{"$f":"IF('Z0.6.a ProgInvest_Spesa agg'!P30=\"\",\"\",'Z0.6.a ProgInvest_Spesa agg'!P30)","v":2035},{"$f":"IF('Z0.6.a ProgInvest_Spesa agg'!Q30=\"\",\"\",'Z0.6.a ProgInvest_Spesa agg'!Q30)","v":"pianificato"},{"$f":"IF('Z0.6.a ProgInvest_Spesa agg'!R30=\"\",\"\",'Z0.6.a ProgInvest_Spesa agg'!R30)","v":""},{"$f":"IF('Z0.6.a ProgInvest_Spesa agg'!S30=\"\",\"\",'Z0.6.a ProgInvest_Spesa agg'!S30)","v":200},{"$f":"IF('Z0.6.a ProgInvest_Spesa agg'!T30=\"\",\"\",'Z0.6.a ProgInvest_Spesa agg'!T30)","v":20},{"$f":"IF('Z0.6.a ProgInvest_Spesa agg'!U30=\"\",\"\",'Z0.6.a ProgInvest_Spesa agg'!U30)","v":10},false,null,null,null,null,null,null,null,null,null,null,null,null,null,null,null,10]
[null,"x",{"$f":"IF('Z0.6.a ProgInvest_Spesa agg'!C31=\"\",\"\",'Z0.6.a ProgInvest_Spesa agg'!C31)","v":""},{"$f":"IF('Z0.6.a ProgInvest_Spesa agg'!D31=\"\",\"\",'Z0.6.a ProgInvest_Spesa agg'!D31)","v":""},{"$f":"IF('Z0.6.a ProgInvest_Spesa agg'!E31=\"\",\"\",'Z0.6.a ProgInvest_Spesa agg'!E31)","v":""},{"$f":"IF('Z0.6.a ProgInvest_Spesa agg'!F31=\"\",\"\",'Z0.6.a ProgInvest_Spesa agg'!F31)","v":13},{"$f":"IF('Z0.6.a ProgInvest_Spesa agg'!G31=\"\",\"\",'Z0.6.a ProgInvest_Spesa agg'!G31)","v":"Intervento 11"},{"$f":"IF('Z0.6.a ProgInvest_Spesa agg'!H31=\"\",\"\",'Z0.6.a ProgInvest_Spesa agg'!H31)","v":"SIVCA 11"},{"$f":"IF('Z0.6.a ProgInvest_Spesa agg'!I31=\"\",\"\",'Z0.6.a ProgInvest_Spesa agg'!I31)","v":""},{"$f":"IF('Z0.6.a ProgInvest_Spesa agg'!J31=\"\",\"\",'Z0.6.a ProgInvest_Spesa agg'!J31)","v":""},{"$f":"IF('Z0.6.a ProgInvest_Spesa agg'!K31=\"\",\"\",'Z0.6.a ProgInvest_Spesa agg'!K31)","v":"Stazioni/Barriere di esazione, fabbricati, aree di servizio"},{"$f":"IF('Z0.6.a ProgInvest_Spesa agg'!L31=\"\",\"\",'Z0.6.a ProgInvest_Spesa agg'!L31)","v":"in corso"},{"$f":"IF('Z0.6.a ProgInvest_Spesa agg'!M31=\"\",\"\",'Z0.6.a ProgInvest_Spesa agg'!M31)","v":"CIN post2026"},{"$f":"IF('Z0.6.a ProgInvest_Spesa agg'!N31=\"\",\"\",'Z0.6.a ProgInvest_Spesa agg'!N31)","v":""},{"$f":"IF('Z0.6.a ProgInvest_Spesa agg'!O31=\"\",\"\",'Z0.6.a ProgInvest_Spesa agg'!O31)","v":"Vite utili 1"},{"$f":"IF('Z0.6.a ProgInvest_Spesa agg'!P31=\"\",\"\",'Z0.6.a ProgInvest_Spesa agg'!P31)","v":2036},{"$f":"IF('Z0.6.a ProgInvest_Spesa agg'!Q31=\"\",\"\",'Z0.6.a ProgInvest_Spesa agg'!Q31)","v":"pianificato"},{"$f":"IF('Z0.6.a ProgInvest_Spesa agg'!R31=\"\",\"\",'Z0.6.a ProgInvest_Spesa agg'!R31)","v":""},{"$f":"IF('Z0.6.a ProgInvest_Spesa agg'!S31=\"\",\"\",'Z0.6.a ProgInvest_Spesa agg'!S31)","v":200},{"$f":"IF('Z0.6.a ProgInvest_Spesa agg'!T31=\"\",\"\",'Z0.6.a ProgInvest_Spesa agg'!T31)","v":20},{"$f":"IF('Z0.6.a ProgInvest_Spesa agg'!U31=\"\",\"\",'Z0.6.a ProgInvest_Spesa agg'!U31)","v":10},false,null,null,null,null,null,null,null,null,null,null,null,null,null,null,null,10]
[null,"x",{"$f":"IF('Z0.6.a ProgInvest_Spesa agg'!C32=\"\",\"\",'Z0.6.a ProgInvest_Spesa agg'!C32)","v":""},{"$f":"IF('Z0.6.a ProgInvest_Spesa agg'!D32=\"\",\"\",'Z0.6.a ProgInvest_Spesa agg'!D32)","v":""},{"$f":"IF('Z0.6.a ProgInvest_Spesa agg'!E32=\"\",\"\",'Z0.6.a ProgInvest_Spesa agg'!E32)","v":""},{"$f":"IF('Z0.6.a ProgInvest_Spesa agg'!F32=\"\",\"\",'Z0.6.a ProgInvest_Spesa agg'!F32)","v":14},{"$f":"IF('Z0.6.a ProgInvest_Spesa agg'!G32=\"\",\"\",'Z0.6.a ProgInvest_Spesa agg'!G32)","v":"Intervento 12"},{"$f":"IF('Z0.6.a ProgInvest_Spesa agg'!H32=\"\",\"\",'Z0.6.a ProgInvest_Spesa agg'!H32)","v":"SIVCA 12"},{"$f":"IF('Z0.6.a ProgInvest_Spesa agg'!I32=\"\",\"\",'Z0.6.a ProgInvest_Spesa agg'!I32)","v":""},{"$f":"IF('Z0.6.a ProgInvest_Spesa agg'!J32=\"\",\"\",'Z0.6.a ProgInvest_Spesa agg'!J32)","v":""},{"$f":"IF('Z0.6.a ProgInvest_Spesa agg'!K32=\"\",\"\",'Z0.6.a ProgInvest_Spesa agg'!K32)","v":"Altro"},{"$f":"IF('Z0.6.a ProgInvest_Spesa agg'!L32=\"\",\"\",'Z0.6.a ProgInvest_Spesa agg'!L32)","v":"in corso"},{"$f":"IF('Z0.6.a ProgInvest_Spesa agg'!M32=\"\",\"\",'Z0.6.a ProgInvest_Spesa agg'!M32)","v":"CIN post2026"},{"$f":"IF('Z0.6.a ProgInvest_Spesa agg'!N32=\"\",\"\",'Z0.6.a ProgInvest_Spesa agg'!N32)","v":""},{"$f":"IF('Z0.6.a ProgInvest_Spesa agg'!O32=\"\",\"\",'Z0.6.a ProgInvest_Spesa agg'!O32)","v":"Vite utili 1"},{"$f":"IF('Z0.6.a ProgInvest_Spesa agg'!P32=\"\",\"\",'Z0.6.a ProgInvest_Spesa agg'!P32)","v":2037},{"$f":"IF('Z0.6.a ProgInvest_Spesa agg'!Q32=\"\",\"\",'Z0.6.a ProgInvest_Spesa agg'!Q32)","v":"pianificato"},{"$f":"IF('Z0.6.a ProgInvest_Spesa agg'!R32=\"\",\"\",'Z0.6.a ProgInvest_Spesa agg'!R32)","v":""},{"$f":"IF('Z0.6.a ProgInvest_Spesa agg'!S32=\"\",\"\",'Z0.6.a ProgInvest_Spesa agg'!S32)","v":200},{"$f":"IF('Z0.6.a ProgInvest_Spesa agg'!T32=\"\",\"\",'Z0.6.a ProgInvest_Spesa agg'!T32)","v":20},{"$f":"IF('Z0.6.a ProgInvest_Spesa agg'!U32=\"\",\"\",'Z0.6.a ProgInvest_Spesa agg'!U32)","v":10},false,null,null,null,null,null,null,null,null,null,null,null,null,null,null,null,10]
[null,"x",{"$f":"IF('Z0.6.a ProgInvest_Spesa agg'!C33=\"\",\"\",'Z0.6.a ProgInvest_Spesa agg'!C33)","v":""},{"$f":"IF('Z0.6.a ProgInvest_Spesa agg'!D33=\"\",\"\",'Z0.6.a ProgInvest_Spesa agg'!D33)","v":""},{"$f":"IF('Z0.6.a ProgInvest_Spesa agg'!E33=\"\",\"\",'Z0.6.a ProgInvest_Spesa agg'!E33)","v":""},{"$f":"IF('Z0.6.a ProgInvest_Spesa agg'!F33=\"\",\"\",'Z0.6.a ProgInvest_Spesa agg'!F33)","v":15},{"$f":"IF('Z0.6.a ProgInvest_Spesa agg'!G33=\"\",\"\",'Z0.6.a ProgInvest_Spesa agg'!G33)","v":"Intervento 13"},{"$f":"IF('Z0.6.a ProgInvest_Spesa agg'!H33=\"\",\"\",'Z0.6.a ProgInvest_Spesa agg'!H33)","v":"SIVCA 13"},{"$f":"IF('Z0.6.a ProgInvest_Spesa agg'!I33=\"\",\"\",'Z0.6.a ProgInvest_Spesa agg'!I33)","v":""},{"$f":"IF('Z0.6.a ProgInvest_Spesa agg'!J33=\"\",\"\",'Z0.6.a ProgInvest_Spesa agg'!J33)","v":""},{"$f":"IF('Z0.6.a ProgInvest_Spesa agg'!K33=\"\",\"\",'Z0.6.a ProgInvest_Spesa agg'!K33)","v":"Viadotti/Ponti/Cavalcavia"},{"$f":"IF('Z0.6.a ProgInvest_Spesa agg'!L33=\"\",\"\",'Z0.6.a ProgInvest_Spesa agg'!L33)","v":"in corso"},{"$f":"IF('Z0.6.a ProgInvest_Spesa agg'!M33=\"\",\"\",'Z0.6.a ProgInvest_Spesa agg'!M33)","v":"CIN post2026"},{"$f":"IF('Z0.6.a ProgInvest_Spesa agg'!N33=\"\",\"\",'Z0.6.a ProgInvest_Spesa agg'!N33)","v":""},{"$f":"IF('Z0.6.a ProgInvest_Spesa agg'!O33=\"\",\"\",'Z0.6.a ProgInvest_Spesa agg'!O33)","v":"Vite utili 2"},{"$f":"IF('Z0.6.a ProgInvest_Spesa agg'!P33=\"\",\"\",'Z0.6.a ProgInvest_Spesa agg'!P33)","v":2028},{"$f":"IF('Z0.6.a ProgInvest_Spesa agg'!Q33=\"\",\"\",'Z0.6.a ProgInvest_Spesa agg'!Q33)","v":"pianificato"},{"$f":"IF('Z0.6.a ProgInvest_Spesa agg'!R33=\"\",\"\",'Z0.6.a ProgInvest_Spesa agg'!R33)","v":""},{"$f":"IF('Z0.6.a ProgInvest_Spesa agg'!S33=\"\",\"\",'Z0.6.a ProgInvest_Spesa agg'!S33)","v":200},{"$f":"IF('Z0.6.a ProgInvest_Spesa agg'!T33=\"\",\"\",'Z0.6.a ProgInvest_Spesa agg'!T33)","v":20},{"$f":"IF('Z0.6.a ProgInvest_Spesa agg'!U33=\"\",\"\",'Z0.6.a ProgInvest_Spesa agg'!U33)","v":10},false,null,null,null,null,null,null,null,null,null,null,null,null,null,null,null,10]
[null,"x",{"$f":"IF('Z0.6.a ProgInvest_Spesa agg'!C34=\"\",\"\",'Z0.6.a ProgInvest_Spesa agg'!C34)","v":""},{"$f":"IF('Z0.6.a ProgInvest_Spesa agg'!D34=\"\",\"\",'Z0.6.a ProgInvest_Spesa agg'!D34)","v":""},{"$f":"IF('Z0.6.a ProgInvest_Spesa agg'!E34=\"\",\"\",'Z0.6.a ProgInvest_Spesa agg'!E34)","v":""},{"$f":"IF('Z0.6.a ProgInvest_Spesa agg'!F34=\"\",\"\",'Z0.6.a ProgInvest_Spesa agg'!F34)","v":16},{"$f":"IF('Z0.6.a ProgInvest_Spesa agg'!G34=\"\",\"\",'Z0.6.a ProgInvest_Spesa agg'!G34)","v":"Intervento 14"},{"$f":"IF('Z0.6.a ProgInvest_Spesa agg'!H34=\"\",\"\",'Z0.6.a ProgInvest_Spesa agg'!H34)","v":"SIVCA 14"},{"$f":"IF('Z0.6.a ProgInvest_Spesa agg'!I34=\"\",\"\",'Z0.6.a ProgInvest_Spesa agg'!I34)","v":""},{"$f":"IF('Z0.6.a ProgInvest_Spesa agg'!J34=\"\",\"\",'Z0.6.a ProgInvest_Spesa agg'!J34)","v":""},{"$f":"IF('Z0.6.a ProgInvest_Spesa agg'!K34=\"\",\"\",'Z0.6.a ProgInvest_Spesa agg'!K34)","v":"Gallerie"},{"$f":"IF('Z0.6.a ProgInvest_Spesa agg'!L34=\"\",\"\",'Z0.6.a ProgInvest_Spesa agg'!L34)","v":"in corso"},{"$f":"IF('Z0.6.a ProgInvest_Spesa agg'!M34=\"\",\"\",'Z0.6.a ProgInvest_Spesa agg'!M34)","v":"CIN post2026"},{"$f":"IF('Z0.6.a ProgInvest_Spesa agg'!N34=\"\",\"\",'Z0.6.a ProgInvest_Spesa agg'!N34)","v":""},{"$f":"IF('Z0.6.a ProgInvest_Spesa agg'!O34=\"\",\"\",'Z0.6.a ProgInvest_Spesa agg'!O34)","v":"Vite utili 2"},{"$f":"IF('Z0.6.a ProgInvest_Spesa agg'!P34=\"\",\"\",'Z0.6.a ProgInvest_Spesa agg'!P34)","v":2029},{"$f":"IF('Z0.6.a ProgInvest_Spesa agg'!Q34=\"\",\"\",'Z0.6.a ProgInvest_Spesa agg'!Q34)","v":"pianificato"},{"$f":"IF('Z0.6.a ProgInvest_Spesa agg'!R34=\"\",\"\",'Z0.6.a ProgInvest_Spesa agg'!R34)","v":""},{"$f":"IF('Z0.6.a ProgInvest_Spesa agg'!S34=\"\",\"\",'Z0.6.a ProgInvest_Spesa agg'!S34)","v":200},{"$f":"IF('Z0.6.a ProgInvest_Spesa agg'!T34=\"\",\"\",'Z0.6.a ProgInvest_Spesa agg'!T34)","v":20},{"$f":"IF('Z0.6.a ProgInvest_Spesa agg'!U34=\"\",\"\",'Z0.6.a ProgInvest_Spesa agg'!U34)","v":10},false,null,null,null,null,null,null,null,null,null,null,null,null,null,null,null,10]
[null,"x",{"$f":"IF('Z0.6.a ProgInvest_Spesa agg'!C35=\"\",\"\",'Z0.6.a ProgInvest_Spesa agg'!C35)","v":""},{"$f":"IF('Z0.6.a ProgInvest_Spesa agg'!D35=\"\",\"\",'Z0.6.a ProgInvest_Spesa agg'!D35)","v":""},{"$f":"IF('Z0.6.a ProgInvest_Spesa agg'!E35=\"\",\"\",'Z0.6.a ProgInvest_Spesa agg'!E35)","v":""},{"$f":"IF('Z0.6.a ProgInvest_Spesa agg'!F35=\"\",\"\",'Z0.6.a ProgInvest_Spesa agg'!F35)","v":17},{"$f":"IF('Z0.6.a ProgInvest_Spesa agg'!G35=\"\",\"\",'Z0.6.a ProgInvest_Spesa agg'!G35)","v":"Intervento 15"},{"$f":"IF('Z0.6.a ProgInvest_Spesa agg'!H35=\"\",\"\",'Z0.6.a ProgInvest_Spesa agg'!H35)","v":"SIVCA 15"},{"$f":"IF('Z0.6.a ProgInvest_Spesa agg'!I35=\"\",\"\",'Z0.6.a ProgInvest_Spesa agg'!I35)","v":""},{"$f":"IF('Z0.6.a ProgInvest_Spesa agg'!J35=\"\",\"\",'Z0.6.a ProgInvest_Spesa agg'!J35)","v":""},{"$f":"IF('Z0.6.a ProgInvest_Spesa agg'!K35=\"\",\"\",'Z0.6.a ProgInvest_Spesa agg'!K35)","v":"Barriere"},{"$f":"IF('Z0.6.a ProgInvest_Spesa agg'!L35=\"\",\"\",'Z0.6.a ProgInvest_Spesa agg'!L35)","v":"in corso"},{"$f":"IF('Z0.6.a ProgInvest_Spesa agg'!M35=\"\",\"\",'Z0.6.a ProgInvest_Spesa agg'!M35)","v":"CIN post2026"},{"$f":"IF('Z0.6.a ProgInvest_Spesa agg'!N35=\"\",\"\",'Z0.6.a ProgInvest_Spesa agg'!N35)","v":""},{"$f":"IF('Z0.6.a ProgInvest_Spesa agg'!O35=\"\",\"\",'Z0.6.a ProgInvest_Spesa agg'!O35)","v":"Vite utili 2"},{"$f":"IF('Z0.6.a ProgInvest_Spesa agg'!P35=\"\",\"\",'Z0.6.a ProgInvest_Spesa agg'!P35)","v":2030},{"$f":"IF('Z0.6.a ProgInvest_Spesa agg'!Q35=\"\",\"\",'Z0.6.a ProgInvest_Spesa agg'!Q35)","v":"pianificato"},{"$f":"IF('Z0.6.a ProgInvest_Spesa agg'!R35=\"\",\"\",'Z0.6.a ProgInvest_Spesa agg'!R35)","v":""},{"$f":"IF('Z0.6.a ProgInvest_Spesa agg'!S35=\"\",\"\",'Z0.6.a ProgInvest_Spesa agg'!S35)","v":200},{"$f":"IF('Z0.6.a ProgInvest_Spesa agg'!T35=\"\",\"\",'Z0.6.a ProgInvest_Spesa agg'!T35)","v":20},{"$f":"IF('Z0.6.a ProgInvest_Spesa agg'!U35=\"\",\"\",'Z0.6.a ProgInvest_Spesa agg'!U35)","v":10},false,null,null,null,null,null,null,null,null,null,null,null,null,null,null,null,10]
[null,"x",{"$f":"IF('Z0.6.a ProgInvest_Spesa agg'!C36=\"\",\"\",'Z0.6.a ProgInvest_Spesa agg'!C36)","v":""},{"$f":"IF('Z0.6.a ProgInvest_Spesa agg'!D36=\"\",\"\",'Z0.6.a ProgInvest_Spesa agg'!D36)","v":""},{"$f":"IF('Z0.6.a ProgInvest_Spesa agg'!E36=\"\",\"\",'Z0.6.a ProgInvest_Spesa agg'!E36)","v":""},{"$f":"IF('Z0.6.a ProgInvest_Spesa agg'!F36=\"\",\"\",'Z0.6.a ProgInvest_Spesa agg'!F36)","v":18},{"$f":"IF('Z0.6.a ProgInvest_Spesa agg'!G36=\"\",\"\",'Z0.6.a ProgInvest_Spesa agg'!G36)","v":"Intervento 16"},{"$f":"IF('Z0.6.a ProgInvest_Spesa agg'!H36=\"\",\"\",'Z0.6.a ProgInvest_Spesa agg'!H36)","v":"SIVCA 16"},{"$f":"IF('Z0.6.a ProgInvest_Spesa agg'!I36=\"\",\"\",'Z0.6.a ProgInvest_Spesa agg'!I36)","v":""},{"$f":"IF('Z0.6.a ProgInvest_Spesa agg'!J36=\"\",\"\",'Z0.6.a ProgInvest_Spesa agg'!J36)","v":""},{"$f":"IF('Z0.6.a ProgInvest_Spesa agg'!K36=\"\",\"\",'Z0.6.a ProgInvest_Spesa agg'!K36)","v":"Corpo autostradale, opere sul territorio"},{"$f":"IF('Z0.6.a ProgInvest_Spesa agg'!L36=\"\",\"\",'Z0.6.a ProgInvest_Spesa agg'!L36)","v":"in corso"},{"$f":"IF('Z0.6.a ProgInvest_Spesa agg'!M36=\"\",\"\",'Z0.6.a ProgInvest_Spesa agg'!M36)","v":"CIN post2026"},{"$f":"IF('Z0.6.a ProgInvest_Spesa agg'!N36=\"\",\"\",'Z0.6.a ProgInvest_Spesa agg'!N36)","v":""},{"$f":"IF('Z0.6.a ProgInvest_Spesa agg'!O36=\"\",\"\",'Z0.6.a ProgInvest_Spesa agg'!O36)","v":"Vite utili 2"},{"$f":"IF('Z0.6.a ProgInvest_Spesa agg'!P36=\"\",\"\",'Z0.6.a ProgInvest_Spesa agg'!P36)","v":2031},{"$f":"IF('Z0.6.a ProgInvest_Spesa agg'!Q36=\"\",\"\",'Z0.6.a ProgInvest_Spesa agg'!Q36)","v":"pianificato"},{"$f":"IF('Z0.6.a ProgInvest_Spesa agg'!R36=\"\",\"\",'Z0.6.a ProgInvest_Spesa agg'!R36)","v":""},{"$f":"IF('Z0.6.a ProgInvest_Spesa agg'!S36=\"\",\"\",'Z0.6.a ProgInvest_Spesa agg'!S36)","v":200},{"$f":"IF('Z0.6.a ProgInvest_Spesa agg'!T36=\"\",\"\",'Z0.6.a ProgInvest_Spesa agg'!T36)","v":20},{"$f":"IF('Z0.6.a ProgInvest_Spesa agg'!U36=\"\",\"\",'Z0.6.a ProgInvest_Spesa agg'!U36)","v":10},false,null,null,null,null,null,null,null,null,null,null,null,null,null,null,null,10]
[null,"x",{"$f":"IF('Z0.6.a ProgInvest_Spesa agg'!C37=\"\",\"\",'Z0.6.a ProgInvest_Spesa agg'!C37)","v":""},{"$f":"IF('Z0.6.a ProgInvest_Spesa agg'!D37=\"\",\"\",'Z0.6.a ProgInvest_Spesa agg'!D37)","v":""},{"$f":"IF('Z0.6.a ProgInvest_Spesa agg'!E37=\"\",\"\",'Z0.6.a ProgInvest_Spesa agg'!E37)","v":""},{"$f":"IF('Z0.6.a ProgInvest_Spesa agg'!F37=\"\",\"\",'Z0.6.a ProgInvest_Spesa agg'!F37)","v":19},{"$f":"IF('Z0.6.a ProgInvest_Spesa agg'!G37=\"\",\"\",'Z0.6.a ProgInvest_Spesa agg'!G37)","v":"Intervento 17"},{"$f":"IF('Z0.6.a ProgInvest_Spesa agg'!H37=\"\",\"\",'Z0.6.a ProgInvest_Spesa agg'!H37)","v":"SIVCA 17"},{"$f":"IF('Z0.6.a ProgInvest_Spesa agg'!I37=\"\",\"\",'Z0.6.a ProgInvest_Spesa agg'!I37)","v":""},{"$f":"IF('Z0.6.a ProgInvest_Spesa agg'!J37=\"\",\"\",'Z0.6.a ProgInvest_Spesa agg'!J37)","v":""},{"$f":"IF('Z0.6.a ProgInvest_Spesa agg'!K37=\"\",\"\",'Z0.6.a ProgInvest_Spesa agg'!K37)","v":"Reti recinzione"},{"$f":"IF('Z0.6.a ProgInvest_Spesa agg'!L37=\"\",\"\",'Z0.6.a ProgInvest_Spesa agg'!L37)","v":"in corso"},{"$f":"IF('Z0.6.a ProgInvest_Spesa agg'!M37=\"\",\"\",'Z0.6.a ProgInvest_Spesa agg'!M37)","v":"CIN post2026"},{"$f":"IF('Z0.6.a ProgInvest_Spesa agg'!N37=\"\",\"\",'Z0.6.a ProgInvest_Spesa agg'!N37)","v":""},{"$f":"IF('Z0.6.a ProgInvest_Spesa agg'!O37=\"\",\"\",'Z0.6.a ProgInvest_Spesa agg'!O37)","v":"Vite utili 2"},{"$f":"IF('Z0.6.a ProgInvest_Spesa agg'!P37=\"\",\"\",'Z0.6.a ProgInvest_Spesa agg'!P37)","v":2032},{"$f":"IF('Z0.6.a ProgInvest_Spesa agg'!Q37=\"\",\"\",'Z0.6.a ProgInvest_Spesa agg'!Q37)","v":"pianificato"},{"$f":"IF('Z0.6.a ProgInvest_Spesa agg'!R37=\"\",\"\",'Z0.6.a ProgInvest_Spesa agg'!R37)","v":""},{"$f":"IF('Z0.6.a ProgInvest_Spesa agg'!S37=\"\",\"\",'Z0.6.a ProgInvest_Spesa agg'!S37)","v":200},{"$f":"IF('Z0.6.a ProgInvest_Spesa agg'!T37=\"\",\"\",'Z0.6.a ProgInvest_Spesa agg'!T37)","v":20},{"$f":"IF('Z0.6.a ProgInvest_Spesa agg'!U37=\"\",\"\",'Z0.6.a ProgInvest_Spesa agg'!U37)","v":10},false,null,null,null,null,null,null,null,null,null,null,null,null,null,null,null,10]
[null,"x",{"$f":"IF('Z0.6.a ProgInvest_Spesa agg'!C38=\"\",\"\",'Z0.6.a ProgInvest_Spesa agg'!C38)","v":""},{"$f":"IF('Z0.6.a ProgInvest_Spesa agg'!D38=\"\",\"\",'Z0.6.a ProgInvest_Spesa agg'!D38)","v":""},{"$f":"IF('Z0.6.a ProgInvest_Spesa agg'!E38=\"\",\"\",'Z0.6.a ProgInvest_Spesa agg'!E38)","v":""},{"$f":"IF('Z0.6.a ProgInvest_Spesa agg'!F38=\"\",\"\",'Z0.6.a ProgInvest_Spesa agg'!F38)","v":20},{"$f":"IF('Z0.6.a ProgInvest_Spesa agg'!G38=\"\",\"\",'Z0.6.a ProgInvest_Spesa agg'!G38)","v":"Intervento 18"},{"$f":"IF('Z0.6.a ProgInvest_Spesa agg'!H38=\"\",\"\",'Z0.6.a ProgInvest_Spesa agg'!H38)","v":"SIVCA 18"},{"$f":"IF('Z0.6.a ProgInvest_Spesa agg'!I38=\"\",\"\",'Z0.6.a ProgInvest_Spesa agg'!I38)","v":""},{"$f":"IF('Z0.6.a ProgInvest_Spesa agg'!J38=\"\",\"\",'Z0.6.a ProgInvest_Spesa agg'!J38)","v":""},{"$f":"IF('Z0.6.a ProgInvest_Spesa agg'!K38=\"\",\"\",'Z0.6.a ProgInvest_Spesa agg'!K38)","v":"Portali e segnaletica"},{"$f":"IF('Z0.6.a ProgInvest_Spesa agg'!L38=\"\",\"\",'Z0.6.a ProgInvest_Spesa agg'!L38)","v":"in corso"},{"$f":"IF('Z0.6.a ProgInvest_Spesa agg'!M38=\"\",\"\",'Z0.6.a ProgInvest_Spesa agg'!M38)","v":"CIN post2026"},{"$f":"IF('Z0.6.a ProgInvest_Spesa agg'!N38=\"\",\"\",'Z0.6.a ProgInvest_Spesa agg'!N38)","v":""},{"$f":"IF('Z0.6.a ProgInvest_Spesa agg'!O38=\"\",\"\",'Z0.6.a ProgInvest_Spesa agg'!O38)","v":"Vite utili 2"},{"$f":"IF('Z0.6.a ProgInvest_Spesa agg'!P38=\"\",\"\",'Z0.6.a ProgInvest_Spesa agg'!P38)","v":2033},{"$f":"IF('Z0.6.a ProgInvest_Spesa agg'!Q38=\"\",\"\",'Z0.6.a ProgInvest_Spesa agg'!Q38)","v":"pianificato"},{"$f":"IF('Z0.6.a ProgInvest_Spesa agg'!R38=\"\",\"\",'Z0.6.a ProgInvest_Spesa agg'!R38)","v":""},{"$f":"IF('Z0.6.a ProgInvest_Spesa agg'!S38=\"\",\"\",'Z0.6.a ProgInvest_Spesa agg'!S38)","v":200},{"$f":"IF('Z0.6.a ProgInvest_Spesa agg'!T38=\"\",\"\",'Z0.6.a ProgInvest_Spesa agg'!T38)","v":20},{"$f":"IF('Z0.6.a ProgInvest_Spesa agg'!U38=\"\",\"\",'Z0.6.a ProgInvest_Spesa agg'!U38)","v":10},false,null,null,null,null,null,null,null,null,null,null,null,null,null,null,null,10]
[null,"x",{"$f":"IF('Z0.6.a ProgInvest_Spesa agg'!C39=\"\",\"\",'Z0.6.a ProgInvest_Spesa agg'!C39)","v":""},{"$f":"IF('Z0.6.a ProgInvest_Spesa agg'!D39=\"\",\"\",'Z0.6.a ProgInvest_Spesa agg'!D39)","v":""},{"$f":"IF('Z0.6.a ProgInvest_Spesa agg'!E39=\"\",\"\",'Z0.6.a ProgInvest_Spesa agg'!E39)","v":""},{"$f":"IF('Z0.6.a ProgInvest_Spesa agg'!F39=\"\",\"\",'Z0.6.a ProgInvest_Spesa agg'!F39)","v":21},{"$f":"IF('Z0.6.a ProgInvest_Spesa agg'!G39=\"\",\"\",'Z0.6.a ProgInvest_Spesa agg'!G39)","v":"Intervento 19"},{"$f":"IF('Z0.6.a ProgInvest_Spesa agg'!H39=\"\",\"\",'Z0.6.a ProgInvest_Spesa agg'!H39)","v":"SIVCA 19"},{"$f":"IF('Z0.6.a ProgInvest_Spesa agg'!I39=\"\",\"\",'Z0.6.a ProgInvest_Spesa agg'!I39)","v":""},{"$f":"IF('Z0.6.a ProgInvest_Spesa agg'!J39=\"\",\"\",'Z0.6.a ProgInvest_Spesa agg'!J39)","v":""},{"$f":"IF('Z0.6.a ProgInvest_Spesa agg'!K39=\"\",\"\",'Z0.6.a ProgInvest_Spesa agg'!K39)","v":"Pavimentazioni"},{"$f":"IF('Z0.6.a ProgInvest_Spesa agg'!L39=\"\",\"\",'Z0.6.a ProgInvest_Spesa agg'!L39)","v":"in corso"},{"$f":"IF('Z0.6.a ProgInvest_Spesa agg'!M39=\"\",\"\",'Z0.6.a ProgInvest_Spesa agg'!M39)","v":"CIN post2026"},{"$f":"IF('Z0.6.a ProgInvest_Spesa agg'!N39=\"\",\"\",'Z0.6.a ProgInvest_Spesa agg'!N39)","v":""},{"$f":"IF('Z0.6.a ProgInvest_Spesa agg'!O39=\"\",\"\",'Z0.6.a ProgInvest_Spesa agg'!O39)","v":"Vite utili 2"},{"$f":"IF('Z0.6.a ProgInvest_Spesa agg'!P39=\"\",\"\",'Z0.6.a ProgInvest_Spesa agg'!P39)","v":2034},{"$f":"IF('Z0.6.a ProgInvest_Spesa agg'!Q39=\"\",\"\",'Z0.6.a ProgInvest_Spesa agg'!Q39)","v":"pianificato"},{"$f":"IF('Z0.6.a ProgInvest_Spesa agg'!R39=\"\",\"\",'Z0.6.a ProgInvest_Spesa agg'!R39)","v":""},{"$f":"IF('Z0.6.a ProgInvest_Spesa agg'!S39=\"\",\"\",'Z0.6.a ProgInvest_Spesa agg'!S39)","v":200},{"$f":"IF('Z0.6.a ProgInvest_Spesa agg'!T39=\"\",\"\",'Z0.6.a ProgInvest_Spesa agg'!T39)","v":20},{"$f":"IF('Z0.6.a ProgInvest_Spesa agg'!U39=\"\",\"\",'Z0.6.a ProgInvest_Spesa agg'!U39)","v":10},false,null,null,null,null,null,null,null,null,null,null,null,null,null,null,null,10]
[null,"x",{"$f":"IF('Z0.6.a ProgInvest_Spesa agg'!C40=\"\",\"\",'Z0.6.a ProgInvest_Spesa agg'!C40)","v":""},{"$f":"IF('Z0.6.a ProgInvest_Spesa agg'!D40=\"\",\"\",'Z0.6.a ProgInvest_Spesa agg'!D40)","v":""},{"$f":"IF('Z0.6.a ProgInvest_Spesa agg'!E40=\"\",\"\",'Z0.6.a ProgInvest_Spesa agg'!E40)","v":""},{"$f":"IF('Z0.6.a ProgInvest_Spesa agg'!F40=\"\",\"\",'Z0.6.a ProgInvest_Spesa agg'!F40)","v":22},{"$f":"IF('Z0.6.a ProgInvest_Spesa agg'!G40=\"\",\"\",'Z0.6.a ProgInvest_Spesa agg'!G40)","v":"Intervento 20"},{"$f":"IF('Z0.6.a ProgInvest_Spesa agg'!H40=\"\",\"\",'Z0.6.a ProgInvest_Spesa agg'!H40)","v":"SIVCA 20"},{"$f":"IF('Z0.6.a ProgInvest_Spesa agg'!I40=\"\",\"\",'Z0.6.a ProgInvest_Spesa agg'!I40)","v":""},{"$f":"IF('Z0.6.a ProgInvest_Spesa agg'!J40=\"\",\"\",'Z0.6.a ProgInvest_Spesa agg'!J40)","v":""},{"$f":"IF('Z0.6.a ProgInvest_Spesa agg'!K40=\"\",\"\",'Z0.6.a ProgInvest_Spesa agg'!K40)","v":"Infrastrutture tecnologiche ed impianti"},{"$f":"IF('Z0.6.a ProgInvest_Spesa agg'!L40=\"\",\"\",'Z0.6.a ProgInvest_Spesa agg'!L40)","v":"in corso"},{"$f":"IF('Z0.6.a ProgInvest_Spesa agg'!M40=\"\",\"\",'Z0.6.a ProgInvest_Spesa agg'!M40)","v":"CIN post2026"},{"$f":"IF('Z0.6.a ProgInvest_Spesa agg'!N40=\"\",\"\",'Z0.6.a ProgInvest_Spesa agg'!N40)","v":""},{"$f":"IF('Z0.6.a ProgInvest_Spesa agg'!O40=\"\",\"\",'Z0.6.a ProgInvest_Spesa agg'!O40)","v":"Vite utili 2"},{"$f":"IF('Z0.6.a ProgInvest_Spesa agg'!P40=\"\",\"\",'Z0.6.a ProgInvest_Spesa agg'!P40)","v":2035},{"$f":"IF('Z0.6.a ProgInvest_Spesa agg'!Q40=\"\",\"\",'Z0.6.a ProgInvest_Spesa agg'!Q40)","v":"pianificato"},{"$f":"IF('Z0.6.a ProgInvest_Spesa agg'!R40=\"\",\"\",'Z0.6.a ProgInvest_Spesa agg'!R40)","v":""},{"$f":"IF('Z0.6.a ProgInvest_Spesa agg'!S40=\"\",\"\",'Z0.6.a ProgInvest_Spesa agg'!S40)","v":200},{"$f":"IF('Z0.6.a ProgInvest_Spesa agg'!T40=\"\",\"\",'Z0.6.a ProgInvest_Spesa agg'!T40)","v":20},{"$f":"IF('Z0.6.a ProgInvest_Spesa agg'!U40=\"\",\"\",'Z0.6.a ProgInvest_Spesa agg'!U40)","v":10},false,null,null,null,null,null,null,null,null,null,null,null,null,null,null,null,10]
[null,"x",{"$f":"IF('Z0.6.a ProgInvest_Spesa agg'!C41=\"\",\"\",'Z0.6.a ProgInvest_Spesa agg'!C41)","v":""},{"$f":"IF('Z0.6.a ProgInvest_Spesa agg'!D41=\"\",\"\",'Z0.6.a ProgInvest_Spesa agg'!D41)","v":""},{"$f":"IF('Z0.6.a ProgInvest_Spesa agg'!E41=\"\",\"\",'Z0.6.a ProgInvest_Spesa agg'!E41)","v":""},{"$f":"IF('Z0.6.a ProgInvest_Spesa agg'!F41=\"\",\"\",'Z0.6.a ProgInvest_Spesa agg'!F41)","v":23},{"$f":"IF('Z0.6.a ProgInvest_Spesa agg'!G41=\"\",\"\",'Z0.6.a ProgInvest_Spesa agg'!G41)","v":"Intervento 21"},{"$f":"IF('Z0.6.a ProgInvest_Spesa agg'!H41=\"\",\"\",'Z0.6.a ProgInvest_Spesa agg'!H41)","v":"SIVCA 21"},{"$f":"IF('Z0.6.a ProgInvest_Spesa agg'!I41=\"\",\"\",'Z0.6.a ProgInvest_Spesa agg'!I41)","v":""},{"$f":"IF('Z0.6.a ProgInvest_Spesa agg'!J41=\"\",\"\",'Z0.6.a ProgInvest_Spesa agg'!J41)","v":""},{"$f":"IF('Z0.6.a ProgInvest_Spesa agg'!K41=\"\",\"\",'Z0.6.a ProgInvest_Spesa agg'!K41)","v":"Stazioni/Barriere di esazione, fabbricati, aree di servizio"},{"$f":"IF('Z0.6.a ProgInvest_Spesa agg'!L41=\"\",\"\",'Z0.6.a ProgInvest_Spesa agg'!L41)","v":"in corso"},{"$f":"IF('Z0.6.a ProgInvest_Spesa agg'!M41=\"\",\"\",'Z0.6.a ProgInvest_Spesa agg'!M41)","v":"CIN post2026"},{"$f":"IF('Z0.6.a ProgInvest_Spesa agg'!N41=\"\",\"\",'Z0.6.a ProgInvest_Spesa agg'!N41)","v":""},{"$f":"IF('Z0.6.a ProgInvest_Spesa agg'!O41=\"\",\"\",'Z0.6.a ProgInvest_Spesa agg'!O41)","v":"Vite utili 2"},{"$f":"IF('Z0.6.a ProgInvest_Spesa agg'!P41=\"\",\"\",'Z0.6.a ProgInvest_Spesa agg'!P41)","v":2036},{"$f":"IF('Z0.6.a ProgInvest_Spesa agg'!Q41=\"\",\"\",'Z0.6.a ProgInvest_Spesa agg'!Q41)","v":"pianificato"},{"$f":"IF('Z0.6.a ProgInvest_Spesa agg'!R41=\"\",\"\",'Z0.6.a ProgInvest_Spesa agg'!R41)","v":""},{"$f":"IF('Z0.6.a ProgInvest_Spesa agg'!S41=\"\",\"\",'Z0.6.a ProgInvest_Spesa agg'!S41)","v":200},{"$f":"IF('Z0.6.a ProgInvest_Spesa agg'!T41=\"\",\"\",'Z0.6.a ProgInvest_Spesa agg'!T41)","v":20},{"$f":"IF('Z0.6.a ProgInvest_Spesa agg'!U41=\"\",\"\",'Z0.6.a ProgInvest_Spesa agg'!U41)","v":10},false,null,null,null,null,null,null,null,null,null,null,null,null,null,null,null,10]
[null,"x",{"$f":"IF('Z0.6.a ProgInvest_Spesa agg'!C42=\"\",\"\",'Z0.6.a ProgInvest_Spesa agg'!C42)","v":""},{"$f":"IF('Z0.6.a ProgInvest_Spesa agg'!D42=\"\",\"\",'Z0.6.a ProgInvest_Spesa agg'!D42)","v":""},{"$f":"IF('Z0.6.a ProgInvest_Spesa agg'!E42=\"\",\"\",'Z0.6.a ProgInvest_Spesa agg'!E42)","v":""},{"$f":"IF('Z0.6.a ProgInvest_Spesa agg'!F42=\"\",\"\",'Z0.6.a ProgInvest_Spesa agg'!F42)","v":24},{"$f":"IF('Z0.6.a ProgInvest_Spesa agg'!G42=\"\",\"\",'Z0.6.a ProgInvest_Spesa agg'!G42)","v":"Intervento 22"},{"$f":"IF('Z0.6.a ProgInvest_Spesa agg'!H42=\"\",\"\",'Z0.6.a ProgInvest_Spesa agg'!H42)","v":"SIVCA 22"},{"$f":"IF('Z0.6.a ProgInvest_Spesa agg'!I42=\"\",\"\",'Z0.6.a ProgInvest_Spesa agg'!I42)","v":""},{"$f":"IF('Z0.6.a ProgInvest_Spesa agg'!J42=\"\",\"\",'Z0.6.a ProgInvest_Spesa agg'!J42)","v":""},{"$f":"IF('Z0.6.a ProgInvest_Spesa agg'!K42=\"\",\"\",'Z0.6.a ProgInvest_Spesa agg'!K42)","v":"Altro"},{"$f":"IF('Z0.6.a ProgInvest_Spesa agg'!L42=\"\",\"\",'Z0.6.a ProgInvest_Spesa agg'!L42)","v":"in corso"},{"$f":"IF('Z0.6.a ProgInvest_Spesa agg'!M42=\"\",\"\",'Z0.6.a ProgInvest_Spesa agg'!M42)","v":"CIN post2026"},{"$f":"IF('Z0.6.a ProgInvest_Spesa agg'!N42=\"\",\"\",'Z0.6.a ProgInvest_Spesa agg'!N42)","v":""},{"$f":"IF('Z0.6.a ProgInvest_Spesa agg'!O42=\"\",\"\",'Z0.6.a ProgInvest_Spesa agg'!O42)","v":"Vite utili 2"},{"$f":"IF('Z0.6.a ProgInvest_Spesa agg'!P42=\"\",\"\",'Z0.6.a ProgInvest_Spesa agg'!P42)","v":2037},{"$f":"IF('Z0.6.a ProgInvest_Spesa agg'!Q42=\"\",\"\",'Z0.6.a ProgInvest_Spesa agg'!Q42)","v":"pianificato"},{"$f":"IF('Z0.6.a ProgInvest_Spesa agg'!R42=\"\",\"\",'Z0.6.a ProgInvest_Spesa agg'!R42)","v":""},{"$f":"IF('Z0.6.a ProgInvest_Spesa agg'!S42=\"\",\"\",'Z0.6.a ProgInvest_Spesa agg'!S42)","v":200},{"$f":"IF('Z0.6.a ProgInvest_Spesa agg'!T42=\"\",\"\",'Z0.6.a ProgInvest_Spesa agg'!T42)","v":20},{"$f":"IF('Z0.6.a ProgInvest_Spesa agg'!U42=\"\",\"\",'Z0.6.a ProgInvest_Spesa agg'!U42)","v":10},false,null,null,null,null,null,null,null,null,null,null,null,null,null,null,null,10]
[null,"x",{"$f":"IF('Z0.6.a ProgInvest_Spesa agg'!C43=\"\",\"\",'Z0.6.a ProgInvest_Spesa agg'!C43)","v":""},{"$f":"IF('Z0.6.a ProgInvest_Spesa agg'!D43=\"\",\"\",'Z0.6.a ProgInvest_Spesa agg'!D43)","v":""},{"$f":"IF('Z0.6.a ProgInvest_Spesa agg'!E43=\"\",\"\",'Z0.6.a ProgInvest_Spesa agg'!E43)","v":""},{"$f":"IF('Z0.6.a ProgInvest_Spesa agg'!F43=\"\",\"\",'Z0.6.a ProgInvest_Spesa agg'!F43)","v":25},{"$f":"IF('Z0.6.a ProgInvest_Spesa agg'!G43=\"\",\"\",'Z0.6.a ProgInvest_Spesa agg'!G43)","v":"Intervento 23"},{"$f":"IF('Z0.6.a ProgInvest_Spesa agg'!H43=\"\",\"\",'Z0.6.a ProgInvest_Spesa agg'!H43)","v":"SIVCA 23"},{"$f":"IF('Z0.6.a ProgInvest_Spesa agg'!I43=\"\",\"\",'Z0.6.a ProgInvest_Spesa agg'!I43)","v":""},{"$f":"IF('Z0.6.a ProgInvest_Spesa agg'!J43=\"\",\"\",'Z0.6.a ProgInvest_Spesa agg'!J43)","v":""},{"$f":"IF('Z0.6.a ProgInvest_Spesa agg'!K43=\"\",\"\",'Z0.6.a ProgInvest_Spesa agg'!K43)","v":"(assoggettata ad ammortamento finanziario)"},{"$f":"IF('Z0.6.a ProgInvest_Spesa agg'!L43=\"\",\"\",'Z0.6.a ProgInvest_Spesa agg'!L43)","v":"in corso"},{"$f":"IF('Z0.6.a ProgInvest_Spesa agg'!M43=\"\",\"\",'Z0.6.a ProgInvest_Spesa agg'!M43)","v":"CIN post2026"},{"$f":"IF('Z0.6.a ProgInvest_Spesa agg'!N43=\"\",\"\",'Z0.6.a ProgInvest_Spesa agg'!N43)","v":""},{"$f":"IF('Z0.6.a ProgInvest_Spesa agg'!O43=\"\",\"\",'Z0.6.a ProgInvest_Spesa agg'!O43)","v":"Finanziario"},{"$f":"IF('Z0.6.a ProgInvest_Spesa agg'!P43=\"\",\"\",'Z0.6.a ProgInvest_Spesa agg'!P43)","v":""},{"$f":"IF('Z0.6.a ProgInvest_Spesa agg'!Q43=\"\",\"\",'Z0.6.a ProgInvest_Spesa agg'!Q43)","v":"nuovo, urgente"},{"$f":"IF('Z0.6.a ProgInvest_Spesa agg'!R43=\"\",\"\",'Z0.6.a ProgInvest_Spesa agg'!R43)","v":""},{"$f":"IF('Z0.6.a ProgInvest_Spesa agg'!S43=\"\",\"\",'Z0.6.a ProgInvest_Spesa agg'!S43)","v":0},{"$f":"IF('Z0.6.a ProgInvest_Spesa agg'!T43=\"\",\"\",'Z0.6.a ProgInvest_Spesa agg'!T43)","v":0},{"$f":"IF('Z0.6.a ProgInvest_Spesa agg'!U43=\"\",\"\",'Z0.6.a ProgInvest_Spesa agg'!U43)","v":0},false,null,null,null,null,null,null,null,null,null,null,null,null,null,null,0]
[null,"x",{"$f":"IF('Z0.6.a ProgInvest_Spesa agg'!C44=\"\",\"\",'Z0.6.a ProgInvest_Spesa agg'!C44)","v":""},{"$f":"IF('Z0.6.a ProgInvest_Spesa agg'!D44=\"\",\"\",'Z0.6.a ProgInvest_Spesa agg'!D44)","v":""},{"$f":"IF('Z0.6.a ProgInvest_Spesa agg'!E44=\"\",\"\",'Z0.6.a ProgInvest_Spesa agg'!E44)","v":""},{"$f":"IF('Z0.6.a ProgInvest_Spesa agg'!F44=\"\",\"\",'Z0.6.a ProgInvest_Spesa agg'!F44)","v":26},{"$f":"IF('Z0.6.a ProgInvest_Spesa agg'!G44=\"\",\"\",'Z0.6.a ProgInvest_Spesa agg'!G44)","v":"Intervento 24"},{"$f":"IF('Z0.6.a ProgInvest_Spesa agg'!H44=\"\",\"\",'Z0.6.a ProgInvest_Spesa agg'!H44)","v":"SIVCA 24"},{"$f":"IF('Z0.6.a ProgInvest_Spesa agg'!I44=\"\",\"\",'Z0.6.a ProgInvest_Spesa agg'!I44)","v":""},{"$f":"IF('Z0.6.a ProgInvest_Spesa agg'!J44=\"\",\"\",'Z0.6.a ProgInvest_Spesa agg'!J44)","v":""},{"$f":"IF('Z0.6.a ProgInvest_Spesa agg'!K44=\"\",\"\",'Z0.6.a ProgInvest_Spesa agg'!K44)","v":"Viadotti/Ponti/Cavalcavia"},{"$f":"IF('Z0.6.a ProgInvest_Spesa agg'!L44=\"\",\"\",'Z0.6.a ProgInvest_Spesa agg'!L44)","v":"in corso"},{"$f":"IF('Z0.6.a ProgInvest_Spesa agg'!M44=\"\",\"\",'Z0.6.a ProgInvest_Spesa agg'!M44)","v":"CIN post2026"},{"$f":"IF('Z0.6.a ProgInvest_Spesa agg'!N44=\"\",\"\",'Z0.6.a ProgInvest_Spesa agg'!N44)","v":""},{"$f":"IF('Z0.6.a ProgInvest_Spesa agg'!O44=\"\",\"\",'Z0.6.a ProgInvest_Spesa agg'!O44)","v":"Vite utili 2"},{"$f":"IF('Z0.6.a ProgInvest_Spesa agg'!P44=\"\",\"\",'Z0.6.a ProgInvest_Spesa agg'!P44)","v":2029},{"$f":"IF('Z0.6.a ProgInvest_Spesa agg'!Q44=\"\",\"\",'Z0.6.a ProgInvest_Spesa agg'!Q44)","v":"nuovo, urgente"},{"$f":"IF('Z0.6.a ProgInvest_Spesa agg'!R44=\"\",\"\",'Z0.6.a ProgInvest_Spesa agg'!R44)","v":""},{"$f":"IF('Z0.6.a ProgInvest_Spesa agg'!S44=\"\",\"\",'Z0.6.a ProgInvest_Spesa agg'!S44)","v":0},{"$f":"IF('Z0.6.a ProgInvest_Spesa agg'!T44=\"\",\"\",'Z0.6.a ProgInvest_Spesa agg'!T44)","v":0},{"$f":"IF('Z0.6.a ProgInvest_Spesa agg'!U44=\"\",\"\",'Z0.6.a ProgInvest_Spesa agg'!U44)","v":0},false,null,null,null,null,null,null,null,null,null,null,null,null,null,null,0]

{"sheet":"Z0.7.a InvestNoTar_Spesa agg","index":15,"n_rows":19,"n_cols":36,"rows_kept":19,"cut":false,"hidden":false,"merged":[]}
[]
[null,null,"Programma degli Investimenti - aggiornamento (4/6)"]
[]
[null,null,null,null,null,null,null,null,null,null,null,null,null,null,null,null,null,null,"Anno",null,null,2024,2025,2026,2027,2028,2029,2030,2031,2032,2033,2034,2035,2036,2037,2038]
[]
[null,null,null,null,null,null,null,null,null,null,null,null,null,null,null,null,null,null,"Anno base",null,null,1,0,0,0,1,0,0,0,0,1,0,0,0,0,0]
[null,null,null,null,null,null,null,null,null,null,null,null,null,null,null,null,null,null,"Anno ponte",null,null,0,1,0,0,0,1,0,0,0,0,1,0,0,0,0]
[null,null,null,null,null,null,null,null,null,null,null,null,null,null,null,null,null,null,"Periodo regolatorio",null,null,0,0,1,1,1,1,2,2,2,2,2,3,3,3,3]
[null,null,null,null,null,null,null,null,null,null,null,null,null,null,null,null,null,null,"Anno del periodo regolatorio",null,null,0,0,1,2,3,4,1,2,3,4,5,1,2,3,4]
[null,null,null,null,null,null,null,null,null,null,null,null,null,null,null,null,null,null,"Frazione di anno significativa",null,null,null,null,1,1,1,1,1,1,1,1,1,1,1,1,1]
[]
[null,null,null,null,null,null,null,null,null,null,null,null,null,null,null,null,null,null,null,null,null,null,"Ultimo adattamento schema: 03/11/2025 14:32:50"]
[]
[null,null,"Programmazione non ammissibile in tariffa: Importo della spesa annua complessiva (al lordo di eventuali contributi in c/impianti e in c/capitale)"]
[null,null,"Tabella da alimentare solo con spese per beni reversibili, autorizzati ma non ammissibili in tariffa"]
[]
[null,null,"Atto convenzionale di riferimento","Rif. macro intervento","Rif. lett. art.","Codice univoco intervento","Descrizione intervento","Codice SIVCA","Tratta autostradale da convenzione","Macro tipologia intervento","Tipologia intervento","Stato lavori","Data presunta entrata in esercizio (anno)",null,null,"Status intervento",null,"Spesa programmata totale","Contributo a fondo perduto","Eventuali dismissioni",null,null,{"$f":"\"Spesa programmata aggiornata    \" & W4","v":"Spesa programmata aggiornata    2025"},{"$f":"\"Spesa programmata aggiornata    \" & X4","v":"Spesa programmata aggiornata    2026"},{"$f":"\"Spesa programmata aggiornata    \" & Y4","v":"Spesa programmata aggiornata    2027"},"Spesa programmata aggiornata    2028","Spesa programmata aggiornata    2029","Spesa programmata aggiornata    2030","Spesa programmata aggiornata    2031","Spesa programmata aggiornata    2032","Spesa programmata aggiornata    2033","Spesa programmata aggiornata    2034","Spesa programmata aggiornata    2035","Spesa programmata aggiornata    2036","Spesa programmata aggiornata    2037","Spesa programmata aggiornata    2038"]
[]
[null,"x",null,null,null,null,null,null,null,null,null,null,null,null,null,{"$f":"IFERROR(IF(INDEX('Z0.4.a ProgrammaInvest_Spesa'!F:F,MATCH(F19,'Z0.4.a ProgrammaInvest_Spesa'!F:F,0))>0,\"pianificato\",\"nuovo, urgente\"),\"\")","v":""},null,{"$f":"SUM(OFFSET(V19,0,0,1,ScadenzaConcessione-AnnoBase+1))","v":0},{"$f":"SUM(OFFSET('Z0.7.b InvestNoTar_Contr agg'!V19,0,0,1,ScadenzaConcessione-AnnoBase+1))","v":0},{"$f":"SUM(OFFSET('Z0.7.c InvestNoTar_Dismiss agg'!V19,0,0,1,ScadenzaConcessione-AnnoBase+1))","v":0}]

{"sheet":"Z0.7.b InvestNoTar_Contr agg","index":16,"n_rows":19,"n_cols":36,"rows_kept":19,"cut":false,"hidden":false,"merged":[]}
[]
[null,null,"Programma degli Investimenti - aggiornamento (5/6)"]
[]
[null,null,null,null,null,null,null,null,null,null,null,null,null,null,null,null,null,null,"Anno",null,null,2024,2025,2026,2027,2028,2029,2030,2031,2032,2033,2034,2035,2036,2037,2038]
[]
[null,null,null,null,null,null,null,null,null,null,null,null,null,null,null,null,null,null,"Anno base",null,null,1,0,0,0,1,0,0,0,0,1,0,0,0,0,0]
[null,null,null,null,null,null,null,null,null,null,null,null,null,null,null,null,null,null,"Anno ponte",null,null,0,1,0,0,0,1,0,0,0,0,1,0,0,0,0]
[null,null,null,null,null,null,null,null,null,null,null,null,null,null,null,null,null,null,"Periodo regolatorio",null,null,0,0,1,1,1,1,2,2,2,2,2,3,3,3,3]
[null,null,null,null,null,null,null,null,null,null,null,null,null,null,null,null,null,null,"Anno del periodo regolatorio",null,null,0,0,1,2,3,4,1,2,3,4,5,1,2,3,4]
[null,null,null,null,null,null,null,null,null,null,null,null,null,null,null,null,null,null,"Frazione di anno significativa",null,null,null,null,1,1,1,1,1,1,1,1,1,1,1,1,1]
[]
[null,null,null,null,null,null,null,null,null,null,null,null,null,null,null,null,null,null,null,null,null,null,"Ultimo adattamento schema: 03/11/2025 14:32:51"]
[]
[null,null,"Programmazione non ammissibile in tariffa: Importo annuo eventuali contributi in c/impianti o in c/capitale"]
[null,null,"Tabella da alimentare solo con spese per beni reversibili, autorizzati ma non ammissibili in tariffa"]
[]
[null,null,"Atto convenzionale di riferimento","Rif. macro intervento","Rif. lett. art.","Codice univoco intervento","Descrizione intervento","Codice SIVCA","Tratta autostradale da convenzione","Macro tipologia intervento","Tipologia intervento","Stato lavori","Data presunta entrata in esercizio (anno)",null,null,"Status intervento",null,"Spesa programmata totale","Contributo a fondo perduto","Eventuali dismissioni",null,null,{"$f":"\"Contributo programmato aggiornato    \" & W4","v":"Contributo programmato aggiornato    2025"},{"$f":"\"Contributo programmato aggiornato    \" & X4","v":"Contributo programmato aggiornato    2026"},{"$f":"\"Contributo programmato aggiornato    \" & Y4","v":"Contributo programmato aggiornato    2027"},"Contributo programmato aggiornato    2028","Contributo programmato aggiornato    2029","Contributo programmato aggiornato    2030","Contributo programmato aggiornato    2031","Contributo programmato aggiornato    2032","Contributo programmato aggiornato    2033","Contributo programmato aggiornato    2034","Contributo programmato aggiornato    2035","Contributo programmato aggiornato    2036","Contributo programmato aggiornato    2037","Contributo programmato aggiornato    2038"]
[]
[null,"x",{"$f":"IF('Z0.7.a InvestNoTar_Spesa agg'!C19=\"\",\"\",'Z0.7.a InvestNoTar_Spesa agg'!C19)","v":""},{"$f":"IF('Z0.7.a InvestNoTar_Spesa agg'!D19=\"\",\"\",'Z0.7.a InvestNoTar_Spesa agg'!D19)","v":""},{"$f":"IF('Z0.7.a InvestNoTar_Spesa agg'!E19=\"\",\"\",'Z0.7.a InvestNoTar_Spesa agg'!E19)","v":""},{"$f":"IF('Z0.7.a InvestNoTar_Spesa agg'!F19=\"\",\"\",'Z0.7.a InvestNoTar_Spesa agg'!F19)","v":""},{"$f":"IF('Z0.7.a InvestNoTar_Spesa agg'!G19=\"\",\"\",'Z0.7.a InvestNoTar_Spesa agg'!G19)","v":""},{"$f":"IF('Z0.7.a InvestNoTar_Spesa agg'!H19=\"\",\"\",'Z0.7.a InvestNoTar_Spesa agg'!H19)","v":""},{"$f":"IF('Z0.7.a InvestNoTar_Spesa agg'!I19=\"\",\"\",'Z0.7.a InvestNoTar_Spesa agg'!I19)","v":""},{"$f":"IF('Z0.7.a InvestNoTar_Spesa agg'!J19=\"\",\"\",'Z0.7.a InvestNoTar_Spesa agg'!J19)","v":""},{"$f":"IF('Z0.7.a InvestNoTar_Spesa agg'!K19=\"\",\"\",'Z0.7.a InvestNoTar_Spesa agg'!K19)","v":""},{"$f":"IF('Z0.7.a InvestNoTar_Spesa agg'!L19=\"\",\"\",'Z0.7.a InvestNoTar_Spesa agg'!L19)","v":""},{"$f":"IF('Z0.7.a InvestNoTar_Spesa agg'!M19=\"\",\"\",'Z0.7.a InvestNoTar_Spesa agg'!M19)","v":""},null,null,{"$f":"IF('Z0.7.a InvestNoTar_Spesa agg'!P19=\"\",\"\",'Z0.7.a InvestNoTar_Spesa agg'!P19)","v":""},null,{"$f":"IF('Z0.7.a InvestNoTar_Spesa agg'!R19=\"\",\"\",'Z0.7.a InvestNoTar_Spesa agg'!R19)","v":0},{"$f":"IF('Z0.7.a InvestNoTar_Spesa agg'!S19=\"\",\"\",'Z0.7.a InvestNoTar_Spesa agg'!S19)","v":0},{"$f":"IF('Z0.7.a InvestNoTar_Spesa agg'!T19=\"\",\"\",'Z0.7.a InvestNoTar_Spesa agg'!T19)","v":0}]

{"sheet":"Z0.7.c InvestNoTar_Dismiss agg","index":17,"n_rows":19,"n_cols":36,"rows_kept":19,"cut":false,"hidden":false,"merged":[]}
[]
[null,null,"Programma degli Investimenti - aggiornamento (6/6)"]
[]
[null,null,null,null,null,null,null,null,null,null,null,null,null,null,null,null,null,null,"Anno",null,null,2024,2025,2026,2027,2028,2029,2030,2031,2032,2033,2034,2035,2036,2037,2038]
[]
[null,null,null,null,null,null,null,null,null,null,null,null,null,null,null,null,null,null,"Anno base",null,null,1,0,0,0,1,0,0,0,0,1,0,0,0,0,0]
[null,null,null,null,null,null,null,null,null,null,null,null,null,null,null,null,null,null,"Anno ponte",null,null,0,1,0,0,0,1,0,0,0,0,1,0,0,0,0]
[null,null,null,null,null,null,null,null,null,null,null,null,null,null,null,null,null,null,"Periodo regolatorio",null,null,0,0,1,1,1,1,2,2,2,2,2,3,3,3,3]
[null,null,null,null,null,null,null,null,null,null,null,null,null,null,null,null,null,null,"Anno del periodo regolatorio",null,null,0,0,1,2,3,4,1,2,3,4,5,1,2,3,4]
[null,null,null,null,null,null,null,null,null,null,null,null,null,null,null,null,null,null,"Frazione di anno significativa",null,null,null,null,1,1,1,1,1,1,1,1,1,1,1,1,1]
[]
[null,null,null,null,null,null,null,null,null,null,null,null,null,null,null,null,null,null,null,null,null,null,"Ultimo adattamento schema: 03/11/2025 14:32:53"]
[]
[null,null,"Programmazione non ammissibile in tariffa: Importo annuo eventuali dismissioni"]
[null,null,"Tabella da alimentare solo con spese per beni reversibili, autorizzati ma non ammissibili in tariffa"]
[]
[null,null,"Atto convenzionale di riferimento","Rif. macro intervento","Rif. lett. art.","Codice univoco intervento","Descrizione intervento","Codice SIVCA","Tratta autostradale da convenzione","Macro tipologia intervento","Tipologia intervento","Stato lavori","Data presunta entrata in esercizio (anno)",null,null,"Status intervento",null,"Spesa programmata totale","Contributo a fondo perduto","Eventuali dismissioni",null,null,{"$f":"\"Dismissioni aggiornate    \" & W4","v":"Dismissioni aggiornate    2025"},"Dismissioni aggiornate    2026",{"$f":"\"Dismissioni aggiornate    \" & Y4","v":"Dismissioni aggiornate    2027"},"Dismissioni aggiornate    2028","Dismissioni aggiornate    2029","Dismissioni aggiornate    2030","Dismissioni aggiornate    2031","Dismissioni aggiornate    2032","Dismissioni aggiornate    2033","Dismissioni aggiornate    2034","Dismissioni aggiornate    2035","Dismissioni aggiornate    2036","Dismissioni aggiornate    2037","Dismissioni aggiornate    2038"]
[]
[null,"x",{"$f":"IF('Z0.7.a InvestNoTar_Spesa agg'!C19=\"\",\"\",'Z0.7.a InvestNoTar_Spesa agg'!C19)","v":""},{"$f":"IF('Z0.7.a InvestNoTar_Spesa agg'!D19=\"\",\"\",'Z0.7.a InvestNoTar_Spesa agg'!D19)","v":""},{"$f":"IF('Z0.7.a InvestNoTar_Spesa agg'!E19=\"\",\"\",'Z0.7.a InvestNoTar_Spesa agg'!E19)","v":""},{"$f":"IF('Z0.7.a InvestNoTar_Spesa agg'!F19=\"\",\"\",'Z0.7.a InvestNoTar_Spesa agg'!F19)","v":""},{"$f":"IF('Z0.7.a InvestNoTar_Spesa agg'!G19=\"\",\"\",'Z0.7.a InvestNoTar_Spesa agg'!G19)","v":""},{"$f":"IF('Z0.7.a InvestNoTar_Spesa agg'!H19=\"\",\"\",'Z0.7.a InvestNoTar_Spesa agg'!H19)","v":""},{"$f":"IF('Z0.7.a InvestNoTar_Spesa agg'!I19=\"\",\"\",'Z0.7.a InvestNoTar_Spesa agg'!I19)","v":""},{"$f":"IF('Z0.7.a InvestNoTar_Spesa agg'!J19=\"\",\"\",'Z0.7.a InvestNoTar_Spesa agg'!J19)","v":""},{"$f":"IF('Z0.7.a InvestNoTar_Spesa agg'!K19=\"\",\"\",'Z0.7.a InvestNoTar_Spesa agg'!K19)","v":""},{"$f":"IF('Z0.7.a InvestNoTar_Spesa agg'!L19=\"\",\"\",'Z0.7.a InvestNoTar_Spesa agg'!L19)","v":""},{"$f":"IF('Z0.7.a InvestNoTar_Spesa agg'!M19=\"\",\"\",'Z0.7.a InvestNoTar_Spesa agg'!M19)","v":""},null,null,{"$f":"IF('Z0.7.a InvestNoTar_Spesa agg'!P19=\"\",\"\",'Z0.7.a InvestNoTar_Spesa agg'!P19)","v":""},null,{"$f":"IF('Z0.7.a InvestNoTar_Spesa agg'!R19=\"\",\"\",'Z0.7.a InvestNoTar_Spesa agg'!R19)","v":0},{"$f":"IF('Z0.7.a InvestNoTar_Spesa agg'!S19=\"\",\"\",'Z0.7.a InvestNoTar_Spesa agg'!S19)","v":0},{"$f":"IF('Z0.7.a InvestNoTar_Spesa agg'!T19=\"\",\"\",'Z0.7.a InvestNoTar_Spesa agg'!T19)","v":0}]

{"sheet":"C1 Tk Riepilogo variazioni","index":18,"n_rows":230,"n_cols":19,"rows_kept":230,"cut":false,"hidden":false,"merged":[]}
[]
[null,null,"Riepilogo variazioni - Programma degli Investimenti"]
[]
[null,null,"Anno",null,2024,2025,2026,2027,2028,2029,2030,2031,2032,2033,2034,2035,2036,2037,2038]
[]
[null,null,"Anno base",null,1,0,0,0,1,0,0,0,0,1,0,0,0,0,0]
[null,null,"Anno ponte",null,0,1,0,0,0,1,0,0,0,0,1,0,0,0,0]
[null,null,"Periodo regolatorio",null,0,0,1,1,1,1,2,2,2,2,2,3,3,3,3]
[null,null,"Anno del periodo regolatorio",null,0,0,1,2,3,4,1,2,3,4,5,1,2,3,4]
[null,null,null,null,null,null,1,1,1,1,1,1,1,1,1,1,1,1,1]
[]
[null,null,null,null,null,"Ultimo adattamento schema: 03/11/2025 14:32:55"]
[]
[null,null,"Programmazione"]
[]
[null,null,"Investimenti lordi annui, classificati per tipologia"]
[]
[null,null,"Interventi afferenti al CIN ante - SAL contabilizzati",null,{"$f":"SUMIFS('Z0.4.a ProgrammaInvest_Spesa'!U:U,\n'Z0.4.a ProgrammaInvest_Spesa'!$M:$M,\"CIN ante\",\n'Z0.4.a ProgrammaInvest_Spesa'!$N:$N,\"SAL contabilizzati\")","v":0},{"$f":"SUMIFS('Z0.4.a ProgrammaInvest_Spesa'!V:V,\n'Z0.4.a ProgrammaInvest_Spesa'!$M:$M,\"CIN ante\",\n'Z0.4.a ProgrammaInvest_Spesa'!$N:$N,\"SAL contabilizzati\")","v":0},{"$f":"SUMIFS('Z0.4.a ProgrammaInvest_Spesa'!W:W,\n'Z0.4.a ProgrammaInvest_Spesa'!$M:$M,\"CIN ante\",\n'Z0.4.a ProgrammaInvest_Spesa'!$N:$N,\"SAL contabilizzati\")","v":0},{"$f":"SUMIFS('Z0.4.a ProgrammaInvest_Spesa'!X:X,\n'Z0.4.a ProgrammaInvest_Spesa'!$M:$M,\"CIN ante\",\n'Z0.4.a ProgrammaInvest_Spesa'!$N:$N,\"SAL contabilizzati\")","v":0},{"$f":"SUMIFS('Z0.4.a ProgrammaInvest_Spesa'!Y:Y,\n'Z0.4.a ProgrammaInvest_Spesa'!$M:$M,\"CIN ante\",\n'Z0.4.a ProgrammaInvest_Spesa'!$N:$N,\"SAL contabilizzati\")","v":0},{"$f":"SUMIFS('Z0.4.a ProgrammaInvest_Spesa'!Z:Z,\n'Z0.4.a ProgrammaInvest_Spesa'!$M:$M,\"CIN ante\",\n'Z0.4.a ProgrammaInvest_Spesa'!$N:$N,\"SAL contabilizzati\")","v":0},{"$f":"SUMIFS('Z0.4.a ProgrammaInvest_Spesa'!AA:AA,\n'Z0.4.a ProgrammaInvest_Spesa'!$M:$M,\"CIN ante\",\n'Z0.4.a ProgrammaInvest_Spesa'!$N:$N,\"SAL contabilizzati\")","v":0},{"$f":"SUMIFS('Z0.4.a ProgrammaInvest_Spesa'!AB:AB,\n'Z0.4.a ProgrammaInvest_Spesa'!$M:$M,\"CIN ante\",\n'Z0.4.a ProgrammaInvest_Spesa'!$N:$N,\"SAL contabilizzati\")","v":0},{"$f":"SUMIFS('Z0.4.a ProgrammaInvest_Spesa'!AC:AC,\n'Z0.4.a ProgrammaInvest_Spesa'!$M:$M,\"CIN ante\",\n'Z0.4.a ProgrammaInvest_Spesa'!$N:$N,\"SAL contabilizzati\")","v":0},{"$f":"SUMIFS('Z0.4.a ProgrammaInvest_Spesa'!AD:AD,\n'Z0.4.a ProgrammaInvest_Spesa'!$M:$M,\"CIN ante\",\n'Z0.4.a ProgrammaInvest_Spesa'!$N:$N,\"SAL contabilizzati\")","v":0},{"$f":"SUMIFS('Z0.4.a ProgrammaInvest_Spesa'!AE:AE,\n'Z0.4.a ProgrammaInvest_Spesa'!$M:$M,\"CIN ante\",\n'Z0.4.a ProgrammaInvest_Spesa'!$N:$N,\"SAL contabilizzati\")","v":0},{"$f":"SUMIFS('Z0.4.a ProgrammaInvest_Spesa'!AF:AF,\n'Z0.4.a ProgrammaInvest_Spesa'!$M:$M,\"CIN ante\",\n'Z0.4.a ProgrammaInvest_Spesa'!$N:$N,\"SAL contabilizzati\")","v":0},{"$f":"SUMIFS('Z0.4.a ProgrammaInvest_Spesa'!AG:AG,\n'Z0.4.a ProgrammaInvest_Spesa'!$M:$M,\"CIN ante\",\n'Z0.4.a ProgrammaInvest_Spesa'!$N:$N,\"SAL contabilizzati\")","v":0},{"$f":"SUMIFS('Z0.4.a ProgrammaInvest_Spesa'!AH:AH,\n'Z0.4.a ProgrammaInvest_Spesa'!$M:$M,\"CIN ante\",\n'Z0.4.a ProgrammaInvest_Spesa'!$N:$N,\"SAL contabilizzati\")","v":0},{"$f":"SUMIFS('Z0.4.a ProgrammaInvest_Spesa'!AI:AI,\n'Z0.4.a ProgrammaInvest_Spesa'!$M:$M,\"CIN ante\",\n'Z0.4.a ProgrammaInvest_Spesa'!$N:$N,\"SAL contabilizzati\")","v":0}]
[null,null,"Interventi afferenti al CIN ante - SAL da contabilizzare",null,{"$f":"SUMIFS('Z0.4.a ProgrammaInvest_Spesa'!U:U,\n'Z0.4.a ProgrammaInvest_Spesa'!$M:$M,\"CIN ante\",\n'Z0.4.a ProgrammaInvest_Spesa'!$N:$N,\"SAL da contabilizzare\")","v":0},{"$f":"SUMIFS('Z0.4.a ProgrammaInvest_Spesa'!V:V,\n'Z0.4.a ProgrammaInvest_Spesa'!$M:$M,\"CIN ante\",\n'Z0.4.a ProgrammaInvest_Spesa'!$N:$N,\"SAL da contabilizzare\")","v":0},{"$f":"SUMIFS('Z0.4.a ProgrammaInvest_Spesa'!W:W,\n'Z0.4.a ProgrammaInvest_Spesa'!$M:$M,\"CIN ante\",\n'Z0.4.a ProgrammaInvest_Spesa'!$N:$N,\"SAL da contabilizzare\")","v":10000},{"$f":"SUMIFS('Z0.4.a ProgrammaInvest_Spesa'!X:X,\n'Z0.4.a ProgrammaInvest_Spesa'!$M:$M,\"CIN ante\",\n'Z0.4.a ProgrammaInvest_Spesa'!$N:$N,\"SAL da contabilizzare\")","v":10000},{"$f":"SUMIFS('Z0.4.a ProgrammaInvest_Spesa'!Y:Y,\n'Z0.4.a ProgrammaInvest_Spesa'!$M:$M,\"CIN ante\",\n'Z0.4.a ProgrammaInvest_Spesa'!$N:$N,\"SAL da contabilizzare\")","v":0},{"$f":"SUMIFS('Z0.4.a ProgrammaInvest_Spesa'!Z:Z,\n'Z0.4.a ProgrammaInvest_Spesa'!$M:$M,\"CIN ante\",\n'Z0.4.a ProgrammaInvest_Spesa'!$N:$N,\"SAL da contabilizzare\")","v":0},{"$f":"SUMIFS('Z0.4.a ProgrammaInvest_Spesa'!AA:AA,\n'Z0.4.a ProgrammaInvest_Spesa'!$M:$M,\"CIN ante\",\n'Z0.4.a ProgrammaInvest_Spesa'!$N:$N,\"SAL da contabilizzare\")","v":0},{"$f":"SUMIFS('Z0.4.a ProgrammaInvest_Spesa'!AB:AB,\n'Z0.4.a ProgrammaInvest_Spesa'!$M:$M,\"CIN ante\",\n'Z0.4.a ProgrammaInvest_Spesa'!$N:$N,\"SAL da contabilizzare\")","v":0},{"$f":"SUMIFS('Z0.4.a ProgrammaInvest_Spesa'!AC:AC,\n'Z0.4.a ProgrammaInvest_Spesa'!$M:$M,\"CIN ante\",\n'Z0.4.a ProgrammaInvest_Spesa'!$N:$N,\"SAL da contabilizzare\")","v":0},{"$f":"SUMIFS('Z0.4.a ProgrammaInvest_Spesa'!AD:AD,\n'Z0.4.a ProgrammaInvest_Spesa'!$M:$M,\"CIN ante\",\n'Z0.4.a ProgrammaInvest_Spesa'!$N:$N,\"SAL da contabilizzare\")","v":0},{"$f":"SUMIFS('Z0.4.a ProgrammaInvest_Spesa'!AE:AE,\n'Z0.4.a ProgrammaInvest_Spesa'!$M:$M,\"CIN ante\",\n'Z0.4.a ProgrammaInvest_Spesa'!$N:$N,\"SAL da contabilizzare\")","v":0},{"$f":"SUMIFS('Z0.4.a ProgrammaInvest_Spesa'!AF:AF,\n'Z0.4.a ProgrammaInvest_Spesa'!$M:$M,\"CIN ante\",\n'Z0.4.a ProgrammaInvest_Spesa'!$N:$N,\"SAL da contabilizzare\")","v":0},{"$f":"SUMIFS('Z0.4.a ProgrammaInvest_Spesa'!AG:AG,\n'Z0.4.a ProgrammaInvest_Spesa'!$M:$M,\"CIN ante\",\n'Z0.4.a ProgrammaInvest_Spesa'!$N:$N,\"SAL da contabilizzare\")","v":0},{"$f":"SUMIFS('Z0.4.a ProgrammaInvest_Spesa'!AH:AH,\n'Z0.4.a ProgrammaInvest_Spesa'!$M:$M,\"CIN ante\",\n'Z0.4.a ProgrammaInvest_Spesa'!$N:$N,\"SAL da contabilizzare\")","v":0},{"$f":"SUMIFS('Z0.4.a ProgrammaInvest_Spesa'!AI:AI,\n'Z0.4.a ProgrammaInvest_Spesa'!$M:$M,\"CIN ante\",\n'Z0.4.a ProgrammaInvest_Spesa'!$N:$N,\"SAL da contabilizzare\")","v":0}]
[null,null,"Interventi afferenti al CIN pre2026",null,{"$f":"SUMIFS('Z0.4.a ProgrammaInvest_Spesa'!U:U,\n'Z0.4.a ProgrammaInvest_Spesa'!$M:$M,\"CIN pre2026\")","v":0},{"$f":"SUMIFS('Z0.4.a ProgrammaInvest_Spesa'!V:V,\n'Z0.4.a ProgrammaInvest_Spesa'!$M:$M,\"CIN pre2026\")","v":0},{"$f":"SUMIFS('Z0.4.a ProgrammaInvest_Spesa'!W:W,\n'Z0.4.a ProgrammaInvest_Spesa'!$M:$M,\"CIN pre2026\")","v":10000},{"$f":"SUMIFS('Z0.4.a ProgrammaInvest_Spesa'!X:X,\n'Z0.4.a ProgrammaInvest_Spesa'!$M:$M,\"CIN pre2026\")","v":10000},{"$f":"SUMIFS('Z0.4.a ProgrammaInvest_Spesa'!Y:Y,\n'Z0.4.a ProgrammaInvest_Spesa'!$M:$M,\"CIN pre2026\")","v":0},{"$f":"SUMIFS('Z0.4.a ProgrammaInvest_Spesa'!Z:Z,\n'Z0.4.a ProgrammaInvest_Spesa'!$M:$M,\"CIN pre2026\")","v":0},{"$f":"SUMIFS('Z0.4.a ProgrammaInvest_Spesa'!AA:AA,\n'Z0.4.a ProgrammaInvest_Spesa'!$M:$M,\"CIN pre2026\")","v":0},{"$f":"SUMIFS('Z0.4.a ProgrammaInvest_Spesa'!AB:AB,\n'Z0.4.a ProgrammaInvest_Spesa'!$M:$M,\"CIN pre2026\")","v":0},{"$f":"SUMIFS('Z0.4.a ProgrammaInvest_Spesa'!AC:AC,\n'Z0.4.a ProgrammaInvest_Spesa'!$M:$M,\"CIN pre2026\")","v":0},{"$f":"SUMIFS('Z0.4.a ProgrammaInvest_Spesa'!AD:AD,\n'Z0.4.a ProgrammaInvest_Spesa'!$M:$M,\"CIN pre2026\")","v":0},{"$f":"SUMIFS('Z0.4.a ProgrammaInvest_Spesa'!AE:AE,\n'Z0.4.a ProgrammaInvest_Spesa'!$M:$M,\"CIN pre2026\")","v":0},{"$f":"SUMIFS('Z0.4.a ProgrammaInvest_Spesa'!AF:AF,\n'Z0.4.a ProgrammaInvest_Spesa'!$M:$M,\"CIN pre2026\")","v":0},{"$f":"SUMIFS('Z0.4.a ProgrammaInvest_Spesa'!AG:AG,\n'Z0.4.a ProgrammaInvest_Spesa'!$M:$M,\"CIN pre2026\")","v":0},{"$f":"SUMIFS('Z0.4.a ProgrammaInvest_Spesa'!AH:AH,\n'Z0.4.a ProgrammaInvest_Spesa'!$M:$M,\"CIN pre2026\")","v":0},{"$f":"SUMIFS('Z0.4.a ProgrammaInvest_Spesa'!AI:AI,\n'Z0.4.a ProgrammaInvest_Spesa'!$M:$M,\"CIN pre2026\")","v":0}]
[null,null,"Interventi afferenti al CIN post2026, ammortamento finanziario",null,{"$f":"SUMIFS('Z0.4.a ProgrammaInvest_Spesa'!U:U,\n'Z0.4.a ProgrammaInvest_Spesa'!$M:$M,\"CIN post2026\",\n'Z0.4.a ProgrammaInvest_Spesa'!$O:$O,\"Finanziario\")","v":0},{"$f":"SUMIFS('Z0.4.a ProgrammaInvest_Spesa'!V:V,\n'Z0.4.a ProgrammaInvest_Spesa'!$M:$M,\"CIN post2026\",\n'Z0.4.a ProgrammaInvest_Spesa'!$O:$O,\"Finanziario\")","v":0},{"$f":"SUMIFS('Z0.4.a ProgrammaInvest_Spesa'!W:W,\n'Z0.4.a ProgrammaInvest_Spesa'!$M:$M,\"CIN post2026\",\n'Z0.4.a ProgrammaInvest_Spesa'!$O:$O,\"Finanziario\")","v":50000},{"$f":"SUMIFS('Z0.4.a ProgrammaInvest_Spesa'!X:X,\n'Z0.4.a ProgrammaInvest_Spesa'!$M:$M,\"CIN post2026\",\n'Z0.4.a ProgrammaInvest_Spesa'!$O:$O,\"Finanziario\")","v":50000},{"$f":"SUMIFS('Z0.4.a ProgrammaInvest_Spesa'!Y:Y,\n'Z0.4.a ProgrammaInvest_Spesa'!$M:$M,\"CIN post2026\",\n'Z0.4.a ProgrammaInvest_Spesa'!$O:$O,\"Finanziario\")","v":0},{"$f":"SUMIFS('Z0.4.a ProgrammaInvest_Spesa'!Z:Z,\n'Z0.4.a ProgrammaInvest_Spesa'!$M:$M,\"CIN post2026\",\n'Z0.4.a ProgrammaInvest_Spesa'!$O:$O,\"Finanziario\")","v":0},{"$f":"SUMIFS('Z0.4.a ProgrammaInvest_Spesa'!AA:AA,\n'Z0.4.a ProgrammaInvest_Spesa'!$M:$M,\"CIN post2026\",\n'Z0.4.a ProgrammaInvest_Spesa'!$O:$O,\"Finanziario\")","v":0},{"$f":"SUMIFS('Z0.4.a ProgrammaInvest_Spesa'!AB:AB,\n'Z0.4.a ProgrammaInvest_Spesa'!$M:$M,\"CIN post2026\",\n'Z0.4.a ProgrammaInvest_Spesa'!$O:$O,\"Finanziario\")","v":0},{"$f":"SUMIFS('Z0.4.a ProgrammaInvest_Spesa'!AC:AC,\n'Z0.4.a ProgrammaInvest_Spesa'!$M:$M,\"CIN post2026\",\n'Z0.4.a ProgrammaInvest_Spesa'!$O:$O,\"Finanziario\")","v":0},{"$f":"SUMIFS('Z0.4.a ProgrammaInvest_Spesa'!AD:AD,\n'Z0.4.a ProgrammaInvest_Spesa'!$M:$M,\"CIN post2026\",\n'Z0.4.a ProgrammaInvest_Spesa'!$O:$O,\"Finanziario\")","v":0},{"$f":"SUMIFS('Z0.4.a ProgrammaInvest_Spesa'!AE:AE,\n'Z0.4.a ProgrammaInvest_Spesa'!$M:$M,\"CIN post2026\",\n'Z0.4.a ProgrammaInvest_Spesa'!$O:$O,\"Finanziario\")","v":0},{"$f":"SUMIFS('Z0.4.a ProgrammaInvest_Spesa'!AF:AF,\n'Z0.4.a ProgrammaInvest_Spesa'!$M:$M,\"CIN post2026\",\n'Z0.4.a ProgrammaInvest_Spesa'!$O:$O,\"Finanziario\")","v":0},{"$f":"SUMIFS('Z0.4.a ProgrammaInvest_Spesa'!AG:AG,\n'Z0.4.a ProgrammaInvest_Spesa'!$M:$M,\"CIN post2026\",\n'Z0.4.a ProgrammaInvest_Spesa'!$O:$O,\"Finanziario\")","v":0},{"$f":"SUMIFS('Z0.4.a ProgrammaInvest_Spesa'!AH:AH,\n'Z0.4.a ProgrammaInvest_Spesa'!$M:$M,\"CIN post2026\",\n'Z0.4.a ProgrammaInvest_Spesa'!$O:$O,\"Finanziario\")","v":0},{"$f":"SUMIFS('Z0.4.a ProgrammaInvest_Spesa'!AI:AI,\n'Z0.4.a ProgrammaInvest_Spesa'!$M:$M,\"CIN post2026\",\n'Z0.4.a ProgrammaInvest_Spesa'!$O:$O,\"Finanziario\")","v":0}]
[null,null,"Interventi afferenti al CIN post2026, ammortamento a vite utili di primo livello",null,{"$f":"SUMIFS('Z0.4.a ProgrammaInvest_Spesa'!U:U,\n'Z0.4.a ProgrammaInvest_Spesa'!$M:$M,\"CIN post2026\",\n'Z0.4.a ProgrammaInvest_Spesa'!$O:$O,\"Vite utili 1\")","v":0},{"$f":"SUMIFS('Z0.4.a ProgrammaInvest_Spesa'!V:V,\n'Z0.4.a ProgrammaInvest_Spesa'!$M:$M,\"CIN post2026\",\n'Z0.4.a ProgrammaInvest_Spesa'!$O:$O,\"Vite utili 1\")","v":0},{"$f":"SUMIFS('Z0.4.a ProgrammaInvest_Spesa'!W:W,\n'Z0.4.a ProgrammaInvest_Spesa'!$M:$M,\"CIN post2026\",\n'Z0.4.a ProgrammaInvest_Spesa'!$O:$O,\"Vite utili 1\")","v":0},{"$f":"SUMIFS('Z0.4.a ProgrammaInvest_Spesa'!X:X,\n'Z0.4.a ProgrammaInvest_Spesa'!$M:$M,\"CIN post2026\",\n'Z0.4.a ProgrammaInvest_Spesa'!$O:$O,\"Vite utili 1\")","v":100},{"$f":"SUMIFS('Z0.4.a ProgrammaInvest_Spesa'!Y:Y,\n'Z0.4.a ProgrammaInvest_Spesa'!$M:$M,\"CIN post2026\",\n'Z0.4.a ProgrammaInvest_Spesa'!$O:$O,\"Vite utili 1\")","v":200},{"$f":"SUMIFS('Z0.4.a ProgrammaInvest_Spesa'!Z:Z,\n'Z0.4.a ProgrammaInvest_Spesa'!$M:$M,\"CIN post2026\",\n'Z0.4.a ProgrammaInvest_Spesa'!$O:$O,\"Vite utili 1\")","v":200},{"$f":"SUMIFS('Z0.4.a ProgrammaInvest_Spesa'!AA:AA,\n'Z0.4.a ProgrammaInvest_Spesa'!$M:$M,\"CIN post2026\",\n'Z0.4.a ProgrammaInvest_Spesa'!$O:$O,\"Vite utili 1\")","v":200},{"$f":"SUMIFS('Z0.4.a ProgrammaInvest_Spesa'!AB:AB,\n'Z0.4.a ProgrammaInvest_Spesa'!$M:$M,\"CIN post2026\",\n'Z0.4.a ProgrammaInvest_Spesa'!$O:$O,\"Vite utili 1\")","v":200},{"$f":"SUMIFS('Z0.4.a ProgrammaInvest_Spesa'!AC:AC,\n'Z0.4.a ProgrammaInvest_Spesa'!$M:$M,\"CIN post2026\",\n'Z0.4.a ProgrammaInvest_Spesa'!$O:$O,\"Vite utili 1\")","v":200},{"$f":"SUMIFS('Z0.4.a ProgrammaInvest_Spesa'!AD:AD,\n'Z0.4.a ProgrammaInvest_Spesa'!$M:$M,\"CIN post2026\",\n'Z0.4.a ProgrammaInvest_Spesa'!$O:$O,\"Vite utili 1\")","v":200},{"$f":"SUMIFS('Z0.4.a ProgrammaInvest_Spesa'!AE:AE,\n'Z0.4.a ProgrammaInvest_Spesa'!$M:$M,\"CIN post2026\",\n'Z0.4.a ProgrammaInvest_Spesa'!$O:$O,\"Vite utili 1\")","v":200},{"$f":"SUMIFS('Z0.4.a ProgrammaInvest_Spesa'!AF:AF,\n'Z0.4.a ProgrammaInvest_Spesa'!$M:$M,\"CIN post2026\",\n'Z0.4.a ProgrammaInvest_Spesa'!$O:$O,\"Vite utili 1\")","v":200},{"$f":"SUMIFS('Z0.4.a ProgrammaInvest_Spesa'!AG:AG,\n'Z0.4.a ProgrammaInvest_Spesa'!$M:$M,\"CIN post2026\",\n'Z0.4.a ProgrammaInvest_Spesa'!$O:$O,\"Vite utili 1\")","v":200},{"$f":"SUMIFS('Z0.4.a ProgrammaInvest_Spesa'!AH:AH,\n'Z0.4.a ProgrammaInvest_Spesa'!$M:$M,\"CIN post2026\",\n'Z0.4.a ProgrammaInvest_Spesa'!$O:$O,\"Vite utili 1\")","v":100},{"$f":"SUMIFS('Z0.4.a ProgrammaInvest_Spesa'!AI:AI,\n'Z0.4.a ProgrammaInvest_Spesa'!$M:$M,\"CIN post2026\",\n'Z0.4.a ProgrammaInvest_Spesa'!$O:$O,\"Vite utili 1\")","v":0}]
[null,null,"Interventi afferenti al CIN post2026, ammortamento a vite utili di secondo livello",null,{"$f":"SUMIFS('Z0.4.a ProgrammaInvest_Spesa'!U:U,\n'Z0.4.a ProgrammaInvest_Spesa'!$M:$M,\"CIN post2026\",\n'Z0.4.a ProgrammaInvest_Spesa'!$O:$O,\"Vite utili 2\")","v":0},{"$f":"SUMIFS('Z0.4.a ProgrammaInvest_Spesa'!V:V,\n'Z0.4.a ProgrammaInvest_Spesa'!$M:$M,\"CIN post2026\",\n'Z0.4.a ProgrammaInvest_Spesa'!$O:$O,\"Vite utili 2\")","v":0},{"$f":"SUMIFS('Z0.4.a ProgrammaInvest_Spesa'!W:W,\n'Z0.4.a ProgrammaInvest_Spesa'!$M:$M,\"CIN post2026\",\n'Z0.4.a ProgrammaInvest_Spesa'!$O:$O,\"Vite utili 2\")","v":0},{"$f":"SUMIFS('Z0.4.a ProgrammaInvest_Spesa'!X:X,\n'Z0.4.a ProgrammaInvest_Spesa'!$M:$M,\"CIN post2026\",\n'Z0.4.a ProgrammaInvest_Spesa'!$O:$O,\"Vite utili 2\")","v":100},{"$f":"SUMIFS('Z0.4.a ProgrammaInvest_Spesa'!Y:Y,\n'Z0.4.a ProgrammaInvest_Spesa'!$M:$M,\"CIN post2026\",\n'Z0.4.a ProgrammaInvest_Spesa'!$O:$O,\"Vite utili 2\")","v":200},{"$f":"SUMIFS('Z0.4.a ProgrammaInvest_Spesa'!Z:Z,\n'Z0.4.a ProgrammaInvest_Spesa'!$M:$M,\"CIN post2026\",\n'Z0.4.a ProgrammaInvest_Spesa'!$O:$O,\"Vite utili 2\")","v":200},{"$f":"SUMIFS('Z0.4.a ProgrammaInvest_Spesa'!AA:AA,\n'Z0.4.a ProgrammaInvest_Spesa'!$M:$M,\"CIN post2026\",\n'Z0.4.a ProgrammaInvest_Spesa'!$O:$O,\"Vite utili 2\")","v":200},{"$f":"SUMIFS('Z0.4.a ProgrammaInvest_Spesa'!AB:AB,\n'Z0.4.a ProgrammaInvest_Spesa'!$M:$M,\"CIN post2026\",\n'Z0.4.a ProgrammaInvest_Spesa'!$O:$O,\"Vite utili 2\")","v":200},{"$f":"SUMIFS('Z0.4.a ProgrammaInvest_Spesa'!AC:AC,\n'Z0.4.a ProgrammaInvest_Spesa'!$M:$M,\"CIN post2026\",\n'Z0.4.a ProgrammaInvest_Spesa'!$O:$O,\"Vite utili 2\")","v":200},{"$f":"SUMIFS('Z0.4.a ProgrammaInvest_Spesa'!AD:AD,\n'Z0.4.a ProgrammaInvest_Spesa'!$M:$M,\"CIN post2026\",\n'Z0.4.a ProgrammaInvest_Spesa'!$O:$O,\"Vite utili 2\")","v":200},{"$f":"SUMIFS('Z0.4.a ProgrammaInvest_Spesa'!AE:AE,\n'Z0.4.a ProgrammaInvest_Spesa'!$M:$M,\"CIN post2026\",\n'Z0.4.a ProgrammaInvest_Spesa'!$O:$O,\"Vite utili 2\")","v":200},{"$f":"SUMIFS('Z0.4.a ProgrammaInvest_Spesa'!AF:AF,\n'Z0.4.a ProgrammaInvest_Spesa'!$M:$M,\"CIN post2026\",\n'Z0.4.a ProgrammaInvest_Spesa'!$O:$O,\"Vite utili 2\")","v":200},{"$f":"SUMIFS('Z0.4.a ProgrammaInvest_Spesa'!AG:AG,\n'Z0.4.a ProgrammaInvest_Spesa'!$M:$M,\"CIN post2026\",\n'Z0.4.a ProgrammaInvest_Spesa'!$O:$O,\"Vite utili 2\")","v":200},{"$f":"SUMIFS('Z0.4.a ProgrammaInvest_Spesa'!AH:AH,\n'Z0.4.a ProgrammaInvest_Spesa'!$M:$M,\"CIN post2026\",\n'Z0.4.a ProgrammaInvest_Spesa'!$O:$O,\"Vite utili 2\")","v":100},{"$f":"SUMIFS('Z0.4.a ProgrammaInvest_Spesa'!AI:AI,\n'Z0.4.a ProgrammaInvest_Spesa'!$M:$M,\"CIN post2026\",\n'Z0.4.a ProgrammaInvest_Spesa'!$O:$O,\"Vite utili 2\")","v":0}]
[null,null,"Totale",null,{"$f":"SUM(E18:E23)","v":0},{"$f":"SUM(F18:F23)","v":0},70000,70200,400,400,400,400,400,400,400,400,400,200,0]
[]
[null,null,"Contributi annui, classificati per tipologia di investimento"]
[]
[null,null,"Interventi afferenti al CIN ante - SAL contabilizzati",null,{"$f":"SUMIFS('Z0.4.b ProgrammaInvest_Contrib'!U:U,\n'Z0.4.b ProgrammaInvest_Contrib'!$M:$M,\"CIN ante\",\n'Z0.4.b ProgrammaInvest_Contrib'!$N:$N,\"SAL contabilizzati\")","v":0},{"$f":"SUMIFS('Z0.4.b ProgrammaInvest_Contrib'!V:V,\n'Z0.4.b ProgrammaInvest_Contrib'!$M:$M,\"CIN ante\",\n'Z0.4.b ProgrammaInvest_Contrib'!$N:$N,\"SAL contabilizzati\")","v":0},{"$f":"SUMIFS('Z0.4.b ProgrammaInvest_Contrib'!W:W,\n'Z0.4.b ProgrammaInvest_Contrib'!$M:$M,\"CIN ante\",\n'Z0.4.b ProgrammaInvest_Contrib'!$N:$N,\"SAL contabilizzati\")","v":2000},{"$f":"SUMIFS('Z0.4.b ProgrammaInvest_Contrib'!X:X,\n'Z0.4.b ProgrammaInvest_Contrib'!$M:$M,\"CIN ante\",\n'Z0.4.b ProgrammaInvest_Contrib'!$N:$N,\"SAL contabilizzati\")","v":0},{"$f":"SUMIFS('Z0.4.b ProgrammaInvest_Contrib'!Y:Y,\n'Z0.4.b ProgrammaInvest_Contrib'!$M:$M,\"CIN ante\",\n'Z0.4.b ProgrammaInvest_Contrib'!$N:$N,\"SAL contabilizzati\")","v":0},{"$f":"SUMIFS('Z0.4.b ProgrammaInvest_Contrib'!Z:Z,\n'Z0.4.b ProgrammaInvest_Contrib'!$M:$M,\"CIN ante\",\n'Z0.4.b ProgrammaInvest_Contrib'!$N:$N,\"SAL contabilizzati\")","v":0},{"$f":"SUMIFS('Z0.4.b ProgrammaInvest_Contrib'!AA:AA,\n'Z0.4.b ProgrammaInvest_Contrib'!$M:$M,\"CIN ante\",\n'Z0.4.b ProgrammaInvest_Contrib'!$N:$N,\"SAL contabilizzati\")","v":0},{"$f":"SUMIFS('Z0.4.b ProgrammaInvest_Contrib'!AB:AB,\n'Z0.4.b ProgrammaInvest_Contrib'!$M:$M,\"CIN ante\",\n'Z0.4.b ProgrammaInvest_Contrib'!$N:$N,\"SAL contabilizzati\")","v":0},{"$f":"SUMIFS('Z0.4.b ProgrammaInvest_Contrib'!AC:AC,\n'Z0.4.b ProgrammaInvest_Contrib'!$M:$M,\"CIN ante\",\n'Z0.4.b ProgrammaInvest_Contrib'!$N:$N,\"SAL contabilizzati\")","v":0},{"$f":"SUMIFS('Z0.4.b ProgrammaInvest_Contrib'!AD:AD,\n'Z0.4.b ProgrammaInvest_Contrib'!$M:$M,\"CIN ante\",\n'Z0.4.b ProgrammaInvest_Contrib'!$N:$N,\"SAL contabilizzati\")","v":0},{"$f":"SUMIFS('Z0.4.b ProgrammaInvest_Contrib'!AE:AE,\n'Z0.4.b ProgrammaInvest_Contrib'!$M:$M,\"CIN ante\",\n'Z0.4.b ProgrammaInvest_Contrib'!$N:$N,\"SAL contabilizzati\")","v":0},{"$f":"SUMIFS('Z0.4.b ProgrammaInvest_Contrib'!AF:AF,\n'Z0.4.b ProgrammaInvest_Contrib'!$M:$M,\"CIN ante\",\n'Z0.4.b ProgrammaInvest_Contrib'!$N:$N,\"SAL contabilizzati\")","v":0},{"$f":"SUMIFS('Z0.4.b ProgrammaInvest_Contrib'!AG:AG,\n'Z0.4.b ProgrammaInvest_Contrib'!$M:$M,\"CIN ante\",\n'Z0.4.b ProgrammaInvest_Contrib'!$N:$N,\"SAL contabilizzati\")","v":0},{"$f":"SUMIFS('Z0.4.b ProgrammaInvest_Contrib'!AH:AH,\n'Z0.4.b ProgrammaInvest_Contrib'!$M:$M,\"CIN ante\",\n'Z0.4.b ProgrammaInvest_Contrib'!$N:$N,\"SAL contabilizzati\")","v":0},{"$f":"SUMIFS('Z0.4.b ProgrammaInvest_Contrib'!AI:AI,\n'Z0.4.b ProgrammaInvest_Contrib'!$M:$M,\"CIN ante\",\n'Z0.4.b ProgrammaInvest_Contrib'!$N:$N,\"SAL contabilizzati\")","v":0}]
[null,null,"Interventi afferenti al CIN ante - SAL da contabilizzare",null,{"$f":"SUMIFS('Z0.4.b ProgrammaInvest_Contrib'!U:U,\n'Z0.4.b ProgrammaInvest_Contrib'!$M:$M,\"CIN ante\",\n'Z0.4.b ProgrammaInvest_Contrib'!$N:$N,\"SAL da contabilizzare\")","v":0},{"$f":"SUMIFS('Z0.4.b ProgrammaInvest_Contrib'!V:V,\n'Z0.4.b ProgrammaInvest_Contrib'!$M:$M,\"CIN ante\",\n'Z0.4.b ProgrammaInvest_Contrib'!$N:$N,\"SAL da contabilizzare\")","v":0},{"$f":"SUMIFS('Z0.4.b ProgrammaInvest_Contrib'!W:W,\n'Z0.4.b ProgrammaInvest_Contrib'!$M:$M,\"CIN ante\",\n'Z0.4.b ProgrammaInvest_Contrib'!$N:$N,\"SAL da contabilizzare\")","v":1000},{"$f":"SUMIFS('Z0.4.b ProgrammaInvest_Contrib'!X:X,\n'Z0.4.b ProgrammaInvest_Contrib'!$M:$M,\"CIN ante\",\n'Z0.4.b ProgrammaInvest_Contrib'!$N:$N,\"SAL da contabilizzare\")","v":0},{"$f":"SUMIFS('Z0.4.b ProgrammaInvest_Contrib'!Y:Y,\n'Z0.4.b ProgrammaInvest_Contrib'!$M:$M,\"CIN ante\",\n'Z0.4.b ProgrammaInvest_Contrib'!$N:$N,\"SAL da contabilizzare\")","v":0},{"$f":"SUMIFS('Z0.4.b ProgrammaInvest_Contrib'!Z:Z,\n'Z0.4.b ProgrammaInvest_Contrib'!$M:$M,\"CIN ante\",\n'Z0.4.b ProgrammaInvest_Contrib'!$N:$N,\"SAL da contabilizzare\")","v":0},{"$f":"SUMIFS('Z0.4.b ProgrammaInvest_Contrib'!AA:AA,\n'Z0.4.b ProgrammaInvest_Contrib'!$M:$M,\"CIN ante\",\n'Z0.4.b ProgrammaInvest_Contrib'!$N:$N,\"SAL da contabilizzare\")","v":0},{"$f":"SUMIFS('Z0.4.b ProgrammaInvest_Contrib'!AB:AB,\n'Z0.4.b ProgrammaInvest_Contrib'!$M:$M,\"CIN ante\",\n'Z0.4.b ProgrammaInvest_Contrib'!$N:$N,\"SAL da contabilizzare\")","v":0},{"$f":"SUMIFS('Z0.4.b ProgrammaInvest_Contrib'!AC:AC,\n'Z0.4.b ProgrammaInvest_Contrib'!$M:$M,\"CIN ante\",\n'Z0.4.b ProgrammaInvest_Contrib'!$N:$N,\"SAL da contabilizzare\")","v":0},{"$f":"SUMIFS('Z0.4.b ProgrammaInvest_Contrib'!AD:AD,\n'Z0.4.b ProgrammaInvest_Contrib'!$M:$M,\"CIN ante\",\n'Z0.4.b ProgrammaInvest_Contrib'!$N:$N,\"SAL da contabilizzare\")","v":0},{"$f":"SUMIFS('Z0.4.b ProgrammaInvest_Contrib'!AE:AE,\n'Z0.4.b ProgrammaInvest_Contrib'!$M:$M,\"CIN ante\",\n'Z0.4.b ProgrammaInvest_Contrib'!$N:$N,\"SAL da contabilizzare\")","v":0},{"$f":"SUMIFS('Z0.4.b ProgrammaInvest_Contrib'!AF:AF,\n'Z0.4.b ProgrammaInvest_Contrib'!$M:$M,\"CIN ante\",\n'Z0.4.b ProgrammaInvest_Contrib'!$N:$N,\"SAL da contabilizzare\")","v":0},{"$f":"SUMIFS('Z0.4.b ProgrammaInvest_Contrib'!AG:AG,\n'Z0.4.b ProgrammaInvest_Contrib'!$M:$M,\"CIN ante\",\n'Z0.4.b ProgrammaInvest_Contrib'!$N:$N,\"SAL da contabilizzare\")","v":0},{"$f":"SUMIFS('Z0.4.b ProgrammaInvest_Contrib'!AH:AH,\n'Z0.4.b ProgrammaInvest_Contrib'!$M:$M,\"CIN ante\",\n'Z0.4.b ProgrammaInvest_Contrib'!$N:$N,\"SAL da contabilizzare\")","v":0},{"$f":"SUMIFS('Z0.4.b ProgrammaInvest_Contrib'!AI:AI,\n'Z0.4.b ProgrammaInvest_Contrib'!$M:$M,\"CIN ante\",\n'Z0.4.b ProgrammaInvest_Contrib'!$N:$N,\"SAL da contabilizzare\")","v":0}]
[null,null,"Interventi afferenti al CIN pre2026",null,{"$f":"SUMIFS('Z0.4.b ProgrammaInvest_Contrib'!U:U,\n'Z0.4.b ProgrammaInvest_Contrib'!$M:$M,\"CIN pre2026\")","v":0},{"$f":"SUMIFS('Z0.4.b ProgrammaInvest_Contrib'!V:V,\n'Z0.4.b ProgrammaInvest_Contrib'!$M:$M,\"CIN pre2026\")","v":0},{"$f":"SUMIFS('Z0.4.b ProgrammaInvest_Contrib'!W:W,\n'Z0.4.b ProgrammaInvest_Contrib'!$M:$M,\"CIN pre2026\")","v":1000},{"$f":"SUMIFS('Z0.4.b ProgrammaInvest_Contrib'!X:X,\n'Z0.4.b ProgrammaInvest_Contrib'!$M:$M,\"CIN pre2026\")","v":0},{"$f":"SUMIFS('Z0.4.b ProgrammaInvest_Contrib'!Y:Y,\n'Z0.4.b ProgrammaInvest_Contrib'!$M:$M,\"CIN pre2026\")","v":0},{"$f":"SUMIFS('Z0.4.b ProgrammaInvest_Contrib'!Z:Z,\n'Z0.4.b ProgrammaInvest_Contrib'!$M:$M,\"CIN pre2026\")","v":0},{"$f":"SUMIFS('Z0.4.b ProgrammaInvest_Contrib'!AA:AA,\n'Z0.4.b ProgrammaInvest_Contrib'!$M:$M,\"CIN pre2026\")","v":0},{"$f":"SUMIFS('Z0.4.b ProgrammaInvest_Contrib'!AB:AB,\n'Z0.4.b ProgrammaInvest_Contrib'!$M:$M,\"CIN pre2026\")","v":0},{"$f":"SUMIFS('Z0.4.b ProgrammaInvest_Contrib'!AC:AC,\n'Z0.4.b ProgrammaInvest_Contrib'!$M:$M,\"CIN pre2026\")","v":0},{"$f":"SUMIFS('Z0.4.b ProgrammaInvest_Contrib'!AD:AD,\n'Z0.4.b ProgrammaInvest_Contrib'!$M:$M,\"CIN pre2026\")","v":0},{"$f":"SUMIFS('Z0.4.b ProgrammaInvest_Contrib'!AE:AE,\n'Z0.4.b ProgrammaInvest_Contrib'!$M:$M,\"CIN pre2026\")","v":0},{"$f":"SUMIFS('Z0.4.b ProgrammaInvest_Contrib'!AF:AF,\n'Z0.4.b ProgrammaInvest_Contrib'!$M:$M,\"CIN pre2026\")","v":0},{"$f":"SUMIFS('Z0.4.b ProgrammaInvest_Contrib'!AG:AG,\n'Z0.4.b ProgrammaInvest_Contrib'!$M:$M,\"CIN pre2026\")","v":0},{"$f":"SUMIFS('Z0.4.b ProgrammaInvest_Contrib'!AH:AH,\n'Z0.4.b ProgrammaInvest_Contrib'!$M:$M,\"CIN pre2026\")","v":0},{"$f":"SUMIFS('Z0.4.b ProgrammaInvest_Contrib'!AI:AI,\n'Z0.4.b ProgrammaInvest_Contrib'!$M:$M,\"CIN pre2026\")","v":0}]
[null,null,"Interventi afferenti al CIN post2026, ammortamento finanziario",null,{"$f":"SUMIFS('Z0.4.b ProgrammaInvest_Contrib'!U:U,\n'Z0.4.b ProgrammaInvest_Contrib'!$M:$M,\"CIN post2026\",\n'Z0.4.b ProgrammaInvest_Contrib'!$O:$O,\"Finanziario\")","v":0},{"$f":"SUMIFS('Z0.4.b ProgrammaInvest_Contrib'!V:V,\n'Z0.4.b ProgrammaInvest_Contrib'!$M:$M,\"CIN post2026\",\n'Z0.4.b ProgrammaInvest_Contrib'!$O:$O,\"Finanziario\")","v":0},{"$f":"SUMIFS('Z0.4.b ProgrammaInvest_Contrib'!W:W,\n'Z0.4.b ProgrammaInvest_Contrib'!$M:$M,\"CIN post2026\",\n'Z0.4.b ProgrammaInvest_Contrib'!$O:$O,\"Finanziario\")","v":1000},{"$f":"SUMIFS('Z0.4.b ProgrammaInvest_Contrib'!X:X,\n'Z0.4.b ProgrammaInvest_Contrib'!$M:$M,\"CIN post2026\",\n'Z0.4.b ProgrammaInvest_Contrib'!$O:$O,\"Finanziario\")","v":0},{"$f":"SUMIFS('Z0.4.b ProgrammaInvest_Contrib'!Y:Y,\n'Z0.4.b ProgrammaInvest_Contrib'!$M:$M,\"CIN post2026\",\n'Z0.4.b ProgrammaInvest_Contrib'!$O:$O,\"Finanziario\")","v":0},{"$f":"SUMIFS('Z0.4.b ProgrammaInvest_Contrib'!Z:Z,\n'Z0.4.b ProgrammaInvest_Contrib'!$M:$M,\"CIN post2026\",\n'Z0.4.b ProgrammaInvest_Contrib'!$O:$O,\"Finanziario\")","v":0},{"$f":"SUMIFS('Z0.4.b ProgrammaInvest_Contrib'!AA:AA,\n'Z0.4.b ProgrammaInvest_Contrib'!$M:$M,\"CIN post2026\",\n'Z0.4.b ProgrammaInvest_Contrib'!$O:$O,\"Finanziario\")","v":0},{"$f":"SUMIFS('Z0.4.b ProgrammaInvest_Contrib'!AB:AB,\n'Z0.4.b ProgrammaInvest_Contrib'!$M:$M,\"CIN post2026\",\n'Z0.4.b ProgrammaInvest_Contrib'!$O:$O,\"Finanziario\")","v":0},{"$f":"SUMIFS('Z0.4.b ProgrammaInvest_Contrib'!AC:AC,\n'Z0.4.b ProgrammaInvest_Contrib'!$M:$M,\"CIN post2026\",\n'Z0.4.b ProgrammaInvest_Contrib'!$O:$O,\"Finanziario\")","v":0},{"$f":"SUMIFS('Z0.4.b ProgrammaInvest_Contrib'!AD:AD,\n'Z0.4.b ProgrammaInvest_Contrib'!$M:$M,\"CIN post2026\",\n'Z0.4.b ProgrammaInvest_Contrib'!$O:$O,\"Finanziario\")","v":0},{"$f":"SUMIFS('Z0.4.b ProgrammaInvest_Contrib'!AE:AE,\n'Z0.4.b ProgrammaInvest_Contrib'!$M:$M,\"CIN post2026\",\n'Z0.4.b ProgrammaInvest_Contrib'!$O:$O,\"Finanziario\")","v":0},{"$f":"SUMIFS('Z0.4.b ProgrammaInvest_Contrib'!AF:AF,\n'Z0.4.b ProgrammaInvest_Contrib'!$M:$M,\"CIN post2026\",\n'Z0.4.b ProgrammaInvest_Contrib'!$O:$O,\"Finanziario\")","v":0},{"$f":"SUMIFS('Z0.4.b ProgrammaInvest_Contrib'!AG:AG,\n'Z0.4.b ProgrammaInvest_Contrib'!$M:$M,\"CIN post2026\",\n'Z0.4.b ProgrammaInvest_Contrib'!$O:$O,\"Finanziario\")","v":0},{"$f":"SUMIFS('Z0.4.b ProgrammaInvest_Contrib'!AH:AH,\n'Z0.4.b ProgrammaInvest_Contrib'!$M:$M,\"CIN post2026\",\n'Z0.4.b ProgrammaInvest_Contrib'!$O:$O,\"Finanziario\")","v":0},{"$f":"SUMIFS('Z0.4.b ProgrammaInvest_Contrib'!AI:AI,\n'Z0.4.b ProgrammaInvest_Contrib'!$M:$M,\"CIN post2026\",\n'Z0.4.b ProgrammaInvest_Contrib'!$O:$O,\"Finanziario\")","v":0}]
[null,null,"Interventi afferenti al CIN post2026, ammortamento a vite utili di primo livello",null,{"$f":"SUMIFS('Z0.4.b ProgrammaInvest_Contrib'!U:U,\n'Z0.4.b ProgrammaInvest_Contrib'!$M:$M,\"CIN post2026\",\n'Z0.4.b ProgrammaInvest_Contrib'!$O:$O,\"Vite utili 1\")","v":0},{"$f":"SUMIFS('Z0.4.b ProgrammaInvest_Contrib'!V:V,\n'Z0.4.b ProgrammaInvest_Contrib'!$M:$M,\"CIN post2026\",\n'Z0.4.b ProgrammaInvest_Contrib'!$O:$O,\"Vite utili 1\")","v":0},{"$f":"SUMIFS('Z0.4.b ProgrammaInvest_Contrib'!W:W,\n'Z0.4.b ProgrammaInvest_Contrib'!$M:$M,\"CIN post2026\",\n'Z0.4.b ProgrammaInvest_Contrib'!$O:$O,\"Vite utili 1\")","v":0},{"$f":"SUMIFS('Z0.4.b ProgrammaInvest_Contrib'!X:X,\n'Z0.4.b ProgrammaInvest_Contrib'!$M:$M,\"CIN post2026\",\n'Z0.4.b ProgrammaInvest_Contrib'!$O:$O,\"Vite utili 1\")","v":20},{"$f":"SUMIFS('Z0.4.b ProgrammaInvest_Contrib'!Y:Y,\n'Z0.4.b ProgrammaInvest_Contrib'!$M:$M,\"CIN post2026\",\n'Z0.4.b ProgrammaInvest_Contrib'!$O:$O,\"Vite utili 1\")","v":20},{"$f":"SUMIFS('Z0.4.b ProgrammaInvest_Contrib'!Z:Z,\n'Z0.4.b ProgrammaInvest_Contrib'!$M:$M,\"CIN post2026\",\n'Z0.4.b ProgrammaInvest_Contrib'!$O:$O,\"Vite utili 1\")","v":20},{"$f":"SUMIFS('Z0.4.b ProgrammaInvest_Contrib'!AA:AA,\n'Z0.4.b ProgrammaInvest_Contrib'!$M:$M,\"CIN post2026\",\n'Z0.4.b ProgrammaInvest_Contrib'!$O:$O,\"Vite utili 1\")","v":20},{"$f":"SUMIFS('Z0.4.b ProgrammaInvest_Contrib'!AB:AB,\n'Z0.4.b ProgrammaInvest_Contrib'!$M:$M,\"CIN post2026\",\n'Z0.4.b ProgrammaInvest_Contrib'!$O:$O,\"Vite utili 1\")","v":20},{"$f":"SUMIFS('Z0.4.b ProgrammaInvest_Contrib'!AC:AC,\n'Z0.4.b ProgrammaInvest_Contrib'!$M:$M,\"CIN post2026\",\n'Z0.4.b ProgrammaInvest_Contrib'!$O:$O,\"Vite utili 1\")","v":20},{"$f":"SUMIFS('Z0.4.b ProgrammaInvest_Contrib'!AD:AD,\n'Z0.4.b ProgrammaInvest_Contrib'!$M:$M,\"CIN post2026\",\n'Z0.4.b ProgrammaInvest_Contrib'!$O:$O,\"Vite utili 1\")","v":20},{"$f":"SUMIFS('Z0.4.b ProgrammaInvest_Contrib'!AE:AE,\n'Z0.4.b ProgrammaInvest_Contrib'!$M:$M,\"CIN post2026\",\n'Z0.4.b ProgrammaInvest_Contrib'!$O:$O,\"Vite utili 1\")","v":20},{"$f":"SUMIFS('Z0.4.b ProgrammaInvest_Contrib'!AF:AF,\n'Z0.4.b ProgrammaInvest_Contrib'!$M:$M,\"CIN post2026\",\n'Z0.4.b ProgrammaInvest_Contrib'!$O:$O,\"Vite utili 1\")","v":20},{"$f":"SUMIFS('Z0.4.b ProgrammaInvest_Contrib'!AG:AG,\n'Z0.4.b ProgrammaInvest_Contrib'!$M:$M,\"CIN post2026\",\n'Z0.4.b ProgrammaInvest_Contrib'!$O:$O,\"Vite utili 1\")","v":20},{"$f":"SUMIFS('Z0.4.b ProgrammaInvest_Contrib'!AH:AH,\n'Z0.4.b ProgrammaInvest_Contrib'!$M:$M,\"CIN post2026\",\n'Z0.4.b ProgrammaInvest_Contrib'!$O:$O,\"Vite utili 1\")","v":0},{"$f":"SUMIFS('Z0.4.b ProgrammaInvest_Contrib'!AI:AI,\n'Z0.4.b ProgrammaInvest_Contrib'!$M:$M,\"CIN post2026\",\n'Z0.4.b ProgrammaInvest_Contrib'!$O:$O,\"Vite utili 1\")","v":0}]
[null,null,"Interventi afferenti al CIN post2026, ammortamento a vite utili di secondo livello",null,{"$f":"SUMIFS('Z0.4.b ProgrammaInvest_Contrib'!U:U,\n'Z0.4.b ProgrammaInvest_Contrib'!$M:$M,\"CIN post2026\",\n'Z0.4.b ProgrammaInvest_Contrib'!$O:$O,\"Vite utili 2\")","v":0},{"$f":"SUMIFS('Z0.4.b ProgrammaInvest_Contrib'!V:V,\n'Z0.4.b ProgrammaInvest_Contrib'!$M:$M,\"CIN post2026\",\n'Z0.4.b ProgrammaInvest_Contrib'!$O:$O,\"Vite utili 2\")","v":0},{"$f":"SUMIFS('Z0.4.b ProgrammaInvest_Contrib'!W:W,\n'Z0.4.b ProgrammaInvest_Contrib'!$M:$M,\"CIN post2026\",\n'Z0.4.b ProgrammaInvest_Contrib'!$O:$O,\"Vite utili 2\")","v":0},{"$f":"SUMIFS('Z0.4.b ProgrammaInvest_Contrib'!X:X,\n'Z0.4.b ProgrammaInvest_Contrib'!$M:$M,\"CIN post2026\",\n'Z0.4.b ProgrammaInvest_Contrib'!$O:$O,\"Vite utili 2\")","v":20},{"$f":"SUMIFS('Z0.4.b ProgrammaInvest_Contrib'!Y:Y,\n'Z0.4.b ProgrammaInvest_Contrib'!$M:$M,\"CIN post2026\",\n'Z0.4.b ProgrammaInvest_Contrib'!$O:$O,\"Vite utili 2\")","v":20},{"$f":"SUMIFS('Z0.4.b ProgrammaInvest_Contrib'!Z:Z,\n'Z0.4.b ProgrammaInvest_Contrib'!$M:$M,\"CIN post2026\",\n'Z0.4.b ProgrammaInvest_Contrib'!$O:$O,\"Vite utili 2\")","v":20},{"$f":"SUMIFS('Z0.4.b ProgrammaInvest_Contrib'!AA:AA,\n'Z0.4.b ProgrammaInvest_Contrib'!$M:$M,\"CIN post2026\",\n'Z0.4.b ProgrammaInvest_Contrib'!$O:$O,\"Vite utili 2\")","v":20},{"$f":"SUMIFS('Z0.4.b ProgrammaInvest_Contrib'!AB:AB,\n'Z0.4.b ProgrammaInvest_Contrib'!$M:$M,\"CIN post2026\",\n'Z0.4.b ProgrammaInvest_Contrib'!$O:$O,\"Vite utili 2\")","v":20},{"$f":"SUMIFS('Z0.4.b ProgrammaInvest_Contrib'!AC:AC,\n'Z0.4.b ProgrammaInvest_Contrib'!$M:$M,\"CIN post2026\",\n'Z0.4.b ProgrammaInvest_Contrib'!$O:$O,\"Vite utili 2\")","v":20},{"$f":"SUMIFS('Z0.4.b ProgrammaInvest_Contrib'!AD:AD,\n'Z0.4.b ProgrammaInvest_Contrib'!$M:$M,\"CIN post2026\",\n'Z0.4.b ProgrammaInvest_Contrib'!$O:$O,\"Vite utili 2\")","v":20},{"$f":"SUMIFS('Z0.4.b ProgrammaInvest_Contrib'!AE:AE,\n'Z0.4.b ProgrammaInvest_Contrib'!$M:$M,\"CIN post2026\",\n'Z0.4.b ProgrammaInvest_Contrib'!$O:$O,\"Vite utili 2\")","v":20},{"$f":"SUMIFS('Z0.4.b ProgrammaInvest_Contrib'!AF:AF,\n'Z0.4.b ProgrammaInvest_Contrib'!$M:$M,\"CIN post2026\",\n'Z0.4.b ProgrammaInvest_Contrib'!$O:$O,\"Vite utili 2\")","v":20},{"$f":"SUMIFS('Z0.4.b ProgrammaInvest_Contrib'!AG:AG,\n'Z0.4.b ProgrammaInvest_Contrib'!$M:$M,\"CIN post2026\",\n'Z0.4.b ProgrammaInvest_Contrib'!$O:$O,\"Vite utili 2\")","v":20},{"$f":"SUMIFS('Z0.4.b ProgrammaInvest_Contrib'!AH:AH,\n'Z0.4.b ProgrammaInvest_Contrib'!$M:$M,\"CIN post2026\",\n'Z0.4.b ProgrammaInvest_Contrib'!$O:$O,\"Vite utili 2\")","v":0},{"$f":"SUMIFS('Z0.4.b ProgrammaInvest_Contrib'!AI:AI,\n'Z0.4.b ProgrammaInvest_Contrib'!$M:$M,\"CIN post2026\",\n'Z0.4.b ProgrammaInvest_Contrib'!$O:$O,\"Vite utili 2\")","v":0}]
[null,null,"Totale",null,{"$f":"SUM(E28:E33)","v":0},{"$f":"SUM(F28:F33)","v":0},5000,40,{"$f":"SUM(I28:I33)","v":40},40,40,40,40,40,40,40,40,0,0]
[]
[null,null,"Dismissioni annue, classificate per tipologia di investimento"]
[]
[null,null,"Interventi afferenti al CIN ante - SAL contabilizzati",null,{"$f":"SUMIFS('Z0.4.c ProgrammaInvest_Dismiss'!U:U,\n'Z0.4.c ProgrammaInvest_Dismiss'!$M:$M,\"CIN ante\",\n'Z0.4.c ProgrammaInvest_Dismiss'!$N:$N,\"SAL contabilizzati\")","v":0},{"$f":"SUMIFS('Z0.4.c ProgrammaInvest_Dismiss'!V:V,\n'Z0.4.c ProgrammaInvest_Dismiss'!$M:$M,\"CIN ante\",\n'Z0.4.c ProgrammaInvest_Dismiss'!$N:$N,\"SAL contabilizzati\")","v":0},{"$f":"SUMIFS('Z0.4.c ProgrammaInvest_Dismiss'!W:W,\n'Z0.4.c ProgrammaInvest_Dismiss'!$M:$M,\"CIN ante\",\n'Z0.4.c ProgrammaInvest_Dismiss'!$N:$N,\"SAL contabilizzati\")","v":0},{"$f":"SUMIFS('Z0.4.c ProgrammaInvest_Dismiss'!X:X,\n'Z0.4.c ProgrammaInvest_Dismiss'!$M:$M,\"CIN ante\",\n'Z0.4.c ProgrammaInvest_Dismiss'!$N:$N,\"SAL contabilizzati\")","v":0},{"$f":"SUMIFS('Z0.4.c ProgrammaInvest_Dismiss'!Y:Y,\n'Z0.4.c ProgrammaInvest_Dismiss'!$M:$M,\"CIN ante\",\n'Z0.4.c ProgrammaInvest_Dismiss'!$N:$N,\"SAL contabilizzati\")","v":0},{"$f":"SUMIFS('Z0.4.c ProgrammaInvest_Dismiss'!Z:Z,\n'Z0.4.c ProgrammaInvest_Dismiss'!$M:$M,\"CIN ante\",\n'Z0.4.c ProgrammaInvest_Dismiss'!$N:$N,\"SAL contabilizzati\")","v":0},{"$f":"SUMIFS('Z0.4.c ProgrammaInvest_Dismiss'!AA:AA,\n'Z0.4.c ProgrammaInvest_Dismiss'!$M:$M,\"CIN ante\",\n'Z0.4.c ProgrammaInvest_Dismiss'!$N:$N,\"SAL contabilizzati\")","v":0},{"$f":"SUMIFS('Z0.4.c ProgrammaInvest_Dismiss'!AB:AB,\n'Z0.4.c ProgrammaInvest_Dismiss'!$M:$M,\"CIN ante\",\n'Z0.4.c ProgrammaInvest_Dismiss'!$N:$N,\"SAL contabilizzati\")","v":0},{"$f":"SUMIFS('Z0.4.c ProgrammaInvest_Dismiss'!AC:AC,\n'Z0.4.c ProgrammaInvest_Dismiss'!$M:$M,\"CIN ante\",\n'Z0.4.c ProgrammaInvest_Dismiss'!$N:$N,\"SAL contabilizzati\")","v":0},{"$f":"SUMIFS('Z0.4.c ProgrammaInvest_Dismiss'!AD:AD,\n'Z0.4.c ProgrammaInvest_Dismiss'!$M:$M,\"CIN ante\",\n'Z0.4.c ProgrammaInvest_Dismiss'!$N:$N,\"SAL contabilizzati\")","v":0},{"$f":"SUMIFS('Z0.4.c ProgrammaInvest_Dismiss'!AE:AE,\n'Z0.4.c ProgrammaInvest_Dismiss'!$M:$M,\"CIN ante\",\n'Z0.4.c ProgrammaInvest_Dismiss'!$N:$N,\"SAL contabilizzati\")","v":0},{"$f":"SUMIFS('Z0.4.c ProgrammaInvest_Dismiss'!AF:AF,\n'Z0.4.c ProgrammaInvest_Dismiss'!$M:$M,\"CIN ante\",\n'Z0.4.c ProgrammaInvest_Dismiss'!$N:$N,\"SAL contabilizzati\")","v":0},{"$f":"SUMIFS('Z0.4.c ProgrammaInvest_Dismiss'!AG:AG,\n'Z0.4.c ProgrammaInvest_Dismiss'!$M:$M,\"CIN ante\",\n'Z0.4.c ProgrammaInvest_Dismiss'!$N:$N,\"SAL contabilizzati\")","v":0},{"$f":"SUMIFS('Z0.4.c ProgrammaInvest_Dismiss'!AH:AH,\n'Z0.4.c ProgrammaInvest_Dismiss'!$M:$M,\"CIN ante\",\n'Z0.4.c ProgrammaInvest_Dismiss'!$N:$N,\"SAL contabilizzati\")","v":20},{"$f":"SUMIFS('Z0.4.c ProgrammaInvest_Dismiss'!AI:AI,\n'Z0.4.c ProgrammaInvest_Dismiss'!$M:$M,\"CIN ante\",\n'Z0.4.c ProgrammaInvest_Dismiss'!$N:$N,\"SAL contabilizzati\")","v":0}]
[null,null,"Interventi afferenti al CIN ante - SAL da contabilizzare",null,{"$f":"SUMIFS('Z0.4.c ProgrammaInvest_Dismiss'!U:U,\n'Z0.4.c ProgrammaInvest_Dismiss'!$M:$M,\"CIN ante\",\n'Z0.4.c ProgrammaInvest_Dismiss'!$N:$N,\"SAL da contabilizzare\")","v":0},{"$f":"SUMIFS('Z0.4.c ProgrammaInvest_Dismiss'!V:V,\n'Z0.4.c ProgrammaInvest_Dismiss'!$M:$M,\"CIN ante\",\n'Z0.4.c ProgrammaInvest_Dismiss'!$N:$N,\"SAL da contabilizzare\")","v":0},{"$f":"SUMIFS('Z0.4.c ProgrammaInvest_Dismiss'!W:W,\n'Z0.4.c ProgrammaInvest_Dismiss'!$M:$M,\"CIN ante\",\n'Z0.4.c ProgrammaInvest_Dismiss'!$N:$N,\"SAL da contabilizzare\")","v":0},{"$f":"SUMIFS('Z0.4.c ProgrammaInvest_Dismiss'!X:X,\n'Z0.4.c ProgrammaInvest_Dismiss'!$M:$M,\"CIN ante\",\n'Z0.4.c ProgrammaInvest_Dismiss'!$N:$N,\"SAL da contabilizzare\")","v":0},{"$f":"SUMIFS('Z0.4.c ProgrammaInvest_Dismiss'!Y:Y,\n'Z0.4.c ProgrammaInvest_Dismiss'!$M:$M,\"CIN ante\",\n'Z0.4.c ProgrammaInvest_Dismiss'!$N:$N,\"SAL da contabilizzare\")","v":0},{"$f":"SUMIFS('Z0.4.c ProgrammaInvest_Dismiss'!Z:Z,\n'Z0.4.c ProgrammaInvest_Dismiss'!$M:$M,\"CIN ante\",\n'Z0.4.c ProgrammaInvest_Dismiss'!$N:$N,\"SAL da contabilizzare\")","v":0},{"$f":"SUMIFS('Z0.4.c ProgrammaInvest_Dismiss'!AA:AA,\n'Z0.4.c ProgrammaInvest_Dismiss'!$M:$M,\"CIN ante\",\n'Z0.4.c ProgrammaInvest_Dismiss'!$N:$N,\"SAL da contabilizzare\")","v":0},{"$f":"SUMIFS('Z0.4.c ProgrammaInvest_Dismiss'!AB:AB,\n'Z0.4.c ProgrammaInvest_Dismiss'!$M:$M,\"CIN ante\",\n'Z0.4.c ProgrammaInvest_Dismiss'!$N:$N,\"SAL da contabilizzare\")","v":0},{"$f":"SUMIFS('Z0.4.c ProgrammaInvest_Dismiss'!AC:AC,\n'Z0.4.c ProgrammaInvest_Dismiss'!$M:$M,\"CIN ante\",\n'Z0.4.c ProgrammaInvest_Dismiss'!$N:$N,\"SAL da contabilizzare\")","v":0},{"$f":"SUMIFS('Z0.4.c ProgrammaInvest_Dismiss'!AD:AD,\n'Z0.4.c ProgrammaInvest_Dismiss'!$M:$M,\"CIN ante\",\n'Z0.4.c ProgrammaInvest_Dismiss'!$N:$N,\"SAL da contabilizzare\")","v":0},{"$f":"SUMIFS('Z0.4.c ProgrammaInvest_Dismiss'!AE:AE,\n'Z0.4.c ProgrammaInvest_Dismiss'!$M:$M,\"CIN ante\",\n'Z0.4.c ProgrammaInvest_Dismiss'!$N:$N,\"SAL da contabilizzare\")","v":0},{"$f":"SUMIFS('Z0.4.c ProgrammaInvest_Dismiss'!AF:AF,\n'Z0.4.c ProgrammaInvest_Dismiss'!$M:$M,\"CIN ante\",\n'Z0.4.c ProgrammaInvest_Dismiss'!$N:$N,\"SAL da contabilizzare\")","v":0},{"$f":"SUMIFS('Z0.4.c ProgrammaInvest_Dismiss'!AG:AG,\n'Z0.4.c ProgrammaInvest_Dismiss'!$M:$M,\"CIN ante\",\n'Z0.4.c ProgrammaInvest_Dismiss'!$N:$N,\"SAL da contabilizzare\")","v":0},{"$f":"SUMIFS('Z0.4.c ProgrammaInvest_Dismiss'!AH:AH,\n'Z0.4.c ProgrammaInvest_Dismiss'!$M:$M,\"CIN ante\",\n'Z0.4.c ProgrammaInvest_Dismiss'!$N:$N,\"SAL da contabilizzare\")","v":20},{"$f":"SUMIFS('Z0.4.c ProgrammaInvest_Dismiss'!AI:AI,\n'Z0.4.c ProgrammaInvest_Dismiss'!$M:$M,\"CIN ante\",\n'Z0.4.c ProgrammaInvest_Dismiss'!$N:$N,\"SAL da contabilizzare\")","v":0}]
[null,null,"Interventi afferenti al CIN pre2026",null,{"$f":"SUMIFS('Z0.4.c ProgrammaInvest_Dismiss'!U:U,\n'Z0.4.c ProgrammaInvest_Dismiss'!$M:$M,\"CIN pre2026\")","v":0},{"$f":"SUMIFS('Z0.4.c ProgrammaInvest_Dismiss'!V:V,\n'Z0.4.c ProgrammaInvest_Dismiss'!$M:$M,\"CIN pre2026\")","v":0},{"$f":"SUMIFS('Z0.4.c ProgrammaInvest_Dismiss'!W:W,\n'Z0.4.c ProgrammaInvest_Dismiss'!$M:$M,\"CIN pre2026\")","v":0},{"$f":"SUMIFS('Z0.4.c ProgrammaInvest_Dismiss'!X:X,\n'Z0.4.c ProgrammaInvest_Dismiss'!$M:$M,\"CIN pre2026\")","v":0},{"$f":"SUMIFS('Z0.4.c ProgrammaInvest_Dismiss'!Y:Y,\n'Z0.4.c ProgrammaInvest_Dismiss'!$M:$M,\"CIN pre2026\")","v":0},{"$f":"SUMIFS('Z0.4.c ProgrammaInvest_Dismiss'!Z:Z,\n'Z0.4.c ProgrammaInvest_Dismiss'!$M:$M,\"CIN pre2026\")","v":0},{"$f":"SUMIFS('Z0.4.c ProgrammaInvest_Dismiss'!AA:AA,\n'Z0.4.c ProgrammaInvest_Dismiss'!$M:$M,\"CIN pre2026\")","v":0},{"$f":"SUMIFS('Z0.4.c ProgrammaInvest_Dismiss'!AB:AB,\n'Z0.4.c ProgrammaInvest_Dismiss'!$M:$M,\"CIN pre2026\")","v":0},{"$f":"SUMIFS('Z0.4.c ProgrammaInvest_Dismiss'!AC:AC,\n'Z0.4.c ProgrammaInvest_Dismiss'!$M:$M,\"CIN pre2026\")","v":0},{"$f":"SUMIFS('Z0.4.c ProgrammaInvest_Dismiss'!AD:AD,\n'Z0.4.c ProgrammaInvest_Dismiss'!$M:$M,\"CIN pre2026\")","v":0},{"$f":"SUMIFS('Z0.4.c ProgrammaInvest_Dismiss'!AE:AE,\n'Z0.4.c ProgrammaInvest_Dismiss'!$M:$M,\"CIN pre2026\")","v":0},{"$f":"SUMIFS('Z0.4.c ProgrammaInvest_Dismiss'!AF:AF,\n'Z0.4.c ProgrammaInvest_Dismiss'!$M:$M,\"CIN pre2026\")","v":0},{"$f":"SUMIFS('Z0.4.c ProgrammaInvest_Dismiss'!AG:AG,\n'Z0.4.c ProgrammaInvest_Dismiss'!$M:$M,\"CIN pre2026\")","v":0},{"$f":"SUMIFS('Z0.4.c ProgrammaInvest_Dismiss'!AH:AH,\n'Z0.4.c ProgrammaInvest_Dismiss'!$M:$M,\"CIN pre2026\")","v":20},{"$f":"SUMIFS('Z0.4.c ProgrammaInvest_Dismiss'!AI:AI,\n'Z0.4.c ProgrammaInvest_Dismiss'!$M:$M,\"CIN pre2026\")","v":0}]
[null,null,"Interventi afferenti al CIN post2026, ammortamento finanziario",null,{"$f":"SUMIFS('Z0.4.c ProgrammaInvest_Dismiss'!U:U,\n'Z0.4.c ProgrammaInvest_Dismiss'!$M:$M,\"CIN post2026\",\n'Z0.4.c ProgrammaInvest_Dismiss'!$O:$O,\"Finanziario\")","v":0},{"$f":"SUMIFS('Z0.4.c ProgrammaInvest_Dismiss'!V:V,\n'Z0.4.c ProgrammaInvest_Dismiss'!$M:$M,\"CIN post2026\",\n'Z0.4.c ProgrammaInvest_Dismiss'!$O:$O,\"Finanziario\")","v":0},{"$f":"SUMIFS('Z0.4.c ProgrammaInvest_Dismiss'!W:W,\n'Z0.4.c ProgrammaInvest_Dismiss'!$M:$M,\"CIN post2026\",\n'Z0.4.c ProgrammaInvest_Dismiss'!$O:$O,\"Finanziario\")","v":0},{"$f":"SUMIFS('Z0.4.c ProgrammaInvest_Dismiss'!X:X,\n'Z0.4.c ProgrammaInvest_Dismiss'!$M:$M,\"CIN post2026\",\n'Z0.4.c ProgrammaInvest_Dismiss'!$O:$O,\"Finanziario\")","v":0},{"$f":"SUMIFS('Z0.4.c ProgrammaInvest_Dismiss'!Y:Y,\n'Z0.4.c ProgrammaInvest_Dismiss'!$M:$M,\"CIN post2026\",\n'Z0.4.c ProgrammaInvest_Dismiss'!$O:$O,\"Finanziario\")","v":0},{"$f":"SUMIFS('Z0.4.c ProgrammaInvest_Dismiss'!Z:Z,\n'Z0.4.c ProgrammaInvest_Dismiss'!$M:$M,\"CIN post2026\",\n'Z0.4.c ProgrammaInvest_Dismiss'!$O:$O,\"Finanziario\")","v":0},{"$f":"SUMIFS('Z0.4.c ProgrammaInvest_Dismiss'!AA:AA,\n'Z0.4.c ProgrammaInvest_Dismiss'!$M:$M,\"CIN post2026\",\n'Z0.4.c ProgrammaInvest_Dismiss'!$O:$O,\"Finanziario\")","v":0},{"$f":"SUMIFS('Z0.4.c ProgrammaInvest_Dismiss'!AB:AB,\n'Z0.4.c ProgrammaInvest_Dismiss'!$M:$M,\"CIN post2026\",\n'Z0.4.c ProgrammaInvest_Dismiss'!$O:$O,\"Finanziario\")","v":0},{"$f":"SUMIFS('Z0.4.c ProgrammaInvest_Dismiss'!AC:AC,\n'Z0.4.c ProgrammaInvest_Dismiss'!$M:$M,\"CIN post2026\",\n'Z0.4.c ProgrammaInvest_Dismiss'!$O:$O,\"Finanziario\")","v":0},{"$f":"SUMIFS('Z0.4.c ProgrammaInvest_Dismiss'!AD:AD,\n'Z0.4.c ProgrammaInvest_Dismiss'!$M:$M,\"CIN post2026\",\n'Z0.4.c ProgrammaInvest_Dismiss'!$O:$O,\"Finanziario\")","v":0},{"$f":"SUMIFS('Z0.4.c ProgrammaInvest_Dismiss'!AE:AE,\n'Z0.4.c ProgrammaInvest_Dismiss'!$M:$M,\"CIN post2026\",\n'Z0.4.c ProgrammaInvest_Dismiss'!$O:$O,\"Finanziario\")","v":0},{"$f":"SUMIFS('Z0.4.c ProgrammaInvest_Dismiss'!AF:AF,\n'Z0.4.c ProgrammaInvest_Dismiss'!$M:$M,\"CIN post2026\",\n'Z0.4.c ProgrammaInvest_Dismiss'!$O:$O,\"Finanziario\")","v":0},{"$f":"SUMIFS('Z0.4.c ProgrammaInvest_Dismiss'!AG:AG,\n'Z0.4.c ProgrammaInvest_Dismiss'!$M:$M,\"CIN post2026\",\n'Z0.4.c ProgrammaInvest_Dismiss'!$O:$O,\"Finanziario\")","v":0},{"$f":"SUMIFS('Z0.4.c ProgrammaInvest_Dismiss'!AH:AH,\n'Z0.4.c ProgrammaInvest_Dismiss'!$M:$M,\"CIN post2026\",\n'Z0.4.c ProgrammaInvest_Dismiss'!$O:$O,\"Finanziario\")","v":20},{"$f":"SUMIFS('Z0.4.c ProgrammaInvest_Dismiss'!AI:AI,\n'Z0.4.c ProgrammaInvest_Dismiss'!$M:$M,\"CIN post2026\",\n'Z0.4.c ProgrammaInvest_Dismiss'!$O:$O,\"Finanziario\")","v":0}]
[null,null,"Interventi afferenti al CIN post2026, ammortamento a vite utili di primo livello",null,{"$f":"SUMIFS('Z0.4.c ProgrammaInvest_Dismiss'!U:U,\n'Z0.4.c ProgrammaInvest_Dismiss'!$M:$M,\"CIN post2026\",\n'Z0.4.c ProgrammaInvest_Dismiss'!$O:$O,\"Vite utili 1\")","v":0},{"$f":"SUMIFS('Z0.4.c ProgrammaInvest_Dismiss'!V:V,\n'Z0.4.c ProgrammaInvest_Dismiss'!$M:$M,\"CIN post2026\",\n'Z0.4.c ProgrammaInvest_Dismiss'!$O:$O,\"Vite utili 1\")","v":0},{"$f":"SUMIFS('Z0.4.c ProgrammaInvest_Dismiss'!W:W,\n'Z0.4.c ProgrammaInvest_Dismiss'!$M:$M,\"CIN post2026\",\n'Z0.4.c ProgrammaInvest_Dismiss'!$O:$O,\"Vite utili 1\")","v":0},{"$f":"SUMIFS('Z0.4.c ProgrammaInvest_Dismiss'!X:X,\n'Z0.4.c ProgrammaInvest_Dismiss'!$M:$M,\"CIN post2026\",\n'Z0.4.c ProgrammaInvest_Dismiss'!$O:$O,\"Vite utili 1\")","v":0},{"$f":"SUMIFS('Z0.4.c ProgrammaInvest_Dismiss'!Y:Y,\n'Z0.4.c ProgrammaInvest_Dismiss'!$M:$M,\"CIN post2026\",\n'Z0.4.c ProgrammaInvest_Dismiss'!$O:$O,\"Vite utili 1\")","v":0},{"$f":"SUMIFS('Z0.4.c ProgrammaInvest_Dismiss'!Z:Z,\n'Z0.4.c ProgrammaInvest_Dismiss'!$M:$M,\"CIN post2026\",\n'Z0.4.c ProgrammaInvest_Dismiss'!$O:$O,\"Vite utili 1\")","v":0},{"$f":"SUMIFS('Z0.4.c ProgrammaInvest_Dismiss'!AA:AA,\n'Z0.4.c ProgrammaInvest_Dismiss'!$M:$M,\"CIN post2026\",\n'Z0.4.c ProgrammaInvest_Dismiss'!$O:$O,\"Vite utili 1\")","v":0},{"$f":"SUMIFS('Z0.4.c ProgrammaInvest_Dismiss'!AB:AB,\n'Z0.4.c ProgrammaInvest_Dismiss'!$M:$M,\"CIN post2026\",\n'Z0.4.c ProgrammaInvest_Dismiss'!$O:$O,\"Vite utili 1\")","v":0},{"$f":"SUMIFS('Z0.4.c ProgrammaInvest_Dismiss'!AC:AC,\n'Z0.4.c ProgrammaInvest_Dismiss'!$M:$M,\"CIN post2026\",\n'Z0.4.c ProgrammaInvest_Dismiss'!$O:$O,\"Vite utili 1\")","v":0},{"$f":"SUMIFS('Z0.4.c ProgrammaInvest_Dismiss'!AD:AD,\n'Z0.4.c ProgrammaInvest_Dismiss'!$M:$M,\"CIN post2026\",\n'Z0.4.c ProgrammaInvest_Dismiss'!$O:$O,\"Vite utili 1\")","v":0},{"$f":"SUMIFS('Z0.4.c ProgrammaInvest_Dismiss'!AE:AE,\n'Z0.4.c ProgrammaInvest_Dismiss'!$M:$M,\"CIN post2026\",\n'Z0.4.c ProgrammaInvest_Dismiss'!$O:$O,\"Vite utili 1\")","v":0},{"$f":"SUMIFS('Z0.4.c ProgrammaInvest_Dismiss'!AF:AF,\n'Z0.4.c ProgrammaInvest_Dismiss'!$M:$M,\"CIN post2026\",\n'Z0.4.c ProgrammaInvest_Dismiss'!$O:$O,\"Vite utili 1\")","v":0},{"$f":"SUMIFS('Z0.4.c ProgrammaInvest_Dismiss'!AG:AG,\n'Z0.4.c ProgrammaInvest_Dismiss'!$M:$M,\"CIN post2026\",\n'Z0.4.c ProgrammaInvest_Dismiss'!$O:$O,\"Vite utili 1\")","v":0},{"$f":"SUMIFS('Z0.4.c ProgrammaInvest_Dismiss'!AH:AH,\n'Z0.4.c ProgrammaInvest_Dismiss'!$M:$M,\"CIN post2026\",\n'Z0.4.c ProgrammaInvest_Dismiss'!$O:$O,\"Vite utili 1\")","v":0},{"$f":"SUMIFS('Z0.4.c ProgrammaInvest_Dismiss'!AI:AI,\n'Z0.4.c ProgrammaInvest_Dismiss'!$M:$M,\"CIN post2026\",\n'Z0.4.c ProgrammaInvest_Dismiss'!$O:$O,\"Vite utili 1\")","v":100}]
[null,null,"Interventi afferenti al CIN post2026, ammortamento a vite utili di secondo livello",null,{"$f":"SUMIFS('Z0.4.c ProgrammaInvest_Dismiss'!U:U,\n'Z0.4.c ProgrammaInvest_Dismiss'!$M:$M,\"CIN post2026\",\n'Z0.4.c ProgrammaInvest_Dismiss'!$O:$O,\"Vite utili 2\")","v":0},{"$f":"SUMIFS('Z0.4.c ProgrammaInvest_Dismiss'!V:V,\n'Z0.4.c ProgrammaInvest_Dismiss'!$M:$M,\"CIN post2026\",\n'Z0.4.c ProgrammaInvest_Dismiss'!$O:$O,\"Vite utili 2\")","v":0},{"$f":"SUMIFS('Z0.4.c ProgrammaInvest_Dismiss'!W:W,\n'Z0.4.c ProgrammaInvest_Dismiss'!$M:$M,\"CIN post2026\",\n'Z0.4.c ProgrammaInvest_Dismiss'!$O:$O,\"Vite utili 2\")","v":0},{"$f":"SUMIFS('Z0.4.c ProgrammaInvest_Dismiss'!X:X,\n'Z0.4.c ProgrammaInvest_Dismiss'!$M:$M,\"CIN post2026\",\n'Z0.4.c ProgrammaInvest_Dismiss'!$O:$O,\"Vite utili 2\")","v":0},{"$f":"SUMIFS('Z0.4.c ProgrammaInvest_Dismiss'!Y:Y,\n'Z0.4.c ProgrammaInvest_Dismiss'!$M:$M,\"CIN post2026\",\n'Z0.4.c ProgrammaInvest_Dismiss'!$O:$O,\"Vite utili 2\")","v":0},{"$f":"SUMIFS('Z0.4.c ProgrammaInvest_Dismiss'!Z:Z,\n'Z0.4.c ProgrammaInvest_Dismiss'!$M:$M,\"CIN post2026\",\n'Z0.4.c ProgrammaInvest_Dismiss'!$O:$O,\"Vite utili 2\")","v":0},{"$f":"SUMIFS('Z0.4.c ProgrammaInvest_Dismiss'!AA:AA,\n'Z0.4.c ProgrammaInvest_Dismiss'!$M:$M,\"CIN post2026\",\n'Z0.4.c ProgrammaInvest_Dismiss'!$O:$O,\"Vite utili 2\")","v":0},{"$f":"SUMIFS('Z0.4.c ProgrammaInvest_Dismiss'!AB:AB,\n'Z0.4.c ProgrammaInvest_Dismiss'!$M:$M,\"CIN post2026\",\n'Z0.4.c ProgrammaInvest_Dismiss'!$O:$O,\"Vite utili 2\")","v":0},{"$f":"SUMIFS('Z0.4.c ProgrammaInvest_Dismiss'!AC:AC,\n'Z0.4.c ProgrammaInvest_Dismiss'!$M:$M,\"CIN post2026\",\n'Z0.4.c ProgrammaInvest_Dismiss'!$O:$O,\"Vite utili 2\")","v":0},{"$f":"SUMIFS('Z0.4.c ProgrammaInvest_Dismiss'!AD:AD,\n'Z0.4.c ProgrammaInvest_Dismiss'!$M:$M,\"CIN post2026\",\n'Z0.4.c ProgrammaInvest_Dismiss'!$O:$O,\"Vite utili 2\")","v":0},{"$f":"SUMIFS('Z0.4.c ProgrammaInvest_Dismiss'!AE:AE,\n'Z0.4.c ProgrammaInvest_Dismiss'!$M:$M,\"CIN post2026\",\n'Z0.4.c ProgrammaInvest_Dismiss'!$O:$O,\"Vite utili 2\")","v":0},{"$f":"SUMIFS('Z0.4.c ProgrammaInvest_Dismiss'!AF:AF,\n'Z0.4.c ProgrammaInvest_Dismiss'!$M:$M,\"CIN post2026\",\n'Z0.4.c ProgrammaInvest_Dismiss'!$O:$O,\"Vite utili 2\")","v":0},{"$f":"SUMIFS('Z0.4.c ProgrammaInvest_Dismiss'!AG:AG,\n'Z0.4.c ProgrammaInvest_Dismiss'!$M:$M,\"CIN post2026\",\n'Z0.4.c ProgrammaInvest_Dismiss'!$O:$O,\"Vite utili 2\")","v":0},{"$f":"SUMIFS('Z0.4.c ProgrammaInvest_Dismiss'!AH:AH,\n'Z0.4.c ProgrammaInvest_Dismiss'!$M:$M,\"CIN post2026\",\n'Z0.4.c ProgrammaInvest_Dismiss'!$O:$O,\"Vite utili 2\")","v":0},{"$f":"SUMIFS('Z0.4.c ProgrammaInvest_Dismiss'!AI:AI,\n'Z0.4.c ProgrammaInvest_Dismiss'!$M:$M,\"CIN post2026\",\n'Z0.4.c ProgrammaInvest_Dismiss'!$O:$O,\"Vite utili 2\")","v":100}]
[null,null,"Totale",null,{"$f":"SUM(E38:E43)","v":0},{"$f":"SUM(F38:F43)","v":0},0,0,{"$f":"SUM(I38:I43)","v":0},0,0,0,0,0,0,0,0,80,200]
[]
[null,null,"Investimenti netti annui, classificati per tipologia"]
[]
[null,null,"Interventi afferenti al CIN ante - SAL contabilizzati",null,{"$f":"E18-E28-E38","v":0},{"$f":"F18-F28-F38","v":0},-2000,0,0,0,0,0,0,0,0,0,0,-20,0]
[null,null,"Interventi afferenti al CIN ante - SAL da contabilizzare",null,{"$f":"E19-E29-E39","v":0},0,9000,10000,0,0,0,0,0,0,0,0,0,-20,0]
[null,null,"Interventi afferenti al CIN pre2026",null,{"$f":"E20-E30-E40","v":0},0,9000,10000,0,0,0,0,0,0,0,0,0,-20,0]
[null,null,"Interventi afferenti al CIN post2026, ammortamento finanziario",null,{"$f":"E21-E31-E41","v":0},0,49000,50000,0,0,0,0,0,0,0,0,0,-20,0]
[null,null,"Interventi afferenti al CIN post2026, ammortamento a vite utili di primo livello",null,{"$f":"E22-E32-E42","v":0},0,0,80,180,180,180,180,180,180,180,180,180,100,-100]
[null,null,"Interventi afferenti al CIN post2026, ammortamento a vite utili di secondo livello",null,{"$f":"E23-E33-E43","v":0},0,0,80,180,180,180,180,180,180,180,180,180,100,-100]
[null,null,"Totale",null,{"$f":"SUM(E48:E53)","v":0},{"$f":"SUM(F48:F53)","v":0},{"$f":"SUM(G48:G53)","v":65000},{"$f":"SUM(H48:H53)","v":70160},{"$f":"SUM(I48:I53)","v":360},360,360,360,360,360,360,360,360,120,-200]
[]
[]
[null,null,"Aggiornamento investimenti programmati"]
[]
[null,null,"Investimenti lordi annui, classificati per tipologia"]
[]
[null,null,"Interventi afferenti al CIN ante - SAL contabilizzati",null,{"$f":"SUMIFS('Z0.6.a ProgInvest_Spesa agg'!X:X,\n'Z0.6.a ProgInvest_Spesa agg'!$M:$M,\"CIN ante\",\n'Z0.6.a ProgInvest_Spesa agg'!$N:$N,\"SAL contabilizzati\",\n'Z0.6.b ProgInvest_Contr agg'!$Q:$Q,\"Pianificato\")","v":0},{"$f":"SUMIFS('Z0.6.a ProgInvest_Spesa agg'!Y:Y,\n'Z0.6.a ProgInvest_Spesa agg'!$M:$M,\"CIN ante\",\n'Z0.6.a ProgInvest_Spesa agg'!$N:$N,\"SAL contabilizzati\",\n'Z0.6.b ProgInvest_Contr agg'!$Q:$Q,\"Pianificato\")","v":0},{"$f":"SUMIFS('Z0.6.a ProgInvest_Spesa agg'!Z:Z,\n'Z0.6.a ProgInvest_Spesa agg'!$M:$M,\"CIN ante\",\n'Z0.6.a ProgInvest_Spesa agg'!$N:$N,\"SAL contabilizzati\",\n'Z0.6.b ProgInvest_Contr agg'!$Q:$Q,\"Pianificato\")","v":0},{"$f":"SUMIFS('Z0.6.a ProgInvest_Spesa agg'!AA:AA,\n'Z0.6.a ProgInvest_Spesa agg'!$M:$M,\"CIN ante\",\n'Z0.6.a ProgInvest_Spesa agg'!$N:$N,\"SAL contabilizzati\",\n'Z0.6.b ProgInvest_Contr agg'!$Q:$Q,\"Pianificato\")","v":0},{"$f":"SUMIFS('Z0.6.a ProgInvest_Spesa agg'!AB:AB,\n'Z0.6.a ProgInvest_Spesa agg'!$M:$M,\"CIN ante\",\n'Z0.6.a ProgInvest_Spesa agg'!$N:$N,\"SAL contabilizzati\",\n'Z0.6.b ProgInvest_Contr agg'!$Q:$Q,\"Pianificato\")","v":0},{"$f":"SUMIFS('Z0.6.a ProgInvest_Spesa agg'!AC:AC,\n'Z0.6.a ProgInvest_Spesa agg'!$M:$M,\"CIN ante\",\n'Z0.6.a ProgInvest_Spesa agg'!$N:$N,\"SAL contabilizzati\",\n'Z0.6.b ProgInvest_Contr agg'!$Q:$Q,\"Pianificato\")","v":0},{"$f":"SUMIFS('Z0.6.a ProgInvest_Spesa agg'!AD:AD,\n'Z0.6.a ProgInvest_Spesa agg'!$M:$M,\"CIN ante\",\n'Z0.6.a ProgInvest_Spesa agg'!$N:$N,\"SAL contabilizzati\",\n'Z0.6.b ProgInvest_Contr agg'!$Q:$Q,\"Pianificato\")","v":0},{"$f":"SUMIFS('Z0.6.a ProgInvest_Spesa agg'!AE:AE,\n'Z0.6.a ProgInvest_Spesa agg'!$M:$M,\"CIN ante\",\n'Z0.6.a ProgInvest_Spesa agg'!$N:$N,\"SAL contabilizzati\",\n'Z0.6.b ProgInvest_Contr agg'!$Q:$Q,\"Pianificato\")","v":0},{"$f":"SUMIFS('Z0.6.a ProgInvest_Spesa agg'!AF:AF,\n'Z0.6.a ProgInvest_Spesa agg'!$M:$M,\"CIN ante\",\n'Z0.6.a ProgInvest_Spesa agg'!$N:$N,\"SAL contabilizzati\",\n'Z0.6.b ProgInvest_Contr agg'!$Q:$Q,\"Pianificato\")","v":0},{"$f":"SUMIFS('Z0.6.a ProgInvest_Spesa agg'!AG:AG,\n'Z0.6.a ProgInvest_Spesa agg'!$M:$M,\"CIN ante\",\n'Z0.6.a ProgInvest_Spesa agg'!$N:$N,\"SAL contabilizzati\",\n'Z0.6.b ProgInvest_Contr agg'!$Q:$Q,\"Pianificato\")","v":0},{"$f":"SUMIFS('Z0.6.a ProgInvest_Spesa agg'!AH:AH,\n'Z0.6.a ProgInvest_Spesa agg'!$M:$M,\"CIN ante\",\n'Z0.6.a ProgInvest_Spesa agg'!$N:$N,\"SAL contabilizzati\",\n'Z0.6.b ProgInvest_Contr agg'!$Q:$Q,\"Pianificato\")","v":0},{"$f":"SUMIFS('Z0.6.a ProgInvest_Spesa agg'!AI:AI,\n'Z0.6.a ProgInvest_Spesa agg'!$M:$M,\"CIN ante\",\n'Z0.6.a ProgInvest_Spesa agg'!$N:$N,\"SAL contabilizzati\",\n'Z0.6.b ProgInvest_Contr agg'!$Q:$Q,\"Pianificato\")","v":0},{"$f":"SUMIFS('Z0.6.a ProgInvest_Spesa agg'!AJ:AJ,\n'Z0.6.a ProgInvest_Spesa agg'!$M:$M,\"CIN ante\",\n'Z0.6.a ProgInvest_Spesa agg'!$N:$N,\"SAL contabilizzati\",\n'Z0.6.b ProgInvest_Contr agg'!$Q:$Q,\"Pianificato\")","v":0},{"$f":"SUMIFS('Z0.6.a ProgInvest_Spesa agg'!AK:AK,\n'Z0.6.a ProgInvest_Spesa agg'!$M:$M,\"CIN ante\",\n'Z0.6.a ProgInvest_Spesa agg'!$N:$N,\"SAL contabilizzati\",\n'Z0.6.b ProgInvest_Contr agg'!$Q:$Q,\"Pianificato\")","v":0},{"$f":"SUMIFS('Z0.6.a ProgInvest_Spesa agg'!AL:AL,\n'Z0.6.a ProgInvest_Spesa agg'!$M:$M,\"CIN ante\",\n'Z0.6.a ProgInvest_Spesa agg'!$N:$N,\"SAL contabilizzati\",\n'Z0.6.b ProgInvest_Contr agg'!$Q:$Q,\"Pianificato\")","v":0}]
[null,null,"Interventi afferenti al CIN ante - SAL da contabilizzare",null,{"$f":"SUMIFS('Z0.6.a ProgInvest_Spesa agg'!X:X,\n'Z0.6.a ProgInvest_Spesa agg'!$M:$M,\"CIN ante\",\n'Z0.6.a ProgInvest_Spesa agg'!$N:$N,\"SAL da contabilizzare\",\n'Z0.6.b ProgInvest_Contr agg'!$Q:$Q,\"Pianificato\")","v":0},{"$f":"SUMIFS('Z0.6.a ProgInvest_Spesa agg'!Y:Y,\n'Z0.6.a ProgInvest_Spesa agg'!$M:$M,\"CIN ante\",\n'Z0.6.a ProgInvest_Spesa agg'!$N:$N,\"SAL da contabilizzare\",\n'Z0.6.b ProgInvest_Contr agg'!$Q:$Q,\"Pianificato\")","v":0},{"$f":"SUMIFS('Z0.6.a ProgInvest_Spesa agg'!Z:Z,\n'Z0.6.a ProgInvest_Spesa agg'!$M:$M,\"CIN ante\",\n'Z0.6.a ProgInvest_Spesa agg'!$N:$N,\"SAL da contabilizzare\",\n'Z0.6.b ProgInvest_Contr agg'!$Q:$Q,\"Pianificato\")","v":10000},{"$f":"SUMIFS('Z0.6.a ProgInvest_Spesa agg'!AA:AA,\n'Z0.6.a ProgInvest_Spesa agg'!$M:$M,\"CIN ante\",\n'Z0.6.a ProgInvest_Spesa agg'!$N:$N,\"SAL da contabilizzare\",\n'Z0.6.b ProgInvest_Contr agg'!$Q:$Q,\"Pianificato\")","v":10000},{"$f":"SUMIFS('Z0.6.a ProgInvest_Spesa agg'!AB:AB,\n'Z0.6.a ProgInvest_Spesa agg'!$M:$M,\"CIN ante\",\n'Z0.6.a ProgInvest_Spesa agg'!$N:$N,\"SAL da contabilizzare\",\n'Z0.6.b ProgInvest_Contr agg'!$Q:$Q,\"Pianificato\")","v":0},{"$f":"SUMIFS('Z0.6.a ProgInvest_Spesa agg'!AC:AC,\n'Z0.6.a ProgInvest_Spesa agg'!$M:$M,\"CIN ante\",\n'Z0.6.a ProgInvest_Spesa agg'!$N:$N,\"SAL da contabilizzare\",\n'Z0.6.b ProgInvest_Contr agg'!$Q:$Q,\"Pianificato\")","v":0},{"$f":"SUMIFS('Z0.6.a ProgInvest_Spesa agg'!AD:AD,\n'Z0.6.a ProgInvest_Spesa agg'!$M:$M,\"CIN ante\",\n'Z0.6.a ProgInvest_Spesa agg'!$N:$N,\"SAL da contabilizzare\",\n'Z0.6.b ProgInvest_Contr agg'!$Q:$Q,\"Pianificato\")","v":0},{"$f":"SUMIFS('Z0.6.a ProgInvest_Spesa agg'!AE:AE,\n'Z0.6.a ProgInvest_Spesa agg'!$M:$M,\"CIN ante\",\n'Z0.6.a ProgInvest_Spesa agg'!$N:$N,\"SAL da contabilizzare\",\n'Z0.6.b ProgInvest_Contr agg'!$Q:$Q,\"Pianificato\")","v":0},{"$f":"SUMIFS('Z0.6.a ProgInvest_Spesa agg'!AF:AF,\n'Z0.6.a ProgInvest_Spesa agg'!$M:$M,\"CIN ante\",\n'Z0.6.a ProgInvest_Spesa agg'!$N:$N,\"SAL da contabilizzare\",\n'Z0.6.b ProgInvest_Contr agg'!$Q:$Q,\"Pianificato\")","v":0},{"$f":"SUMIFS('Z0.6.a ProgInvest_Spesa agg'!AG:AG,\n'Z0.6.a ProgInvest_Spesa agg'!$M:$M,\"CIN ante\",\n'Z0.6.a ProgInvest_Spesa agg'!$N:$N,\"SAL da contabilizzare\",\n'Z0.6.b ProgInvest_Contr agg'!$Q:$Q,\"Pianificato\")","v":0},{"$f":"SUMIFS('Z0.6.a ProgInvest_Spesa agg'!AH:AH,\n'Z0.6.a ProgInvest_Spesa agg'!$M:$M,\"CIN ante\",\n'Z0.6.a ProgInvest_Spesa agg'!$N:$N,\"SAL da contabilizzare\",\n'Z0.6.b ProgInvest_Contr agg'!$Q:$Q,\"Pianificato\")","v":0},{"$f":"SUMIFS('Z0.6.a ProgInvest_Spesa agg'!AI:AI,\n'Z0.6.a ProgInvest_Spesa agg'!$M:$M,\"CIN ante\",\n'Z0.6.a ProgInvest_Spesa agg'!$N:$N,\"SAL da contabilizzare\",\n'Z0.6.b ProgInvest_Contr agg'!$Q:$Q,\"Pianificato\")","v":0},{"$f":"SUMIFS('Z0.6.a ProgInvest_Spesa agg'!AJ:AJ,\n'Z0.6.a ProgInvest_Spesa agg'!$M:$M,\"CIN ante\",\n'Z0.6.a ProgInvest_Spesa agg'!$N:$N,\"SAL da contabilizzare\",\n'Z0.6.b ProgInvest_Contr agg'!$Q:$Q,\"Pianificato\")","v":0},{"$f":"SUMIFS('Z0.6.a ProgInvest_Spesa agg'!AK:AK,\n'Z0.6.a ProgInvest_Spesa agg'!$M:$M,\"CIN ante\",\n'Z0.6.a ProgInvest_Spesa agg'!$N:$N,\"SAL da contabilizzare\",\n'Z0.6.b ProgInvest_Contr agg'!$Q:$Q,\"Pianificato\")","v":0},{"$f":"SUMIFS('Z0.6.a ProgInvest_Spesa agg'!AL:AL,\n'Z0.6.a ProgInvest_Spesa agg'!$M:$M,\"CIN ante\",\n'Z0.6.a ProgInvest_Spesa agg'!$N:$N,\"SAL da contabilizzare\",\n'Z0.6.b ProgInvest_Contr agg'!$Q:$Q,\"Pianificato\")","v":0}]
[null,null,"Interventi afferenti al CIN pre2026",null,{"$f":"SUMIFS('Z0.6.a ProgInvest_Spesa agg'!X:X,\n'Z0.6.a ProgInvest_Spesa agg'!$M:$M,\"CIN pre2026\",\n'Z0.6.b ProgInvest_Contr agg'!$Q:$Q,\"Pianificato\")","v":0},{"$f":"SUMIFS('Z0.6.a ProgInvest_Spesa agg'!Y:Y,\n'Z0.6.a ProgInvest_Spesa agg'!$M:$M,\"CIN pre2026\",\n'Z0.6.b ProgInvest_Contr agg'!$Q:$Q,\"Pianificato\")","v":0},{"$f":"SUMIFS('Z0.6.a ProgInvest_Spesa agg'!Z:Z,\n'Z0.6.a ProgInvest_Spesa agg'!$M:$M,\"CIN pre2026\",\n'Z0.6.b ProgInvest_Contr agg'!$Q:$Q,\"Pianificato\")","v":10000},{"$f":"SUMIFS('Z0.6.a ProgInvest_Spesa agg'!AA:AA,\n'Z0.6.a ProgInvest_Spesa agg'!$M:$M,\"CIN pre2026\",\n'Z0.6.b ProgInvest_Contr agg'!$Q:$Q,\"Pianificato\")","v":10000},{"$f":"SUMIFS('Z0.6.a ProgInvest_Spesa agg'!AB:AB,\n'Z0.6.a ProgInvest_Spesa agg'!$M:$M,\"CIN pre2026\",\n'Z0.6.b ProgInvest_Contr agg'!$Q:$Q,\"Pianificato\")","v":0},{"$f":"SUMIFS('Z0.6.a ProgInvest_Spesa agg'!AC:AC,\n'Z0.6.a ProgInvest_Spesa agg'!$M:$M,\"CIN pre2026\",\n'Z0.6.b ProgInvest_Contr agg'!$Q:$Q,\"Pianificato\")","v":0},{"$f":"SUMIFS('Z0.6.a ProgInvest_Spesa agg'!AD:AD,\n'Z0.6.a ProgInvest_Spesa agg'!$M:$M,\"CIN pre2026\",\n'Z0.6.b ProgInvest_Contr agg'!$Q:$Q,\"Pianificato\")","v":0},{"$f":"SUMIFS('Z0.6.a ProgInvest_Spesa agg'!AE:AE,\n'Z0.6.a ProgInvest_Spesa agg'!$M:$M,\"CIN pre2026\",\n'Z0.6.b ProgInvest_Contr agg'!$Q:$Q,\"Pianificato\")","v":0},{"$f":"SUMIFS('Z0.6.a ProgInvest_Spesa agg'!AF:AF,\n'Z0.6.a ProgInvest_Spesa agg'!$M:$M,\"CIN pre2026\",\n'Z0.6.b ProgInvest_Contr agg'!$Q:$Q,\"Pianificato\")","v":0},{"$f":"SUMIFS('Z0.6.a ProgInvest_Spesa agg'!AG:AG,\n'Z0.6.a ProgInvest_Spesa agg'!$M:$M,\"CIN pre2026\",\n'Z0.6.b ProgInvest_Contr agg'!$Q:$Q,\"Pianificato\")","v":0},{"$f":"SUMIFS('Z0.6.a ProgInvest_Spesa agg'!AH:AH,\n'Z0.6.a ProgInvest_Spesa agg'!$M:$M,\"CIN pre2026\",\n'Z0.6.b ProgInvest_Contr agg'!$Q:$Q,\"Pianificato\")","v":0},{"$f":"SUMIFS('Z0.6.a ProgInvest_Spesa agg'!AI:AI,\n'Z0.6.a ProgInvest_Spesa agg'!$M:$M,\"CIN pre2026\",\n'Z0.6.b ProgInvest_Contr agg'!$Q:$Q,\"Pianificato\")","v":0},{"$f":"SUMIFS('Z0.6.a ProgInvest_Spesa agg'!AJ:AJ,\n'Z0.6.a ProgInvest_Spesa agg'!$M:$M,\"CIN pre2026\",\n'Z0.6.b ProgInvest_Contr agg'!$Q:$Q,\"Pianificato\")","v":0},{"$f":"SUMIFS('Z0.6.a ProgInvest_Spesa agg'!AK:AK,\n'Z0.6.a ProgInvest_Spesa agg'!$M:$M,\"CIN pre2026\",\n'Z0.6.b ProgInvest_Contr agg'!$Q:$Q,\"Pianificato\")","v":0},{"$f":"SUMIFS('Z0.6.a ProgInvest_Spesa agg'!AL:AL,\n'Z0.6.a ProgInvest_Spesa agg'!$M:$M,\"CIN pre2026\",\n'Z0.6.b ProgInvest_Contr agg'!$Q:$Q,\"Pianificato\")","v":0}]
[null,null,"Interventi afferenti al CIN post2026, ammortamento finanziario",null,{"$f":"SUMIFS('Z0.6.a ProgInvest_Spesa agg'!X:X,\n'Z0.6.a ProgInvest_Spesa agg'!$M:$M,\"CIN post2026\",\n'Z0.6.a ProgInvest_Spesa agg'!$O:$O,\"Finanziario\",\n'Z0.6.b ProgInvest_Contr agg'!$Q:$Q,\"Pianificato\")","v":0},{"$f":"SUMIFS('Z0.6.a ProgInvest_Spesa agg'!Y:Y,\n'Z0.6.a ProgInvest_Spesa agg'!$M:$M,\"CIN post2026\",\n'Z0.6.a ProgInvest_Spesa agg'!$O:$O,\"Finanziario\",\n'Z0.6.b ProgInvest_Contr agg'!$Q:$Q,\"Pianificato\")","v":0},{"$f":"SUMIFS('Z0.6.a ProgInvest_Spesa agg'!Z:Z,\n'Z0.6.a ProgInvest_Spesa agg'!$M:$M,\"CIN post2026\",\n'Z0.6.a ProgInvest_Spesa agg'!$O:$O,\"Finanziario\",\n'Z0.6.b ProgInvest_Contr agg'!$Q:$Q,\"Pianificato\")","v":50000},{"$f":"SUMIFS('Z0.6.a ProgInvest_Spesa agg'!AA:AA,\n'Z0.6.a ProgInvest_Spesa agg'!$M:$M,\"CIN post2026\",\n'Z0.6.a ProgInvest_Spesa agg'!$O:$O,\"Finanziario\",\n'Z0.6.b ProgInvest_Contr agg'!$Q:$Q,\"Pianificato\")","v":50000},{"$f":"SUMIFS('Z0.6.a ProgInvest_Spesa agg'!AB:AB,\n'Z0.6.a ProgInvest_Spesa agg'!$M:$M,\"CIN post2026\",\n'Z0.6.a ProgInvest_Spesa agg'!$O:$O,\"Finanziario\",\n'Z0.6.b ProgInvest_Contr agg'!$Q:$Q,\"Pianificato\")","v":0},{"$f":"SUMIFS('Z0.6.a ProgInvest_Spesa agg'!AC:AC,\n'Z0.6.a ProgInvest_Spesa agg'!$M:$M,\"CIN post2026\",\n'Z0.6.a ProgInvest_Spesa agg'!$O:$O,\"Finanziario\",\n'Z0.6.b ProgInvest_Contr agg'!$Q:$Q,\"Pianificato\")","v":0},{"$f":"SUMIFS('Z0.6.a ProgInvest_Spesa agg'!AD:AD,\n'Z0.6.a ProgInvest_Spesa agg'!$M:$M,\"CIN post2026\",\n'Z0.6.a ProgInvest_Spesa agg'!$O:$O,\"Finanziario\",\n'Z0.6.b ProgInvest_Contr agg'!$Q:$Q,\"Pianificato\")","v":0},{"$f":"SUMIFS('Z0.6.a ProgInvest_Spesa agg'!AE:AE,\n'Z0.6.a ProgInvest_Spesa agg'!$M:$M,\"CIN post2026\",\n'Z0.6.a ProgInvest_Spesa agg'!$O:$O,\"Finanziario\",\n'Z0.6.b ProgInvest_Contr agg'!$Q:$Q,\"Pianificato\")","v":0},{"$f":"SUMIFS('Z0.6.a ProgInvest_Spesa agg'!AF:AF,\n'Z0.6.a ProgInvest_Spesa agg'!$M:$M,\"CIN post2026\",\n'Z0.6.a ProgInvest_Spesa agg'!$O:$O,\"Finanziario\",\n'Z0.6.b ProgInvest_Contr agg'!$Q:$Q,\"Pianificato\")","v":0},{"$f":"SUMIFS('Z0.6.a ProgInvest_Spesa agg'!AG:AG,\n'Z0.6.a ProgInvest_Spesa agg'!$M:$M,\"CIN post2026\",\n'Z0.6.a ProgInvest_Spesa agg'!$O:$O,\"Finanziario\",\n'Z0.6.b ProgInvest_Contr agg'!$Q:$Q,\"Pianificato\")","v":0},{"$f":"SUMIFS('Z0.6.a ProgInvest_Spesa agg'!AH:AH,\n'Z0.6.a ProgInvest_Spesa agg'!$M:$M,\"CIN post2026\",\n'Z0.6.a ProgInvest_Spesa agg'!$O:$O,\"Finanziario\",\n'Z0.6.b ProgInvest_Contr agg'!$Q:$Q,\"Pianificato\")","v":0},{"$f":"SUMIFS('Z0.6.a ProgInvest_Spesa agg'!AI:AI,\n'Z0.6.a ProgInvest_Spesa agg'!$M:$M,\"CIN post2026\",\n'Z0.6.a ProgInvest_Spesa agg'!$O:$O,\"Finanziario\",\n'Z0.6.b ProgInvest_Contr agg'!$Q:$Q,\"Pianificato\")","v":0},{"$f":"SUMIFS('Z0.6.a ProgInvest_Spesa agg'!AJ:AJ,\n'Z0.6.a ProgInvest_Spesa agg'!$M:$M,\"CIN post2026\",\n'Z0.6.a ProgInvest_Spesa agg'!$O:$O,\"Finanziario\",\n'Z0.6.b ProgInvest_Contr agg'!$Q:$Q,\"Pianificato\")","v":0},{"$f":"SUMIFS('Z0.6.a ProgInvest_Spesa agg'!AK:AK,\n'Z0.6.a ProgInvest_Spesa agg'!$M:$M,\"CIN post2026\",\n'Z0.6.a ProgInvest_Spesa agg'!$O:$O,\"Finanziario\",\n'Z0.6.b ProgInvest_Contr agg'!$Q:$Q,\"Pianificato\")","v":0},{"$f":"SUMIFS('Z0.6.a ProgInvest_Spesa agg'!AL:AL,\n'Z0.6.a ProgInvest_Spesa agg'!$M:$M,\"CIN post2026\",\n'Z0.6.a ProgInvest_Spesa agg'!$O:$O,\"Finanziario\",\n'Z0.6.b ProgInvest_Contr agg'!$Q:$Q,\"Pianificato\")","v":0}]
[null,null,"Interventi afferenti al CIN post2026, ammortamento a vite utili di primo livello",null,{"$f":"SUMIFS('Z0.6.a ProgInvest_Spesa agg'!X:X,\n'Z0.6.a ProgInvest_Spesa agg'!$M:$M,\"CIN post2026\",\n'Z0.6.a ProgInvest_Spesa agg'!$O:$O,\"Vite utili 1\",\n'Z0.6.b ProgInvest_Contr agg'!$Q:$Q,\"Pianificato\")","v":0},{"$f":"SUMIFS('Z0.6.a ProgInvest_Spesa agg'!Y:Y,\n'Z0.6.a ProgInvest_Spesa agg'!$M:$M,\"CIN post2026\",\n'Z0.6.a ProgInvest_Spesa agg'!$O:$O,\"Vite utili 1\",\n'Z0.6.b ProgInvest_Contr agg'!$Q:$Q,\"Pianificato\")","v":0},{"$f":"SUMIFS('Z0.6.a ProgInvest_Spesa agg'!Z:Z,\n'Z0.6.a ProgInvest_Spesa agg'!$M:$M,\"CIN post2026\",\n'Z0.6.a ProgInvest_Spesa agg'!$O:$O,\"Vite utili 1\",\n'Z0.6.b ProgInvest_Contr agg'!$Q:$Q,\"Pianificato\")","v":0},{"$f":"SUMIFS('Z0.6.a ProgInvest_Spesa agg'!AA:AA,\n'Z0.6.a ProgInvest_Spesa agg'!$M:$M,\"CIN post2026\",\n'Z0.6.a ProgInvest_Spesa agg'!$O:$O,\"Vite utili 1\",\n'Z0.6.b ProgInvest_Contr agg'!$Q:$Q,\"Pianificato\")","v":100},{"$f":"SUMIFS('Z0.6.a ProgInvest_Spesa agg'!AB:AB,\n'Z0.6.a ProgInvest_Spesa agg'!$M:$M,\"CIN post2026\",\n'Z0.6.a ProgInvest_Spesa agg'!$O:$O,\"Vite utili 1\",\n'Z0.6.b ProgInvest_Contr agg'!$Q:$Q,\"Pianificato\")","v":200},{"$f":"SUMIFS('Z0.6.a ProgInvest_Spesa agg'!AC:AC,\n'Z0.6.a ProgInvest_Spesa agg'!$M:$M,\"CIN post2026\",\n'Z0.6.a ProgInvest_Spesa agg'!$O:$O,\"Vite utili 1\",\n'Z0.6.b ProgInvest_Contr agg'!$Q:$Q,\"Pianificato\")","v":200},{"$f":"SUMIFS('Z0.6.a ProgInvest_Spesa agg'!AD:AD,\n'Z0.6.a ProgInvest_Spesa agg'!$M:$M,\"CIN post2026\",\n'Z0.6.a ProgInvest_Spesa agg'!$O:$O,\"Vite utili 1\",\n'Z0.6.b ProgInvest_Contr agg'!$Q:$Q,\"Pianificato\")","v":200},{"$f":"SUMIFS('Z0.6.a ProgInvest_Spesa agg'!AE:AE,\n'Z0.6.a ProgInvest_Spesa agg'!$M:$M,\"CIN post2026\",\n'Z0.6.a ProgInvest_Spesa agg'!$O:$O,\"Vite utili 1\",\n'Z0.6.b ProgInvest_Contr agg'!$Q:$Q,\"Pianificato\")","v":200},{"$f":"SUMIFS('Z0.6.a ProgInvest_Spesa agg'!AF:AF,\n'Z0.6.a ProgInvest_Spesa agg'!$M:$M,\"CIN post2026\",\n'Z0.6.a ProgInvest_Spesa agg'!$O:$O,\"Vite utili 1\",\n'Z0.6.b ProgInvest_Contr agg'!$Q:$Q,\"Pianificato\")","v":200},{"$f":"SUMIFS('Z0.6.a ProgInvest_Spesa agg'!AG:AG,\n'Z0.6.a ProgInvest_Spesa agg'!$M:$M,\"CIN post2026\",\n'Z0.6.a ProgInvest_Spesa agg'!$O:$O,\"Vite utili 1\",\n'Z0.6.b ProgInvest_Contr agg'!$Q:$Q,\"Pianificato\")","v":200},{"$f":"SUMIFS('Z0.6.a ProgInvest_Spesa agg'!AH:AH,\n'Z0.6.a ProgInvest_Spesa agg'!$M:$M,\"CIN post2026\",\n'Z0.6.a ProgInvest_Spesa agg'!$O:$O,\"Vite utili 1\",\n'Z0.6.b ProgInvest_Contr agg'!$Q:$Q,\"Pianificato\")","v":200},{"$f":"SUMIFS('Z0.6.a ProgInvest_Spesa agg'!AI:AI,\n'Z0.6.a ProgInvest_Spesa agg'!$M:$M,\"CIN post2026\",\n'Z0.6.a ProgInvest_Spesa agg'!$O:$O,\"Vite utili 1\",\n'Z0.6.b ProgInvest_Contr agg'!$Q:$Q,\"Pianificato\")","v":200},{"$f":"SUMIFS('Z0.6.a ProgInvest_Spesa agg'!AJ:AJ,\n'Z0.6.a ProgInvest_Spesa agg'!$M:$M,\"CIN post2026\",\n'Z0.6.a ProgInvest_Spesa agg'!$O:$O,\"Vite utili 1\",\n'Z0.6.b ProgInvest_Contr agg'!$Q:$Q,\"Pianificato\")","v":200},{"$f":"SUMIFS('Z0.6.a ProgInvest_Spesa agg'!AK:AK,\n'Z0.6.a ProgInvest_Spesa agg'!$M:$M,\"CIN post2026\",\n'Z0.6.a ProgInvest_Spesa agg'!$O:$O,\"Vite utili 1\",\n'Z0.6.b ProgInvest_Contr agg'!$Q:$Q,\"Pianificato\")","v":100},{"$f":"SUMIFS('Z0.6.a ProgInvest_Spesa agg'!AL:AL,\n'Z0.6.a ProgInvest_Spesa agg'!$M:$M,\"CIN post2026\",\n'Z0.6.a ProgInvest_Spesa agg'!$O:$O,\"Vite utili 1\",\n'Z0.6.b ProgInvest_Contr agg'!$Q:$Q,\"Pianificato\")","v":0}]
[null,null,"Interventi afferenti al CIN post2026, ammortamento a vite utili di secondo livello",null,{"$f":"SUMIFS('Z0.6.a ProgInvest_Spesa agg'!X:X,\n'Z0.6.a ProgInvest_Spesa agg'!$M:$M,\"CIN post2026\",\n'Z0.6.a ProgInvest_Spesa agg'!$O:$O,\"Vite utili 2\",\n'Z0.6.b ProgInvest_Contr agg'!$Q:$Q,\"Pianificato\")","v":0},{"$f":"SUMIFS('Z0.6.a ProgInvest_Spesa agg'!Y:Y,\n'Z0.6.a ProgInvest_Spesa agg'!$M:$M,\"CIN post2026\",\n'Z0.6.a ProgInvest_Spesa agg'!$O:$O,\"Vite utili 2\",\n'Z0.6.b ProgInvest_Contr agg'!$Q:$Q,\"Pianificato\")","v":0},{"$f":"SUMIFS('Z0.6.a ProgInvest_Spesa agg'!Z:Z,\n'Z0.6.a ProgInvest_Spesa agg'!$M:$M,\"CIN post2026\",\n'Z0.6.a ProgInvest_Spesa agg'!$O:$O,\"Vite utili 2\",\n'Z0.6.b ProgInvest_Contr agg'!$Q:$Q,\"Pianificato\")","v":0},{"$f":"SUMIFS('Z0.6.a ProgInvest_Spesa agg'!AA:AA,\n'Z0.6.a ProgInvest_Spesa agg'!$M:$M,\"CIN post2026\",\n'Z0.6.a ProgInvest_Spesa agg'!$O:$O,\"Vite utili 2\",\n'Z0.6.b ProgInvest_Contr agg'!$Q:$Q,\"Pianificato\")","v":100},{"$f":"SUMIFS('Z0.6.a ProgInvest_Spesa agg'!AB:AB,\n'Z0.6.a ProgInvest_Spesa agg'!$M:$M,\"CIN post2026\",\n'Z0.6.a ProgInvest_Spesa agg'!$O:$O,\"Vite utili 2\",\n'Z0.6.b ProgInvest_Contr agg'!$Q:$Q,\"Pianificato\")","v":200},{"$f":"SUMIFS('Z0.6.a ProgInvest_Spesa agg'!AC:AC,\n'Z0.6.a ProgInvest_Spesa agg'!$M:$M,\"CIN post2026\",\n'Z0.6.a ProgInvest_Spesa agg'!$O:$O,\"Vite utili 2\",\n'Z0.6.b ProgInvest_Contr agg'!$Q:$Q,\"Pianificato\")","v":200},{"$f":"SUMIFS('Z0.6.a ProgInvest_Spesa agg'!AD:AD,\n'Z0.6.a ProgInvest_Spesa agg'!$M:$M,\"CIN post2026\",\n'Z0.6.a ProgInvest_Spesa agg'!$O:$O,\"Vite utili 2\",\n'Z0.6.b ProgInvest_Contr agg'!$Q:$Q,\"Pianificato\")","v":200},{"$f":"SUMIFS('Z0.6.a ProgInvest_Spesa agg'!AE:AE,\n'Z0.6.a ProgInvest_Spesa agg'!$M:$M,\"CIN post2026\",\n'Z0.6.a ProgInvest_Spesa agg'!$O:$O,\"Vite utili 2\",\n'Z0.6.b ProgInvest_Contr agg'!$Q:$Q,\"Pianificato\")","v":200},{"$f":"SUMIFS('Z0.6.a ProgInvest_Spesa agg'!AF:AF,\n'Z0.6.a ProgInvest_Spesa agg'!$M:$M,\"CIN post2026\",\n'Z0.6.a ProgInvest_Spesa agg'!$O:$O,\"Vite utili 2\",\n'Z0.6.b ProgInvest_Contr agg'!$Q:$Q,\"Pianificato\")","v":200},{"$f":"SUMIFS('Z0.6.a ProgInvest_Spesa agg'!AG:AG,\n'Z0.6.a ProgInvest_Spesa agg'!$M:$M,\"CIN post2026\",\n'Z0.6.a ProgInvest_Spesa agg'!$O:$O,\"Vite utili 2\",\n'Z0.6.b ProgInvest_Contr agg'!$Q:$Q,\"Pianificato\")","v":200},{"$f":"SUMIFS('Z0.6.a ProgInvest_Spesa agg'!AH:AH,\n'Z0.6.a ProgInvest_Spesa agg'!$M:$M,\"CIN post2026\",\n'Z0.6.a ProgInvest_Spesa agg'!$O:$O,\"Vite utili 2\",\n'Z0.6.b ProgInvest_Contr agg'!$Q:$Q,\"Pianificato\")","v":200},{"$f":"SUMIFS('Z0.6.a ProgInvest_Spesa agg'!AI:AI,\n'Z0.6.a ProgInvest_Spesa agg'!$M:$M,\"CIN post2026\",\n'Z0.6.a ProgInvest_Spesa agg'!$O:$O,\"Vite utili 2\",\n'Z0.6.b ProgInvest_Contr agg'!$Q:$Q,\"Pianificato\")","v":200},{"$f":"SUMIFS('Z0.6.a ProgInvest_Spesa agg'!AJ:AJ,\n'Z0.6.a ProgInvest_Spesa agg'!$M:$M,\"CIN post2026\",\n'Z0.6.a ProgInvest_Spesa agg'!$O:$O,\"Vite utili 2\",\n'Z0.6.b ProgInvest_Contr agg'!$Q:$Q,\"Pianificato\")","v":200},{"$f":"SUMIFS('Z0.6.a ProgInvest_Spesa agg'!AK:AK,\n'Z0.6.a ProgInvest_Spesa agg'!$M:$M,\"CIN post2026\",\n'Z0.6.a ProgInvest_Spesa agg'!$O:$O,\"Vite utili 2\",\n'Z0.6.b ProgInvest_Contr agg'!$Q:$Q,\"Pianificato\")","v":100},{"$f":"SUMIFS('Z0.6.a ProgInvest_Spesa agg'!AL:AL,\n'Z0.6.a ProgInvest_Spesa agg'!$M:$M,\"CIN post2026\",\n'Z0.6.a ProgInvest_Spesa agg'!$O:$O,\"Vite utili 2\",\n'Z0.6.b ProgInvest_Contr agg'!$Q:$Q,\"Pianificato\")","v":0}]
[null,null,"Totale",null,{"$f":"SUM(E61:E66)","v":0},{"$f":"SUM(F61:F66)","v":0},70000,70200,400,400,400,400,400,400,400,400,400,200,0]
[]
[null,null,"Contributi annui, classificati per tipologia di investimento"]
[]
[null,null,"Interventi afferenti al CIN ante - SAL contabilizzati",null,{"$f":"SUMIFS('Z0.6.b ProgInvest_Contr agg'!X:X,\n'Z0.6.b ProgInvest_Contr agg'!$M:$M,\"CIN ante\",\n'Z0.6.b ProgInvest_Contr agg'!$N:$N,\"SAL contabilizzati\",\n'Z0.6.b ProgInvest_Contr agg'!$Q:$Q,\"Pianificato\")","v":0},{"$f":"SUMIFS('Z0.6.b ProgInvest_Contr agg'!Y:Y,\n'Z0.6.b ProgInvest_Contr agg'!$M:$M,\"CIN ante\",\n'Z0.6.b ProgInvest_Contr agg'!$N:$N,\"SAL contabilizzati\",\n'Z0.6.b ProgInvest_Contr agg'!$Q:$Q,\"Pianificato\")","v":0},{"$f":"SUMIFS('Z0.6.b ProgInvest_Contr agg'!Z:Z,\n'Z0.6.b ProgInvest_Contr agg'!$M:$M,\"CIN ante\",\n'Z0.6.b ProgInvest_Contr agg'!$N:$N,\"SAL contabilizzati\",\n'Z0.6.b ProgInvest_Contr agg'!$Q:$Q,\"Pianificato\")","v":2000},{"$f":"SUMIFS('Z0.6.b ProgInvest_Contr agg'!AA:AA,\n'Z0.6.b ProgInvest_Contr agg'!$M:$M,\"CIN ante\",\n'Z0.6.b ProgInvest_Contr agg'!$N:$N,\"SAL contabilizzati\",\n'Z0.6.b ProgInvest_Contr agg'!$Q:$Q,\"Pianificato\")","v":0},{"$f":"SUMIFS('Z0.6.b ProgInvest_Contr agg'!AB:AB,\n'Z0.6.b ProgInvest_Contr agg'!$M:$M,\"CIN ante\",\n'Z0.6.b ProgInvest_Contr agg'!$N:$N,\"SAL contabilizzati\",\n'Z0.6.b ProgInvest_Contr agg'!$Q:$Q,\"Pianificato\")","v":0},{"$f":"SUMIFS('Z0.6.b ProgInvest_Contr agg'!AC:AC,\n'Z0.6.b ProgInvest_Contr agg'!$M:$M,\"CIN ante\",\n'Z0.6.b ProgInvest_Contr agg'!$N:$N,\"SAL contabilizzati\",\n'Z0.6.b ProgInvest_Contr agg'!$Q:$Q,\"Pianificato\")","v":0},{"$f":"SUMIFS('Z0.6.b ProgInvest_Contr agg'!AD:AD,\n'Z0.6.b ProgInvest_Contr agg'!$M:$M,\"CIN ante\",\n'Z0.6.b ProgInvest_Contr agg'!$N:$N,\"SAL contabilizzati\",\n'Z0.6.b ProgInvest_Contr agg'!$Q:$Q,\"Pianificato\")","v":0},{"$f":"SUMIFS('Z0.6.b ProgInvest_Contr agg'!AE:AE,\n'Z0.6.b ProgInvest_Contr agg'!$M:$M,\"CIN ante\",\n'Z0.6.b ProgInvest_Contr agg'!$N:$N,\"SAL contabilizzati\",\n'Z0.6.b ProgInvest_Contr agg'!$Q:$Q,\"Pianificato\")","v":0},{"$f":"SUMIFS('Z0.6.b ProgInvest_Contr agg'!AF:AF,\n'Z0.6.b ProgInvest_Contr agg'!$M:$M,\"CIN ante\",\n'Z0.6.b ProgInvest_Contr agg'!$N:$N,\"SAL contabilizzati\",\n'Z0.6.b ProgInvest_Contr agg'!$Q:$Q,\"Pianificato\")","v":0},{"$f":"SUMIFS('Z0.6.b ProgInvest_Contr agg'!AG:AG,\n'Z0.6.b ProgInvest_Contr agg'!$M:$M,\"CIN ante\",\n'Z0.6.b ProgInvest_Contr agg'!$N:$N,\"SAL contabilizzati\",\n'Z0.6.b ProgInvest_Contr agg'!$Q:$Q,\"Pianificato\")","v":0},{"$f":"SUMIFS('Z0.6.b ProgInvest_Contr agg'!AH:AH,\n'Z0.6.b ProgInvest_Contr agg'!$M:$M,\"CIN ante\",\n'Z0.6.b ProgInvest_Contr agg'!$N:$N,\"SAL contabilizzati\",\n'Z0.6.b ProgInvest_Contr agg'!$Q:$Q,\"Pianificato\")","v":0},{"$f":"SUMIFS('Z0.6.b ProgInvest_Contr agg'!AI:AI,\n'Z0.6.b ProgInvest_Contr agg'!$M:$M,\"CIN ante\",\n'Z0.6.b ProgInvest_Contr agg'!$N:$N,\"SAL contabilizzati\",\n'Z0.6.b ProgInvest_Contr agg'!$Q:$Q,\"Pianificato\")","v":0},{"$f":"SUMIFS('Z0.6.b ProgInvest_Contr agg'!AJ:AJ,\n'Z0.6.b ProgInvest_Contr agg'!$M:$M,\"CIN ante\",\n'Z0.6.b ProgInvest_Contr agg'!$N:$N,\"SAL contabilizzati\",\n'Z0.6.b ProgInvest_Contr agg'!$Q:$Q,\"Pianificato\")","v":0},{"$f":"SUMIFS('Z0.6.b ProgInvest_Contr agg'!AK:AK,\n'Z0.6.b ProgInvest_Contr agg'!$M:$M,\"CIN ante\",\n'Z0.6.b ProgInvest_Contr agg'!$N:$N,\"SAL contabilizzati\",\n'Z0.6.b ProgInvest_Contr agg'!$Q:$Q,\"Pianificato\")","v":0},{"$f":"SUMIFS('Z0.6.b ProgInvest_Contr agg'!AL:AL,\n'Z0.6.b ProgInvest_Contr agg'!$M:$M,\"CIN ante\",\n'Z0.6.b ProgInvest_Contr agg'!$N:$N,\"SAL contabilizzati\",\n'Z0.6.b ProgInvest_Contr agg'!$Q:$Q,\"Pianificato\")","v":0}]
[null,null,"Interventi afferenti al CIN ante - SAL da contabilizzare",null,{"$f":"SUMIFS('Z0.6.b ProgInvest_Contr agg'!X:X,\n'Z0.6.b ProgInvest_Contr agg'!$M:$M,\"CIN ante\",\n'Z0.6.b ProgInvest_Contr agg'!$N:$N,\"SAL da contabilizzare\",\n'Z0.6.b ProgInvest_Contr agg'!$Q:$Q,\"Pianificato\")","v":0},{"$f":"SUMIFS('Z0.6.b ProgInvest_Contr agg'!Y:Y,\n'Z0.6.b ProgInvest_Contr agg'!$M:$M,\"CIN ante\",\n'Z0.6.b ProgInvest_Contr agg'!$N:$N,\"SAL da contabilizzare\",\n'Z0.6.b ProgInvest_Contr agg'!$Q:$Q,\"Pianificato\")","v":0},{"$f":"SUMIFS('Z0.6.b ProgInvest_Contr agg'!Z:Z,\n'Z0.6.b ProgInvest_Contr agg'!$M:$M,\"CIN ante\",\n'Z0.6.b ProgInvest_Contr agg'!$N:$N,\"SAL da contabilizzare\",\n'Z0.6.b ProgInvest_Contr agg'!$Q:$Q,\"Pianificato\")","v":1000},{"$f":"SUMIFS('Z0.6.b ProgInvest_Contr agg'!AA:AA,\n'Z0.6.b ProgInvest_Contr agg'!$M:$M,\"CIN ante\",\n'Z0.6.b ProgInvest_Contr agg'!$N:$N,\"SAL da contabilizzare\",\n'Z0.6.b ProgInvest_Contr agg'!$Q:$Q,\"Pianificato\")","v":0},{"$f":"SUMIFS('Z0.6.b ProgInvest_Contr agg'!AB:AB,\n'Z0.6.b ProgInvest_Contr agg'!$M:$M,\"CIN ante\",\n'Z0.6.b ProgInvest_Contr agg'!$N:$N,\"SAL da contabilizzare\",\n'Z0.6.b ProgInvest_Contr agg'!$Q:$Q,\"Pianificato\")","v":0},{"$f":"SUMIFS('Z0.6.b ProgInvest_Contr agg'!AC:AC,\n'Z0.6.b ProgInvest_Contr agg'!$M:$M,\"CIN ante\",\n'Z0.6.b ProgInvest_Contr agg'!$N:$N,\"SAL da contabilizzare\",\n'Z0.6.b ProgInvest_Contr agg'!$Q:$Q,\"Pianificato\")","v":0},{"$f":"SUMIFS('Z0.6.b ProgInvest_Contr agg'!AD:AD,\n'Z0.6.b ProgInvest_Contr agg'!$M:$M,\"CIN ante\",\n'Z0.6.b ProgInvest_Contr agg'!$N:$N,\"SAL da contabilizzare\",\n'Z0.6.b ProgInvest_Contr agg'!$Q:$Q,\"Pianificato\")","v":0},{"$f":"SUMIFS('Z0.6.b ProgInvest_Contr agg'!AE:AE,\n'Z0.6.b ProgInvest_Contr agg'!$M:$M,\"CIN ante\",\n'Z0.6.b ProgInvest_Contr agg'!$N:$N,\"SAL da contabilizzare\",\n'Z0.6.b ProgInvest_Contr agg'!$Q:$Q,\"Pianificato\")","v":0},{"$f":"SUMIFS('Z0.6.b ProgInvest_Contr agg'!AF:AF,\n'Z0.6.b ProgInvest_Contr agg'!$M:$M,\"CIN ante\",\n'Z0.6.b ProgInvest_Contr agg'!$N:$N,\"SAL da contabilizzare\",\n'Z0.6.b ProgInvest_Contr agg'!$Q:$Q,\"Pianificato\")","v":0},{"$f":"SUMIFS('Z0.6.b ProgInvest_Contr agg'!AG:AG,\n'Z0.6.b ProgInvest_Contr agg'!$M:$M,\"CIN ante\",\n'Z0.6.b ProgInvest_Contr agg'!$N:$N,\"SAL da contabilizzare\",\n'Z0.6.b ProgInvest_Contr agg'!$Q:$Q,\"Pianificato\")","v":0},{"$f":"SUMIFS('Z0.6.b ProgInvest_Contr agg'!AH:AH,\n'Z0.6.b ProgInvest_Contr agg'!$M:$M,\"CIN ante\",\n'Z0.6.b ProgInvest_Contr agg'!$N:$N,\"SAL da contabilizzare\",\n'Z0.6.b ProgInvest_Contr agg'!$Q:$Q,\"Pianificato\")","v":0},{"$f":"SUMIFS('Z0.6.b ProgInvest_Contr agg'!AI:AI,\n'Z0.6.b ProgInvest_Contr agg'!$M:$M,\"CIN ante\",\n'Z0.6.b ProgInvest_Contr agg'!$N:$N,\"SAL da contabilizzare\",\n'Z0.6.b ProgInvest_Contr agg'!$Q:$Q,\"Pianificato\")","v":0},{"$f":"SUMIFS('Z0.6.b ProgInvest_Contr agg'!AJ:AJ,\n'Z0.6.b ProgInvest_Contr agg'!$M:$M,\"CIN ante\",\n'Z0.6.b ProgInvest_Contr agg'!$N:$N,\"SAL da contabilizzare\",\n'Z0.6.b ProgInvest_Contr agg'!$Q:$Q,\"Pianificato\")","v":0},{"$f":"SUMIFS('Z0.6.b ProgInvest_Contr agg'!AK:AK,\n'Z0.6.b ProgInvest_Contr agg'!$M:$M,\"CIN ante\",\n'Z0.6.b ProgInvest_Contr agg'!$N:$N,\"SAL da contabilizzare\",\n'Z0.6.b ProgInvest_Contr agg'!$Q:$Q,\"Pianificato\")","v":0},{"$f":"SUMIFS('Z0.6.b ProgInvest_Contr agg'!AL:AL,\n'Z0.6.b ProgInvest_Contr agg'!$M:$M,\"CIN ante\",\n'Z0.6.b ProgInvest_Contr agg'!$N:$N,\"SAL da contabilizzare\",\n'Z0.6.b ProgInvest_Contr agg'!$Q:$Q,\"Pianificato\")","v":0}]
[null,null,"Interventi afferenti al CIN pre2026",null,{"$f":"SUMIFS('Z0.6.b ProgInvest_Contr agg'!X:X,\n'Z0.6.b ProgInvest_Contr agg'!$M:$M,\"CIN pre2026\",\n'Z0.6.b ProgInvest_Contr agg'!$Q:$Q,\"Pianificato\")","v":0},{"$f":"SUMIFS('Z0.6.b ProgInvest_Contr agg'!Y:Y,\n'Z0.6.b ProgInvest_Contr agg'!$M:$M,\"CIN pre2026\",\n'Z0.6.b ProgInvest_Contr agg'!$Q:$Q,\"Pianificato\")","v":0},{"$f":"SUMIFS('Z0.6.b ProgInvest_Contr agg'!Z:Z,\n'Z0.6.b ProgInvest_Contr agg'!$M:$M,\"CIN pre2026\",\n'Z0.6.b ProgInvest_Contr agg'!$Q:$Q,\"Pianificato\")","v":1000},{"$f":"SUMIFS('Z0.6.b ProgInvest_Contr agg'!AA:AA,\n'Z0.6.b ProgInvest_Contr agg'!$M:$M,\"CIN pre2026\",\n'Z0.6.b ProgInvest_Contr agg'!$Q:$Q,\"Pianificato\")","v":0},{"$f":"SUMIFS('Z0.6.b ProgInvest_Contr agg'!AB:AB,\n'Z0.6.b ProgInvest_Contr agg'!$M:$M,\"CIN pre2026\",\n'Z0.6.b ProgInvest_Contr agg'!$Q:$Q,\"Pianificato\")","v":0},{"$f":"SUMIFS('Z0.6.b ProgInvest_Contr agg'!AC:AC,\n'Z0.6.b ProgInvest_Contr agg'!$M:$M,\"CIN pre2026\",\n'Z0.6.b ProgInvest_Contr agg'!$Q:$Q,\"Pianificato\")","v":0},{"$f":"SUMIFS('Z0.6.b ProgInvest_Contr agg'!AD:AD,\n'Z0.6.b ProgInvest_Contr agg'!$M:$M,\"CIN pre2026\",\n'Z0.6.b ProgInvest_Contr agg'!$Q:$Q,\"Pianificato\")","v":0},{"$f":"SUMIFS('Z0.6.b ProgInvest_Contr agg'!AE:AE,\n'Z0.6.b ProgInvest_Contr agg'!$M:$M,\"CIN pre2026\",\n'Z0.6.b ProgInvest_Contr agg'!$Q:$Q,\"Pianificato\")","v":0},{"$f":"SUMIFS('Z0.6.b ProgInvest_Contr agg'!AF:AF,\n'Z0.6.b ProgInvest_Contr agg'!$M:$M,\"CIN pre2026\",\n'Z0.6.b ProgInvest_Contr agg'!$Q:$Q,\"Pianificato\")","v":0},{"$f":"SUMIFS('Z0.6.b ProgInvest_Contr agg'!AG:AG,\n'Z0.6.b ProgInvest_Contr agg'!$M:$M,\"CIN pre2026\",\n'Z0.6.b ProgInvest_Contr agg'!$Q:$Q,\"Pianificato\")","v":0},{"$f":"SUMIFS('Z0.6.b ProgInvest_Contr agg'!AH:AH,\n'Z0.6.b ProgInvest_Contr agg'!$M:$M,\"CIN pre2026\",\n'Z0.6.b ProgInvest_Contr agg'!$Q:$Q,\"Pianificato\")","v":0},{"$f":"SUMIFS('Z0.6.b ProgInvest_Contr agg'!AI:AI,\n'Z0.6.b ProgInvest_Contr agg'!$M:$M,\"CIN pre2026\",\n'Z0.6.b ProgInvest_Contr agg'!$Q:$Q,\"Pianificato\")","v":0},{"$f":"SUMIFS('Z0.6.b ProgInvest_Contr agg'!AJ:AJ,\n'Z0.6.b ProgInvest_Contr agg'!$M:$M,\"CIN pre2026\",\n'Z0.6.b ProgInvest_Contr agg'!$Q:$Q,\"Pianificato\")","v":0},{"$f":"SUMIFS('Z0.6.b ProgInvest_Contr agg'!AK:AK,\n'Z0.6.b ProgInvest_Contr agg'!$M:$M,\"CIN pre2026\",\n'Z0.6.b ProgInvest_Contr agg'!$Q:$Q,\"Pianificato\")","v":0},{"$f":"SUMIFS('Z0.6.b ProgInvest_Contr agg'!AL:AL,\n'Z0.6.b ProgInvest_Contr agg'!$M:$M,\"CIN pre2026\",\n'Z0.6.b ProgInvest_Contr agg'!$Q:$Q,\"Pianificato\")","v":0}]
[null,null,"Interventi afferenti al CIN post2026, ammortamento finanziario",null,{"$f":"SUMIFS('Z0.6.b ProgInvest_Contr agg'!X:X,\n'Z0.6.b ProgInvest_Contr agg'!$M:$M,\"CIN post2026\",\n'Z0.6.b ProgInvest_Contr agg'!$O:$O,\"Finanziario\",\n'Z0.6.b ProgInvest_Contr agg'!$Q:$Q,\"Pianificato\")","v":0},{"$f":"SUMIFS('Z0.6.b ProgInvest_Contr agg'!Y:Y,\n'Z0.6.b ProgInvest_Contr agg'!$M:$M,\"CIN post2026\",\n'Z0.6.b ProgInvest_Contr agg'!$O:$O,\"Finanziario\",\n'Z0.6.b ProgInvest_Contr agg'!$Q:$Q,\"Pianificato\")","v":0},{"$f":"SUMIFS('Z0.6.b ProgInvest_Contr agg'!Z:Z,\n'Z0.6.b ProgInvest_Contr agg'!$M:$M,\"CIN post2026\",\n'Z0.6.b ProgInvest_Contr agg'!$O:$O,\"Finanziario\",\n'Z0.6.b ProgInvest_Contr agg'!$Q:$Q,\"Pianificato\")","v":1000},{"$f":"SUMIFS('Z0.6.b ProgInvest_Contr agg'!AA:AA,\n'Z0.6.b ProgInvest_Contr agg'!$M:$M,\"CIN post2026\",\n'Z0.6.b ProgInvest_Contr agg'!$O:$O,\"Finanziario\",\n'Z0.6.b ProgInvest_Contr agg'!$Q:$Q,\"Pianificato\")","v":0},{"$f":"SUMIFS('Z0.6.b ProgInvest_Contr agg'!AB:AB,\n'Z0.6.b ProgInvest_Contr agg'!$M:$M,\"CIN post2026\",\n'Z0.6.b ProgInvest_Contr agg'!$O:$O,\"Finanziario\",\n'Z0.6.b ProgInvest_Contr agg'!$Q:$Q,\"Pianificato\")","v":0},{"$f":"SUMIFS('Z0.6.b ProgInvest_Contr agg'!AC:AC,\n'Z0.6.b ProgInvest_Contr agg'!$M:$M,\"CIN post2026\",\n'Z0.6.b ProgInvest_Contr agg'!$O:$O,\"Finanziario\",\n'Z0.6.b ProgInvest_Contr agg'!$Q:$Q,\"Pianificato\")","v":0},{"$f":"SUMIFS('Z0.6.b ProgInvest_Contr agg'!AD:AD,\n'Z0.6.b ProgInvest_Contr agg'!$M:$M,\"CIN post2026\",\n'Z0.6.b ProgInvest_Contr agg'!$O:$O,\"Finanziario\",\n'Z0.6.b ProgInvest_Contr agg'!$Q:$Q,\"Pianificato\")","v":0},{"$f":"SUMIFS('Z0.6.b ProgInvest_Contr agg'!AE:AE,\n'Z0.6.b ProgInvest_Contr agg'!$M:$M,\"CIN post2026\",\n'Z0.6.b ProgInvest_Contr agg'!$O:$O,\"Finanziario\",\n'Z0.6.b ProgInvest_Contr agg'!$Q:$Q,\"Pianificato\")","v":0},{"$f":"SUMIFS('Z0.6.b ProgInvest_Contr agg'!AF:AF,\n'Z0.6.b ProgInvest_Contr agg'!$M:$M,\"CIN post2026\",\n'Z0.6.b ProgInvest_Contr agg'!$O:$O,\"Finanziario\",\n'Z0.6.b ProgInvest_Contr agg'!$Q:$Q,\"Pianificato\")","v":0},{"$f":"SUMIFS('Z0.6.b ProgInvest_Contr agg'!AG:AG,\n'Z0.6.b ProgInvest_Contr agg'!$M:$M,\"CIN post2026\",\n'Z0.6.b ProgInvest_Contr agg'!$O:$O,\"Finanziario\",\n'Z0.6.b ProgInvest_Contr agg'!$Q:$Q,\"Pianificato\")","v":0},{"$f":"SUMIFS('Z0.6.b ProgInvest_Contr agg'!AH:AH,\n'Z0.6.b ProgInvest_Contr agg'!$M:$M,\"CIN post2026\",\n'Z0.6.b ProgInvest_Contr agg'!$O:$O,\"Finanziario\",\n'Z0.6.b ProgInvest_Contr agg'!$Q:$Q,\"Pianificato\")","v":0},{"$f":"SUMIFS('Z0.6.b ProgInvest_Contr agg'!AI:AI,\n'Z0.6.b ProgInvest_Contr agg'!$M:$M,\"CIN post2026\",\n'Z0.6.b ProgInvest_Contr agg'!$O:$O,\"Finanziario\",\n'Z0.6.b ProgInvest_Contr agg'!$Q:$Q,\"Pianificato\")","v":0},{"$f":"SUMIFS('Z0.6.b ProgInvest_Contr agg'!AJ:AJ,\n'Z0.6.b ProgInvest_Contr agg'!$M:$M,\"CIN post2026\",\n'Z0.6.b ProgInvest_Contr agg'!$O:$O,\"Finanziario\",\n'Z0.6.b ProgInvest_Contr agg'!$Q:$Q,\"Pianificato\")","v":0},{"$f":"SUMIFS('Z0.6.b ProgInvest_Contr agg'!AK:AK,\n'Z0.6.b ProgInvest_Contr agg'!$M:$M,\"CIN post2026\",\n'Z0.6.b ProgInvest_Contr agg'!$O:$O,\"Finanziario\",\n'Z0.6.b ProgInvest_Contr agg'!$Q:$Q,\"Pianificato\")","v":0},{"$f":"SUMIFS('Z0.6.b ProgInvest_Contr agg'!AL:AL,\n'Z0.6.b ProgInvest_Contr agg'!$M:$M,\"CIN post2026\",\n'Z0.6.b ProgInvest_Contr agg'!$O:$O,\"Finanziario\",\n'Z0.6.b ProgInvest_Contr agg'!$Q:$Q,\"Pianificato\")","v":0}]
[null,null,"Interventi afferenti al CIN post2026, ammortamento a vite utili di primo livello",null,{"$f":"SUMIFS('Z0.6.b ProgInvest_Contr agg'!X:X,\n'Z0.6.b ProgInvest_Contr agg'!$M:$M,\"CIN post2026\",\n'Z0.6.b ProgInvest_Contr agg'!$O:$O,\"Vite utili 1\",\n'Z0.6.b ProgInvest_Contr agg'!$Q:$Q,\"Pianificato\")","v":0},{"$f":"SUMIFS('Z0.6.b ProgInvest_Contr agg'!Y:Y,\n'Z0.6.b ProgInvest_Contr agg'!$M:$M,\"CIN post2026\",\n'Z0.6.b ProgInvest_Contr agg'!$O:$O,\"Vite utili 1\",\n'Z0.6.b ProgInvest_Contr agg'!$Q:$Q,\"Pianificato\")","v":0},{"$f":"SUMIFS('Z0.6.b ProgInvest_Contr agg'!Z:Z,\n'Z0.6.b ProgInvest_Contr agg'!$M:$M,\"CIN post2026\",\n'Z0.6.b ProgInvest_Contr agg'!$O:$O,\"Vite utili 1\",\n'Z0.6.b ProgInvest_Contr agg'!$Q:$Q,\"Pianificato\")","v":0},{"$f":"SUMIFS('Z0.6.b ProgInvest_Contr agg'!AA:AA,\n'Z0.6.b ProgInvest_Contr agg'!$M:$M,\"CIN post2026\",\n'Z0.6.b ProgInvest_Contr agg'!$O:$O,\"Vite utili 1\",\n'Z0.6.b ProgInvest_Contr agg'!$Q:$Q,\"Pianificato\")","v":20},{"$f":"SUMIFS('Z0.6.b ProgInvest_Contr agg'!AB:AB,\n'Z0.6.b ProgInvest_Contr agg'!$M:$M,\"CIN post2026\",\n'Z0.6.b ProgInvest_Contr agg'!$O:$O,\"Vite utili 1\",\n'Z0.6.b ProgInvest_Contr agg'!$Q:$Q,\"Pianificato\")","v":20},{"$f":"SUMIFS('Z0.6.b ProgInvest_Contr agg'!AC:AC,\n'Z0.6.b ProgInvest_Contr agg'!$M:$M,\"CIN post2026\",\n'Z0.6.b ProgInvest_Contr agg'!$O:$O,\"Vite utili 1\",\n'Z0.6.b ProgInvest_Contr agg'!$Q:$Q,\"Pianificato\")","v":20},{"$f":"SUMIFS('Z0.6.b ProgInvest_Contr agg'!AD:AD,\n'Z0.6.b ProgInvest_Contr agg'!$M:$M,\"CIN post2026\",\n'Z0.6.b ProgInvest_Contr agg'!$O:$O,\"Vite utili 1\",\n'Z0.6.b ProgInvest_Contr agg'!$Q:$Q,\"Pianificato\")","v":20},{"$f":"SUMIFS('Z0.6.b ProgInvest_Contr agg'!AE:AE,\n'Z0.6.b ProgInvest_Contr agg'!$M:$M,\"CIN post2026\",\n'Z0.6.b ProgInvest_Contr agg'!$O:$O,\"Vite utili 1\",\n'Z0.6.b ProgInvest_Contr agg'!$Q:$Q,\"Pianificato\")","v":20},{"$f":"SUMIFS('Z0.6.b ProgInvest_Contr agg'!AF:AF,\n'Z0.6.b ProgInvest_Contr agg'!$M:$M,\"CIN post2026\",\n'Z0.6.b ProgInvest_Contr agg'!$O:$O,\"Vite utili 1\",\n'Z0.6.b ProgInvest_Contr agg'!$Q:$Q,\"Pianificato\")","v":20},{"$f":"SUMIFS('Z0.6.b ProgInvest_Contr agg'!AG:AG,\n'Z0.6.b ProgInvest_Contr agg'!$M:$M,\"CIN post2026\",\n'Z0.6.b ProgInvest_Contr agg'!$O:$O,\"Vite utili 1\",\n'Z0.6.b ProgInvest_Contr agg'!$Q:$Q,\"Pianificato\")","v":20},{"$f":"SUMIFS('Z0.6.b ProgInvest_Contr agg'!AH:AH,\n'Z0.6.b ProgInvest_Contr agg'!$M:$M,\"CIN post2026\",\n'Z0.6.b ProgInvest_Contr agg'!$O:$O,\"Vite utili 1\",\n'Z0.6.b ProgInvest_Contr agg'!$Q:$Q,\"Pianificato\")","v":20},{"$f":"SUMIFS('Z0.6.b ProgInvest_Contr agg'!AI:AI,\n'Z0.6.b ProgInvest_Contr agg'!$M:$M,\"CIN post2026\",\n'Z0.6.b ProgInvest_Contr agg'!$O:$O,\"Vite utili 1\",\n'Z0.6.b ProgInvest_Contr agg'!$Q:$Q,\"Pianificato\")","v":20},{"$f":"SUMIFS('Z0.6.b ProgInvest_Contr agg'!AJ:AJ,\n'Z0.6.b ProgInvest_Contr agg'!$M:$M,\"CIN post2026\",\n'Z0.6.b ProgInvest_Contr agg'!$O:$O,\"Vite utili 1\",\n'Z0.6.b ProgInvest_Contr agg'!$Q:$Q,\"Pianificato\")","v":20},{"$f":"SUMIFS('Z0.6.b ProgInvest_Contr agg'!AK:AK,\n'Z0.6.b ProgInvest_Contr agg'!$M:$M,\"CIN post2026\",\n'Z0.6.b ProgInvest_Contr agg'!$O:$O,\"Vite utili 1\",\n'Z0.6.b ProgInvest_Contr agg'!$Q:$Q,\"Pianificato\")","v":0},{"$f":"SUMIFS('Z0.6.b ProgInvest_Contr agg'!AL:AL,\n'Z0.6.b ProgInvest_Contr agg'!$M:$M,\"CIN post2026\",\n'Z0.6.b ProgInvest_Contr agg'!$O:$O,\"Vite utili 1\",\n'Z0.6.b ProgInvest_Contr agg'!$Q:$Q,\"Pianificato\")","v":0}]
[null,null,"Interventi afferenti al CIN post2026, ammortamento a vite utili di secondo livello",null,{"$f":"SUMIFS('Z0.6.b ProgInvest_Contr agg'!X:X,\n'Z0.6.b ProgInvest_Contr agg'!$M:$M,\"CIN post2026\",\n'Z0.6.b ProgInvest_Contr agg'!$O:$O,\"Vite utili 2\",\n'Z0.6.b ProgInvest_Contr agg'!$Q:$Q,\"Pianificato\")","v":0},{"$f":"SUMIFS('Z0.6.b ProgInvest_Contr agg'!Y:Y,\n'Z0.6.b ProgInvest_Contr agg'!$M:$M,\"CIN post2026\",\n'Z0.6.b ProgInvest_Contr agg'!$O:$O,\"Vite utili 2\",\n'Z0.6.b ProgInvest_Contr agg'!$Q:$Q,\"Pianificato\")","v":0},{"$f":"SUMIFS('Z0.6.b ProgInvest_Contr agg'!Z:Z,\n'Z0.6.b ProgInvest_Contr agg'!$M:$M,\"CIN post2026\",\n'Z0.6.b ProgInvest_Contr agg'!$O:$O,\"Vite utili 2\",\n'Z0.6.b ProgInvest_Contr agg'!$Q:$Q,\"Pianificato\")","v":0},{"$f":"SUMIFS('Z0.6.b ProgInvest_Contr agg'!AA:AA,\n'Z0.6.b ProgInvest_Contr agg'!$M:$M,\"CIN post2026\",\n'Z0.6.b ProgInvest_Contr agg'!$O:$O,\"Vite utili 2\",\n'Z0.6.b ProgInvest_Contr agg'!$Q:$Q,\"Pianificato\")","v":20},{"$f":"SUMIFS('Z0.6.b ProgInvest_Contr agg'!AB:AB,\n'Z0.6.b ProgInvest_Contr agg'!$M:$M,\"CIN post2026\",\n'Z0.6.b ProgInvest_Contr agg'!$O:$O,\"Vite utili 2\",\n'Z0.6.b ProgInvest_Contr agg'!$Q:$Q,\"Pianificato\")","v":20},{"$f":"SUMIFS('Z0.6.b ProgInvest_Contr agg'!AC:AC,\n'Z0.6.b ProgInvest_Contr agg'!$M:$M,\"CIN post2026\",\n'Z0.6.b ProgInvest_Contr agg'!$O:$O,\"Vite utili 2\",\n'Z0.6.b ProgInvest_Contr agg'!$Q:$Q,\"Pianificato\")","v":20},{"$f":"SUMIFS('Z0.6.b ProgInvest_Contr agg'!AD:AD,\n'Z0.6.b ProgInvest_Contr agg'!$M:$M,\"CIN post2026\",\n'Z0.6.b ProgInvest_Contr agg'!$O:$O,\"Vite utili 2\",\n'Z0.6.b ProgInvest_Contr agg'!$Q:$Q,\"Pianificato\")","v":20},{"$f":"SUMIFS('Z0.6.b ProgInvest_Contr agg'!AE:AE,\n'Z0.6.b ProgInvest_Contr agg'!$M:$M,\"CIN post2026\",\n'Z0.6.b ProgInvest_Contr agg'!$O:$O,\"Vite utili 2\",\n'Z0.6.b ProgInvest_Contr agg'!$Q:$Q,\"Pianificato\")","v":20},{"$f":"SUMIFS('Z0.6.b ProgInvest_Contr agg'!AF:AF,\n'Z0.6.b ProgInvest_Contr agg'!$M:$M,\"CIN post2026\",\n'Z0.6.b ProgInvest_Contr agg'!$O:$O,\"Vite utili 2\",\n'Z0.6.b ProgInvest_Contr agg'!$Q:$Q,\"Pianificato\")","v":20},{"$f":"SUMIFS('Z0.6.b ProgInvest_Contr agg'!AG:AG,\n'Z0.6.b ProgInvest_Contr agg'!$M:$M,\"CIN post2026\",\n'Z0.6.b ProgInvest_Contr agg'!$O:$O,\"Vite utili 2\",\n'Z0.6.b ProgInvest_Contr agg'!$Q:$Q,\"Pianificato\")","v":20},{"$f":"SUMIFS('Z0.6.b ProgInvest_Contr agg'!AH:AH,\n'Z0.6.b ProgInvest_Contr agg'!$M:$M,\"CIN post2026\",\n'Z0.6.b ProgInvest_Contr agg'!$O:$O,\"Vite utili 2\",\n'Z0.6.b ProgInvest_Contr agg'!$Q:$Q,\"Pianificato\")","v":20},{"$f":"SUMIFS('Z0.6.b ProgInvest_Contr agg'!AI:AI,\n'Z0.6.b ProgInvest_Contr agg'!$M:$M,\"CIN post2026\",\n'Z0.6.b ProgInvest_Contr agg'!$O:$O,\"Vite utili 2\",\n'Z0.6.b ProgInvest_Contr agg'!$Q:$Q,\"Pianificato\")","v":20},{"$f":"SUMIFS('Z0.6.b ProgInvest_Contr agg'!AJ:AJ,\n'Z0.6.b ProgInvest_Contr agg'!$M:$M,\"CIN post2026\",\n'Z0.6.b ProgInvest_Contr agg'!$O:$O,\"Vite utili 2\",\n'Z0.6.b ProgInvest_Contr agg'!$Q:$Q,\"Pianificato\")","v":20},{"$f":"SUMIFS('Z0.6.b ProgInvest_Contr agg'!AK:AK,\n'Z0.6.b ProgInvest_Contr agg'!$M:$M,\"CIN post2026\",\n'Z0.6.b ProgInvest_Contr agg'!$O:$O,\"Vite utili 2\",\n'Z0.6.b ProgInvest_Contr agg'!$Q:$Q,\"Pianificato\")","v":0},{"$f":"SUMIFS('Z0.6.b ProgInvest_Contr agg'!AL:AL,\n'Z0.6.b ProgInvest_Contr agg'!$M:$M,\"CIN post2026\",\n'Z0.6.b ProgInvest_Contr agg'!$O:$O,\"Vite utili 2\",\n'Z0.6.b ProgInvest_Contr agg'!$Q:$Q,\"Pianificato\")","v":0}]
[null,null,"Totale",null,{"$f":"SUM(E71:E76)","v":0},{"$f":"SUM(F71:F76)","v":0},5000,40,40,40,40,40,40,40,40,40,40,0,0]
[]
[null,null,"Dismissioni annue, classificate per tipologia di investimento"]
[]
[null,null,"Interventi afferenti al CIN ante - SAL contabilizzati",null,{"$f":"SUMIFS('Z0.6.c ProgInvest_Dism agg'!X:X,\n'Z0.6.c ProgInvest_Dism agg'!$M:$M,\"CIN ante\",\n'Z0.6.c ProgInvest_Dism agg'!$N:$N,\"SAL contabilizzati\",\n'Z0.6.b ProgInvest_Contr agg'!$Q:$Q,\"Pianificato\")","v":0},{"$f":"SUMIFS('Z0.6.c ProgInvest_Dism agg'!Y:Y,\n'Z0.6.c ProgInvest_Dism agg'!$M:$M,\"CIN ante\",\n'Z0.6.c ProgInvest_Dism agg'!$N:$N,\"SAL contabilizzati\",\n'Z0.6.b ProgInvest_Contr agg'!$Q:$Q,\"Pianificato\")","v":0},{"$f":"SUMIFS('Z0.6.c ProgInvest_Dism agg'!Z:Z,\n'Z0.6.c ProgInvest_Dism agg'!$M:$M,\"CIN ante\",\n'Z0.6.c ProgInvest_Dism agg'!$N:$N,\"SAL contabilizzati\",\n'Z0.6.b ProgInvest_Contr agg'!$Q:$Q,\"Pianificato\")","v":0},{"$f":"SUMIFS('Z0.6.c ProgInvest_Dism agg'!AA:AA,\n'Z0.6.c ProgInvest_Dism agg'!$M:$M,\"CIN ante\",\n'Z0.6.c ProgInvest_Dism agg'!$N:$N,\"SAL contabilizzati\",\n'Z0.6.b ProgInvest_Contr agg'!$Q:$Q,\"Pianificato\")","v":0},{"$f":"SUMIFS('Z0.6.c ProgInvest_Dism agg'!AB:AB,\n'Z0.6.c ProgInvest_Dism agg'!$M:$M,\"CIN ante\",\n'Z0.6.c ProgInvest_Dism agg'!$N:$N,\"SAL contabilizzati\",\n'Z0.6.b ProgInvest_Contr agg'!$Q:$Q,\"Pianificato\")","v":0},{"$f":"SUMIFS('Z0.6.c ProgInvest_Dism agg'!AC:AC,\n'Z0.6.c ProgInvest_Dism agg'!$M:$M,\"CIN ante\",\n'Z0.6.c ProgInvest_Dism agg'!$N:$N,\"SAL contabilizzati\",\n'Z0.6.b ProgInvest_Contr agg'!$Q:$Q,\"Pianificato\")","v":0},{"$f":"SUMIFS('Z0.6.c ProgInvest_Dism agg'!AD:AD,\n'Z0.6.c ProgInvest_Dism agg'!$M:$M,\"CIN ante\",\n'Z0.6.c ProgInvest_Dism agg'!$N:$N,\"SAL contabilizzati\",\n'Z0.6.b ProgInvest_Contr agg'!$Q:$Q,\"Pianificato\")","v":0},{"$f":"SUMIFS('Z0.6.c ProgInvest_Dism agg'!AE:AE,\n'Z0.6.c ProgInvest_Dism agg'!$M:$M,\"CIN ante\",\n'Z0.6.c ProgInvest_Dism agg'!$N:$N,\"SAL contabilizzati\",\n'Z0.6.b ProgInvest_Contr agg'!$Q:$Q,\"Pianificato\")","v":0},{"$f":"SUMIFS('Z0.6.c ProgInvest_Dism agg'!AF:AF,\n'Z0.6.c ProgInvest_Dism agg'!$M:$M,\"CIN ante\",\n'Z0.6.c ProgInvest_Dism agg'!$N:$N,\"SAL contabilizzati\",\n'Z0.6.b ProgInvest_Contr agg'!$Q:$Q,\"Pianificato\")","v":0},{"$f":"SUMIFS('Z0.6.c ProgInvest_Dism agg'!AG:AG,\n'Z0.6.c ProgInvest_Dism agg'!$M:$M,\"CIN ante\",\n'Z0.6.c ProgInvest_Dism agg'!$N:$N,\"SAL contabilizzati\",\n'Z0.6.b ProgInvest_Contr agg'!$Q:$Q,\"Pianificato\")","v":0},{"$f":"SUMIFS('Z0.6.c ProgInvest_Dism agg'!AH:AH,\n'Z0.6.c ProgInvest_Dism agg'!$M:$M,\"CIN ante\",\n'Z0.6.c ProgInvest_Dism agg'!$N:$N,\"SAL contabilizzati\",\n'Z0.6.b ProgInvest_Contr agg'!$Q:$Q,\"Pianificato\")","v":0},{"$f":"SUMIFS('Z0.6.c ProgInvest_Dism agg'!AI:AI,\n'Z0.6.c ProgInvest_Dism agg'!$M:$M,\"CIN ante\",\n'Z0.6.c ProgInvest_Dism agg'!$N:$N,\"SAL contabilizzati\",\n'Z0.6.b ProgInvest_Contr agg'!$Q:$Q,\"Pianificato\")","v":0},{"$f":"SUMIFS('Z0.6.c ProgInvest_Dism agg'!AJ:AJ,\n'Z0.6.c ProgInvest_Dism agg'!$M:$M,\"CIN ante\",\n'Z0.6.c ProgInvest_Dism agg'!$N:$N,\"SAL contabilizzati\",\n'Z0.6.b ProgInvest_Contr agg'!$Q:$Q,\"Pianificato\")","v":0},{"$f":"SUMIFS('Z0.6.c ProgInvest_Dism agg'!AK:AK,\n'Z0.6.c ProgInvest_Dism agg'!$M:$M,\"CIN ante\",\n'Z0.6.c ProgInvest_Dism agg'!$N:$N,\"SAL contabilizzati\",\n'Z0.6.b ProgInvest_Contr agg'!$Q:$Q,\"Pianificato\")","v":20},{"$f":"SUMIFS('Z0.6.c ProgInvest_Dism agg'!AL:AL,\n'Z0.6.c ProgInvest_Dism agg'!$M:$M,\"CIN ante\",\n'Z0.6.c ProgInvest_Dism agg'!$N:$N,\"SAL contabilizzati\",\n'Z0.6.b ProgInvest_Contr agg'!$Q:$Q,\"Pianificato\")","v":0}]
[null,null,"Interventi afferenti al CIN ante - SAL da contabilizzare",null,{"$f":"SUMIFS('Z0.6.c ProgInvest_Dism agg'!X:X,\n'Z0.6.c ProgInvest_Dism agg'!$M:$M,\"CIN ante\",\n'Z0.6.c ProgInvest_Dism agg'!$N:$N,\"SAL da contabilizzare\",\n'Z0.6.b ProgInvest_Contr agg'!$Q:$Q,\"Pianificato\")","v":0},{"$f":"SUMIFS('Z0.6.c ProgInvest_Dism agg'!Y:Y,\n'Z0.6.c ProgInvest_Dism agg'!$M:$M,\"CIN ante\",\n'Z0.6.c ProgInvest_Dism agg'!$N:$N,\"SAL da contabilizzare\",\n'Z0.6.b ProgInvest_Contr agg'!$Q:$Q,\"Pianificato\")","v":0},{"$f":"SUMIFS('Z0.6.c ProgInvest_Dism agg'!Z:Z,\n'Z0.6.c ProgInvest_Dism agg'!$M:$M,\"CIN ante\",\n'Z0.6.c ProgInvest_Dism agg'!$N:$N,\"SAL da contabilizzare\",\n'Z0.6.b ProgInvest_Contr agg'!$Q:$Q,\"Pianificato\")","v":0},{"$f":"SUMIFS('Z0.6.c ProgInvest_Dism agg'!AA:AA,\n'Z0.6.c ProgInvest_Dism agg'!$M:$M,\"CIN ante\",\n'Z0.6.c ProgInvest_Dism agg'!$N:$N,\"SAL da contabilizzare\",\n'Z0.6.b ProgInvest_Contr agg'!$Q:$Q,\"Pianificato\")","v":0},{"$f":"SUMIFS('Z0.6.c ProgInvest_Dism agg'!AB:AB,\n'Z0.6.c ProgInvest_Dism agg'!$M:$M,\"CIN ante\",\n'Z0.6.c ProgInvest_Dism agg'!$N:$N,\"SAL da contabilizzare\",\n'Z0.6.b ProgInvest_Contr agg'!$Q:$Q,\"Pianificato\")","v":0},{"$f":"SUMIFS('Z0.6.c ProgInvest_Dism agg'!AC:AC,\n'Z0.6.c ProgInvest_Dism agg'!$M:$M,\"CIN ante\",\n'Z0.6.c ProgInvest_Dism agg'!$N:$N,\"SAL da contabilizzare\",\n'Z0.6.b ProgInvest_Contr agg'!$Q:$Q,\"Pianificato\")","v":0},{"$f":"SUMIFS('Z0.6.c ProgInvest_Dism agg'!AD:AD,\n'Z0.6.c ProgInvest_Dism agg'!$M:$M,\"CIN ante\",\n'Z0.6.c ProgInvest_Dism agg'!$N:$N,\"SAL da contabilizzare\",\n'Z0.6.b ProgInvest_Contr agg'!$Q:$Q,\"Pianificato\")","v":0},{"$f":"SUMIFS('Z0.6.c ProgInvest_Dism agg'!AE:AE,\n'Z0.6.c ProgInvest_Dism agg'!$M:$M,\"CIN ante\",\n'Z0.6.c ProgInvest_Dism agg'!$N:$N,\"SAL da contabilizzare\",\n'Z0.6.b ProgInvest_Contr agg'!$Q:$Q,\"Pianificato\")","v":0},{"$f":"SUMIFS('Z0.6.c ProgInvest_Dism agg'!AF:AF,\n'Z0.6.c ProgInvest_Dism agg'!$M:$M,\"CIN ante\",\n'Z0.6.c ProgInvest_Dism agg'!$N:$N,\"SAL da contabilizzare\",\n'Z0.6.b ProgInvest_Contr agg'!$Q:$Q,\"Pianificato\")","v":0},{"$f":"SUMIFS('Z0.6.c ProgInvest_Dism agg'!AG:AG,\n'Z0.6.c ProgInvest_Dism agg'!$M:$M,\"CIN ante\",\n'Z0.6.c ProgInvest_Dism agg'!$N:$N,\"SAL da contabilizzare\",\n'Z0.6.b ProgInvest_Contr agg'!$Q:$Q,\"Pianificato\")","v":0},{"$f":"SUMIFS('Z0.6.c ProgInvest_Dism agg'!AH:AH,\n'Z0.6.c ProgInvest_Dism agg'!$M:$M,\"CIN ante\",\n'Z0.6.c ProgInvest_Dism agg'!$N:$N,\"SAL da contabilizzare\",\n'Z0.6.b ProgInvest_Contr agg'!$Q:$Q,\"Pianificato\")","v":0},{"$f":"SUMIFS('Z0.6.c ProgInvest_Dism agg'!AI:AI,\n'Z0.6.c ProgInvest_Dism agg'!$M:$M,\"CIN ante\",\n'Z0.6.c ProgInvest_Dism agg'!$N:$N,\"SAL da contabilizzare\",\n'Z0.6.b ProgInvest_Contr agg'!$Q:$Q,\"Pianificato\")","v":0},{"$f":"SUMIFS('Z0.6.c ProgInvest_Dism agg'!AJ:AJ,\n'Z0.6.c ProgInvest_Dism agg'!$M:$M,\"CIN ante\",\n'Z0.6.c ProgInvest_Dism agg'!$N:$N,\"SAL da contabilizzare\",\n'Z0.6.b ProgInvest_Contr agg'!$Q:$Q,\"Pianificato\")","v":0},{"$f":"SUMIFS('Z0.6.c ProgInvest_Dism agg'!AK:AK,\n'Z0.6.c ProgInvest_Dism agg'!$M:$M,\"CIN ante\",\n'Z0.6.c ProgInvest_Dism agg'!$N:$N,\"SAL da contabilizzare\",\n'Z0.6.b ProgInvest_Contr agg'!$Q:$Q,\"Pianificato\")","v":20},{"$f":"SUMIFS('Z0.6.c ProgInvest_Dism agg'!AL:AL,\n'Z0.6.c ProgInvest_Dism agg'!$M:$M,\"CIN ante\",\n'Z0.6.c ProgInvest_Dism agg'!$N:$N,\"SAL da contabilizzare\",\n'Z0.6.b ProgInvest_Contr agg'!$Q:$Q,\"Pianificato\")","v":0}]
[null,null,"Interventi afferenti al CIN pre2026",null,{"$f":"SUMIFS('Z0.6.c ProgInvest_Dism agg'!X:X,\n'Z0.6.c ProgInvest_Dism agg'!$M:$M,\"CIN pre2026\",\n'Z0.6.b ProgInvest_Contr agg'!$Q:$Q,\"Pianificato\")","v":0},{"$f":"SUMIFS('Z0.6.c ProgInvest_Dism agg'!Y:Y,\n'Z0.6.c ProgInvest_Dism agg'!$M:$M,\"CIN pre2026\",\n'Z0.6.b ProgInvest_Contr agg'!$Q:$Q,\"Pianificato\")","v":0},{"$f":"SUMIFS('Z0.6.c ProgInvest_Dism agg'!Z:Z,\n'Z0.6.c ProgInvest_Dism agg'!$M:$M,\"CIN pre2026\",\n'Z0.6.b ProgInvest_Contr agg'!$Q:$Q,\"Pianificato\")","v":0},{"$f":"SUMIFS('Z0.6.c ProgInvest_Dism agg'!AA:AA,\n'Z0.6.c ProgInvest_Dism agg'!$M:$M,\"CIN pre2026\",\n'Z0.6.b ProgInvest_Contr agg'!$Q:$Q,\"Pianificato\")","v":0},{"$f":"SUMIFS('Z0.6.c ProgInvest_Dism agg'!AB:AB,\n'Z0.6.c ProgInvest_Dism agg'!$M:$M,\"CIN pre2026\",\n'Z0.6.b ProgInvest_Contr agg'!$Q:$Q,\"Pianificato\")","v":0},{"$f":"SUMIFS('Z0.6.c ProgInvest_Dism agg'!AC:AC,\n'Z0.6.c ProgInvest_Dism agg'!$M:$M,\"CIN pre2026\",\n'Z0.6.b ProgInvest_Contr agg'!$Q:$Q,\"Pianificato\")","v":0},{"$f":"SUMIFS('Z0.6.c ProgInvest_Dism agg'!AD:AD,\n'Z0.6.c ProgInvest_Dism agg'!$M:$M,\"CIN pre2026\",\n'Z0.6.b ProgInvest_Contr agg'!$Q:$Q,\"Pianificato\")","v":0},{"$f":"SUMIFS('Z0.6.c ProgInvest_Dism agg'!AE:AE,\n'Z0.6.c ProgInvest_Dism agg'!$M:$M,\"CIN pre2026\",\n'Z0.6.b ProgInvest_Contr agg'!$Q:$Q,\"Pianificato\")","v":0},{"$f":"SUMIFS('Z0.6.c ProgInvest_Dism agg'!AF:AF,\n'Z0.6.c ProgInvest_Dism agg'!$M:$M,\"CIN pre2026\",\n'Z0.6.b ProgInvest_Contr agg'!$Q:$Q,\"Pianificato\")","v":0},{"$f":"SUMIFS('Z0.6.c ProgInvest_Dism agg'!AG:AG,\n'Z0.6.c ProgInvest_Dism agg'!$M:$M,\"CIN pre2026\",\n'Z0.6.b ProgInvest_Contr agg'!$Q:$Q,\"Pianificato\")","v":0},{"$f":"SUMIFS('Z0.6.c ProgInvest_Dism agg'!AH:AH,\n'Z0.6.c ProgInvest_Dism agg'!$M:$M,\"CIN pre2026\",\n'Z0.6.b ProgInvest_Contr agg'!$Q:$Q,\"Pianificato\")","v":0},{"$f":"SUMIFS('Z0.6.c ProgInvest_Dism agg'!AI:AI,\n'Z0.6.c ProgInvest_Dism agg'!$M:$M,\"CIN pre2026\",\n'Z0.6.b ProgInvest_Contr agg'!$Q:$Q,\"Pianificato\")","v":0},{"$f":"SUMIFS('Z0.6.c ProgInvest_Dism agg'!AJ:AJ,\n'Z0.6.c ProgInvest_Dism agg'!$M:$M,\"CIN pre2026\",\n'Z0.6.b ProgInvest_Contr agg'!$Q:$Q,\"Pianificato\")","v":0},{"$f":"SUMIFS('Z0.6.c ProgInvest_Dism agg'!AK:AK,\n'Z0.6.c ProgInvest_Dism agg'!$M:$M,\"CIN pre2026\",\n'Z0.6.b ProgInvest_Contr agg'!$Q:$Q,\"Pianificato\")","v":20},{"$f":"SUMIFS('Z0.6.c ProgInvest_Dism agg'!AL:AL,\n'Z0.6.c ProgInvest_Dism agg'!$M:$M,\"CIN pre2026\",\n'Z0.6.b ProgInvest_Contr agg'!$Q:$Q,\"Pianificato\")","v":0}]
[null,null,"Interventi afferenti al CIN post2026, ammortamento finanziario",null,{"$f":"SUMIFS('Z0.6.c ProgInvest_Dism agg'!X:X,\n'Z0.6.c ProgInvest_Dism agg'!$M:$M,\"CIN post2026\",\n'Z0.6.c ProgInvest_Dism agg'!$O:$O,\"Finanziario\",\n'Z0.6.b ProgInvest_Contr agg'!$Q:$Q,\"Pianificato\")","v":0},{"$f":"SUMIFS('Z0.6.c ProgInvest_Dism agg'!Y:Y,\n'Z0.6.c ProgInvest_Dism agg'!$M:$M,\"CIN post2026\",\n'Z0.6.c ProgInvest_Dism agg'!$O:$O,\"Finanziario\",\n'Z0.6.b ProgInvest_Contr agg'!$Q:$Q,\"Pianificato\")","v":0},{"$f":"SUMIFS('Z0.6.c ProgInvest_Dism agg'!Z:Z,\n'Z0.6.c ProgInvest_Dism agg'!$M:$M,\"CIN post2026\",\n'Z0.6.c ProgInvest_Dism agg'!$O:$O,\"Finanziario\",\n'Z0.6.b ProgInvest_Contr agg'!$Q:$Q,\"Pianificato\")","v":0},{"$f":"SUMIFS('Z0.6.c ProgInvest_Dism agg'!AA:AA,\n'Z0.6.c ProgInvest_Dism agg'!$M:$M,\"CIN post2026\",\n'Z0.6.c ProgInvest_Dism agg'!$O:$O,\"Finanziario\",\n'Z0.6.b ProgInvest_Contr agg'!$Q:$Q,\"Pianificato\")","v":0},{"$f":"SUMIFS('Z0.6.c ProgInvest_Dism agg'!AB:AB,\n'Z0.6.c ProgInvest_Dism agg'!$M:$M,\"CIN post2026\",\n'Z0.6.c ProgInvest_Dism agg'!$O:$O,\"Finanziario\",\n'Z0.6.b ProgInvest_Contr agg'!$Q:$Q,\"Pianificato\")","v":0},{"$f":"SUMIFS('Z0.6.c ProgInvest_Dism agg'!AC:AC,\n'Z0.6.c ProgInvest_Dism agg'!$M:$M,\"CIN post2026\",\n'Z0.6.c ProgInvest_Dism agg'!$O:$O,\"Finanziario\",\n'Z0.6.b ProgInvest_Contr agg'!$Q:$Q,\"Pianificato\")","v":0},{"$f":"SUMIFS('Z0.6.c ProgInvest_Dism agg'!AD:AD,\n'Z0.6.c ProgInvest_Dism agg'!$M:$M,\"CIN post2026\",\n'Z0.6.c ProgInvest_Dism agg'!$O:$O,\"Finanziario\",\n'Z0.6.b ProgInvest_Contr agg'!$Q:$Q,\"Pianificato\")","v":0},{"$f":"SUMIFS('Z0.6.c ProgInvest_Dism agg'!AE:AE,\n'Z0.6.c ProgInvest_Dism agg'!$M:$M,\"CIN post2026\",\n'Z0.6.c ProgInvest_Dism agg'!$O:$O,\"Finanziario\",\n'Z0.6.b ProgInvest_Contr agg'!$Q:$Q,\"Pianificato\")","v":0},{"$f":"SUMIFS('Z0.6.c ProgInvest_Dism agg'!AF:AF,\n'Z0.6.c ProgInvest_Dism agg'!$M:$M,\"CIN post2026\",\n'Z0.6.c ProgInvest_Dism agg'!$O:$O,\"Finanziario\",\n'Z0.6.b ProgInvest_Contr agg'!$Q:$Q,\"Pianificato\")","v":0},{"$f":"SUMIFS('Z0.6.c ProgInvest_Dism agg'!AG:AG,\n'Z0.6.c ProgInvest_Dism agg'!$M:$M,\"CIN post2026\",\n'Z0.6.c ProgInvest_Dism agg'!$O:$O,\"Finanziario\",\n'Z0.6.b ProgInvest_Contr agg'!$Q:$Q,\"Pianificato\")","v":0},{"$f":"SUMIFS('Z0.6.c ProgInvest_Dism agg'!AH:AH,\n'Z0.6.c ProgInvest_Dism agg'!$M:$M,\"CIN post2026\",\n'Z0.6.c ProgInvest_Dism agg'!$O:$O,\"Finanziario\",\n'Z0.6.b ProgInvest_Contr agg'!$Q:$Q,\"Pianificato\")","v":0},{"$f":"SUMIFS('Z0.6.c ProgInvest_Dism agg'!AI:AI,\n'Z0.6.c ProgInvest_Dism agg'!$M:$M,\"CIN post2026\",\n'Z0.6.c ProgInvest_Dism agg'!$O:$O,\"Finanziario\",\n'Z0.6.b ProgInvest_Contr agg'!$Q:$Q,\"Pianificato\")","v":0},{"$f":"SUMIFS('Z0.6.c ProgInvest_Dism agg'!AJ:AJ,\n'Z0.6.c ProgInvest_Dism agg'!$M:$M,\"CIN post2026\",\n'Z0.6.c ProgInvest_Dism agg'!$O:$O,\"Finanziario\",\n'Z0.6.b ProgInvest_Contr agg'!$Q:$Q,\"Pianificato\")","v":0},{"$f":"SUMIFS('Z0.6.c ProgInvest_Dism agg'!AK:AK,\n'Z0.6.c ProgInvest_Dism agg'!$M:$M,\"CIN post2026\",\n'Z0.6.c ProgInvest_Dism agg'!$O:$O,\"Finanziario\",\n'Z0.6.b ProgInvest_Contr agg'!$Q:$Q,\"Pianificato\")","v":20},{"$f":"SUMIFS('Z0.6.c ProgInvest_Dism agg'!AL:AL,\n'Z0.6.c ProgInvest_Dism agg'!$M:$M,\"CIN post2026\",\n'Z0.6.c ProgInvest_Dism agg'!$O:$O,\"Finanziario\",\n'Z0.6.b ProgInvest_Contr agg'!$Q:$Q,\"Pianificato\")","v":0}]
[null,null,"Interventi afferenti al CIN post2026, ammortamento a vite utili di primo livello",null,{"$f":"SUMIFS('Z0.6.c ProgInvest_Dism agg'!X:X,\n'Z0.6.c ProgInvest_Dism agg'!$M:$M,\"CIN post2026\",\n'Z0.6.c ProgInvest_Dism agg'!$O:$O,\"Vite utili 1\",\n'Z0.6.b ProgInvest_Contr agg'!$Q:$Q,\"Pianificato\")","v":0},{"$f":"SUMIFS('Z0.6.c ProgInvest_Dism agg'!Y:Y,\n'Z0.6.c ProgInvest_Dism agg'!$M:$M,\"CIN post2026\",\n'Z0.6.c ProgInvest_Dism agg'!$O:$O,\"Vite utili 1\",\n'Z0.6.b ProgInvest_Contr agg'!$Q:$Q,\"Pianificato\")","v":0},{"$f":"SUMIFS('Z0.6.c ProgInvest_Dism agg'!Z:Z,\n'Z0.6.c ProgInvest_Dism agg'!$M:$M,\"CIN post2026\",\n'Z0.6.c ProgInvest_Dism agg'!$O:$O,\"Vite utili 1\",\n'Z0.6.b ProgInvest_Contr agg'!$Q:$Q,\"Pianificato\")","v":0},{"$f":"SUMIFS('Z0.6.c ProgInvest_Dism agg'!AA:AA,\n'Z0.6.c ProgInvest_Dism agg'!$M:$M,\"CIN post2026\",\n'Z0.6.c ProgInvest_Dism agg'!$O:$O,\"Vite utili 1\",\n'Z0.6.b ProgInvest_Contr agg'!$Q:$Q,\"Pianificato\")","v":0},{"$f":"SUMIFS('Z0.6.c ProgInvest_Dism agg'!AB:AB,\n'Z0.6.c ProgInvest_Dism agg'!$M:$M,\"CIN post2026\",\n'Z0.6.c ProgInvest_Dism agg'!$O:$O,\"Vite utili 1\",\n'Z0.6.b ProgInvest_Contr agg'!$Q:$Q,\"Pianificato\")","v":0},{"$f":"SUMIFS('Z0.6.c ProgInvest_Dism agg'!AC:AC,\n'Z0.6.c ProgInvest_Dism agg'!$M:$M,\"CIN post2026\",\n'Z0.6.c ProgInvest_Dism agg'!$O:$O,\"Vite utili 1\",\n'Z0.6.b ProgInvest_Contr agg'!$Q:$Q,\"Pianificato\")","v":0},{"$f":"SUMIFS('Z0.6.c ProgInvest_Dism agg'!AD:AD,\n'Z0.6.c ProgInvest_Dism agg'!$M:$M,\"CIN post2026\",\n'Z0.6.c ProgInvest_Dism agg'!$O:$O,\"Vite utili 1\",\n'Z0.6.b ProgInvest_Contr agg'!$Q:$Q,\"Pianificato\")","v":0},{"$f":"SUMIFS('Z0.6.c ProgInvest_Dism agg'!AE:AE,\n'Z0.6.c ProgInvest_Dism agg'!$M:$M,\"CIN post2026\",\n'Z0.6.c ProgInvest_Dism agg'!$O:$O,\"Vite utili 1\",\n'Z0.6.b ProgInvest_Contr agg'!$Q:$Q,\"Pianificato\")","v":0},{"$f":"SUMIFS('Z0.6.c ProgInvest_Dism agg'!AF:AF,\n'Z0.6.c ProgInvest_Dism agg'!$M:$M,\"CIN post2026\",\n'Z0.6.c ProgInvest_Dism agg'!$O:$O,\"Vite utili 1\",\n'Z0.6.b ProgInvest_Contr agg'!$Q:$Q,\"Pianificato\")","v":0},{"$f":"SUMIFS('Z0.6.c ProgInvest_Dism agg'!AG:AG,\n'Z0.6.c ProgInvest_Dism agg'!$M:$M,\"CIN post2026\",\n'Z0.6.c ProgInvest_Dism agg'!$O:$O,\"Vite utili 1\",\n'Z0.6.b ProgInvest_Contr agg'!$Q:$Q,\"Pianificato\")","v":0},{"$f":"SUMIFS('Z0.6.c ProgInvest_Dism agg'!AH:AH,\n'Z0.6.c ProgInvest_Dism agg'!$M:$M,\"CIN post2026\",\n'Z0.6.c ProgInvest_Dism agg'!$O:$O,\"Vite utili 1\",\n'Z0.6.b ProgInvest_Contr agg'!$Q:$Q,\"Pianificato\")","v":0},{"$f":"SUMIFS('Z0.6.c ProgInvest_Dism agg'!AI:AI,\n'Z0.6.c ProgInvest_Dism agg'!$M:$M,\"CIN post2026\",\n'Z0.6.c ProgInvest_Dism agg'!$O:$O,\"Vite utili 1\",\n'Z0.6.b ProgInvest_Contr agg'!$Q:$Q,\"Pianificato\")","v":0},{"$f":"SUMIFS('Z0.6.c ProgInvest_Dism agg'!AJ:AJ,\n'Z0.6.c ProgInvest_Dism agg'!$M:$M,\"CIN post2026\",\n'Z0.6.c ProgInvest_Dism agg'!$O:$O,\"Vite utili 1\",\n'Z0.6.b ProgInvest_Contr agg'!$Q:$Q,\"Pianificato\")","v":0},{"$f":"SUMIFS('Z0.6.c ProgInvest_Dism agg'!AK:AK,\n'Z0.6.c ProgInvest_Dism agg'!$M:$M,\"CIN post2026\",\n'Z0.6.c ProgInvest_Dism agg'!$O:$O,\"Vite utili 1\",\n'Z0.6.b ProgInvest_Contr agg'!$Q:$Q,\"Pianificato\")","v":0},{"$f":"SUMIFS('Z0.6.c ProgInvest_Dism agg'!AL:AL,\n'Z0.6.c ProgInvest_Dism agg'!$M:$M,\"CIN post2026\",\n'Z0.6.c ProgInvest_Dism agg'!$O:$O,\"Vite utili 1\",\n'Z0.6.b ProgInvest_Contr agg'!$Q:$Q,\"Pianificato\")","v":100}]
[null,null,"Interventi afferenti al CIN post2026, ammortamento a vite utili di secondo livello",null,{"$f":"SUMIFS('Z0.6.c ProgInvest_Dism agg'!X:X,\n'Z0.6.c ProgInvest_Dism agg'!$M:$M,\"CIN post2026\",\n'Z0.6.c ProgInvest_Dism agg'!$O:$O,\"Vite utili 2\",\n'Z0.6.b ProgInvest_Contr agg'!$Q:$Q,\"Pianificato\")","v":0},{"$f":"SUMIFS('Z0.6.c ProgInvest_Dism agg'!Y:Y,\n'Z0.6.c ProgInvest_Dism agg'!$M:$M,\"CIN post2026\",\n'Z0.6.c ProgInvest_Dism agg'!$O:$O,\"Vite utili 2\",\n'Z0.6.b ProgInvest_Contr agg'!$Q:$Q,\"Pianificato\")","v":0},{"$f":"SUMIFS('Z0.6.c ProgInvest_Dism agg'!Z:Z,\n'Z0.6.c ProgInvest_Dism agg'!$M:$M,\"CIN post2026\",\n'Z0.6.c ProgInvest_Dism agg'!$O:$O,\"Vite utili 2\",\n'Z0.6.b ProgInvest_Contr agg'!$Q:$Q,\"Pianificato\")","v":0},{"$f":"SUMIFS('Z0.6.c ProgInvest_Dism agg'!AA:AA,\n'Z0.6.c ProgInvest_Dism agg'!$M:$M,\"CIN post2026\",\n'Z0.6.c ProgInvest_Dism agg'!$O:$O,\"Vite utili 2\",\n'Z0.6.b ProgInvest_Contr agg'!$Q:$Q,\"Pianificato\")","v":0},{"$f":"SUMIFS('Z0.6.c ProgInvest_Dism agg'!AB:AB,\n'Z0.6.c ProgInvest_Dism agg'!$M:$M,\"CIN post2026\",\n'Z0.6.c ProgInvest_Dism agg'!$O:$O,\"Vite utili 2\",\n'Z0.6.b ProgInvest_Contr agg'!$Q:$Q,\"Pianificato\")","v":0},{"$f":"SUMIFS('Z0.6.c ProgInvest_Dism agg'!AC:AC,\n'Z0.6.c ProgInvest_Dism agg'!$M:$M,\"CIN post2026\",\n'Z0.6.c ProgInvest_Dism agg'!$O:$O,\"Vite utili 2\",\n'Z0.6.b ProgInvest_Contr agg'!$Q:$Q,\"Pianificato\")","v":0},{"$f":"SUMIFS('Z0.6.c ProgInvest_Dism agg'!AD:AD,\n'Z0.6.c ProgInvest_Dism agg'!$M:$M,\"CIN post2026\",\n'Z0.6.c ProgInvest_Dism agg'!$O:$O,\"Vite utili 2\",\n'Z0.6.b ProgInvest_Contr agg'!$Q:$Q,\"Pianificato\")","v":0},{"$f":"SUMIFS('Z0.6.c ProgInvest_Dism agg'!AE:AE,\n'Z0.6.c ProgInvest_Dism agg'!$M:$M,\"CIN post2026\",\n'Z0.6.c ProgInvest_Dism agg'!$O:$O,\"Vite utili 2\",\n'Z0.6.b ProgInvest_Contr agg'!$Q:$Q,\"Pianificato\")","v":0},{"$f":"SUMIFS('Z0.6.c ProgInvest_Dism agg'!AF:AF,\n'Z0.6.c ProgInvest_Dism agg'!$M:$M,\"CIN post2026\",\n'Z0.6.c ProgInvest_Dism agg'!$O:$O,\"Vite utili 2\",\n'Z0.6.b ProgInvest_Contr agg'!$Q:$Q,\"Pianificato\")","v":0},{"$f":"SUMIFS('Z0.6.c ProgInvest_Dism agg'!AG:AG,\n'Z0.6.c ProgInvest_Dism agg'!$M:$M,\"CIN post2026\",\n'Z0.6.c ProgInvest_Dism agg'!$O:$O,\"Vite utili 2\",\n'Z0.6.b ProgInvest_Contr agg'!$Q:$Q,\"Pianificato\")","v":0},{"$f":"SUMIFS('Z0.6.c ProgInvest_Dism agg'!AH:AH,\n'Z0.6.c ProgInvest_Dism agg'!$M:$M,\"CIN post2026\",\n'Z0.6.c ProgInvest_Dism agg'!$O:$O,\"Vite utili 2\",\n'Z0.6.b ProgInvest_Contr agg'!$Q:$Q,\"Pianificato\")","v":0},{"$f":"SUMIFS('Z0.6.c ProgInvest_Dism agg'!AI:AI,\n'Z0.6.c ProgInvest_Dism agg'!$M:$M,\"CIN post2026\",\n'Z0.6.c ProgInvest_Dism agg'!$O:$O,\"Vite utili 2\",\n'Z0.6.b ProgInvest_Contr agg'!$Q:$Q,\"Pianificato\")","v":0},{"$f":"SUMIFS('Z0.6.c ProgInvest_Dism agg'!AJ:AJ,\n'Z0.6.c ProgInvest_Dism agg'!$M:$M,\"CIN post2026\",\n'Z0.6.c ProgInvest_Dism agg'!$O:$O,\"Vite utili 2\",\n'Z0.6.b ProgInvest_Contr agg'!$Q:$Q,\"Pianificato\")","v":0},{"$f":"SUMIFS('Z0.6.c ProgInvest_Dism agg'!AK:AK,\n'Z0.6.c ProgInvest_Dism agg'!$M:$M,\"CIN post2026\",\n'Z0.6.c ProgInvest_Dism agg'!$O:$O,\"Vite utili 2\",\n'Z0.6.b ProgInvest_Contr agg'!$Q:$Q,\"Pianificato\")","v":0},{"$f":"SUMIFS('Z0.6.c ProgInvest_Dism agg'!AL:AL,\n'Z0.6.c ProgInvest_Dism agg'!$M:$M,\"CIN post2026\",\n'Z0.6.c ProgInvest_Dism agg'!$O:$O,\"Vite utili 2\",\n'Z0.6.b ProgInvest_Contr agg'!$Q:$Q,\"Pianificato\")","v":100}]
[null,null,"Totale",null,{"$f":"SUM(E81:E86)","v":0},{"$f":"SUM(F81:F86)","v":0},0,0,0,0,0,0,0,0,0,0,0,80,200]
[]
[null,null,"Investimenti netti annui, classificati per tipologia"]
[]
[null,null,"Interventi afferenti al CIN ante - SAL contabilizzati",null,{"$f":"E61-E71-E81","v":0},{"$f":"F61-F71-F81","v":0},-2000,0,0,0,0,0,0,0,0,0,0,-20,0]
[null,null,"Interventi afferenti al CIN ante - SAL da contabilizzare",null,{"$f":"E62-E72-E82","v":0},0,9000,10000,0,0,0,0,0,0,0,0,0,-20,0]
[null,null,"Interventi afferenti al CIN pre2026",null,{"$f":"E63-E73-E83","v":0},0,9000,10000,0,0,0,0,0,0,0,0,0,-20,0]
[null,null,"Interventi afferenti al CIN post2026, ammortamento finanziario",null,{"$f":"E64-E74-E84","v":0},0,49000,50000,0,0,0,0,0,0,0,0,0,-20,0]
[null,null,"Interventi afferenti al CIN post2026, ammortamento a vite utili di primo livello",null,{"$f":"E65-E75-E85","v":0},0,0,80,180,180,180,180,180,180,180,180,180,100,-100]
[null,null,"Interventi afferenti al CIN post2026, ammortamento a vite utili di secondo livello",null,{"$f":"E66-E76-E86","v":0},0,0,80,180,180,180,180,180,180,180,180,180,100,-100]
[null,null,"Totale",null,{"$f":"SUM(E91:E96)","v":0},{"$f":"SUM(F91:F96)","v":0},65000,70160,360,360,360,360,360,360,360,360,360,120,-200]
[]
[]
[null,null,"Nuovi investimenti di carattere urgente e indifferibile, non programmati"]
[]
[null,null,"Investimenti lordi annui, classificati per tipologia"]
[]
[null,null,"Interventi afferenti al CIN ante - SAL contabilizzati",null,{"$f":"SUMIFS('Z0.6.a ProgInvest_Spesa agg'!X:X,\n'Z0.6.a ProgInvest_Spesa agg'!$M:$M,\"CIN ante\",\n'Z0.6.a ProgInvest_Spesa agg'!$N:$N,\"SAL contabilizzati\",\n'Z0.6.a ProgInvest_Spesa agg'!$Q:$Q,\"nuovo, urgente\")","v":0},{"$f":"SUMIFS('Z0.6.a ProgInvest_Spesa agg'!Y:Y,\n'Z0.6.a ProgInvest_Spesa agg'!$M:$M,\"CIN ante\",\n'Z0.6.a ProgInvest_Spesa agg'!$N:$N,\"SAL contabilizzati\",\n'Z0.6.a ProgInvest_Spesa agg'!$Q:$Q,\"nuovo, urgente\")","v":0},{"$f":"SUMIFS('Z0.6.a ProgInvest_Spesa agg'!Z:Z,\n'Z0.6.a ProgInvest_Spesa agg'!$M:$M,\"CIN ante\",\n'Z0.6.a ProgInvest_Spesa agg'!$N:$N,\"SAL contabilizzati\",\n'Z0.6.a ProgInvest_Spesa agg'!$Q:$Q,\"nuovo, urgente\")","v":0},{"$f":"SUMIFS('Z0.6.a ProgInvest_Spesa agg'!AA:AA,\n'Z0.6.a ProgInvest_Spesa agg'!$M:$M,\"CIN ante\",\n'Z0.6.a ProgInvest_Spesa agg'!$N:$N,\"SAL contabilizzati\",\n'Z0.6.a ProgInvest_Spesa agg'!$Q:$Q,\"nuovo, urgente\")","v":0},{"$f":"SUMIFS('Z0.6.a ProgInvest_Spesa agg'!AB:AB,\n'Z0.6.a ProgInvest_Spesa agg'!$M:$M,\"CIN ante\",\n'Z0.6.a ProgInvest_Spesa agg'!$N:$N,\"SAL contabilizzati\",\n'Z0.6.a ProgInvest_Spesa agg'!$Q:$Q,\"nuovo, urgente\")","v":0},{"$f":"SUMIFS('Z0.6.a ProgInvest_Spesa agg'!AC:AC,\n'Z0.6.a ProgInvest_Spesa agg'!$M:$M,\"CIN ante\",\n'Z0.6.a ProgInvest_Spesa agg'!$N:$N,\"SAL contabilizzati\",\n'Z0.6.a ProgInvest_Spesa agg'!$Q:$Q,\"nuovo, urgente\")","v":0},{"$f":"SUMIFS('Z0.6.a ProgInvest_Spesa agg'!AD:AD,\n'Z0.6.a ProgInvest_Spesa agg'!$M:$M,\"CIN ante\",\n'Z0.6.a ProgInvest_Spesa agg'!$N:$N,\"SAL contabilizzati\",\n'Z0.6.a ProgInvest_Spesa agg'!$Q:$Q,\"nuovo, urgente\")","v":0},{"$f":"SUMIFS('Z0.6.a ProgInvest_Spesa agg'!AE:AE,\n'Z0.6.a ProgInvest_Spesa agg'!$M:$M,\"CIN ante\",\n'Z0.6.a ProgInvest_Spesa agg'!$N:$N,\"SAL contabilizzati\",\n'Z0.6.a ProgInvest_Spesa agg'!$Q:$Q,\"nuovo, urgente\")","v":0},{"$f":"SUMIFS('Z0.6.a ProgInvest_Spesa agg'!AF:AF,\n'Z0.6.a ProgInvest_Spesa agg'!$M:$M,\"CIN ante\",\n'Z0.6.a ProgInvest_Spesa agg'!$N:$N,\"SAL contabilizzati\",\n'Z0.6.a ProgInvest_Spesa agg'!$Q:$Q,\"nuovo, urgente\")","v":0},{"$f":"SUMIFS('Z0.6.a ProgInvest_Spesa agg'!AG:AG,\n'Z0.6.a ProgInvest_Spesa agg'!$M:$M,\"CIN ante\",\n'Z0.6.a ProgInvest_Spesa agg'!$N:$N,\"SAL contabilizzati\",\n'Z0.6.a ProgInvest_Spesa agg'!$Q:$Q,\"nuovo, urgente\")","v":0},{"$f":"SUMIFS('Z0.6.a ProgInvest_Spesa agg'!AH:AH,\n'Z0.6.a ProgInvest_Spesa agg'!$M:$M,\"CIN ante\",\n'Z0.6.a ProgInvest_Spesa agg'!$N:$N,\"SAL contabilizzati\",\n'Z0.6.a ProgInvest_Spesa agg'!$Q:$Q,\"nuovo, urgente\")","v":0},{"$f":"SUMIFS('Z0.6.a ProgInvest_Spesa agg'!AI:AI,\n'Z0.6.a ProgInvest_Spesa agg'!$M:$M,\"CIN ante\",\n'Z0.6.a ProgInvest_Spesa agg'!$N:$N,\"SAL contabilizzati\",\n'Z0.6.a ProgInvest_Spesa agg'!$Q:$Q,\"nuovo, urgente\")","v":0},{"$f":"SUMIFS('Z0.6.a ProgInvest_Spesa agg'!AJ:AJ,\n'Z0.6.a ProgInvest_Spesa agg'!$M:$M,\"CIN ante\",\n'Z0.6.a ProgInvest_Spesa agg'!$N:$N,\"SAL contabilizzati\",\n'Z0.6.a ProgInvest_Spesa agg'!$Q:$Q,\"nuovo, urgente\")","v":0},{"$f":"SUMIFS('Z0.6.a ProgInvest_Spesa agg'!AK:AK,\n'Z0.6.a ProgInvest_Spesa agg'!$M:$M,\"CIN ante\",\n'Z0.6.a ProgInvest_Spesa agg'!$N:$N,\"SAL contabilizzati\",\n'Z0.6.a ProgInvest_Spesa agg'!$Q:$Q,\"nuovo, urgente\")","v":0},{"$f":"SUMIFS('Z0.6.a ProgInvest_Spesa agg'!AL:AL,\n'Z0.6.a ProgInvest_Spesa agg'!$M:$M,\"CIN ante\",\n'Z0.6.a ProgInvest_Spesa agg'!$N:$N,\"SAL contabilizzati\",\n'Z0.6.a ProgInvest_Spesa agg'!$Q:$Q,\"nuovo, urgente\")","v":0}]
[null,null,"Interventi afferenti al CIN ante - SAL da contabilizzare",null,{"$f":"SUMIFS('Z0.6.a ProgInvest_Spesa agg'!X:X,\n'Z0.6.a ProgInvest_Spesa agg'!$M:$M,\"CIN ante\",\n'Z0.6.a ProgInvest_Spesa agg'!$N:$N,\"SAL da contabilizzare\",\n'Z0.6.a ProgInvest_Spesa agg'!$Q:$Q,\"nuovo, urgente\")","v":0},{"$f":"SUMIFS('Z0.6.a ProgInvest_Spesa agg'!Y:Y,\n'Z0.6.a ProgInvest_Spesa agg'!$M:$M,\"CIN ante\",\n'Z0.6.a ProgInvest_Spesa agg'!$N:$N,\"SAL da contabilizzare\",\n'Z0.6.a ProgInvest_Spesa agg'!$Q:$Q,\"nuovo, urgente\")","v":0},{"$f":"SUMIFS('Z0.6.a ProgInvest_Spesa agg'!Z:Z,\n'Z0.6.a ProgInvest_Spesa agg'!$M:$M,\"CIN ante\",\n'Z0.6.a ProgInvest_Spesa agg'!$N:$N,\"SAL da contabilizzare\",\n'Z0.6.a ProgInvest_Spesa agg'!$Q:$Q,\"nuovo, urgente\")","v":0},{"$f":"SUMIFS('Z0.6.a ProgInvest_Spesa agg'!AA:AA,\n'Z0.6.a ProgInvest_Spesa agg'!$M:$M,\"CIN ante\",\n'Z0.6.a ProgInvest_Spesa agg'!$N:$N,\"SAL da contabilizzare\",\n'Z0.6.a ProgInvest_Spesa agg'!$Q:$Q,\"nuovo, urgente\")","v":0},{"$f":"SUMIFS('Z0.6.a ProgInvest_Spesa agg'!AB:AB,\n'Z0.6.a ProgInvest_Spesa agg'!$M:$M,\"CIN ante\",\n'Z0.6.a ProgInvest_Spesa agg'!$N:$N,\"SAL da contabilizzare\",\n'Z0.6.a ProgInvest_Spesa agg'!$Q:$Q,\"nuovo, urgente\")","v":0},{"$f":"SUMIFS('Z0.6.a ProgInvest_Spesa agg'!AC:AC,\n'Z0.6.a ProgInvest_Spesa agg'!$M:$M,\"CIN ante\",\n'Z0.6.a ProgInvest_Spesa agg'!$N:$N,\"SAL da contabilizzare\",\n'Z0.6.a ProgInvest_Spesa agg'!$Q:$Q,\"nuovo, urgente\")","v":0},{"$f":"SUMIFS('Z0.6.a ProgInvest_Spesa agg'!AD:AD,\n'Z0.6.a ProgInvest_Spesa agg'!$M:$M,\"CIN ante\",\n'Z0.6.a ProgInvest_Spesa agg'!$N:$N,\"SAL da contabilizzare\",\n'Z0.6.a ProgInvest_Spesa agg'!$Q:$Q,\"nuovo, urgente\")","v":0},{"$f":"SUMIFS('Z0.6.a ProgInvest_Spesa agg'!AE:AE,\n'Z0.6.a ProgInvest_Spesa agg'!$M:$M,\"CIN ante\",\n'Z0.6.a ProgInvest_Spesa agg'!$N:$N,\"SAL da contabilizzare\",\n'Z0.6.a ProgInvest_Spesa agg'!$Q:$Q,\"nuovo, urgente\")","v":0},{"$f":"SUMIFS('Z0.6.a ProgInvest_Spesa agg'!AF:AF,\n'Z0.6.a ProgInvest_Spesa agg'!$M:$M,\"CIN ante\",\n'Z0.6.a ProgInvest_Spesa agg'!$N:$N,\"SAL da contabilizzare\",\n'Z0.6.a ProgInvest_Spesa agg'!$Q:$Q,\"nuovo, urgente\")","v":0},{"$f":"SUMIFS('Z0.6.a ProgInvest_Spesa agg'!AG:AG,\n'Z0.6.a ProgInvest_Spesa agg'!$M:$M,\"CIN ante\",\n'Z0.6.a ProgInvest_Spesa agg'!$N:$N,\"SAL da contabilizzare\",\n'Z0.6.a ProgInvest_Spesa agg'!$Q:$Q,\"nuovo, urgente\")","v":0},{"$f":"SUMIFS('Z0.6.a ProgInvest_Spesa agg'!AH:AH,\n'Z0.6.a ProgInvest_Spesa agg'!$M:$M,\"CIN ante\",\n'Z0.6.a ProgInvest_Spesa agg'!$N:$N,\"SAL da contabilizzare\",\n'Z0.6.a ProgInvest_Spesa agg'!$Q:$Q,\"nuovo, urgente\")","v":0},{"$f":"SUMIFS('Z0.6.a ProgInvest_Spesa agg'!AI:AI,\n'Z0.6.a ProgInvest_Spesa agg'!$M:$M,\"CIN ante\",\n'Z0.6.a ProgInvest_Spesa agg'!$N:$N,\"SAL da contabilizzare\",\n'Z0.6.a ProgInvest_Spesa agg'!$Q:$Q,\"nuovo, urgente\")","v":0},{"$f":"SUMIFS('Z0.6.a ProgInvest_Spesa agg'!AJ:AJ,\n'Z0.6.a ProgInvest_Spesa agg'!$M:$M,\"CIN ante\",\n'Z0.6.a ProgInvest_Spesa agg'!$N:$N,\"SAL da contabilizzare\",\n'Z0.6.a ProgInvest_Spesa agg'!$Q:$Q,\"nuovo, urgente\")","v":0},{"$f":"SUMIFS('Z0.6.a ProgInvest_Spesa agg'!AK:AK,\n'Z0.6.a ProgInvest_Spesa agg'!$M:$M,\"CIN ante\",\n'Z0.6.a ProgInvest_Spesa agg'!$N:$N,\"SAL da contabilizzare\",\n'Z0.6.a ProgInvest_Spesa agg'!$Q:$Q,\"nuovo, urgente\")","v":0},{"$f":"SUMIFS('Z0.6.a ProgInvest_Spesa agg'!AL:AL,\n'Z0.6.a ProgInvest_Spesa agg'!$M:$M,\"CIN ante\",\n'Z0.6.a ProgInvest_Spesa agg'!$N:$N,\"SAL da contabilizzare\",\n'Z0.6.a ProgInvest_Spesa agg'!$Q:$Q,\"nuovo, urgente\")","v":0}]
[null,null,"Interventi afferenti al CIN pre2026",null,{"$f":"SUMIFS('Z0.6.a ProgInvest_Spesa agg'!X:X,\n'Z0.6.a ProgInvest_Spesa agg'!$M:$M,\"CIN pre2026\",\n'Z0.6.a ProgInvest_Spesa agg'!$Q:$Q,\"nuovo, urgente\")","v":0},{"$f":"SUMIFS('Z0.6.a ProgInvest_Spesa agg'!Y:Y,\n'Z0.6.a ProgInvest_Spesa agg'!$M:$M,\"CIN pre2026\",\n'Z0.6.a ProgInvest_Spesa agg'!$Q:$Q,\"nuovo, urgente\")","v":0},{"$f":"SUMIFS('Z0.6.a ProgInvest_Spesa agg'!Z:Z,\n'Z0.6.a ProgInvest_Spesa agg'!$M:$M,\"CIN pre2026\",\n'Z0.6.a ProgInvest_Spesa agg'!$Q:$Q,\"nuovo, urgente\")","v":0},{"$f":"SUMIFS('Z0.6.a ProgInvest_Spesa agg'!AA:AA,\n'Z0.6.a ProgInvest_Spesa agg'!$M:$M,\"CIN pre2026\",\n'Z0.6.a ProgInvest_Spesa agg'!$Q:$Q,\"nuovo, urgente\")","v":0},{"$f":"SUMIFS('Z0.6.a ProgInvest_Spesa agg'!AB:AB,\n'Z0.6.a ProgInvest_Spesa agg'!$M:$M,\"CIN pre2026\",\n'Z0.6.a ProgInvest_Spesa agg'!$Q:$Q,\"nuovo, urgente\")","v":0},{"$f":"SUMIFS('Z0.6.a ProgInvest_Spesa agg'!AC:AC,\n'Z0.6.a ProgInvest_Spesa agg'!$M:$M,\"CIN pre2026\",\n'Z0.6.a ProgInvest_Spesa agg'!$Q:$Q,\"nuovo, urgente\")","v":0},{"$f":"SUMIFS('Z0.6.a ProgInvest_Spesa agg'!AD:AD,\n'Z0.6.a ProgInvest_Spesa agg'!$M:$M,\"CIN pre2026\",\n'Z0.6.a ProgInvest_Spesa agg'!$Q:$Q,\"nuovo, urgente\")","v":0},{"$f":"SUMIFS('Z0.6.a ProgInvest_Spesa agg'!AE:AE,\n'Z0.6.a ProgInvest_Spesa agg'!$M:$M,\"CIN pre2026\",\n'Z0.6.a ProgInvest_Spesa agg'!$Q:$Q,\"nuovo, urgente\")","v":0},{"$f":"SUMIFS('Z0.6.a ProgInvest_Spesa agg'!AF:AF,\n'Z0.6.a ProgInvest_Spesa agg'!$M:$M,\"CIN pre2026\",\n'Z0.6.a ProgInvest_Spesa agg'!$Q:$Q,\"nuovo, urgente\")","v":0},{"$f":"SUMIFS('Z0.6.a ProgInvest_Spesa agg'!AG:AG,\n'Z0.6.a ProgInvest_Spesa agg'!$M:$M,\"CIN pre2026\",\n'Z0.6.a ProgInvest_Spesa agg'!$Q:$Q,\"nuovo, urgente\")","v":0},{"$f":"SUMIFS('Z0.6.a ProgInvest_Spesa agg'!AH:AH,\n'Z0.6.a ProgInvest_Spesa agg'!$M:$M,\"CIN pre2026\",\n'Z0.6.a ProgInvest_Spesa agg'!$Q:$Q,\"nuovo, urgente\")","v":0},{"$f":"SUMIFS('Z0.6.a ProgInvest_Spesa agg'!AI:AI,\n'Z0.6.a ProgInvest_Spesa agg'!$M:$M,\"CIN pre2026\",\n'Z0.6.a ProgInvest_Spesa agg'!$Q:$Q,\"nuovo, urgente\")","v":0},{"$f":"SUMIFS('Z0.6.a ProgInvest_Spesa agg'!AJ:AJ,\n'Z0.6.a ProgInvest_Spesa agg'!$M:$M,\"CIN pre2026\",\n'Z0.6.a ProgInvest_Spesa agg'!$Q:$Q,\"nuovo, urgente\")","v":0},{"$f":"SUMIFS('Z0.6.a ProgInvest_Spesa agg'!AK:AK,\n'Z0.6.a ProgInvest_Spesa agg'!$M:$M,\"CIN pre2026\",\n'Z0.6.a ProgInvest_Spesa agg'!$Q:$Q,\"nuovo, urgente\")","v":0},{"$f":"SUMIFS('Z0.6.a ProgInvest_Spesa agg'!AL:AL,\n'Z0.6.a ProgInvest_Spesa agg'!$M:$M,\"CIN pre2026\",\n'Z0.6.a ProgInvest_Spesa agg'!$Q:$Q,\"nuovo, urgente\")","v":0}]
[null,null,"Interventi afferenti al CIN post2026, ammortamento finanziario",null,{"$f":"SUMIFS('Z0.6.a ProgInvest_Spesa agg'!X:X,\n'Z0.6.a ProgInvest_Spesa agg'!$M:$M,\"CIN post2026\",\n'Z0.6.a ProgInvest_Spesa agg'!$O:$O,\"Finanziario\",\n'Z0.6.a ProgInvest_Spesa agg'!$Q:$Q,\"nuovo, urgente\")","v":0},{"$f":"SUMIFS('Z0.6.a ProgInvest_Spesa agg'!Y:Y,\n'Z0.6.a ProgInvest_Spesa agg'!$M:$M,\"CIN post2026\",\n'Z0.6.a ProgInvest_Spesa agg'!$O:$O,\"Finanziario\",\n'Z0.6.a ProgInvest_Spesa agg'!$Q:$Q,\"nuovo, urgente\")","v":0},{"$f":"SUMIFS('Z0.6.a ProgInvest_Spesa agg'!Z:Z,\n'Z0.6.a ProgInvest_Spesa agg'!$M:$M,\"CIN post2026\",\n'Z0.6.a ProgInvest_Spesa agg'!$O:$O,\"Finanziario\",\n'Z0.6.a ProgInvest_Spesa agg'!$Q:$Q,\"nuovo, urgente\")","v":0},{"$f":"SUMIFS('Z0.6.a ProgInvest_Spesa agg'!AA:AA,\n'Z0.6.a ProgInvest_Spesa agg'!$M:$M,\"CIN post2026\",\n'Z0.6.a ProgInvest_Spesa agg'!$O:$O,\"Finanziario\",\n'Z0.6.a ProgInvest_Spesa agg'!$Q:$Q,\"nuovo, urgente\")","v":0},{"$f":"SUMIFS('Z0.6.a ProgInvest_Spesa agg'!AB:AB,\n'Z0.6.a ProgInvest_Spesa agg'!$M:$M,\"CIN post2026\",\n'Z0.6.a ProgInvest_Spesa agg'!$O:$O,\"Finanziario\",\n'Z0.6.a ProgInvest_Spesa agg'!$Q:$Q,\"nuovo, urgente\")","v":0},{"$f":"SUMIFS('Z0.6.a ProgInvest_Spesa agg'!AC:AC,\n'Z0.6.a ProgInvest_Spesa agg'!$M:$M,\"CIN post2026\",\n'Z0.6.a ProgInvest_Spesa agg'!$O:$O,\"Finanziario\",\n'Z0.6.a ProgInvest_Spesa agg'!$Q:$Q,\"nuovo, urgente\")","v":0},{"$f":"SUMIFS('Z0.6.a ProgInvest_Spesa agg'!AD:AD,\n'Z0.6.a ProgInvest_Spesa agg'!$M:$M,\"CIN post2026\",\n'Z0.6.a ProgInvest_Spesa agg'!$O:$O,\"Finanziario\",\n'Z0.6.a ProgInvest_Spesa agg'!$Q:$Q,\"nuovo, urgente\")","v":0},{"$f":"SUMIFS('Z0.6.a ProgInvest_Spesa agg'!AE:AE,\n'Z0.6.a ProgInvest_Spesa agg'!$M:$M,\"CIN post2026\",\n'Z0.6.a ProgInvest_Spesa agg'!$O:$O,\"Finanziario\",\n'Z0.6.a ProgInvest_Spesa agg'!$Q:$Q,\"nuovo, urgente\")","v":0},{"$f":"SUMIFS('Z0.6.a ProgInvest_Spesa agg'!AF:AF,\n'Z0.6.a ProgInvest_Spesa agg'!$M:$M,\"CIN post2026\",\n'Z0.6.a ProgInvest_Spesa agg'!$O:$O,\"Finanziario\",\n'Z0.6.a ProgInvest_Spesa agg'!$Q:$Q,\"nuovo, urgente\")","v":0},{"$f":"SUMIFS('Z0.6.a ProgInvest_Spesa agg'!AG:AG,\n'Z0.6.a ProgInvest_Spesa agg'!$M:$M,\"CIN post2026\",\n'Z0.6.a ProgInvest_Spesa agg'!$O:$O,\"Finanziario\",\n'Z0.6.a ProgInvest_Spesa agg'!$Q:$Q,\"nuovo, urgente\")","v":0},{"$f":"SUMIFS('Z0.6.a ProgInvest_Spesa agg'!AH:AH,\n'Z0.6.a ProgInvest_Spesa agg'!$M:$M,\"CIN post2026\",\n'Z0.6.a ProgInvest_Spesa agg'!$O:$O,\"Finanziario\",\n'Z0.6.a ProgInvest_Spesa agg'!$Q:$Q,\"nuovo, urgente\")","v":0},{"$f":"SUMIFS('Z0.6.a ProgInvest_Spesa agg'!AI:AI,\n'Z0.6.a ProgInvest_Spesa agg'!$M:$M,\"CIN post2026\",\n'Z0.6.a ProgInvest_Spesa agg'!$O:$O,\"Finanziario\",\n'Z0.6.a ProgInvest_Spesa agg'!$Q:$Q,\"nuovo, urgente\")","v":0},{"$f":"SUMIFS('Z0.6.a ProgInvest_Spesa agg'!AJ:AJ,\n'Z0.6.a ProgInvest_Spesa agg'!$M:$M,\"CIN post2026\",\n'Z0.6.a ProgInvest_Spesa agg'!$O:$O,\"Finanziario\",\n'Z0.6.a ProgInvest_Spesa agg'!$Q:$Q,\"nuovo, urgente\")","v":0},{"$f":"SUMIFS('Z0.6.a ProgInvest_Spesa agg'!AK:AK,\n'Z0.6.a ProgInvest_Spesa agg'!$M:$M,\"CIN post2026\",\n'Z0.6.a ProgInvest_Spesa agg'!$O:$O,\"Finanziario\",\n'Z0.6.a ProgInvest_Spesa agg'!$Q:$Q,\"nuovo, urgente\")","v":0},{"$f":"SUMIFS('Z0.6.a ProgInvest_Spesa agg'!AL:AL,\n'Z0.6.a ProgInvest_Spesa agg'!$M:$M,\"CIN post2026\",\n'Z0.6.a ProgInvest_Spesa agg'!$O:$O,\"Finanziario\",\n'Z0.6.a ProgInvest_Spesa agg'!$Q:$Q,\"nuovo, urgente\")","v":0}]
[null,null,"Interventi afferenti al CIN post2026, ammortamento a vite utili di primo livello",null,{"$f":"SUMIFS('Z0.6.a ProgInvest_Spesa agg'!X:X,\n'Z0.6.a ProgInvest_Spesa agg'!$M:$M,\"CIN post2026\",\n'Z0.6.a ProgInvest_Spesa agg'!$O:$O,\"Vite utili 1\",\n'Z0.6.a ProgInvest_Spesa agg'!$Q:$Q,\"nuovo, urgente\")","v":0},{"$f":"SUMIFS('Z0.6.a ProgInvest_Spesa agg'!Y:Y,\n'Z0.6.a ProgInvest_Spesa agg'!$M:$M,\"CIN post2026\",\n'Z0.6.a ProgInvest_Spesa agg'!$O:$O,\"Vite utili 1\",\n'Z0.6.a ProgInvest_Spesa agg'!$Q:$Q,\"nuovo, urgente\")","v":0},{"$f":"SUMIFS('Z0.6.a ProgInvest_Spesa agg'!Z:Z,\n'Z0.6.a ProgInvest_Spesa agg'!$M:$M,\"CIN post2026\",\n'Z0.6.a ProgInvest_Spesa agg'!$O:$O,\"Vite utili 1\",\n'Z0.6.a ProgInvest_Spesa agg'!$Q:$Q,\"nuovo, urgente\")","v":0},{"$f":"SUMIFS('Z0.6.a ProgInvest_Spesa agg'!AA:AA,\n'Z0.6.a ProgInvest_Spesa agg'!$M:$M,\"CIN post2026\",\n'Z0.6.a ProgInvest_Spesa agg'!$O:$O,\"Vite utili 1\",\n'Z0.6.a ProgInvest_Spesa agg'!$Q:$Q,\"nuovo, urgente\")","v":0},{"$f":"SUMIFS('Z0.6.a ProgInvest_Spesa agg'!AB:AB,\n'Z0.6.a ProgInvest_Spesa agg'!$M:$M,\"CIN post2026\",\n'Z0.6.a ProgInvest_Spesa agg'!$O:$O,\"Vite utili 1\",\n'Z0.6.a ProgInvest_Spesa agg'!$Q:$Q,\"nuovo, urgente\")","v":0},{"$f":"SUMIFS('Z0.6.a ProgInvest_Spesa agg'!AC:AC,\n'Z0.6.a ProgInvest_Spesa agg'!$M:$M,\"CIN post2026\",\n'Z0.6.a ProgInvest_Spesa agg'!$O:$O,\"Vite utili 1\",\n'Z0.6.a ProgInvest_Spesa agg'!$Q:$Q,\"nuovo, urgente\")","v":0},{"$f":"SUMIFS('Z0.6.a ProgInvest_Spesa agg'!AD:AD,\n'Z0.6.a ProgInvest_Spesa agg'!$M:$M,\"CIN post2026\",\n'Z0.6.a ProgInvest_Spesa agg'!$O:$O,\"Vite utili 1\",\n'Z0.6.a ProgInvest_Spesa agg'!$Q:$Q,\"nuovo, urgente\")","v":0},{"$f":"SUMIFS('Z0.6.a ProgInvest_Spesa agg'!AE:AE,\n'Z0.6.a ProgInvest_Spesa agg'!$M:$M,\"CIN post2026\",\n'Z0.6.a ProgInvest_Spesa agg'!$O:$O,\"Vite utili 1\",\n'Z0.6.a ProgInvest_Spesa agg'!$Q:$Q,\"nuovo, urgente\")","v":0},{"$f":"SUMIFS('Z0.6.a ProgInvest_Spesa agg'!AF:AF,\n'Z0.6.a ProgInvest_Spesa agg'!$M:$M,\"CIN post2026\",\n'Z0.6.a ProgInvest_Spesa agg'!$O:$O,\"Vite utili 1\",\n'Z0.6.a ProgInvest_Spesa agg'!$Q:$Q,\"nuovo, urgente\")","v":0},{"$f":"SUMIFS('Z0.6.a ProgInvest_Spesa agg'!AG:AG,\n'Z0.6.a ProgInvest_Spesa agg'!$M:$M,\"CIN post2026\",\n'Z0.6.a ProgInvest_Spesa agg'!$O:$O,\"Vite utili 1\",\n'Z0.6.a ProgInvest_Spesa agg'!$Q:$Q,\"nuovo, urgente\")","v":0},{"$f":"SUMIFS('Z0.6.a ProgInvest_Spesa agg'!AH:AH,\n'Z0.6.a ProgInvest_Spesa agg'!$M:$M,\"CIN post2026\",\n'Z0.6.a ProgInvest_Spesa agg'!$O:$O,\"Vite utili 1\",\n'Z0.6.a ProgInvest_Spesa agg'!$Q:$Q,\"nuovo, urgente\")","v":0},{"$f":"SUMIFS('Z0.6.a ProgInvest_Spesa agg'!AI:AI,\n'Z0.6.a ProgInvest_Spesa agg'!$M:$M,\"CIN post2026\",\n'Z0.6.a ProgInvest_Spesa agg'!$O:$O,\"Vite utili 1\",\n'Z0.6.a ProgInvest_Spesa agg'!$Q:$Q,\"nuovo, urgente\")","v":0},{"$f":"SUMIFS('Z0.6.a ProgInvest_Spesa agg'!AJ:AJ,\n'Z0.6.a ProgInvest_Spesa agg'!$M:$M,\"CIN post2026\",\n'Z0.6.a ProgInvest_Spesa agg'!$O:$O,\"Vite utili 1\",\n'Z0.6.a ProgInvest_Spesa agg'!$Q:$Q,\"nuovo, urgente\")","v":0},{"$f":"SUMIFS('Z0.6.a ProgInvest_Spesa agg'!AK:AK,\n'Z0.6.a ProgInvest_Spesa agg'!$M:$M,\"CIN post2026\",\n'Z0.6.a ProgInvest_Spesa agg'!$O:$O,\"Vite utili 1\",\n'Z0.6.a ProgInvest_Spesa agg'!$Q:$Q,\"nuovo, urgente\")","v":0},{"$f":"SUMIFS('Z0.6.a ProgInvest_Spesa agg'!AL:AL,\n'Z0.6.a ProgInvest_Spesa agg'!$M:$M,\"CIN post2026\",\n'Z0.6.a ProgInvest_Spesa agg'!$O:$O,\"Vite utili 1\",\n'Z0.6.a ProgInvest_Spesa agg'!$Q:$Q,\"nuovo, urgente\")","v":0}]
[null,null,"Interventi afferenti al CIN post2026, ammortamento a vite utili di secondo livello",null,{"$f":"SUMIFS('Z0.6.a ProgInvest_Spesa agg'!X:X,\n'Z0.6.a ProgInvest_Spesa agg'!$M:$M,\"CIN post2026\",\n'Z0.6.a ProgInvest_Spesa agg'!$O:$O,\"Vite utili 2\",\n'Z0.6.a ProgInvest_Spesa agg'!$Q:$Q,\"nuovo, urgente\")","v":0},{"$f":"SUMIFS('Z0.6.a ProgInvest_Spesa agg'!Y:Y,\n'Z0.6.a ProgInvest_Spesa agg'!$M:$M,\"CIN post2026\",\n'Z0.6.a ProgInvest_Spesa agg'!$O:$O,\"Vite utili 2\",\n'Z0.6.a ProgInvest_Spesa agg'!$Q:$Q,\"nuovo, urgente\")","v":0},{"$f":"SUMIFS('Z0.6.a ProgInvest_Spesa agg'!Z:Z,\n'Z0.6.a ProgInvest_Spesa agg'!$M:$M,\"CIN post2026\",\n'Z0.6.a ProgInvest_Spesa agg'!$O:$O,\"Vite utili 2\",\n'Z0.6.a ProgInvest_Spesa agg'!$Q:$Q,\"nuovo, urgente\")","v":0},{"$f":"SUMIFS('Z0.6.a ProgInvest_Spesa agg'!AA:AA,\n'Z0.6.a ProgInvest_Spesa agg'!$M:$M,\"CIN post2026\",\n'Z0.6.a ProgInvest_Spesa agg'!$O:$O,\"Vite utili 2\",\n'Z0.6.a ProgInvest_Spesa agg'!$Q:$Q,\"nuovo, urgente\")","v":0},{"$f":"SUMIFS('Z0.6.a ProgInvest_Spesa agg'!AB:AB,\n'Z0.6.a ProgInvest_Spesa agg'!$M:$M,\"CIN post2026\",\n'Z0.6.a ProgInvest_Spesa agg'!$O:$O,\"Vite utili 2\",\n'Z0.6.a ProgInvest_Spesa agg'!$Q:$Q,\"nuovo, urgente\")","v":0},{"$f":"SUMIFS('Z0.6.a ProgInvest_Spesa agg'!AC:AC,\n'Z0.6.a ProgInvest_Spesa agg'!$M:$M,\"CIN post2026\",\n'Z0.6.a ProgInvest_Spesa agg'!$O:$O,\"Vite utili 2\",\n'Z0.6.a ProgInvest_Spesa agg'!$Q:$Q,\"nuovo, urgente\")","v":0},{"$f":"SUMIFS('Z0.6.a ProgInvest_Spesa agg'!AD:AD,\n'Z0.6.a ProgInvest_Spesa agg'!$M:$M,\"CIN post2026\",\n'Z0.6.a ProgInvest_Spesa agg'!$O:$O,\"Vite utili 2\",\n'Z0.6.a ProgInvest_Spesa agg'!$Q:$Q,\"nuovo, urgente\")","v":0},{"$f":"SUMIFS('Z0.6.a ProgInvest_Spesa agg'!AE:AE,\n'Z0.6.a ProgInvest_Spesa agg'!$M:$M,\"CIN post2026\",\n'Z0.6.a ProgInvest_Spesa agg'!$O:$O,\"Vite utili 2\",\n'Z0.6.a ProgInvest_Spesa agg'!$Q:$Q,\"nuovo, urgente\")","v":0},{"$f":"SUMIFS('Z0.6.a ProgInvest_Spesa agg'!AF:AF,\n'Z0.6.a ProgInvest_Spesa agg'!$M:$M,\"CIN post2026\",\n'Z0.6.a ProgInvest_Spesa agg'!$O:$O,\"Vite utili 2\",\n'Z0.6.a ProgInvest_Spesa agg'!$Q:$Q,\"nuovo, urgente\")","v":0},{"$f":"SUMIFS('Z0.6.a ProgInvest_Spesa agg'!AG:AG,\n'Z0.6.a ProgInvest_Spesa agg'!$M:$M,\"CIN post2026\",\n'Z0.6.a ProgInvest_Spesa agg'!$O:$O,\"Vite utili 2\",\n'Z0.6.a ProgInvest_Spesa agg'!$Q:$Q,\"nuovo, urgente\")","v":0},{"$f":"SUMIFS('Z0.6.a ProgInvest_Spesa agg'!AH:AH,\n'Z0.6.a ProgInvest_Spesa agg'!$M:$M,\"CIN post2026\",\n'Z0.6.a ProgInvest_Spesa agg'!$O:$O,\"Vite utili 2\",\n'Z0.6.a ProgInvest_Spesa agg'!$Q:$Q,\"nuovo, urgente\")","v":0},{"$f":"SUMIFS('Z0.6.a ProgInvest_Spesa agg'!AI:AI,\n'Z0.6.a ProgInvest_Spesa agg'!$M:$M,\"CIN post2026\",\n'Z0.6.a ProgInvest_Spesa agg'!$O:$O,\"Vite utili 2\",\n'Z0.6.a ProgInvest_Spesa agg'!$Q:$Q,\"nuovo, urgente\")","v":0},{"$f":"SUMIFS('Z0.6.a ProgInvest_Spesa agg'!AJ:AJ,\n'Z0.6.a ProgInvest_Spesa agg'!$M:$M,\"CIN post2026\",\n'Z0.6.a ProgInvest_Spesa agg'!$O:$O,\"Vite utili 2\",\n'Z0.6.a ProgInvest_Spesa agg'!$Q:$Q,\"nuovo, urgente\")","v":0},{"$f":"SUMIFS('Z0.6.a ProgInvest_Spesa agg'!AK:AK,\n'Z0.6.a ProgInvest_Spesa agg'!$M:$M,\"CIN post2026\",\n'Z0.6.a ProgInvest_Spesa agg'!$O:$O,\"Vite utili 2\",\n'Z0.6.a ProgInvest_Spesa agg'!$Q:$Q,\"nuovo, urgente\")","v":0},{"$f":"SUMIFS('Z0.6.a ProgInvest_Spesa agg'!AL:AL,\n'Z0.6.a ProgInvest_Spesa agg'!$M:$M,\"CIN post2026\",\n'Z0.6.a ProgInvest_Spesa agg'!$O:$O,\"Vite utili 2\",\n'Z0.6.a ProgInvest_Spesa agg'!$Q:$Q,\"nuovo, urgente\")","v":0}]
[null,null,"Totale",null,{"$f":"SUM(E104:E109)","v":0},{"$f":"SUM(F104:F109)","v":0},0,0,0,0,0,0,0,0,0,0,0,0,0]
[]
[null,null,"Contributi annui, classificati per tipologia di investimento"]
[]
[null,null,"Interventi afferenti al CIN ante - SAL contabilizzati",null,{"$f":"SUMIFS('Z0.6.b ProgInvest_Contr agg'!X:X,\n'Z0.6.b ProgInvest_Contr agg'!$M:$M,\"CIN ante\",\n'Z0.6.b ProgInvest_Contr agg'!$N:$N,\"SAL contabilizzati\",\n'Z0.6.b ProgInvest_Contr agg'!$Q:$Q,\"nuovo, urgente\")","v":0},{"$f":"SUMIFS('Z0.6.b ProgInvest_Contr agg'!Y:Y,\n'Z0.6.b ProgInvest_Contr agg'!$M:$M,\"CIN ante\",\n'Z0.6.b ProgInvest_Contr agg'!$N:$N,\"SAL contabilizzati\",\n'Z0.6.b ProgInvest_Contr agg'!$Q:$Q,\"nuovo, urgente\")","v":0},{"$f":"SUMIFS('Z0.6.b ProgInvest_Contr agg'!Z:Z,\n'Z0.6.b ProgInvest_Contr agg'!$M:$M,\"CIN ante\",\n'Z0.6.b ProgInvest_Contr agg'!$N:$N,\"SAL contabilizzati\",\n'Z0.6.b ProgInvest_Contr agg'!$Q:$Q,\"nuovo, urgente\")","v":0},{"$f":"SUMIFS('Z0.6.b ProgInvest_Contr agg'!AA:AA,\n'Z0.6.b ProgInvest_Contr agg'!$M:$M,\"CIN ante\",\n'Z0.6.b ProgInvest_Contr agg'!$N:$N,\"SAL contabilizzati\",\n'Z0.6.b ProgInvest_Contr agg'!$Q:$Q,\"nuovo, urgente\")","v":0},{"$f":"SUMIFS('Z0.6.b ProgInvest_Contr agg'!AB:AB,\n'Z0.6.b ProgInvest_Contr agg'!$M:$M,\"CIN ante\",\n'Z0.6.b ProgInvest_Contr agg'!$N:$N,\"SAL contabilizzati\",\n'Z0.6.b ProgInvest_Contr agg'!$Q:$Q,\"nuovo, urgente\")","v":0},{"$f":"SUMIFS('Z0.6.b ProgInvest_Contr agg'!AC:AC,\n'Z0.6.b ProgInvest_Contr agg'!$M:$M,\"CIN ante\",\n'Z0.6.b ProgInvest_Contr agg'!$N:$N,\"SAL contabilizzati\",\n'Z0.6.b ProgInvest_Contr agg'!$Q:$Q,\"nuovo, urgente\")","v":0},{"$f":"SUMIFS('Z0.6.b ProgInvest_Contr agg'!AD:AD,\n'Z0.6.b ProgInvest_Contr agg'!$M:$M,\"CIN ante\",\n'Z0.6.b ProgInvest_Contr agg'!$N:$N,\"SAL contabilizzati\",\n'Z0.6.b ProgInvest_Contr agg'!$Q:$Q,\"nuovo, urgente\")","v":0},{"$f":"SUMIFS('Z0.6.b ProgInvest_Contr agg'!AE:AE,\n'Z0.6.b ProgInvest_Contr agg'!$M:$M,\"CIN ante\",\n'Z0.6.b ProgInvest_Contr agg'!$N:$N,\"SAL contabilizzati\",\n'Z0.6.b ProgInvest_Contr agg'!$Q:$Q,\"nuovo, urgente\")","v":0},{"$f":"SUMIFS('Z0.6.b ProgInvest_Contr agg'!AF:AF,\n'Z0.6.b ProgInvest_Contr agg'!$M:$M,\"CIN ante\",\n'Z0.6.b ProgInvest_Contr agg'!$N:$N,\"SAL contabilizzati\",\n'Z0.6.b ProgInvest_Contr agg'!$Q:$Q,\"nuovo, urgente\")","v":0},{"$f":"SUMIFS('Z0.6.b ProgInvest_Contr agg'!AG:AG,\n'Z0.6.b ProgInvest_Contr agg'!$M:$M,\"CIN ante\",\n'Z0.6.b ProgInvest_Contr agg'!$N:$N,\"SAL contabilizzati\",\n'Z0.6.b ProgInvest_Contr agg'!$Q:$Q,\"nuovo, urgente\")","v":0},{"$f":"SUMIFS('Z0.6.b ProgInvest_Contr agg'!AH:AH,\n'Z0.6.b ProgInvest_Contr agg'!$M:$M,\"CIN ante\",\n'Z0.6.b ProgInvest_Contr agg'!$N:$N,\"SAL contabilizzati\",\n'Z0.6.b ProgInvest_Contr agg'!$Q:$Q,\"nuovo, urgente\")","v":0},{"$f":"SUMIFS('Z0.6.b ProgInvest_Contr agg'!AI:AI,\n'Z0.6.b ProgInvest_Contr agg'!$M:$M,\"CIN ante\",\n'Z0.6.b ProgInvest_Contr agg'!$N:$N,\"SAL contabilizzati\",\n'Z0.6.b ProgInvest_Contr agg'!$Q:$Q,\"nuovo, urgente\")","v":0},{"$f":"SUMIFS('Z0.6.b ProgInvest_Contr agg'!AJ:AJ,\n'Z0.6.b ProgInvest_Contr agg'!$M:$M,\"CIN ante\",\n'Z0.6.b ProgInvest_Contr agg'!$N:$N,\"SAL contabilizzati\",\n'Z0.6.b ProgInvest_Contr agg'!$Q:$Q,\"nuovo, urgente\")","v":0},{"$f":"SUMIFS('Z0.6.b ProgInvest_Contr agg'!AK:AK,\n'Z0.6.b ProgInvest_Contr agg'!$M:$M,\"CIN ante\",\n'Z0.6.b ProgInvest_Contr agg'!$N:$N,\"SAL contabilizzati\",\n'Z0.6.b ProgInvest_Contr agg'!$Q:$Q,\"nuovo, urgente\")","v":0},{"$f":"SUMIFS('Z0.6.b ProgInvest_Contr agg'!AL:AL,\n'Z0.6.b ProgInvest_Contr agg'!$M:$M,\"CIN ante\",\n'Z0.6.b ProgInvest_Contr agg'!$N:$N,\"SAL contabilizzati\",\n'Z0.6.b ProgInvest_Contr agg'!$Q:$Q,\"nuovo, urgente\")","v":0}]
[null,null,"Interventi afferenti al CIN ante - SAL da contabilizzare",null,{"$f":"SUMIFS('Z0.6.b ProgInvest_Contr agg'!X:X,\n'Z0.6.b ProgInvest_Contr agg'!$M:$M,\"CIN ante\",\n'Z0.6.b ProgInvest_Contr agg'!$N:$N,\"SAL da contabilizzare\",\n'Z0.6.b ProgInvest_Contr agg'!$Q:$Q,\"nuovo, urgente\")","v":0},{"$f":"SUMIFS('Z0.6.b ProgInvest_Contr agg'!Y:Y,\n'Z0.6.b ProgInvest_Contr agg'!$M:$M,\"CIN ante\",\n'Z0.6.b ProgInvest_Contr agg'!$N:$N,\"SAL da contabilizzare\",\n'Z0.6.b ProgInvest_Contr agg'!$Q:$Q,\"nuovo, urgente\")","v":0},{"$f":"SUMIFS('Z0.6.b ProgInvest_Contr agg'!Z:Z,\n'Z0.6.b ProgInvest_Contr agg'!$M:$M,\"CIN ante\",\n'Z0.6.b ProgInvest_Contr agg'!$N:$N,\"SAL da contabilizzare\",\n'Z0.6.b ProgInvest_Contr agg'!$Q:$Q,\"nuovo, urgente\")","v":0},{"$f":"SUMIFS('Z0.6.b ProgInvest_Contr agg'!AA:AA,\n'Z0.6.b ProgInvest_Contr agg'!$M:$M,\"CIN ante\",\n'Z0.6.b ProgInvest_Contr agg'!$N:$N,\"SAL da contabilizzare\",\n'Z0.6.b ProgInvest_Contr agg'!$Q:$Q,\"nuovo, urgente\")","v":0},{"$f":"SUMIFS('Z0.6.b ProgInvest_Contr agg'!AB:AB,\n'Z0.6.b ProgInvest_Contr agg'!$M:$M,\"CIN ante\",\n'Z0.6.b ProgInvest_Contr agg'!$N:$N,\"SAL da contabilizzare\",\n'Z0.6.b ProgInvest_Contr agg'!$Q:$Q,\"nuovo, urgente\")","v":0},{"$f":"SUMIFS('Z0.6.b ProgInvest_Contr agg'!AC:AC,\n'Z0.6.b ProgInvest_Contr agg'!$M:$M,\"CIN ante\",\n'Z0.6.b ProgInvest_Contr agg'!$N:$N,\"SAL da contabilizzare\",\n'Z0.6.b ProgInvest_Contr agg'!$Q:$Q,\"nuovo, urgente\")","v":0},{"$f":"SUMIFS('Z0.6.b ProgInvest_Contr agg'!AD:AD,\n'Z0.6.b ProgInvest_Contr agg'!$M:$M,\"CIN ante\",\n'Z0.6.b ProgInvest_Contr agg'!$N:$N,\"SAL da contabilizzare\",\n'Z0.6.b ProgInvest_Contr agg'!$Q:$Q,\"nuovo, urgente\")","v":0},{"$f":"SUMIFS('Z0.6.b ProgInvest_Contr agg'!AE:AE,\n'Z0.6.b ProgInvest_Contr agg'!$M:$M,\"CIN ante\",\n'Z0.6.b ProgInvest_Contr agg'!$N:$N,\"SAL da contabilizzare\",\n'Z0.6.b ProgInvest_Contr agg'!$Q:$Q,\"nuovo, urgente\")","v":0},{"$f":"SUMIFS('Z0.6.b ProgInvest_Contr agg'!AF:AF,\n'Z0.6.b ProgInvest_Contr agg'!$M:$M,\"CIN ante\",\n'Z0.6.b ProgInvest_Contr agg'!$N:$N,\"SAL da contabilizzare\",\n'Z0.6.b ProgInvest_Contr agg'!$Q:$Q,\"nuovo, urgente\")","v":0},{"$f":"SUMIFS('Z0.6.b ProgInvest_Contr agg'!AG:AG,\n'Z0.6.b ProgInvest_Contr agg'!$M:$M,\"CIN ante\",\n'Z0.6.b ProgInvest_Contr agg'!$N:$N,\"SAL da contabilizzare\",\n'Z0.6.b ProgInvest_Contr agg'!$Q:$Q,\"nuovo, urgente\")","v":0},{"$f":"SUMIFS('Z0.6.b ProgInvest_Contr agg'!AH:AH,\n'Z0.6.b ProgInvest_Contr agg'!$M:$M,\"CIN ante\",\n'Z0.6.b ProgInvest_Contr agg'!$N:$N,\"SAL da contabilizzare\",\n'Z0.6.b ProgInvest_Contr agg'!$Q:$Q,\"nuovo, urgente\")","v":0},{"$f":"SUMIFS('Z0.6.b ProgInvest_Contr agg'!AI:AI,\n'Z0.6.b ProgInvest_Contr agg'!$M:$M,\"CIN ante\",\n'Z0.6.b ProgInvest_Contr agg'!$N:$N,\"SAL da contabilizzare\",\n'Z0.6.b ProgInvest_Contr agg'!$Q:$Q,\"nuovo, urgente\")","v":0},{"$f":"SUMIFS('Z0.6.b ProgInvest_Contr agg'!AJ:AJ,\n'Z0.6.b ProgInvest_Contr agg'!$M:$M,\"CIN ante\",\n'Z0.6.b ProgInvest_Contr agg'!$N:$N,\"SAL da contabilizzare\",\n'Z0.6.b ProgInvest_Contr agg'!$Q:$Q,\"nuovo, urgente\")","v":0},{"$f":"SUMIFS('Z0.6.b ProgInvest_Contr agg'!AK:AK,\n'Z0.6.b ProgInvest_Contr agg'!$M:$M,\"CIN ante\",\n'Z0.6.b ProgInvest_Contr agg'!$N:$N,\"SAL da contabilizzare\",\n'Z0.6.b ProgInvest_Contr agg'!$Q:$Q,\"nuovo, urgente\")","v":0},{"$f":"SUMIFS('Z0.6.b ProgInvest_Contr agg'!AL:AL,\n'Z0.6.b ProgInvest_Contr agg'!$M:$M,\"CIN ante\",\n'Z0.6.b ProgInvest_Contr agg'!$N:$N,\"SAL da contabilizzare\",\n'Z0.6.b ProgInvest_Contr agg'!$Q:$Q,\"nuovo, urgente\")","v":0}]
[null,null,"Interventi afferenti al CIN pre2026",null,{"$f":"SUMIFS('Z0.6.b ProgInvest_Contr agg'!X:X,\n'Z0.6.b ProgInvest_Contr agg'!$M:$M,\"CIN pre2026\",\n'Z0.6.b ProgInvest_Contr agg'!$Q:$Q,\"nuovo, urgente\")","v":0},{"$f":"SUMIFS('Z0.6.b ProgInvest_Contr agg'!Y:Y,\n'Z0.6.b ProgInvest_Contr agg'!$M:$M,\"CIN pre2026\",\n'Z0.6.b ProgInvest_Contr agg'!$Q:$Q,\"nuovo, urgente\")","v":0},{"$f":"SUMIFS('Z0.6.b ProgInvest_Contr agg'!Z:Z,\n'Z0.6.b ProgInvest_Contr agg'!$M:$M,\"CIN pre2026\",\n'Z0.6.b ProgInvest_Contr agg'!$Q:$Q,\"nuovo, urgente\")","v":0},{"$f":"SUMIFS('Z0.6.b ProgInvest_Contr agg'!AA:AA,\n'Z0.6.b ProgInvest_Contr agg'!$M:$M,\"CIN pre2026\",\n'Z0.6.b ProgInvest_Contr agg'!$Q:$Q,\"nuovo, urgente\")","v":0},{"$f":"SUMIFS('Z0.6.b ProgInvest_Contr agg'!AB:AB,\n'Z0.6.b ProgInvest_Contr agg'!$M:$M,\"CIN pre2026\",\n'Z0.6.b ProgInvest_Contr agg'!$Q:$Q,\"nuovo, urgente\")","v":0},{"$f":"SUMIFS('Z0.6.b ProgInvest_Contr agg'!AC:AC,\n'Z0.6.b ProgInvest_Contr agg'!$M:$M,\"CIN pre2026\",\n'Z0.6.b ProgInvest_Contr agg'!$Q:$Q,\"nuovo, urgente\")","v":0},{"$f":"SUMIFS('Z0.6.b ProgInvest_Contr agg'!AD:AD,\n'Z0.6.b ProgInvest_Contr agg'!$M:$M,\"CIN pre2026\",\n'Z0.6.b ProgInvest_Contr agg'!$Q:$Q,\"nuovo, urgente\")","v":0},{"$f":"SUMIFS('Z0.6.b ProgInvest_Contr agg'!AE:AE,\n'Z0.6.b ProgInvest_Contr agg'!$M:$M,\"CIN pre2026\",\n'Z0.6.b ProgInvest_Contr agg'!$Q:$Q,\"nuovo, urgente\")","v":0},{"$f":"SUMIFS('Z0.6.b ProgInvest_Contr agg'!AF:AF,\n'Z0.6.b ProgInvest_Contr agg'!$M:$M,\"CIN pre2026\",\n'Z0.6.b ProgInvest_Contr agg'!$Q:$Q,\"nuovo, urgente\")","v":0},{"$f":"SUMIFS('Z0.6.b ProgInvest_Contr agg'!AG:AG,\n'Z0.6.b ProgInvest_Contr agg'!$M:$M,\"CIN pre2026\",\n'Z0.6.b ProgInvest_Contr agg'!$Q:$Q,\"nuovo, urgente\")","v":0},{"$f":"SUMIFS('Z0.6.b ProgInvest_Contr agg'!AH:AH,\n'Z0.6.b ProgInvest_Contr agg'!$M:$M,\"CIN pre2026\",\n'Z0.6.b ProgInvest_Contr agg'!$Q:$Q,\"nuovo, urgente\")","v":0},{"$f":"SUMIFS('Z0.6.b ProgInvest_Contr agg'!AI:AI,\n'Z0.6.b ProgInvest_Contr agg'!$M:$M,\"CIN pre2026\",\n'Z0.6.b ProgInvest_Contr agg'!$Q:$Q,\"nuovo, urgente\")","v":0},{"$f":"SUMIFS('Z0.6.b ProgInvest_Contr agg'!AJ:AJ,\n'Z0.6.b ProgInvest_Contr agg'!$M:$M,\"CIN pre2026\",\n'Z0.6.b ProgInvest_Contr agg'!$Q:$Q,\"nuovo, urgente\")","v":0},{"$f":"SUMIFS('Z0.6.b ProgInvest_Contr agg'!AK:AK,\n'Z0.6.b ProgInvest_Contr agg'!$M:$M,\"CIN pre2026\",\n'Z0.6.b ProgInvest_Contr agg'!$Q:$Q,\"nuovo, urgente\")","v":0},{"$f":"SUMIFS('Z0.6.b ProgInvest_Contr agg'!AL:AL,\n'Z0.6.b ProgInvest_Contr agg'!$M:$M,\"CIN pre2026\",\n'Z0.6.b ProgInvest_Contr agg'!$Q:$Q,\"nuovo, urgente\")","v":0}]
[null,null,"Interventi afferenti al CIN post2026, ammortamento finanziario",null,{"$f":"SUMIFS('Z0.6.b ProgInvest_Contr agg'!X:X,\n'Z0.6.b ProgInvest_Contr agg'!$M:$M,\"CIN post2026\",\n'Z0.6.b ProgInvest_Contr agg'!$O:$O,\"Finanziario\",\n'Z0.6.b ProgInvest_Contr agg'!$Q:$Q,\"nuovo, urgente\")","v":0},{"$f":"SUMIFS('Z0.6.b ProgInvest_Contr agg'!Y:Y,\n'Z0.6.b ProgInvest_Contr agg'!$M:$M,\"CIN post2026\",\n'Z0.6.b ProgInvest_Contr agg'!$O:$O,\"Finanziario\",\n'Z0.6.b ProgInvest_Contr agg'!$Q:$Q,\"nuovo, urgente\")","v":0},{"$f":"SUMIFS('Z0.6.b ProgInvest_Contr agg'!Z:Z,\n'Z0.6.b ProgInvest_Contr agg'!$M:$M,\"CIN post2026\",\n'Z0.6.b ProgInvest_Contr agg'!$O:$O,\"Finanziario\",\n'Z0.6.b ProgInvest_Contr agg'!$Q:$Q,\"nuovo, urgente\")","v":0},{"$f":"SUMIFS('Z0.6.b ProgInvest_Contr agg'!AA:AA,\n'Z0.6.b ProgInvest_Contr agg'!$M:$M,\"CIN post2026\",\n'Z0.6.b ProgInvest_Contr agg'!$O:$O,\"Finanziario\",\n'Z0.6.b ProgInvest_Contr agg'!$Q:$Q,\"nuovo, urgente\")","v":0},{"$f":"SUMIFS('Z0.6.b ProgInvest_Contr agg'!AB:AB,\n'Z0.6.b ProgInvest_Contr agg'!$M:$M,\"CIN post2026\",\n'Z0.6.b ProgInvest_Contr agg'!$O:$O,\"Finanziario\",\n'Z0.6.b ProgInvest_Contr agg'!$Q:$Q,\"nuovo, urgente\")","v":0},{"$f":"SUMIFS('Z0.6.b ProgInvest_Contr agg'!AC:AC,\n'Z0.6.b ProgInvest_Contr agg'!$M:$M,\"CIN post2026\",\n'Z0.6.b ProgInvest_Contr agg'!$O:$O,\"Finanziario\",\n'Z0.6.b ProgInvest_Contr agg'!$Q:$Q,\"nuovo, urgente\")","v":0},{"$f":"SUMIFS('Z0.6.b ProgInvest_Contr agg'!AD:AD,\n'Z0.6.b ProgInvest_Contr agg'!$M:$M,\"CIN post2026\",\n'Z0.6.b ProgInvest_Contr agg'!$O:$O,\"Finanziario\",\n'Z0.6.b ProgInvest_Contr agg'!$Q:$Q,\"nuovo, urgente\")","v":0},{"$f":"SUMIFS('Z0.6.b ProgInvest_Contr agg'!AE:AE,\n'Z0.6.b ProgInvest_Contr agg'!$M:$M,\"CIN post2026\",\n'Z0.6.b ProgInvest_Contr agg'!$O:$O,\"Finanziario\",\n'Z0.6.b ProgInvest_Contr agg'!$Q:$Q,\"nuovo, urgente\")","v":0},{"$f":"SUMIFS('Z0.6.b ProgInvest_Contr agg'!AF:AF,\n'Z0.6.b ProgInvest_Contr agg'!$M:$M,\"CIN post2026\",\n'Z0.6.b ProgInvest_Contr agg'!$O:$O,\"Finanziario\",\n'Z0.6.b ProgInvest_Contr agg'!$Q:$Q,\"nuovo, urgente\")","v":0},{"$f":"SUMIFS('Z0.6.b ProgInvest_Contr agg'!AG:AG,\n'Z0.6.b ProgInvest_Contr agg'!$M:$M,\"CIN post2026\",\n'Z0.6.b ProgInvest_Contr agg'!$O:$O,\"Finanziario\",\n'Z0.6.b ProgInvest_Contr agg'!$Q:$Q,\"nuovo, urgente\")","v":0},{"$f":"SUMIFS('Z0.6.b ProgInvest_Contr agg'!AH:AH,\n'Z0.6.b ProgInvest_Contr agg'!$M:$M,\"CIN post2026\",\n'Z0.6.b ProgInvest_Contr agg'!$O:$O,\"Finanziario\",\n'Z0.6.b ProgInvest_Contr agg'!$Q:$Q,\"nuovo, urgente\")","v":0},{"$f":"SUMIFS('Z0.6.b ProgInvest_Contr agg'!AI:AI,\n'Z0.6.b ProgInvest_Contr agg'!$M:$M,\"CIN post2026\",\n'Z0.6.b ProgInvest_Contr agg'!$O:$O,\"Finanziario\",\n'Z0.6.b ProgInvest_Contr agg'!$Q:$Q,\"nuovo, urgente\")","v":0},{"$f":"SUMIFS('Z0.6.b ProgInvest_Contr agg'!AJ:AJ,\n'Z0.6.b ProgInvest_Contr agg'!$M:$M,\"CIN post2026\",\n'Z0.6.b ProgInvest_Contr agg'!$O:$O,\"Finanziario\",\n'Z0.6.b ProgInvest_Contr agg'!$Q:$Q,\"nuovo, urgente\")","v":0},{"$f":"SUMIFS('Z0.6.b ProgInvest_Contr agg'!AK:AK,\n'Z0.6.b ProgInvest_Contr agg'!$M:$M,\"CIN post2026\",\n'Z0.6.b ProgInvest_Contr agg'!$O:$O,\"Finanziario\",\n'Z0.6.b ProgInvest_Contr agg'!$Q:$Q,\"nuovo, urgente\")","v":0},{"$f":"SUMIFS('Z0.6.b ProgInvest_Contr agg'!AL:AL,\n'Z0.6.b ProgInvest_Contr agg'!$M:$M,\"CIN post2026\",\n'Z0.6.b ProgInvest_Contr agg'!$O:$O,\"Finanziario\",\n'Z0.6.b ProgInvest_Contr agg'!$Q:$Q,\"nuovo, urgente\")","v":0}]
[null,null,"Interventi afferenti al CIN post2026, ammortamento a vite utili di primo livello",null,{"$f":"SUMIFS('Z0.6.b ProgInvest_Contr agg'!X:X,\n'Z0.6.b ProgInvest_Contr agg'!$M:$M,\"CIN post2026\",\n'Z0.6.b ProgInvest_Contr agg'!$O:$O,\"Vite utili 1\",\n'Z0.6.b ProgInvest_Contr agg'!$Q:$Q,\"nuovo, urgente\")","v":0},{"$f":"SUMIFS('Z0.6.b ProgInvest_Contr agg'!Y:Y,\n'Z0.6.b ProgInvest_Contr agg'!$M:$M,\"CIN post2026\",\n'Z0.6.b ProgInvest_Contr agg'!$O:$O,\"Vite utili 1\",\n'Z0.6.b ProgInvest_Contr agg'!$Q:$Q,\"nuovo, urgente\")","v":0},{"$f":"SUMIFS('Z0.6.b ProgInvest_Contr agg'!Z:Z,\n'Z0.6.b ProgInvest_Contr agg'!$M:$M,\"CIN post2026\",\n'Z0.6.b ProgInvest_Contr agg'!$O:$O,\"Vite utili 1\",\n'Z0.6.b ProgInvest_Contr agg'!$Q:$Q,\"nuovo, urgente\")","v":0},{"$f":"SUMIFS('Z0.6.b ProgInvest_Contr agg'!AA:AA,\n'Z0.6.b ProgInvest_Contr agg'!$M:$M,\"CIN post2026\",\n'Z0.6.b ProgInvest_Contr agg'!$O:$O,\"Vite utili 1\",\n'Z0.6.b ProgInvest_Contr agg'!$Q:$Q,\"nuovo, urgente\")","v":0},{"$f":"SUMIFS('Z0.6.b ProgInvest_Contr agg'!AB:AB,\n'Z0.6.b ProgInvest_Contr agg'!$M:$M,\"CIN post2026\",\n'Z0.6.b ProgInvest_Contr agg'!$O:$O,\"Vite utili 1\",\n'Z0.6.b ProgInvest_Contr agg'!$Q:$Q,\"nuovo, urgente\")","v":0},{"$f":"SUMIFS('Z0.6.b ProgInvest_Contr agg'!AC:AC,\n'Z0.6.b ProgInvest_Contr agg'!$M:$M,\"CIN post2026\",\n'Z0.6.b ProgInvest_Contr agg'!$O:$O,\"Vite utili 1\",\n'Z0.6.b ProgInvest_Contr agg'!$Q:$Q,\"nuovo, urgente\")","v":0},{"$f":"SUMIFS('Z0.6.b ProgInvest_Contr agg'!AD:AD,\n'Z0.6.b ProgInvest_Contr agg'!$M:$M,\"CIN post2026\",\n'Z0.6.b ProgInvest_Contr agg'!$O:$O,\"Vite utili 1\",\n'Z0.6.b ProgInvest_Contr agg'!$Q:$Q,\"nuovo, urgente\")","v":0},{"$f":"SUMIFS('Z0.6.b ProgInvest_Contr agg'!AE:AE,\n'Z0.6.b ProgInvest_Contr agg'!$M:$M,\"CIN post2026\",\n'Z0.6.b ProgInvest_Contr agg'!$O:$O,\"Vite utili 1\",\n'Z0.6.b ProgInvest_Contr agg'!$Q:$Q,\"nuovo, urgente\")","v":0},{"$f":"SUMIFS('Z0.6.b ProgInvest_Contr agg'!AF:AF,\n'Z0.6.b ProgInvest_Contr agg'!$M:$M,\"CIN post2026\",\n'Z0.6.b ProgInvest_Contr agg'!$O:$O,\"Vite utili 1\",\n'Z0.6.b ProgInvest_Contr agg'!$Q:$Q,\"nuovo, urgente\")","v":0},{"$f":"SUMIFS('Z0.6.b ProgInvest_Contr agg'!AG:AG,\n'Z0.6.b ProgInvest_Contr agg'!$M:$M,\"CIN post2026\",\n'Z0.6.b ProgInvest_Contr agg'!$O:$O,\"Vite utili 1\",\n'Z0.6.b ProgInvest_Contr agg'!$Q:$Q,\"nuovo, urgente\")","v":0},{"$f":"SUMIFS('Z0.6.b ProgInvest_Contr agg'!AH:AH,\n'Z0.6.b ProgInvest_Contr agg'!$M:$M,\"CIN post2026\",\n'Z0.6.b ProgInvest_Contr agg'!$O:$O,\"Vite utili 1\",\n'Z0.6.b ProgInvest_Contr agg'!$Q:$Q,\"nuovo, urgente\")","v":0},{"$f":"SUMIFS('Z0.6.b ProgInvest_Contr agg'!AI:AI,\n'Z0.6.b ProgInvest_Contr agg'!$M:$M,\"CIN post2026\",\n'Z0.6.b ProgInvest_Contr agg'!$O:$O,\"Vite utili 1\",\n'Z0.6.b ProgInvest_Contr agg'!$Q:$Q,\"nuovo, urgente\")","v":0},{"$f":"SUMIFS('Z0.6.b ProgInvest_Contr agg'!AJ:AJ,\n'Z0.6.b ProgInvest_Contr agg'!$M:$M,\"CIN post2026\",\n'Z0.6.b ProgInvest_Contr agg'!$O:$O,\"Vite utili 1\",\n'Z0.6.b ProgInvest_Contr agg'!$Q:$Q,\"nuovo, urgente\")","v":0},{"$f":"SUMIFS('Z0.6.b ProgInvest_Contr agg'!AK:AK,\n'Z0.6.b ProgInvest_Contr agg'!$M:$M,\"CIN post2026\",\n'Z0.6.b ProgInvest_Contr agg'!$O:$O,\"Vite utili 1\",\n'Z0.6.b ProgInvest_Contr agg'!$Q:$Q,\"nuovo, urgente\")","v":0},{"$f":"SUMIFS('Z0.6.b ProgInvest_Contr agg'!AL:AL,\n'Z0.6.b ProgInvest_Contr agg'!$M:$M,\"CIN post2026\",\n'Z0.6.b ProgInvest_Contr agg'!$O:$O,\"Vite utili 1\",\n'Z0.6.b ProgInvest_Contr agg'!$Q:$Q,\"nuovo, urgente\")","v":0}]
[null,null,"Interventi afferenti al CIN post2026, ammortamento a vite utili di secondo livello",null,{"$f":"SUMIFS('Z0.6.b ProgInvest_Contr agg'!X:X,\n'Z0.6.b ProgInvest_Contr agg'!$M:$M,\"CIN post2026\",\n'Z0.6.b ProgInvest_Contr agg'!$O:$O,\"Vite utili 2\",\n'Z0.6.b ProgInvest_Contr agg'!$Q:$Q,\"nuovo, urgente\")","v":0},{"$f":"SUMIFS('Z0.6.b ProgInvest_Contr agg'!Y:Y,\n'Z0.6.b ProgInvest_Contr agg'!$M:$M,\"CIN post2026\",\n'Z0.6.b ProgInvest_Contr agg'!$O:$O,\"Vite utili 2\",\n'Z0.6.b ProgInvest_Contr agg'!$Q:$Q,\"nuovo, urgente\")","v":0},{"$f":"SUMIFS('Z0.6.b ProgInvest_Contr agg'!Z:Z,\n'Z0.6.b ProgInvest_Contr agg'!$M:$M,\"CIN post2026\",\n'Z0.6.b ProgInvest_Contr agg'!$O:$O,\"Vite utili 2\",\n'Z0.6.b ProgInvest_Contr agg'!$Q:$Q,\"nuovo, urgente\")","v":0},{"$f":"SUMIFS('Z0.6.b ProgInvest_Contr agg'!AA:AA,\n'Z0.6.b ProgInvest_Contr agg'!$M:$M,\"CIN post2026\",\n'Z0.6.b ProgInvest_Contr agg'!$O:$O,\"Vite utili 2\",\n'Z0.6.b ProgInvest_Contr agg'!$Q:$Q,\"nuovo, urgente\")","v":0},{"$f":"SUMIFS('Z0.6.b ProgInvest_Contr agg'!AB:AB,\n'Z0.6.b ProgInvest_Contr agg'!$M:$M,\"CIN post2026\",\n'Z0.6.b ProgInvest_Contr agg'!$O:$O,\"Vite utili 2\",\n'Z0.6.b ProgInvest_Contr agg'!$Q:$Q,\"nuovo, urgente\")","v":0},{"$f":"SUMIFS('Z0.6.b ProgInvest_Contr agg'!AC:AC,\n'Z0.6.b ProgInvest_Contr agg'!$M:$M,\"CIN post2026\",\n'Z0.6.b ProgInvest_Contr agg'!$O:$O,\"Vite utili 2\",\n'Z0.6.b ProgInvest_Contr agg'!$Q:$Q,\"nuovo, urgente\")","v":0},{"$f":"SUMIFS('Z0.6.b ProgInvest_Contr agg'!AD:AD,\n'Z0.6.b ProgInvest_Contr agg'!$M:$M,\"CIN post2026\",\n'Z0.6.b ProgInvest_Contr agg'!$O:$O,\"Vite utili 2\",\n'Z0.6.b ProgInvest_Contr agg'!$Q:$Q,\"nuovo, urgente\")","v":0},{"$f":"SUMIFS('Z0.6.b ProgInvest_Contr agg'!AE:AE,\n'Z0.6.b ProgInvest_Contr agg'!$M:$M,\"CIN post2026\",\n'Z0.6.b ProgInvest_Contr agg'!$O:$O,\"Vite utili 2\",\n'Z0.6.b ProgInvest_Contr agg'!$Q:$Q,\"nuovo, urgente\")","v":0},{"$f":"SUMIFS('Z0.6.b ProgInvest_Contr agg'!AF:AF,\n'Z0.6.b ProgInvest_Contr agg'!$M:$M,\"CIN post2026\",\n'Z0.6.b ProgInvest_Contr agg'!$O:$O,\"Vite utili 2\",\n'Z0.6.b ProgInvest_Contr agg'!$Q:$Q,\"nuovo, urgente\")","v":0},{"$f":"SUMIFS('Z0.6.b ProgInvest_Contr agg'!AG:AG,\n'Z0.6.b ProgInvest_Contr agg'!$M:$M,\"CIN post2026\",\n'Z0.6.b ProgInvest_Contr agg'!$O:$O,\"Vite utili 2\",\n'Z0.6.b ProgInvest_Contr agg'!$Q:$Q,\"nuovo, urgente\")","v":0},{"$f":"SUMIFS('Z0.6.b ProgInvest_Contr agg'!AH:AH,\n'Z0.6.b ProgInvest_Contr agg'!$M:$M,\"CIN post2026\",\n'Z0.6.b ProgInvest_Contr agg'!$O:$O,\"Vite utili 2\",\n'Z0.6.b ProgInvest_Contr agg'!$Q:$Q,\"nuovo, urgente\")","v":0},{"$f":"SUMIFS('Z0.6.b ProgInvest_Contr agg'!AI:AI,\n'Z0.6.b ProgInvest_Contr agg'!$M:$M,\"CIN post2026\",\n'Z0.6.b ProgInvest_Contr agg'!$O:$O,\"Vite utili 2\",\n'Z0.6.b ProgInvest_Contr agg'!$Q:$Q,\"nuovo, urgente\")","v":0},{"$f":"SUMIFS('Z0.6.b ProgInvest_Contr agg'!AJ:AJ,\n'Z0.6.b ProgInvest_Contr agg'!$M:$M,\"CIN post2026\",\n'Z0.6.b ProgInvest_Contr agg'!$O:$O,\"Vite utili 2\",\n'Z0.6.b ProgInvest_Contr agg'!$Q:$Q,\"nuovo, urgente\")","v":0},{"$f":"SUMIFS('Z0.6.b ProgInvest_Contr agg'!AK:AK,\n'Z0.6.b ProgInvest_Contr agg'!$M:$M,\"CIN post2026\",\n'Z0.6.b ProgInvest_Contr agg'!$O:$O,\"Vite utili 2\",\n'Z0.6.b ProgInvest_Contr agg'!$Q:$Q,\"nuovo, urgente\")","v":0},{"$f":"SUMIFS('Z0.6.b ProgInvest_Contr agg'!AL:AL,\n'Z0.6.b ProgInvest_Contr agg'!$M:$M,\"CIN post2026\",\n'Z0.6.b ProgInvest_Contr agg'!$O:$O,\"Vite utili 2\",\n'Z0.6.b ProgInvest_Contr agg'!$Q:$Q,\"nuovo, urgente\")","v":0}]
[null,null,"Totale",null,{"$f":"SUM(E114:E119)","v":0},{"$f":"SUM(F114:F119)","v":0},0,0,0,0,0,0,0,0,0,0,0,0,0]
[]
[null,null,"Dismissioni annue, classificate per tipologia di investimento"]
[]
[null,null,"Interventi afferenti al CIN ante - SAL contabilizzati",null,{"$f":"SUMIFS('Z0.6.c ProgInvest_Dism agg'!X:X,\n'Z0.6.c ProgInvest_Dism agg'!$M:$M,\"CIN ante\",\n'Z0.6.c ProgInvest_Dism agg'!$N:$N,\"SAL contabilizzati\",\n'Z0.6.c ProgInvest_Dism agg'!$Q:$Q,\"nuovo, urgente\")","v":0},{"$f":"SUMIFS('Z0.6.c ProgInvest_Dism agg'!Y:Y,\n'Z0.6.c ProgInvest_Dism agg'!$M:$M,\"CIN ante\",\n'Z0.6.c ProgInvest_Dism agg'!$N:$N,\"SAL contabilizzati\",\n'Z0.6.c ProgInvest_Dism agg'!$Q:$Q,\"nuovo, urgente\")","v":0},{"$f":"SUMIFS('Z0.6.c ProgInvest_Dism agg'!Z:Z,\n'Z0.6.c ProgInvest_Dism agg'!$M:$M,\"CIN ante\",\n'Z0.6.c ProgInvest_Dism agg'!$N:$N,\"SAL contabilizzati\",\n'Z0.6.c ProgInvest_Dism agg'!$Q:$Q,\"nuovo, urgente\")","v":0},{"$f":"SUMIFS('Z0.6.c ProgInvest_Dism agg'!AA:AA,\n'Z0.6.c ProgInvest_Dism agg'!$M:$M,\"CIN ante\",\n'Z0.6.c ProgInvest_Dism agg'!$N:$N,\"SAL contabilizzati\",\n'Z0.6.c ProgInvest_Dism agg'!$Q:$Q,\"nuovo, urgente\")","v":0},{"$f":"SUMIFS('Z0.6.c ProgInvest_Dism agg'!AB:AB,\n'Z0.6.c ProgInvest_Dism agg'!$M:$M,\"CIN ante\",\n'Z0.6.c ProgInvest_Dism agg'!$N:$N,\"SAL contabilizzati\",\n'Z0.6.c ProgInvest_Dism agg'!$Q:$Q,\"nuovo, urgente\")","v":0},{"$f":"SUMIFS('Z0.6.c ProgInvest_Dism agg'!AC:AC,\n'Z0.6.c ProgInvest_Dism agg'!$M:$M,\"CIN ante\",\n'Z0.6.c ProgInvest_Dism agg'!$N:$N,\"SAL contabilizzati\",\n'Z0.6.c ProgInvest_Dism agg'!$Q:$Q,\"nuovo, urgente\")","v":0},{"$f":"SUMIFS('Z0.6.c ProgInvest_Dism agg'!AD:AD,\n'Z0.6.c ProgInvest_Dism agg'!$M:$M,\"CIN ante\",\n'Z0.6.c ProgInvest_Dism agg'!$N:$N,\"SAL contabilizzati\",\n'Z0.6.c ProgInvest_Dism agg'!$Q:$Q,\"nuovo, urgente\")","v":0},{"$f":"SUMIFS('Z0.6.c ProgInvest_Dism agg'!AE:AE,\n'Z0.6.c ProgInvest_Dism agg'!$M:$M,\"CIN ante\",\n'Z0.6.c ProgInvest_Dism agg'!$N:$N,\"SAL contabilizzati\",\n'Z0.6.c ProgInvest_Dism agg'!$Q:$Q,\"nuovo, urgente\")","v":0},{"$f":"SUMIFS('Z0.6.c ProgInvest_Dism agg'!AF:AF,\n'Z0.6.c ProgInvest_Dism agg'!$M:$M,\"CIN ante\",\n'Z0.6.c ProgInvest_Dism agg'!$N:$N,\"SAL contabilizzati\",\n'Z0.6.c ProgInvest_Dism agg'!$Q:$Q,\"nuovo, urgente\")","v":0},{"$f":"SUMIFS('Z0.6.c ProgInvest_Dism agg'!AG:AG,\n'Z0.6.c ProgInvest_Dism agg'!$M:$M,\"CIN ante\",\n'Z0.6.c ProgInvest_Dism agg'!$N:$N,\"SAL contabilizzati\",\n'Z0.6.c ProgInvest_Dism agg'!$Q:$Q,\"nuovo, urgente\")","v":0},{"$f":"SUMIFS('Z0.6.c ProgInvest_Dism agg'!AH:AH,\n'Z0.6.c ProgInvest_Dism agg'!$M:$M,\"CIN ante\",\n'Z0.6.c ProgInvest_Dism agg'!$N:$N,\"SAL contabilizzati\",\n'Z0.6.c ProgInvest_Dism agg'!$Q:$Q,\"nuovo, urgente\")","v":0},{"$f":"SUMIFS('Z0.6.c ProgInvest_Dism agg'!AI:AI,\n'Z0.6.c ProgInvest_Dism agg'!$M:$M,\"CIN ante\",\n'Z0.6.c ProgInvest_Dism agg'!$N:$N,\"SAL contabilizzati\",\n'Z0.6.c ProgInvest_Dism agg'!$Q:$Q,\"nuovo, urgente\")","v":0},{"$f":"SUMIFS('Z0.6.c ProgInvest_Dism agg'!AJ:AJ,\n'Z0.6.c ProgInvest_Dism agg'!$M:$M,\"CIN ante\",\n'Z0.6.c ProgInvest_Dism agg'!$N:$N,\"SAL contabilizzati\",\n'Z0.6.c ProgInvest_Dism agg'!$Q:$Q,\"nuovo, urgente\")","v":0},{"$f":"SUMIFS('Z0.6.c ProgInvest_Dism agg'!AK:AK,\n'Z0.6.c ProgInvest_Dism agg'!$M:$M,\"CIN ante\",\n'Z0.6.c ProgInvest_Dism agg'!$N:$N,\"SAL contabilizzati\",\n'Z0.6.c ProgInvest_Dism agg'!$Q:$Q,\"nuovo, urgente\")","v":0},{"$f":"SUMIFS('Z0.6.c ProgInvest_Dism agg'!AL:AL,\n'Z0.6.c ProgInvest_Dism agg'!$M:$M,\"CIN ante\",\n'Z0.6.c ProgInvest_Dism agg'!$N:$N,\"SAL contabilizzati\",\n'Z0.6.c ProgInvest_Dism agg'!$Q:$Q,\"nuovo, urgente\")","v":0}]
[null,null,"Interventi afferenti al CIN ante - SAL da contabilizzare",null,{"$f":"SUMIFS('Z0.6.c ProgInvest_Dism agg'!X:X,\n'Z0.6.c ProgInvest_Dism agg'!$M:$M,\"CIN ante\",\n'Z0.6.c ProgInvest_Dism agg'!$N:$N,\"SAL da contabilizzare\",\n'Z0.6.c ProgInvest_Dism agg'!$Q:$Q,\"nuovo, urgente\")","v":0},{"$f":"SUMIFS('Z0.6.c ProgInvest_Dism agg'!Y:Y,\n'Z0.6.c ProgInvest_Dism agg'!$M:$M,\"CIN ante\",\n'Z0.6.c ProgInvest_Dism agg'!$N:$N,\"SAL da contabilizzare\",\n'Z0.6.c ProgInvest_Dism agg'!$Q:$Q,\"nuovo, urgente\")","v":0},{"$f":"SUMIFS('Z0.6.c ProgInvest_Dism agg'!Z:Z,\n'Z0.6.c ProgInvest_Dism agg'!$M:$M,\"CIN ante\",\n'Z0.6.c ProgInvest_Dism agg'!$N:$N,\"SAL da contabilizzare\",\n'Z0.6.c ProgInvest_Dism agg'!$Q:$Q,\"nuovo, urgente\")","v":0},{"$f":"SUMIFS('Z0.6.c ProgInvest_Dism agg'!AA:AA,\n'Z0.6.c ProgInvest_Dism agg'!$M:$M,\"CIN ante\",\n'Z0.6.c ProgInvest_Dism agg'!$N:$N,\"SAL da contabilizzare\",\n'Z0.6.c ProgInvest_Dism agg'!$Q:$Q,\"nuovo, urgente\")","v":0},{"$f":"SUMIFS('Z0.6.c ProgInvest_Dism agg'!AB:AB,\n'Z0.6.c ProgInvest_Dism agg'!$M:$M,\"CIN ante\",\n'Z0.6.c ProgInvest_Dism agg'!$N:$N,\"SAL da contabilizzare\",\n'Z0.6.c ProgInvest_Dism agg'!$Q:$Q,\"nuovo, urgente\")","v":0},{"$f":"SUMIFS('Z0.6.c ProgInvest_Dism agg'!AC:AC,\n'Z0.6.c ProgInvest_Dism agg'!$M:$M,\"CIN ante\",\n'Z0.6.c ProgInvest_Dism agg'!$N:$N,\"SAL da contabilizzare\",\n'Z0.6.c ProgInvest_Dism agg'!$Q:$Q,\"nuovo, urgente\")","v":0},{"$f":"SUMIFS('Z0.6.c ProgInvest_Dism agg'!AD:AD,\n'Z0.6.c ProgInvest_Dism agg'!$M:$M,\"CIN ante\",\n'Z0.6.c ProgInvest_Dism agg'!$N:$N,\"SAL da contabilizzare\",\n'Z0.6.c ProgInvest_Dism agg'!$Q:$Q,\"nuovo, urgente\")","v":0},{"$f":"SUMIFS('Z0.6.c ProgInvest_Dism agg'!AE:AE,\n'Z0.6.c ProgInvest_Dism agg'!$M:$M,\"CIN ante\",\n'Z0.6.c ProgInvest_Dism agg'!$N:$N,\"SAL da contabilizzare\",\n'Z0.6.c ProgInvest_Dism agg'!$Q:$Q,\"nuovo, urgente\")","v":0},{"$f":"SUMIFS('Z0.6.c ProgInvest_Dism agg'!AF:AF,\n'Z0.6.c ProgInvest_Dism agg'!$M:$M,\"CIN ante\",\n'Z0.6.c ProgInvest_Dism agg'!$N:$N,\"SAL da contabilizzare\",\n'Z0.6.c ProgInvest_Dism agg'!$Q:$Q,\"nuovo, urgente\")","v":0},{"$f":"SUMIFS('Z0.6.c ProgInvest_Dism agg'!AG:AG,\n'Z0.6.c ProgInvest_Dism agg'!$M:$M,\"CIN ante\",\n'Z0.6.c ProgInvest_Dism agg'!$N:$N,\"SAL da contabilizzare\",\n'Z0.6.c ProgInvest_Dism agg'!$Q:$Q,\"nuovo, urgente\")","v":0},{"$f":"SUMIFS('Z0.6.c ProgInvest_Dism agg'!AH:AH,\n'Z0.6.c ProgInvest_Dism agg'!$M:$M,\"CIN ante\",\n'Z0.6.c ProgInvest_Dism agg'!$N:$N,\"SAL da contabilizzare\",\n'Z0.6.c ProgInvest_Dism agg'!$Q:$Q,\"nuovo, urgente\")","v":0},{"$f":"SUMIFS('Z0.6.c ProgInvest_Dism agg'!AI:AI,\n'Z0.6.c ProgInvest_Dism agg'!$M:$M,\"CIN ante\",\n'Z0.6.c ProgInvest_Dism agg'!$N:$N,\"SAL da contabilizzare\",\n'Z0.6.c ProgInvest_Dism agg'!$Q:$Q,\"nuovo, urgente\")","v":0},{"$f":"SUMIFS('Z0.6.c ProgInvest_Dism agg'!AJ:AJ,\n'Z0.6.c ProgInvest_Dism agg'!$M:$M,\"CIN ante\",\n'Z0.6.c ProgInvest_Dism agg'!$N:$N,\"SAL da contabilizzare\",\n'Z0.6.c ProgInvest_Dism agg'!$Q:$Q,\"nuovo, urgente\")","v":0},{"$f":"SUMIFS('Z0.6.c ProgInvest_Dism agg'!AK:AK,\n'Z0.6.c ProgInvest_Dism agg'!$M:$M,\"CIN ante\",\n'Z0.6.c ProgInvest_Dism agg'!$N:$N,\"SAL da contabilizzare\",\n'Z0.6.c ProgInvest_Dism agg'!$Q:$Q,\"nuovo, urgente\")","v":0},{"$f":"SUMIFS('Z0.6.c ProgInvest_Dism agg'!AL:AL,\n'Z0.6.c ProgInvest_Dism agg'!$M:$M,\"CIN ante\",\n'Z0.6.c ProgInvest_Dism agg'!$N:$N,\"SAL da contabilizzare\",\n'Z0.6.c ProgInvest_Dism agg'!$Q:$Q,\"nuovo, urgente\")","v":0}]
[null,null,"Interventi afferenti al CIN pre2026",null,{"$f":"SUMIFS('Z0.6.c ProgInvest_Dism agg'!X:X,\n'Z0.6.c ProgInvest_Dism agg'!$M:$M,\"CIN pre2026\",\n'Z0.6.c ProgInvest_Dism agg'!$Q:$Q,\"nuovo, urgente\")","v":0},{"$f":"SUMIFS('Z0.6.c ProgInvest_Dism agg'!Y:Y,\n'Z0.6.c ProgInvest_Dism agg'!$M:$M,\"CIN pre2026\",\n'Z0.6.c ProgInvest_Dism agg'!$Q:$Q,\"nuovo, urgente\")","v":0},{"$f":"SUMIFS('Z0.6.c ProgInvest_Dism agg'!Z:Z,\n'Z0.6.c ProgInvest_Dism agg'!$M:$M,\"CIN pre2026\",\n'Z0.6.c ProgInvest_Dism agg'!$Q:$Q,\"nuovo, urgente\")","v":0},{"$f":"SUMIFS('Z0.6.c ProgInvest_Dism agg'!AA:AA,\n'Z0.6.c ProgInvest_Dism agg'!$M:$M,\"CIN pre2026\",\n'Z0.6.c ProgInvest_Dism agg'!$Q:$Q,\"nuovo, urgente\")","v":0},{"$f":"SUMIFS('Z0.6.c ProgInvest_Dism agg'!AB:AB,\n'Z0.6.c ProgInvest_Dism agg'!$M:$M,\"CIN pre2026\",\n'Z0.6.c ProgInvest_Dism agg'!$Q:$Q,\"nuovo, urgente\")","v":0},{"$f":"SUMIFS('Z0.6.c ProgInvest_Dism agg'!AC:AC,\n'Z0.6.c ProgInvest_Dism agg'!$M:$M,\"CIN pre2026\",\n'Z0.6.c ProgInvest_Dism agg'!$Q:$Q,\"nuovo, urgente\")","v":0},{"$f":"SUMIFS('Z0.6.c ProgInvest_Dism agg'!AD:AD,\n'Z0.6.c ProgInvest_Dism agg'!$M:$M,\"CIN pre2026\",\n'Z0.6.c ProgInvest_Dism agg'!$Q:$Q,\"nuovo, urgente\")","v":0},{"$f":"SUMIFS('Z0.6.c ProgInvest_Dism agg'!AE:AE,\n'Z0.6.c ProgInvest_Dism agg'!$M:$M,\"CIN pre2026\",\n'Z0.6.c ProgInvest_Dism agg'!$Q:$Q,\"nuovo, urgente\")","v":0},{"$f":"SUMIFS('Z0.6.c ProgInvest_Dism agg'!AF:AF,\n'Z0.6.c ProgInvest_Dism agg'!$M:$M,\"CIN pre2026\",\n'Z0.6.c ProgInvest_Dism agg'!$Q:$Q,\"nuovo, urgente\")","v":0},{"$f":"SUMIFS('Z0.6.c ProgInvest_Dism agg'!AG:AG,\n'Z0.6.c ProgInvest_Dism agg'!$M:$M,\"CIN pre2026\",\n'Z0.6.c ProgInvest_Dism agg'!$Q:$Q,\"nuovo, urgente\")","v":0},{"$f":"SUMIFS('Z0.6.c ProgInvest_Dism agg'!AH:AH,\n'Z0.6.c ProgInvest_Dism agg'!$M:$M,\"CIN pre2026\",\n'Z0.6.c ProgInvest_Dism agg'!$Q:$Q,\"nuovo, urgente\")","v":0},{"$f":"SUMIFS('Z0.6.c ProgInvest_Dism agg'!AI:AI,\n'Z0.6.c ProgInvest_Dism agg'!$M:$M,\"CIN pre2026\",\n'Z0.6.c ProgInvest_Dism agg'!$Q:$Q,\"nuovo, urgente\")","v":0},{"$f":"SUMIFS('Z0.6.c ProgInvest_Dism agg'!AJ:AJ,\n'Z0.6.c ProgInvest_Dism agg'!$M:$M,\"CIN pre2026\",\n'Z0.6.c ProgInvest_Dism agg'!$Q:$Q,\"nuovo, urgente\")","v":0},{"$f":"SUMIFS('Z0.6.c ProgInvest_Dism agg'!AK:AK,\n'Z0.6.c ProgInvest_Dism agg'!$M:$M,\"CIN pre2026\",\n'Z0.6.c ProgInvest_Dism agg'!$Q:$Q,\"nuovo, urgente\")","v":0},{"$f":"SUMIFS('Z0.6.c ProgInvest_Dism agg'!AL:AL,\n'Z0.6.c ProgInvest_Dism agg'!$M:$M,\"CIN pre2026\",\n'Z0.6.c ProgInvest_Dism agg'!$Q:$Q,\"nuovo, urgente\")","v":0}]
[null,null,"Interventi afferenti al CIN post2026, ammortamento finanziario",null,{"$f":"SUMIFS('Z0.6.c ProgInvest_Dism agg'!X:X,\n'Z0.6.c ProgInvest_Dism agg'!$M:$M,\"CIN post2026\",\n'Z0.6.c ProgInvest_Dism agg'!$O:$O,\"Finanziario\",\n'Z0.6.c ProgInvest_Dism agg'!$Q:$Q,\"nuovo, urgente\")","v":0},{"$f":"SUMIFS('Z0.6.c ProgInvest_Dism agg'!Y:Y,\n'Z0.6.c ProgInvest_Dism agg'!$M:$M,\"CIN post2026\",\n'Z0.6.c ProgInvest_Dism agg'!$O:$O,\"Finanziario\",\n'Z0.6.c ProgInvest_Dism agg'!$Q:$Q,\"nuovo, urgente\")","v":0},{"$f":"SUMIFS('Z0.6.c ProgInvest_Dism agg'!Z:Z,\n'Z0.6.c ProgInvest_Dism agg'!$M:$M,\"CIN post2026\",\n'Z0.6.c ProgInvest_Dism agg'!$O:$O,\"Finanziario\",\n'Z0.6.c ProgInvest_Dism agg'!$Q:$Q,\"nuovo, urgente\")","v":0},{"$f":"SUMIFS('Z0.6.c ProgInvest_Dism agg'!AA:AA,\n'Z0.6.c ProgInvest_Dism agg'!$M:$M,\"CIN post2026\",\n'Z0.6.c ProgInvest_Dism agg'!$O:$O,\"Finanziario\",\n'Z0.6.c ProgInvest_Dism agg'!$Q:$Q,\"nuovo, urgente\")","v":0},{"$f":"SUMIFS('Z0.6.c ProgInvest_Dism agg'!AB:AB,\n'Z0.6.c ProgInvest_Dism agg'!$M:$M,\"CIN post2026\",\n'Z0.6.c ProgInvest_Dism agg'!$O:$O,\"Finanziario\",\n'Z0.6.c ProgInvest_Dism agg'!$Q:$Q,\"nuovo, urgente\")","v":0},{"$f":"SUMIFS('Z0.6.c ProgInvest_Dism agg'!AC:AC,\n'Z0.6.c ProgInvest_Dism agg'!$M:$M,\"CIN post2026\",\n'Z0.6.c ProgInvest_Dism agg'!$O:$O,\"Finanziario\",\n'Z0.6.c ProgInvest_Dism agg'!$Q:$Q,\"nuovo, urgente\")","v":0},{"$f":"SUMIFS('Z0.6.c ProgInvest_Dism agg'!AD:AD,\n'Z0.6.c ProgInvest_Dism agg'!$M:$M,\"CIN post2026\",\n'Z0.6.c ProgInvest_Dism agg'!$O:$O,\"Finanziario\",\n'Z0.6.c ProgInvest_Dism agg'!$Q:$Q,\"nuovo, urgente\")","v":0},{"$f":"SUMIFS('Z0.6.c ProgInvest_Dism agg'!AE:AE,\n'Z0.6.c ProgInvest_Dism agg'!$M:$M,\"CIN post2026\",\n'Z0.6.c ProgInvest_Dism agg'!$O:$O,\"Finanziario\",\n'Z0.6.c ProgInvest_Dism agg'!$Q:$Q,\"nuovo, urgente\")","v":0},{"$f":"SUMIFS('Z0.6.c ProgInvest_Dism agg'!AF:AF,\n'Z0.6.c ProgInvest_Dism agg'!$M:$M,\"CIN post2026\",\n'Z0.6.c ProgInvest_Dism agg'!$O:$O,\"Finanziario\",\n'Z0.6.c ProgInvest_Dism agg'!$Q:$Q,\"nuovo, urgente\")","v":0},{"$f":"SUMIFS('Z0.6.c ProgInvest_Dism agg'!AG:AG,\n'Z0.6.c ProgInvest_Dism agg'!$M:$M,\"CIN post2026\",\n'Z0.6.c ProgInvest_Dism agg'!$O:$O,\"Finanziario\",\n'Z0.6.c ProgInvest_Dism agg'!$Q:$Q,\"nuovo, urgente\")","v":0},{"$f":"SUMIFS('Z0.6.c ProgInvest_Dism agg'!AH:AH,\n'Z0.6.c ProgInvest_Dism agg'!$M:$M,\"CIN post2026\",\n'Z0.6.c ProgInvest_Dism agg'!$O:$O,\"Finanziario\",\n'Z0.6.c ProgInvest_Dism agg'!$Q:$Q,\"nuovo, urgente\")","v":0},{"$f":"SUMIFS('Z0.6.c ProgInvest_Dism agg'!AI:AI,\n'Z0.6.c ProgInvest_Dism agg'!$M:$M,\"CIN post2026\",\n'Z0.6.c ProgInvest_Dism agg'!$O:$O,\"Finanziario\",\n'Z0.6.c ProgInvest_Dism agg'!$Q:$Q,\"nuovo, urgente\")","v":0},{"$f":"SUMIFS('Z0.6.c ProgInvest_Dism agg'!AJ:AJ,\n'Z0.6.c ProgInvest_Dism agg'!$M:$M,\"CIN post2026\",\n'Z0.6.c ProgInvest_Dism agg'!$O:$O,\"Finanziario\",\n'Z0.6.c ProgInvest_Dism agg'!$Q:$Q,\"nuovo, urgente\")","v":0},{"$f":"SUMIFS('Z0.6.c ProgInvest_Dism agg'!AK:AK,\n'Z0.6.c ProgInvest_Dism agg'!$M:$M,\"CIN post2026\",\n'Z0.6.c ProgInvest_Dism agg'!$O:$O,\"Finanziario\",\n'Z0.6.c ProgInvest_Dism agg'!$Q:$Q,\"nuovo, urgente\")","v":0},{"$f":"SUMIFS('Z0.6.c ProgInvest_Dism agg'!AL:AL,\n'Z0.6.c ProgInvest_Dism agg'!$M:$M,\"CIN post2026\",\n'Z0.6.c ProgInvest_Dism agg'!$O:$O,\"Finanziario\",\n'Z0.6.c ProgInvest_Dism agg'!$Q:$Q,\"nuovo, urgente\")","v":0}]
[null,null,"Interventi afferenti al CIN post2026, ammortamento a vite utili di primo livello",null,{"$f":"SUMIFS('Z0.6.c ProgInvest_Dism agg'!X:X,\n'Z0.6.c ProgInvest_Dism agg'!$M:$M,\"CIN post2026\",\n'Z0.6.c ProgInvest_Dism agg'!$O:$O,\"Vite utili 1\",\n'Z0.6.c ProgInvest_Dism agg'!$Q:$Q,\"nuovo, urgente\")","v":0},{"$f":"SUMIFS('Z0.6.c ProgInvest_Dism agg'!Y:Y,\n'Z0.6.c ProgInvest_Dism agg'!$M:$M,\"CIN post2026\",\n'Z0.6.c ProgInvest_Dism agg'!$O:$O,\"Vite utili 1\",\n'Z0.6.c ProgInvest_Dism agg'!$Q:$Q,\"nuovo, urgente\")","v":0},{"$f":"SUMIFS('Z0.6.c ProgInvest_Dism agg'!Z:Z,\n'Z0.6.c ProgInvest_Dism agg'!$M:$M,\"CIN post2026\",\n'Z0.6.c ProgInvest_Dism agg'!$O:$O,\"Vite utili 1\",\n'Z0.6.c ProgInvest_Dism agg'!$Q:$Q,\"nuovo, urgente\")","v":0},{"$f":"SUMIFS('Z0.6.c ProgInvest_Dism agg'!AA:AA,\n'Z0.6.c ProgInvest_Dism agg'!$M:$M,\"CIN post2026\",\n'Z0.6.c ProgInvest_Dism agg'!$O:$O,\"Vite utili 1\",\n'Z0.6.c ProgInvest_Dism agg'!$Q:$Q,\"nuovo, urgente\")","v":0},{"$f":"SUMIFS('Z0.6.c ProgInvest_Dism agg'!AB:AB,\n'Z0.6.c ProgInvest_Dism agg'!$M:$M,\"CIN post2026\",\n'Z0.6.c ProgInvest_Dism agg'!$O:$O,\"Vite utili 1\",\n'Z0.6.c ProgInvest_Dism agg'!$Q:$Q,\"nuovo, urgente\")","v":0},{"$f":"SUMIFS('Z0.6.c ProgInvest_Dism agg'!AC:AC,\n'Z0.6.c ProgInvest_Dism agg'!$M:$M,\"CIN post2026\",\n'Z0.6.c ProgInvest_Dism agg'!$O:$O,\"Vite utili 1\",\n'Z0.6.c ProgInvest_Dism agg'!$Q:$Q,\"nuovo, urgente\")","v":0},{"$f":"SUMIFS('Z0.6.c ProgInvest_Dism agg'!AD:AD,\n'Z0.6.c ProgInvest_Dism agg'!$M:$M,\"CIN post2026\",\n'Z0.6.c ProgInvest_Dism agg'!$O:$O,\"Vite utili 1\",\n'Z0.6.c ProgInvest_Dism agg'!$Q:$Q,\"nuovo, urgente\")","v":0},{"$f":"SUMIFS('Z0.6.c ProgInvest_Dism agg'!AE:AE,\n'Z0.6.c ProgInvest_Dism agg'!$M:$M,\"CIN post2026\",\n'Z0.6.c ProgInvest_Dism agg'!$O:$O,\"Vite utili 1\",\n'Z0.6.c ProgInvest_Dism agg'!$Q:$Q,\"nuovo, urgente\")","v":0},{"$f":"SUMIFS('Z0.6.c ProgInvest_Dism agg'!AF:AF,\n'Z0.6.c ProgInvest_Dism agg'!$M:$M,\"CIN post2026\",\n'Z0.6.c ProgInvest_Dism agg'!$O:$O,\"Vite utili 1\",\n'Z0.6.c ProgInvest_Dism agg'!$Q:$Q,\"nuovo, urgente\")","v":0},{"$f":"SUMIFS('Z0.6.c ProgInvest_Dism agg'!AG:AG,\n'Z0.6.c ProgInvest_Dism agg'!$M:$M,\"CIN post2026\",\n'Z0.6.c ProgInvest_Dism agg'!$O:$O,\"Vite utili 1\",\n'Z0.6.c ProgInvest_Dism agg'!$Q:$Q,\"nuovo, urgente\")","v":0},{"$f":"SUMIFS('Z0.6.c ProgInvest_Dism agg'!AH:AH,\n'Z0.6.c ProgInvest_Dism agg'!$M:$M,\"CIN post2026\",\n'Z0.6.c ProgInvest_Dism agg'!$O:$O,\"Vite utili 1\",\n'Z0.6.c ProgInvest_Dism agg'!$Q:$Q,\"nuovo, urgente\")","v":0},{"$f":"SUMIFS('Z0.6.c ProgInvest_Dism agg'!AI:AI,\n'Z0.6.c ProgInvest_Dism agg'!$M:$M,\"CIN post2026\",\n'Z0.6.c ProgInvest_Dism agg'!$O:$O,\"Vite utili 1\",\n'Z0.6.c ProgInvest_Dism agg'!$Q:$Q,\"nuovo, urgente\")","v":0},{"$f":"SUMIFS('Z0.6.c ProgInvest_Dism agg'!AJ:AJ,\n'Z0.6.c ProgInvest_Dism agg'!$M:$M,\"CIN post2026\",\n'Z0.6.c ProgInvest_Dism agg'!$O:$O,\"Vite utili 1\",\n'Z0.6.c ProgInvest_Dism agg'!$Q:$Q,\"nuovo, urgente\")","v":0},{"$f":"SUMIFS('Z0.6.c ProgInvest_Dism agg'!AK:AK,\n'Z0.6.c ProgInvest_Dism agg'!$M:$M,\"CIN post2026\",\n'Z0.6.c ProgInvest_Dism agg'!$O:$O,\"Vite utili 1\",\n'Z0.6.c ProgInvest_Dism agg'!$Q:$Q,\"nuovo, urgente\")","v":0},{"$f":"SUMIFS('Z0.6.c ProgInvest_Dism agg'!AL:AL,\n'Z0.6.c ProgInvest_Dism agg'!$M:$M,\"CIN post2026\",\n'Z0.6.c ProgInvest_Dism agg'!$O:$O,\"Vite utili 1\",\n'Z0.6.c ProgInvest_Dism agg'!$Q:$Q,\"nuovo, urgente\")","v":0}]
[null,null,"Interventi afferenti al CIN post2026, ammortamento a vite utili di secondo livello",null,{"$f":"SUMIFS('Z0.6.c ProgInvest_Dism agg'!X:X,\n'Z0.6.c ProgInvest_Dism agg'!$M:$M,\"CIN post2026\",\n'Z0.6.c ProgInvest_Dism agg'!$O:$O,\"Vite utili 2\",\n'Z0.6.c ProgInvest_Dism agg'!$Q:$Q,\"nuovo, urgente\")","v":0},{"$f":"SUMIFS('Z0.6.c ProgInvest_Dism agg'!Y:Y,\n'Z0.6.c ProgInvest_Dism agg'!$M:$M,\"CIN post2026\",\n'Z0.6.c ProgInvest_Dism agg'!$O:$O,\"Vite utili 2\",\n'Z0.6.c ProgInvest_Dism agg'!$Q:$Q,\"nuovo, urgente\")","v":0},{"$f":"SUMIFS('Z0.6.c ProgInvest_Dism agg'!Z:Z,\n'Z0.6.c ProgInvest_Dism agg'!$M:$M,\"CIN post2026\",\n'Z0.6.c ProgInvest_Dism agg'!$O:$O,\"Vite utili 2\",\n'Z0.6.c ProgInvest_Dism agg'!$Q:$Q,\"nuovo, urgente\")","v":0},{"$f":"SUMIFS('Z0.6.c ProgInvest_Dism agg'!AA:AA,\n'Z0.6.c ProgInvest_Dism agg'!$M:$M,\"CIN post2026\",\n'Z0.6.c ProgInvest_Dism agg'!$O:$O,\"Vite utili 2\",\n'Z0.6.c ProgInvest_Dism agg'!$Q:$Q,\"nuovo, urgente\")","v":0},{"$f":"SUMIFS('Z0.6.c ProgInvest_Dism agg'!AB:AB,\n'Z0.6.c ProgInvest_Dism agg'!$M:$M,\"CIN post2026\",\n'Z0.6.c ProgInvest_Dism agg'!$O:$O,\"Vite utili 2\",\n'Z0.6.c ProgInvest_Dism agg'!$Q:$Q,\"nuovo, urgente\")","v":0},{"$f":"SUMIFS('Z0.6.c ProgInvest_Dism agg'!AC:AC,\n'Z0.6.c ProgInvest_Dism agg'!$M:$M,\"CIN post2026\",\n'Z0.6.c ProgInvest_Dism agg'!$O:$O,\"Vite utili 2\",\n'Z0.6.c ProgInvest_Dism agg'!$Q:$Q,\"nuovo, urgente\")","v":0},{"$f":"SUMIFS('Z0.6.c ProgInvest_Dism agg'!AD:AD,\n'Z0.6.c ProgInvest_Dism agg'!$M:$M,\"CIN post2026\",\n'Z0.6.c ProgInvest_Dism agg'!$O:$O,\"Vite utili 2\",\n'Z0.6.c ProgInvest_Dism agg'!$Q:$Q,\"nuovo, urgente\")","v":0},{"$f":"SUMIFS('Z0.6.c ProgInvest_Dism agg'!AE:AE,\n'Z0.6.c ProgInvest_Dism agg'!$M:$M,\"CIN post2026\",\n'Z0.6.c ProgInvest_Dism agg'!$O:$O,\"Vite utili 2\",\n'Z0.6.c ProgInvest_Dism agg'!$Q:$Q,\"nuovo, urgente\")","v":0},{"$f":"SUMIFS('Z0.6.c ProgInvest_Dism agg'!AF:AF,\n'Z0.6.c ProgInvest_Dism agg'!$M:$M,\"CIN post2026\",\n'Z0.6.c ProgInvest_Dism agg'!$O:$O,\"Vite utili 2\",\n'Z0.6.c ProgInvest_Dism agg'!$Q:$Q,\"nuovo, urgente\")","v":0},{"$f":"SUMIFS('Z0.6.c ProgInvest_Dism agg'!AG:AG,\n'Z0.6.c ProgInvest_Dism agg'!$M:$M,\"CIN post2026\",\n'Z0.6.c ProgInvest_Dism agg'!$O:$O,\"Vite utili 2\",\n'Z0.6.c ProgInvest_Dism agg'!$Q:$Q,\"nuovo, urgente\")","v":0},{"$f":"SUMIFS('Z0.6.c ProgInvest_Dism agg'!AH:AH,\n'Z0.6.c ProgInvest_Dism agg'!$M:$M,\"CIN post2026\",\n'Z0.6.c ProgInvest_Dism agg'!$O:$O,\"Vite utili 2\",\n'Z0.6.c ProgInvest_Dism agg'!$Q:$Q,\"nuovo, urgente\")","v":0},{"$f":"SUMIFS('Z0.6.c ProgInvest_Dism agg'!AI:AI,\n'Z0.6.c ProgInvest_Dism agg'!$M:$M,\"CIN post2026\",\n'Z0.6.c ProgInvest_Dism agg'!$O:$O,\"Vite utili 2\",\n'Z0.6.c ProgInvest_Dism agg'!$Q:$Q,\"nuovo, urgente\")","v":0},{"$f":"SUMIFS('Z0.6.c ProgInvest_Dism agg'!AJ:AJ,\n'Z0.6.c ProgInvest_Dism agg'!$M:$M,\"CIN post2026\",\n'Z0.6.c ProgInvest_Dism agg'!$O:$O,\"Vite utili 2\",\n'Z0.6.c ProgInvest_Dism agg'!$Q:$Q,\"nuovo, urgente\")","v":0},{"$f":"SUMIFS('Z0.6.c ProgInvest_Dism agg'!AK:AK,\n'Z0.6.c ProgInvest_Dism agg'!$M:$M,\"CIN post2026\",\n'Z0.6.c ProgInvest_Dism agg'!$O:$O,\"Vite utili 2\",\n'Z0.6.c ProgInvest_Dism agg'!$Q:$Q,\"nuovo, urgente\")","v":0},{"$f":"SUMIFS('Z0.6.c ProgInvest_Dism agg'!AL:AL,\n'Z0.6.c ProgInvest_Dism agg'!$M:$M,\"CIN post2026\",\n'Z0.6.c ProgInvest_Dism agg'!$O:$O,\"Vite utili 2\",\n'Z0.6.c ProgInvest_Dism agg'!$Q:$Q,\"nuovo, urgente\")","v":0}]
[null,null,"Totale",null,{"$f":"SUM(E124:E129)","v":0},{"$f":"SUM(F124:F129)","v":0},0,0,0,0,0,0,0,0,0,0,0,0,0]
[]
[null,null,"Investimenti netti annui, classificati per tipologia"]
[]
[null,null,"Interventi afferenti al CIN ante - SAL contabilizzati",null,{"$f":"E104-E114-E124","v":0},{"$f":"F104-F114-F124","v":0},0,0,0,0,0,0,0,0,0,0,0,0,0]
[null,null,"Interventi afferenti al CIN ante - SAL da contabilizzare",null,{"$f":"E105-E115-E125","v":0},0,0,0,0,0,0,0,0,0,0,0,0,0,0]
[null,null,"Interventi afferenti al CIN pre2026",null,{"$f":"E106-E116-E126","v":0},0,0,0,0,0,0,0,0,0,0,0,0,0,0]
[null,null,"Interventi afferenti al CIN post2026, ammortamento finanziario",null,{"$f":"E107-E117-E127","v":0},0,0,0,0,0,0,0,0,0,0,0,0,0,0]
[null,null,"Interventi afferenti al CIN post2026, ammortamento a vite utili di primo livello",null,{"$f":"E108-E118-E128","v":0},0,0,0,0,0,0,0,0,0,0,0,0,0,0]
[null,null,"Interventi afferenti al CIN post2026, ammortamento a vite utili di secondo livello",null,{"$f":"E109-E119-E129","v":0},0,0,0,0,0,0,0,0,0,0,0,0,0,0]
[null,null,"Totale",null,{"$f":"SUM(E134:E139)","v":0},{"$f":"SUM(F134:F139)","v":0},0,0,0,0,0,0,0,0,0,0,0,0,0]
[]
[]
[null,null,"Variazioni complessive al Programma degli investimenti"]
[]
[null,null,"Investimenti lordi annui, classificati per tipologia"]
[]
[null,null,"Interventi afferenti al CIN ante - SAL contabilizzati",null,{"$f":"E61+E104-E18","v":0},{"$f":"F61+F104-F18","v":0},0,0,0,0,0,0,0,0,0,0,0,0,0]
[null,null,"Interventi afferenti al CIN ante - SAL da contabilizzare",null,{"$f":"E62+E105-E19","v":0},0,0,0,0,0,0,0,0,0,0,0,0,0,0]
[null,null,"Interventi afferenti al CIN pre2026",null,{"$f":"E63+E106-E20","v":0},0,0,0,0,0,0,0,0,0,0,0,0,0,0]
[null,null,"Interventi afferenti al CIN post2026, ammortamento finanziario",null,{"$f":"E64+E107-E21","v":0},0,0,0,0,0,0,0,0,0,0,0,0,0,0]
[null,null,"Interventi afferenti al CIN post2026, ammortamento a vite utili di primo livello",null,{"$f":"E65+E108-E22","v":0},0,0,0,0,0,0,0,0,0,0,0,0,0,0]
[null,null,"Interventi afferenti al CIN post2026, ammortamento a vite utili di secondo livello",null,{"$f":"E66+E109-E23","v":0},0,0,0,0,0,0,0,0,0,0,0,0,0,0]
[null,null,"Totale",null,{"$f":"SUM(E147:E152)","v":0},{"$f":"SUM(F147:F152)","v":0},{"$f":"SUM(G147:G152)","v":0},{"$f":"SUM(H147:H152)","v":0},{"$f":"SUM(I147:I152)","v":0},0,0,0,0,0,0,0,0,0,0]
[]
[null,null,"Contributi annui, classificati per tipologia di investimento"]
[]
[null,null,"Interventi afferenti al CIN ante - SAL contabilizzati",null,{"$f":"E71+E114-E28","v":0},{"$f":"F71+F114-F28","v":0},0,0,0,0,0,0,0,0,0,0,0,0,0]
[null,null,"Interventi afferenti al CIN ante - SAL da contabilizzare",null,{"$f":"E72+E115-E29","v":0},0,0,0,0,0,0,0,0,0,0,0,0,0,0]
[null,null,"Interventi afferenti al CIN pre2026",null,{"$f":"E73+E116-E30","v":0},0,0,0,0,0,0,0,0,0,0,0,0,0,0]
[null,null,"Interventi afferenti al CIN post2026, ammortamento finanziario",null,{"$f":"E74+E117-E31","v":0},0,0,0,0,0,0,0,0,0,0,0,0,0,0]
[null,null,"Interventi afferenti al CIN post2026, ammortamento a vite utili di primo livello",null,{"$f":"E75+E118-E32","v":0},0,0,0,0,0,0,0,0,0,0,0,0,0,0]
[null,null,"Interventi afferenti al CIN post2026, ammortamento a vite utili di secondo livello",null,{"$f":"E76+E119-E33","v":0},0,0,0,0,0,0,0,0,0,0,0,0,0,0]
[null,null,"Totale",null,{"$f":"SUM(E157:E162)","v":0},{"$f":"SUM(F157:F162)","v":0},{"$f":"SUM(G157:G162)","v":0},{"$f":"SUM(H157:H162)","v":0},{"$f":"SUM(I157:I162)","v":0},0,0,0,0,0,0,0,0,0,0]
[]
[null,null,"Dismissioni annue, classificate per tipologia di investimento"]
[]
[null,null,"Interventi afferenti al CIN ante - SAL contabilizzati",null,{"$f":"E81+E124-E38","v":0},{"$f":"F81+F124-F38","v":0},0,0,0,0,0,0,0,0,0,0,0,0,0]
[null,null,"Interventi afferenti al CIN ante - SAL da contabilizzare",null,{"$f":"E82+E125-E39","v":0},0,0,0,0,0,0,0,0,0,0,0,0,0,0]
[null,null,"Interventi afferenti al CIN pre2026",null,{"$f":"E83+E126-E40","v":0},0,0,0,0,0,0,0,0,0,0,0,0,0,0]
[null,null,"Interventi afferenti al CIN post2026, ammortamento finanziario",null,{"$f":"E84+E127-E41","v":0},0,0,0,0,0,0,0,0,0,0,0,0,0,0]
[null,null,"Interventi afferenti al CIN post2026, ammortamento a vite utili di primo livello",null,{"$f":"E85+E128-E42","v":0},0,0,0,0,0,0,0,0,0,0,0,0,0,0]
[null,null,"Interventi afferenti al CIN post2026, ammortamento a vite utili di secondo livello",null,{"$f":"E86+E129-E43","v":0},0,0,0,0,0,0,0,0,0,0,0,0,0,0]
[null,null,"Totale",null,{"$f":"SUM(E167:E172)","v":0},{"$f":"SUM(F167:F172)","v":0},0,0,{"$f":"SUM(I167:I172)","v":0},0,0,0,0,0,0,0,0,0,0]
[]
[null,null,"Investimenti netti annui, classificati per tipologia"]
[]
[null,null,"Interventi afferenti al CIN ante - SAL contabilizzati",null,{"$f":"E147-E157-E167","v":0},{"$f":"F147-F157-F167","v":0},0,0,0,0,0,0,0,0,0,0,0,0,0]
[null,null,"Interventi afferenti al CIN ante - SAL da contabilizzare",null,{"$f":"E148-E158-E168","v":0},0,0,0,0,0,0,0,0,0,0,0,0,0,0]
[null,null,"Interventi afferenti al CIN pre2026",null,{"$f":"E149-E159-E169","v":0},0,0,0,0,0,0,0,0,0,0,0,0,0,0]
[null,null,"Interventi afferenti al CIN post2026, ammortamento finanziario",null,{"$f":"E150-E160-E170","v":0},0,0,0,0,0,0,0,0,0,0,0,0,0,0]
[null,null,"Interventi afferenti al CIN post2026, ammortamento a vite utili di primo livello",null,{"$f":"E151-E161-E171","v":0},0,0,0,0,0,0,0,0,0,0,0,0,0,0]
[null,null,"Interventi afferenti al CIN post2026, ammortamento a vite utili di secondo livello",null,{"$f":"E152-E162-E172","v":0},0,0,0,0,0,0,0,0,0,0,0,0,0,0]
[null,null,"Totale",null,{"$f":"SUM(E177:E182)","v":0},{"$f":"SUM(F177:F182)","v":0},0,0,0,0,0,0,0,0,0,0,0,0,0]
[]
[]
[null,null,"Dettaglio delle variazioni agli investimenti netti, per tipologia"]
[]
[null,null,"1 - Conguaglio relativo ai dati a consuntivo dell'anno precedente quello in corso"]
[]
[null,null,"Interventi afferenti al CIN ante - SAL contabilizzati",null,{"$f":"IF(E$4=AnnoMon-1,E177,\"\")","v":""},{"$f":"IF(F$4=AnnoMon-1,F177,\"\")","v":""},0,"","","","","","","","","","","",""]
[null,null,"Interventi afferenti al CIN ante - SAL da contabilizzare",null,{"$f":"IF(E$4=AnnoMon-1,E178,\"\")","v":""},"",0,"","","","","","","","","","","",""]
[null,null,"Interventi afferenti al CIN pre2026",null,{"$f":"IF(E$4=AnnoMon-1,E179,\"\")","v":""},"",0,"","","","","","","","","","","",""]
[null,null,"Interventi afferenti al CIN post2026, ammortamento finanziario",null,{"$f":"IF(E$4=AnnoMon-1,E180,\"\")","v":""},"",0,"","","","","","","","","","","",""]
[null,null,"Interventi afferenti al CIN post2026, ammortamento a vite utili di primo livello",null,{"$f":"IF(E$4=AnnoMon-1,E181,\"\")","v":""},"",0,"","","","","","","","","","","",""]
[null,null,"Interventi afferenti al CIN post2026, ammortamento a vite utili di secondo livello",null,{"$f":"IF(E$4=AnnoMon-1,E182,\"\")","v":""},"",0,"","","","","","","","","","","",""]
[null,null,"Totale",null,{"$f":"SUM(E190:E195)","v":0},{"$f":"SUM(F190:F195)","v":0},0,0,{"$f":"SUM(I190:I195)","v":0},0,0,0,0,0,0,0,0,0,0]
[]
[null,null,"2 - Investimenti effettivamente realizzati dal concessionario rispetto a quanto programmato nel PEF vigente, sulla base dei dati consuntivi e preconsuntivi al 30 settembre di ogni anno"]
[]
[null,null,"Interventi afferenti al CIN ante - SAL contabilizzati",null,{"$f":"IF(E$4=AnnoMon,E177,\"\")","v":""},{"$f":"IF(F$4=AnnoMon,F177,\"\")","v":""},"",0,"","","","","","","","","","",""]
[null,null,"Interventi afferenti al CIN ante - SAL da contabilizzare",null,{"$f":"IF(E$4=AnnoMon,E178,\"\")","v":""},"","",0,"","","","","","","","","","",""]
[null,null,"Interventi afferenti al CIN pre2026",null,{"$f":"IF(E$4=AnnoMon,E179,\"\")","v":""},"","",0,"","","","","","","","","","",""]
[null,null,"Interventi afferenti al CIN post2026, ammortamento finanziario",null,{"$f":"IF(E$4=AnnoMon,E180,\"\")","v":""},"","",0,"","","","","","","","","","",""]
[null,null,"Interventi afferenti al CIN post2026, ammortamento a vite utili di primo livello",null,{"$f":"IF(E$4=AnnoMon,E181,\"\")","v":""},"","",0,"","","","","","","","","","",""]
[null,null,"Interventi afferenti al CIN post2026, ammortamento a vite utili di secondo livello",null,{"$f":"IF(E$4=AnnoMon,E182,\"\")","v":""},"","",0,"","","","","","","","","","",""]
[null,null,"Totale",null,{"$f":"SUM(E200:E205)","v":0},0,0,0,{"$f":"SUM(I200:I205)","v":0},0,0,0,0,0,0,0,0,0,0]
[]
[null,null,"3 - Aggiornamento del cronoprogramma degli investimenti, a partire dall'anno successivo a quello in corso, nel rispetto delle condizioni di ammissibilità definite da ART"]
[]
[null,null,"Interventi afferenti al CIN ante - SAL contabilizzati",null,{"$f":"IF(E$4>AnnoMon,E177,\"\")","v":""},{"$f":"IF(F$4>AnnoMon,F177,\"\")","v":""},"","",0,0,0,0,0,0,0,0,0,0,0]
[null,null,"Interventi afferenti al CIN ante - SAL da contabilizzare",null,{"$f":"IF(E$4>AnnoMon,E178,\"\")","v":""},"","","",0,0,0,0,0,0,0,0,0,0,0]
[null,null,"Interventi afferenti al CIN pre2026",null,{"$f":"IF(E$4>AnnoMon,E179,\"\")","v":""},"","","",0,0,0,0,0,0,0,0,0,0,0]
[null,null,"Interventi afferenti al CIN post2026, ammortamento finanziario",null,{"$f":"IF(E$4>AnnoMon,E180,\"\")","v":""},"","","",0,0,0,0,0,0,0,0,0,0,0]
[null,null,"Interventi afferenti al CIN post2026, ammortamento a vite utili di primo livello",null,{"$f":"IF(E$4>AnnoMon,E181,\"\")","v":""},"","","",0,0,0,0,0,0,0,0,0,0,0]
[null,null,"Interventi afferenti al CIN post2026, ammortamento a vite utili di secondo livello",null,{"$f":"IF(E$4>AnnoMon,E182,\"\")","v":""},"","","",0,0,0,0,0,0,0,0,0,0,0]
[null,null,"Totale",null,{"$f":"SUM(E210:E215)","v":0},0,0,0,{"$f":"SUM(I210:I215)","v":0},0,0,0,0,0,0,0,0,0,0]
[]
[null,null,"4 - Interventi di carattere urgente ed indifferibile, non inclusi nel Programma degli Investimenti, ma approvati e riconosciuti dal concedente"]
[]
[null,null,"Interventi afferenti al CIN ante - SAL contabilizzati",null,{"$f":"IF(E$4>AnnoPonte,E134,\"\")","v":""},{"$f":"IF(F$4>AnnoPonte,F134,\"\")","v":""},0,0,0,0,0,0,0,0,0,0,0,0,0]
[null,null,"Interventi afferenti al CIN ante - SAL da contabilizzare",null,{"$f":"IF(E$4>AnnoPonte,E135,\"\")","v":""},"",0,0,0,0,0,0,0,0,0,0,0,0,0]
[null,null,"Interventi afferenti al CIN pre2026",null,{"$f":"IF(E$4>AnnoPonte,E136,\"\")","v":""},"",0,0,0,0,0,0,0,0,0,0,0,0,0]
[null,null,"Interventi afferenti al CIN post2026, ammortamento finanziario",null,{"$f":"IF(E$4>AnnoPonte,E137,\"\")","v":""},"",0,0,0,0,0,0,0,0,0,0,0,0,0]
[null,null,"Interventi afferenti al CIN post2026, ammortamento a vite utili di primo livello",null,{"$f":"IF(E$4>AnnoPonte,E138,\"\")","v":""},"",0,0,0,0,0,0,0,0,0,0,0,0,0]
[null,null,"Interventi afferenti al CIN post2026, ammortamento a vite utili di secondo livello",null,{"$f":"IF(E$4>AnnoPonte,E139,\"\")","v":""},"",0,0,0,0,0,0,0,0,0,0,0,0,0]
[null,null,"Totale",null,{"$f":"SUM(E220:E225)","v":0},{"$f":"SUM(F220:F225)","v":0},0,0,{"$f":"SUM(I220:I225)","v":0},0,0,0,0,0,0,0,0,0,0]
[]
[]
[]
[null,null,"termine foglio di lavoro"]

{"sheet":"C2 Riepilogo InvestNoTar","index":19,"n_rows":150,"n_cols":19,"rows_kept":150,"cut":false,"hidden":false,"merged":[]}
[]
[null,null,"Riepilogo variazioni - Programma degli Investimenti"]
[]
[null,null,"Anno",null,2024,2025,2026,2027,2028,2029,2030,2031,2032,2033,2034,2035,2036,2037,2038]
[]
[null,null,"Anno base",null,1,0,0,0,1,0,0,0,0,1,0,0,0,0,0]
[null,null,"Anno ponte",null,0,1,0,0,0,1,0,0,0,0,1,0,0,0,0]
[null,null,"Periodo regolatorio",null,0,0,1,1,1,1,2,2,2,2,2,3,3,3,3]
[null,null,"Anno del periodo regolatorio",null,0,0,1,2,3,4,1,2,3,4,5,1,2,3,4]
[null,null,null,null,null,null,1,1,1,1,1,1,1,1,1,1,1,1,1]
[]
[null,null,null,null,null,"Ultimo adattamento schema: 03/11/2025 14:32:56"]
[]
[null,null,"Programmazione"]
[]
[null,null,"Investimenti lordi annui, classificati per tipologia"]
[]
[null,null,"Intervento ultimato",null,{"$f":"SUMIFS('Z0.5.a InvestNoTar_Spesa'!T:T,'Z0.5.a InvestNoTar_Spesa'!$L:$L,\"in esercizio\")","v":0},{"$f":"SUMIFS('Z0.5.a InvestNoTar_Spesa'!U:U,'Z0.5.a InvestNoTar_Spesa'!$L:$L,\"in esercizio\")","v":0},{"$f":"SUMIFS('Z0.5.a InvestNoTar_Spesa'!V:V,'Z0.5.a InvestNoTar_Spesa'!$L:$L,\"in esercizio\")","v":0},{"$f":"SUMIFS('Z0.5.a InvestNoTar_Spesa'!W:W,'Z0.5.a InvestNoTar_Spesa'!$L:$L,\"in esercizio\")","v":0},{"$f":"SUMIFS('Z0.5.a InvestNoTar_Spesa'!X:X,'Z0.5.a InvestNoTar_Spesa'!$L:$L,\"in esercizio\")","v":0},{"$f":"SUMIFS('Z0.5.a InvestNoTar_Spesa'!Y:Y,'Z0.5.a InvestNoTar_Spesa'!$L:$L,\"in esercizio\")","v":0},{"$f":"SUMIFS('Z0.5.a InvestNoTar_Spesa'!Z:Z,'Z0.5.a InvestNoTar_Spesa'!$L:$L,\"in esercizio\")","v":0},{"$f":"SUMIFS('Z0.5.a InvestNoTar_Spesa'!AA:AA,'Z0.5.a InvestNoTar_Spesa'!$L:$L,\"in esercizio\")","v":0},{"$f":"SUMIFS('Z0.5.a InvestNoTar_Spesa'!AB:AB,'Z0.5.a InvestNoTar_Spesa'!$L:$L,\"in esercizio\")","v":0},{"$f":"SUMIFS('Z0.5.a InvestNoTar_Spesa'!AC:AC,'Z0.5.a InvestNoTar_Spesa'!$L:$L,\"in esercizio\")","v":0},{"$f":"SUMIFS('Z0.5.a InvestNoTar_Spesa'!AD:AD,'Z0.5.a InvestNoTar_Spesa'!$L:$L,\"in esercizio\")","v":0},{"$f":"SUMIFS('Z0.5.a InvestNoTar_Spesa'!AE:AE,'Z0.5.a InvestNoTar_Spesa'!$L:$L,\"in esercizio\")","v":0},{"$f":"SUMIFS('Z0.5.a InvestNoTar_Spesa'!AF:AF,'Z0.5.a InvestNoTar_Spesa'!$L:$L,\"in esercizio\")","v":0},{"$f":"SUMIFS('Z0.5.a InvestNoTar_Spesa'!AG:AG,'Z0.5.a InvestNoTar_Spesa'!$L:$L,\"in esercizio\")","v":0},{"$f":"SUMIFS('Z0.5.a InvestNoTar_Spesa'!AH:AH,'Z0.5.a InvestNoTar_Spesa'!$L:$L,\"in esercizio\")","v":0}]
[null,null,"Intervento in corso",null,{"$f":"SUMIFS('Z0.5.a InvestNoTar_Spesa'!T:T,'Z0.4.a ProgrammaInvest_Spesa'!$L:$L,\"in corso\")","v":0},{"$f":"SUMIFS('Z0.5.a InvestNoTar_Spesa'!U:U,'Z0.4.a ProgrammaInvest_Spesa'!$L:$L,\"in corso\")","v":0},{"$f":"SUMIFS('Z0.5.a InvestNoTar_Spesa'!V:V,'Z0.4.a ProgrammaInvest_Spesa'!$L:$L,\"in corso\")","v":0},{"$f":"SUMIFS('Z0.5.a InvestNoTar_Spesa'!W:W,'Z0.4.a ProgrammaInvest_Spesa'!$L:$L,\"in corso\")","v":0},{"$f":"SUMIFS('Z0.5.a InvestNoTar_Spesa'!X:X,'Z0.4.a ProgrammaInvest_Spesa'!$L:$L,\"in corso\")","v":0},{"$f":"SUMIFS('Z0.5.a InvestNoTar_Spesa'!Y:Y,'Z0.4.a ProgrammaInvest_Spesa'!$L:$L,\"in corso\")","v":0},{"$f":"SUMIFS('Z0.5.a InvestNoTar_Spesa'!Z:Z,'Z0.4.a ProgrammaInvest_Spesa'!$L:$L,\"in corso\")","v":0},{"$f":"SUMIFS('Z0.5.a InvestNoTar_Spesa'!AA:AA,'Z0.4.a ProgrammaInvest_Spesa'!$L:$L,\"in corso\")","v":0},{"$f":"SUMIFS('Z0.5.a InvestNoTar_Spesa'!AB:AB,'Z0.4.a ProgrammaInvest_Spesa'!$L:$L,\"in corso\")","v":0},{"$f":"SUMIFS('Z0.5.a InvestNoTar_Spesa'!AC:AC,'Z0.4.a ProgrammaInvest_Spesa'!$L:$L,\"in corso\")","v":0},{"$f":"SUMIFS('Z0.5.a InvestNoTar_Spesa'!AD:AD,'Z0.4.a ProgrammaInvest_Spesa'!$L:$L,\"in corso\")","v":0},{"$f":"SUMIFS('Z0.5.a InvestNoTar_Spesa'!AE:AE,'Z0.4.a ProgrammaInvest_Spesa'!$L:$L,\"in corso\")","v":0},{"$f":"SUMIFS('Z0.5.a InvestNoTar_Spesa'!AF:AF,'Z0.4.a ProgrammaInvest_Spesa'!$L:$L,\"in corso\")","v":0},{"$f":"SUMIFS('Z0.5.a InvestNoTar_Spesa'!AG:AG,'Z0.4.a ProgrammaInvest_Spesa'!$L:$L,\"in corso\")","v":0},{"$f":"SUMIFS('Z0.5.a InvestNoTar_Spesa'!AH:AH,'Z0.4.a ProgrammaInvest_Spesa'!$L:$L,\"in corso\")","v":0}]
[null,null,"Totale",null,{"$f":"SUM(E18:E19)","v":0},{"$f":"SUM(F18:F19)","v":0},0,0,{"$f":"SUM(I18:I19)","v":0},0,0,0,0,0,0,0,0,0,0]
[]
[null,null,"Contributi annui, classificati per tipologia di investimento"]
[]
[null,null,"Intervento ultimato",null,{"$f":"SUMIFS('Z0.5.b InvestNoTar_Contrib'!T:T,'Z0.5.b InvestNoTar_Contrib'!$L:$L,\"in esercizio\")","v":0},{"$f":"SUMIFS('Z0.5.b InvestNoTar_Contrib'!U:U,'Z0.5.b InvestNoTar_Contrib'!$L:$L,\"in esercizio\")","v":0},{"$f":"SUMIFS('Z0.5.b InvestNoTar_Contrib'!V:V,'Z0.5.b InvestNoTar_Contrib'!$L:$L,\"in esercizio\")","v":0},{"$f":"SUMIFS('Z0.5.b InvestNoTar_Contrib'!W:W,'Z0.5.b InvestNoTar_Contrib'!$L:$L,\"in esercizio\")","v":0},{"$f":"SUMIFS('Z0.5.b InvestNoTar_Contrib'!X:X,'Z0.5.b InvestNoTar_Contrib'!$L:$L,\"in esercizio\")","v":0},{"$f":"SUMIFS('Z0.5.b InvestNoTar_Contrib'!Y:Y,'Z0.5.b InvestNoTar_Contrib'!$L:$L,\"in esercizio\")","v":0},{"$f":"SUMIFS('Z0.5.b InvestNoTar_Contrib'!Z:Z,'Z0.5.b InvestNoTar_Contrib'!$L:$L,\"in esercizio\")","v":0},{"$f":"SUMIFS('Z0.5.b InvestNoTar_Contrib'!AA:AA,'Z0.5.b InvestNoTar_Contrib'!$L:$L,\"in esercizio\")","v":0},{"$f":"SUMIFS('Z0.5.b InvestNoTar_Contrib'!AB:AB,'Z0.5.b InvestNoTar_Contrib'!$L:$L,\"in esercizio\")","v":0},{"$f":"SUMIFS('Z0.5.b InvestNoTar_Contrib'!AC:AC,'Z0.5.b InvestNoTar_Contrib'!$L:$L,\"in esercizio\")","v":0},{"$f":"SUMIFS('Z0.5.b InvestNoTar_Contrib'!AD:AD,'Z0.5.b InvestNoTar_Contrib'!$L:$L,\"in esercizio\")","v":0},{"$f":"SUMIFS('Z0.5.b InvestNoTar_Contrib'!AE:AE,'Z0.5.b InvestNoTar_Contrib'!$L:$L,\"in esercizio\")","v":0},{"$f":"SUMIFS('Z0.5.b InvestNoTar_Contrib'!AF:AF,'Z0.5.b InvestNoTar_Contrib'!$L:$L,\"in esercizio\")","v":0},{"$f":"SUMIFS('Z0.5.b InvestNoTar_Contrib'!AG:AG,'Z0.5.b InvestNoTar_Contrib'!$L:$L,\"in esercizio\")","v":0},{"$f":"SUMIFS('Z0.5.b InvestNoTar_Contrib'!AH:AH,'Z0.5.b InvestNoTar_Contrib'!$L:$L,\"in esercizio\")","v":0}]
[null,null,"Intervento in corso",null,{"$f":"SUMIFS('Z0.5.b InvestNoTar_Contrib'!T:T,'Z0.5.b InvestNoTar_Contrib'!$L:$L,\"in corso\")","v":0},{"$f":"SUMIFS('Z0.5.b InvestNoTar_Contrib'!U:U,'Z0.5.b InvestNoTar_Contrib'!$L:$L,\"in corso\")","v":0},{"$f":"SUMIFS('Z0.5.b InvestNoTar_Contrib'!V:V,'Z0.5.b InvestNoTar_Contrib'!$L:$L,\"in corso\")","v":0},{"$f":"SUMIFS('Z0.5.b InvestNoTar_Contrib'!W:W,'Z0.5.b InvestNoTar_Contrib'!$L:$L,\"in corso\")","v":0},{"$f":"SUMIFS('Z0.5.b InvestNoTar_Contrib'!X:X,'Z0.5.b InvestNoTar_Contrib'!$L:$L,\"in corso\")","v":0},{"$f":"SUMIFS('Z0.5.b InvestNoTar_Contrib'!Y:Y,'Z0.5.b InvestNoTar_Contrib'!$L:$L,\"in corso\")","v":0},{"$f":"SUMIFS('Z0.5.b InvestNoTar_Contrib'!Z:Z,'Z0.5.b InvestNoTar_Contrib'!$L:$L,\"in corso\")","v":0},{"$f":"SUMIFS('Z0.5.b InvestNoTar_Contrib'!AA:AA,'Z0.5.b InvestNoTar_Contrib'!$L:$L,\"in corso\")","v":0},{"$f":"SUMIFS('Z0.5.b InvestNoTar_Contrib'!AB:AB,'Z0.5.b InvestNoTar_Contrib'!$L:$L,\"in corso\")","v":0},{"$f":"SUMIFS('Z0.5.b InvestNoTar_Contrib'!AC:AC,'Z0.5.b InvestNoTar_Contrib'!$L:$L,\"in corso\")","v":0},{"$f":"SUMIFS('Z0.5.b InvestNoTar_Contrib'!AD:AD,'Z0.5.b InvestNoTar_Contrib'!$L:$L,\"in corso\")","v":0},{"$f":"SUMIFS('Z0.5.b InvestNoTar_Contrib'!AE:AE,'Z0.5.b InvestNoTar_Contrib'!$L:$L,\"in corso\")","v":0},{"$f":"SUMIFS('Z0.5.b InvestNoTar_Contrib'!AF:AF,'Z0.5.b InvestNoTar_Contrib'!$L:$L,\"in corso\")","v":0},{"$f":"SUMIFS('Z0.5.b InvestNoTar_Contrib'!AG:AG,'Z0.5.b InvestNoTar_Contrib'!$L:$L,\"in corso\")","v":0},{"$f":"SUMIFS('Z0.5.b InvestNoTar_Contrib'!AH:AH,'Z0.5.b InvestNoTar_Contrib'!$L:$L,\"in corso\")","v":0}]
[null,null,"Totale",null,{"$f":"SUM(E24:E25)","v":0},{"$f":"SUM(F24:F25)","v":0},0,0,{"$f":"SUM(I24:I25)","v":0},0,0,0,0,0,0,0,0,0,0]
[]
[null,null,"Dismissioni annue, classificate per tipologia di investimento"]
[]
[null,null,"Intervento ultimato",null,{"$f":"SUMIFS('Z0.5.c InvestNoTar_Dismiss'!W:W,'Z0.5.c InvestNoTar_Dismiss'!$L:$L,\"in esercizio\")","v":0},{"$f":"SUMIFS('Z0.5.c InvestNoTar_Dismiss'!X:X,'Z0.5.c InvestNoTar_Dismiss'!$L:$L,\"in esercizio\")","v":0},{"$f":"SUMIFS('Z0.5.c InvestNoTar_Dismiss'!Y:Y,'Z0.5.c InvestNoTar_Dismiss'!$L:$L,\"in esercizio\")","v":0},{"$f":"SUMIFS('Z0.5.c InvestNoTar_Dismiss'!Z:Z,'Z0.5.c InvestNoTar_Dismiss'!$L:$L,\"in esercizio\")","v":0},{"$f":"SUMIFS('Z0.5.c InvestNoTar_Dismiss'!AA:AA,'Z0.5.c InvestNoTar_Dismiss'!$L:$L,\"in esercizio\")","v":0},{"$f":"SUMIFS('Z0.5.c InvestNoTar_Dismiss'!AB:AB,'Z0.5.c InvestNoTar_Dismiss'!$L:$L,\"in esercizio\")","v":0},{"$f":"SUMIFS('Z0.5.c InvestNoTar_Dismiss'!AC:AC,'Z0.5.c InvestNoTar_Dismiss'!$L:$L,\"in esercizio\")","v":0},{"$f":"SUMIFS('Z0.5.c InvestNoTar_Dismiss'!AD:AD,'Z0.5.c InvestNoTar_Dismiss'!$L:$L,\"in esercizio\")","v":0},{"$f":"SUMIFS('Z0.5.c InvestNoTar_Dismiss'!AE:AE,'Z0.5.c InvestNoTar_Dismiss'!$L:$L,\"in esercizio\")","v":0},{"$f":"SUMIFS('Z0.5.c InvestNoTar_Dismiss'!AF:AF,'Z0.5.c InvestNoTar_Dismiss'!$L:$L,\"in esercizio\")","v":0},{"$f":"SUMIFS('Z0.5.c InvestNoTar_Dismiss'!AG:AG,'Z0.5.c InvestNoTar_Dismiss'!$L:$L,\"in esercizio\")","v":0},{"$f":"SUMIFS('Z0.5.c InvestNoTar_Dismiss'!AH:AH,'Z0.5.c InvestNoTar_Dismiss'!$L:$L,\"in esercizio\")","v":0},{"$f":"SUMIFS('Z0.5.c InvestNoTar_Dismiss'!AI:AI,'Z0.5.c InvestNoTar_Dismiss'!$L:$L,\"in esercizio\")","v":0},{"$f":"SUMIFS('Z0.5.c InvestNoTar_Dismiss'!AJ:AJ,'Z0.5.c InvestNoTar_Dismiss'!$L:$L,\"in esercizio\")","v":0},{"$f":"SUMIFS('Z0.5.c InvestNoTar_Dismiss'!AK:AK,'Z0.5.c InvestNoTar_Dismiss'!$L:$L,\"in esercizio\")","v":0}]
[null,null,"Intervento in corso",null,{"$f":"SUMIFS('Z0.5.c InvestNoTar_Dismiss'!W:W,'Z0.5.c InvestNoTar_Dismiss'!$L:$L,\"in corso\")","v":0},{"$f":"SUMIFS('Z0.5.c InvestNoTar_Dismiss'!X:X,'Z0.5.c InvestNoTar_Dismiss'!$L:$L,\"in corso\")","v":0},{"$f":"SUMIFS('Z0.5.c InvestNoTar_Dismiss'!Y:Y,'Z0.5.c InvestNoTar_Dismiss'!$L:$L,\"in corso\")","v":0},{"$f":"SUMIFS('Z0.5.c InvestNoTar_Dismiss'!Z:Z,'Z0.5.c InvestNoTar_Dismiss'!$L:$L,\"in corso\")","v":0},{"$f":"SUMIFS('Z0.5.c InvestNoTar_Dismiss'!AA:AA,'Z0.5.c InvestNoTar_Dismiss'!$L:$L,\"in corso\")","v":0},{"$f":"SUMIFS('Z0.5.c InvestNoTar_Dismiss'!AB:AB,'Z0.5.c InvestNoTar_Dismiss'!$L:$L,\"in corso\")","v":0},{"$f":"SUMIFS('Z0.5.c InvestNoTar_Dismiss'!AC:AC,'Z0.5.c InvestNoTar_Dismiss'!$L:$L,\"in corso\")","v":0},{"$f":"SUMIFS('Z0.5.c InvestNoTar_Dismiss'!AD:AD,'Z0.5.c InvestNoTar_Dismiss'!$L:$L,\"in corso\")","v":0},{"$f":"SUMIFS('Z0.5.c InvestNoTar_Dismiss'!AE:AE,'Z0.5.c InvestNoTar_Dismiss'!$L:$L,\"in corso\")","v":0},{"$f":"SUMIFS('Z0.5.c InvestNoTar_Dismiss'!AF:AF,'Z0.5.c InvestNoTar_Dismiss'!$L:$L,\"in corso\")","v":0},{"$f":"SUMIFS('Z0.5.c InvestNoTar_Dismiss'!AG:AG,'Z0.5.c InvestNoTar_Dismiss'!$L:$L,\"in corso\")","v":0},{"$f":"SUMIFS('Z0.5.c InvestNoTar_Dismiss'!AH:AH,'Z0.5.c InvestNoTar_Dismiss'!$L:$L,\"in corso\")","v":0},{"$f":"SUMIFS('Z0.5.c InvestNoTar_Dismiss'!AI:AI,'Z0.5.c InvestNoTar_Dismiss'!$L:$L,\"in corso\")","v":0},{"$f":"SUMIFS('Z0.5.c InvestNoTar_Dismiss'!AJ:AJ,'Z0.5.c InvestNoTar_Dismiss'!$L:$L,\"in corso\")","v":0},{"$f":"SUMIFS('Z0.5.c InvestNoTar_Dismiss'!AK:AK,'Z0.5.c InvestNoTar_Dismiss'!$L:$L,\"in corso\")","v":0}]
[null,null,"Totale",null,{"$f":"SUM(E30:E31)","v":0},{"$f":"SUM(F30:F31)","v":0},0,0,{"$f":"SUM(I30:I31)","v":0},0,0,0,0,0,0,0,0,0,0]
[]
[null,null,"Investimenti netti annui, classificati per tipologia"]
[]
[null,null,"Intervento ultimato",null,{"$f":"E18-E24-E30","v":0},{"$f":"F18-F24-F30","v":0},0,0,{"$f":"I18-I24-I30","v":0},0,0,0,0,0,0,0,0,0,0]
[null,null,"Intervento in corso",null,{"$f":"E19-E25-E31","v":0},{"$f":"F19-F25-F31","v":0},0,0,{"$f":"I19-I25-I31","v":0},0,0,0,0,0,0,0,0,0,0]
[null,null,"Totale",null,{"$f":"SUM(E36:E37)","v":0},{"$f":"SUM(F36:F37)","v":0},0,0,{"$f":"SUM(I36:I37)","v":0},0,0,0,0,0,0,0,0,0,0]
[]
[]
[null,null,"Aggiornamento investimenti programmati"]
[]
[null,null,"Investimenti lordi annui, classificati per tipologia"]
[]
[null,null,"Intervento ultimato",null,{"$f":"SUMIFS('Z0.7.a InvestNoTar_Spesa agg'!V:V,\n'Z0.7.a InvestNoTar_Spesa agg'!$P:$P,\"pianificato\",\n'Z0.7.a InvestNoTar_Spesa agg'!$L:$L,\"in esercizio\")","v":0},{"$f":"SUMIFS('Z0.7.a InvestNoTar_Spesa agg'!W:W,\n'Z0.7.a InvestNoTar_Spesa agg'!$P:$P,\"pianificato\",\n'Z0.7.a InvestNoTar_Spesa agg'!$L:$L,\"in esercizio\")","v":0},{"$f":"SUMIFS('Z0.7.a InvestNoTar_Spesa agg'!X:X,\n'Z0.7.a InvestNoTar_Spesa agg'!$P:$P,\"pianificato\",\n'Z0.7.a InvestNoTar_Spesa agg'!$L:$L,\"in esercizio\")","v":0},{"$f":"SUMIFS('Z0.7.a InvestNoTar_Spesa agg'!Y:Y,\n'Z0.7.a InvestNoTar_Spesa agg'!$P:$P,\"pianificato\",\n'Z0.7.a InvestNoTar_Spesa agg'!$L:$L,\"in esercizio\")","v":0},{"$f":"SUMIFS('Z0.7.a InvestNoTar_Spesa agg'!Z:Z,\n'Z0.7.a InvestNoTar_Spesa agg'!$P:$P,\"pianificato\",\n'Z0.7.a InvestNoTar_Spesa agg'!$L:$L,\"in esercizio\")","v":0},{"$f":"SUMIFS('Z0.7.a InvestNoTar_Spesa agg'!AA:AA,\n'Z0.7.a InvestNoTar_Spesa agg'!$P:$P,\"pianificato\",\n'Z0.7.a InvestNoTar_Spesa agg'!$L:$L,\"in esercizio\")","v":0},{"$f":"SUMIFS('Z0.7.a InvestNoTar_Spesa agg'!AB:AB,\n'Z0.7.a InvestNoTar_Spesa agg'!$P:$P,\"pianificato\",\n'Z0.7.a InvestNoTar_Spesa agg'!$L:$L,\"in esercizio\")","v":0},{"$f":"SUMIFS('Z0.7.a InvestNoTar_Spesa agg'!AC:AC,\n'Z0.7.a InvestNoTar_Spesa agg'!$P:$P,\"pianificato\",\n'Z0.7.a InvestNoTar_Spesa agg'!$L:$L,\"in esercizio\")","v":0},{"$f":"SUMIFS('Z0.7.a InvestNoTar_Spesa agg'!AD:AD,\n'Z0.7.a InvestNoTar_Spesa agg'!$P:$P,\"pianificato\",\n'Z0.7.a InvestNoTar_Spesa agg'!$L:$L,\"in esercizio\")","v":0},{"$f":"SUMIFS('Z0.7.a InvestNoTar_Spesa agg'!AE:AE,\n'Z0.7.a InvestNoTar_Spesa agg'!$P:$P,\"pianificato\",\n'Z0.7.a InvestNoTar_Spesa agg'!$L:$L,\"in esercizio\")","v":0},{"$f":"SUMIFS('Z0.7.a InvestNoTar_Spesa agg'!AF:AF,\n'Z0.7.a InvestNoTar_Spesa agg'!$P:$P,\"pianificato\",\n'Z0.7.a InvestNoTar_Spesa agg'!$L:$L,\"in esercizio\")","v":0},{"$f":"SUMIFS('Z0.7.a InvestNoTar_Spesa agg'!AG:AG,\n'Z0.7.a InvestNoTar_Spesa agg'!$P:$P,\"pianificato\",\n'Z0.7.a InvestNoTar_Spesa agg'!$L:$L,\"in esercizio\")","v":0},{"$f":"SUMIFS('Z0.7.a InvestNoTar_Spesa agg'!AH:AH,\n'Z0.7.a InvestNoTar_Spesa agg'!$P:$P,\"pianificato\",\n'Z0.7.a InvestNoTar_Spesa agg'!$L:$L,\"in esercizio\")","v":0},{"$f":"SUMIFS('Z0.7.a InvestNoTar_Spesa agg'!AI:AI,\n'Z0.7.a InvestNoTar_Spesa agg'!$P:$P,\"pianificato\",\n'Z0.7.a InvestNoTar_Spesa agg'!$L:$L,\"in esercizio\")","v":0},{"$f":"SUMIFS('Z0.7.a InvestNoTar_Spesa agg'!AJ:AJ,\n'Z0.7.a InvestNoTar_Spesa agg'!$P:$P,\"pianificato\",\n'Z0.7.a InvestNoTar_Spesa agg'!$L:$L,\"in esercizio\")","v":0}]
[null,null,"Intervento in corso",null,{"$f":"SUMIFS('Z0.7.a InvestNoTar_Spesa agg'!V:V,\n'Z0.7.a InvestNoTar_Spesa agg'!$P:$P,\"pianificato\",\n'Z0.7.a InvestNoTar_Spesa agg'!$L:$L,\"in corso\")","v":0},{"$f":"SUMIFS('Z0.7.a InvestNoTar_Spesa agg'!W:W,\n'Z0.7.a InvestNoTar_Spesa agg'!$P:$P,\"pianificato\",\n'Z0.7.a InvestNoTar_Spesa agg'!$L:$L,\"in corso\")","v":0},{"$f":"SUMIFS('Z0.7.a InvestNoTar_Spesa agg'!X:X,\n'Z0.7.a InvestNoTar_Spesa agg'!$P:$P,\"pianificato\",\n'Z0.7.a InvestNoTar_Spesa agg'!$L:$L,\"in corso\")","v":0},{"$f":"SUMIFS('Z0.7.a InvestNoTar_Spesa agg'!Y:Y,\n'Z0.7.a InvestNoTar_Spesa agg'!$P:$P,\"pianificato\",\n'Z0.7.a InvestNoTar_Spesa agg'!$L:$L,\"in corso\")","v":0},{"$f":"SUMIFS('Z0.7.a InvestNoTar_Spesa agg'!Z:Z,\n'Z0.7.a InvestNoTar_Spesa agg'!$P:$P,\"pianificato\",\n'Z0.7.a InvestNoTar_Spesa agg'!$L:$L,\"in corso\")","v":0},{"$f":"SUMIFS('Z0.7.a InvestNoTar_Spesa agg'!AA:AA,\n'Z0.7.a InvestNoTar_Spesa agg'!$P:$P,\"pianificato\",\n'Z0.7.a InvestNoTar_Spesa agg'!$L:$L,\"in corso\")","v":0},{"$f":"SUMIFS('Z0.7.a InvestNoTar_Spesa agg'!AB:AB,\n'Z0.7.a InvestNoTar_Spesa agg'!$P:$P,\"pianificato\",\n'Z0.7.a InvestNoTar_Spesa agg'!$L:$L,\"in corso\")","v":0},{"$f":"SUMIFS('Z0.7.a InvestNoTar_Spesa agg'!AC:AC,\n'Z0.7.a InvestNoTar_Spesa agg'!$P:$P,\"pianificato\",\n'Z0.7.a InvestNoTar_Spesa agg'!$L:$L,\"in corso\")","v":0},{"$f":"SUMIFS('Z0.7.a InvestNoTar_Spesa agg'!AD:AD,\n'Z0.7.a InvestNoTar_Spesa agg'!$P:$P,\"pianificato\",\n'Z0.7.a InvestNoTar_Spesa agg'!$L:$L,\"in corso\")","v":0},{"$f":"SUMIFS('Z0.7.a InvestNoTar_Spesa agg'!AE:AE,\n'Z0.7.a InvestNoTar_Spesa agg'!$P:$P,\"pianificato\",\n'Z0.7.a InvestNoTar_Spesa agg'!$L:$L,\"in corso\")","v":0},{"$f":"SUMIFS('Z0.7.a InvestNoTar_Spesa agg'!AF:AF,\n'Z0.7.a InvestNoTar_Spesa agg'!$P:$P,\"pianificato\",\n'Z0.7.a InvestNoTar_Spesa agg'!$L:$L,\"in corso\")","v":0},{"$f":"SUMIFS('Z0.7.a InvestNoTar_Spesa agg'!AG:AG,\n'Z0.7.a InvestNoTar_Spesa agg'!$P:$P,\"pianificato\",\n'Z0.7.a InvestNoTar_Spesa agg'!$L:$L,\"in corso\")","v":0},{"$f":"SUMIFS('Z0.7.a InvestNoTar_Spesa agg'!AH:AH,\n'Z0.7.a InvestNoTar_Spesa agg'!$P:$P,\"pianificato\",\n'Z0.7.a InvestNoTar_Spesa agg'!$L:$L,\"in corso\")","v":0},{"$f":"SUMIFS('Z0.7.a InvestNoTar_Spesa agg'!AI:AI,\n'Z0.7.a InvestNoTar_Spesa agg'!$P:$P,\"pianificato\",\n'Z0.7.a InvestNoTar_Spesa agg'!$L:$L,\"in corso\")","v":0},{"$f":"SUMIFS('Z0.7.a InvestNoTar_Spesa agg'!AJ:AJ,\n'Z0.7.a InvestNoTar_Spesa agg'!$P:$P,\"pianificato\",\n'Z0.7.a InvestNoTar_Spesa agg'!$L:$L,\"in corso\")","v":0}]
[null,null,"Totale",null,{"$f":"SUM(E45:E46)","v":0},{"$f":"SUM(F45:F46)","v":0},0,0,{"$f":"SUM(I45:I46)","v":0},0,0,0,0,0,0,0,0,0,0]
[]
[null,null,"Contributi annui, classificati per tipologia di investimento"]
[]
[null,null,"Intervento ultimato",null,{"$f":"SUMIFS('Z0.7.b InvestNoTar_Contr agg'!V:V,\n'Z0.7.b InvestNoTar_Contr agg'!$P:$P,\"pianificato\",\n'Z0.7.b InvestNoTar_Contr agg'!$L:$L,\"in esercizio\")","v":0},{"$f":"SUMIFS('Z0.7.b InvestNoTar_Contr agg'!W:W,\n'Z0.7.b InvestNoTar_Contr agg'!$P:$P,\"pianificato\",\n'Z0.7.b InvestNoTar_Contr agg'!$L:$L,\"in esercizio\")","v":0},{"$f":"SUMIFS('Z0.7.b InvestNoTar_Contr agg'!X:X,\n'Z0.7.b InvestNoTar_Contr agg'!$P:$P,\"pianificato\",\n'Z0.7.b InvestNoTar_Contr agg'!$L:$L,\"in esercizio\")","v":0},{"$f":"SUMIFS('Z0.7.b InvestNoTar_Contr agg'!Y:Y,\n'Z0.7.b InvestNoTar_Contr agg'!$P:$P,\"pianificato\",\n'Z0.7.b InvestNoTar_Contr agg'!$L:$L,\"in esercizio\")","v":0},{"$f":"SUMIFS('Z0.7.b InvestNoTar_Contr agg'!Z:Z,\n'Z0.7.b InvestNoTar_Contr agg'!$P:$P,\"pianificato\",\n'Z0.7.b InvestNoTar_Contr agg'!$L:$L,\"in esercizio\")","v":0},{"$f":"SUMIFS('Z0.7.b InvestNoTar_Contr agg'!AA:AA,\n'Z0.7.b InvestNoTar_Contr agg'!$P:$P,\"pianificato\",\n'Z0.7.b InvestNoTar_Contr agg'!$L:$L,\"in esercizio\")","v":0},{"$f":"SUMIFS('Z0.7.b InvestNoTar_Contr agg'!AB:AB,\n'Z0.7.b InvestNoTar_Contr agg'!$P:$P,\"pianificato\",\n'Z0.7.b InvestNoTar_Contr agg'!$L:$L,\"in esercizio\")","v":0},{"$f":"SUMIFS('Z0.7.b InvestNoTar_Contr agg'!AC:AC,\n'Z0.7.b InvestNoTar_Contr agg'!$P:$P,\"pianificato\",\n'Z0.7.b InvestNoTar_Contr agg'!$L:$L,\"in esercizio\")","v":0},{"$f":"SUMIFS('Z0.7.b InvestNoTar_Contr agg'!AD:AD,\n'Z0.7.b InvestNoTar_Contr agg'!$P:$P,\"pianificato\",\n'Z0.7.b InvestNoTar_Contr agg'!$L:$L,\"in esercizio\")","v":0},{"$f":"SUMIFS('Z0.7.b InvestNoTar_Contr agg'!AE:AE,\n'Z0.7.b InvestNoTar_Contr agg'!$P:$P,\"pianificato\",\n'Z0.7.b InvestNoTar_Contr agg'!$L:$L,\"in esercizio\")","v":0},{"$f":"SUMIFS('Z0.7.b InvestNoTar_Contr agg'!AF:AF,\n'Z0.7.b InvestNoTar_Contr agg'!$P:$P,\"pianificato\",\n'Z0.7.b InvestNoTar_Contr agg'!$L:$L,\"in esercizio\")","v":0},{"$f":"SUMIFS('Z0.7.b InvestNoTar_Contr agg'!AG:AG,\n'Z0.7.b InvestNoTar_Contr agg'!$P:$P,\"pianificato\",\n'Z0.7.b InvestNoTar_Contr agg'!$L:$L,\"in esercizio\")","v":0},{"$f":"SUMIFS('Z0.7.b InvestNoTar_Contr agg'!AH:AH,\n'Z0.7.b InvestNoTar_Contr agg'!$P:$P,\"pianificato\",\n'Z0.7.b InvestNoTar_Contr agg'!$L:$L,\"in esercizio\")","v":0},{"$f":"SUMIFS('Z0.7.b InvestNoTar_Contr agg'!AI:AI,\n'Z0.7.b InvestNoTar_Contr agg'!$P:$P,\"pianificato\",\n'Z0.7.b InvestNoTar_Contr agg'!$L:$L,\"in esercizio\")","v":0},{"$f":"SUMIFS('Z0.7.b InvestNoTar_Contr agg'!AJ:AJ,\n'Z0.7.b InvestNoTar_Contr agg'!$P:$P,\"pianificato\",\n'Z0.7.b InvestNoTar_Contr agg'!$L:$L,\"in esercizio\")","v":0}]
[null,null,"Intervento in corso",null,{"$f":"SUMIFS('Z0.7.b InvestNoTar_Contr agg'!V:V,\n'Z0.7.b InvestNoTar_Contr agg'!$P:$P,\"pianificato\",\n'Z0.7.b InvestNoTar_Contr agg'!$L:$L,\"in corso\")","v":0},{"$f":"SUMIFS('Z0.7.b InvestNoTar_Contr agg'!W:W,\n'Z0.7.b InvestNoTar_Contr agg'!$P:$P,\"pianificato\",\n'Z0.7.b InvestNoTar_Contr agg'!$L:$L,\"in corso\")","v":0},{"$f":"SUMIFS('Z0.7.b InvestNoTar_Contr agg'!X:X,\n'Z0.7.b InvestNoTar_Contr agg'!$P:$P,\"pianificato\",\n'Z0.7.b InvestNoTar_Contr agg'!$L:$L,\"in corso\")","v":0},{"$f":"SUMIFS('Z0.7.b InvestNoTar_Contr agg'!Y:Y,\n'Z0.7.b InvestNoTar_Contr agg'!$P:$P,\"pianificato\",\n'Z0.7.b InvestNoTar_Contr agg'!$L:$L,\"in corso\")","v":0},{"$f":"SUMIFS('Z0.7.b InvestNoTar_Contr agg'!Z:Z,\n'Z0.7.b InvestNoTar_Contr agg'!$P:$P,\"pianificato\",\n'Z0.7.b InvestNoTar_Contr agg'!$L:$L,\"in corso\")","v":0},{"$f":"SUMIFS('Z0.7.b InvestNoTar_Contr agg'!AA:AA,\n'Z0.7.b InvestNoTar_Contr agg'!$P:$P,\"pianificato\",\n'Z0.7.b InvestNoTar_Contr agg'!$L:$L,\"in corso\")","v":0},{"$f":"SUMIFS('Z0.7.b InvestNoTar_Contr agg'!AB:AB,\n'Z0.7.b InvestNoTar_Contr agg'!$P:$P,\"pianificato\",\n'Z0.7.b InvestNoTar_Contr agg'!$L:$L,\"in corso\")","v":0},{"$f":"SUMIFS('Z0.7.b InvestNoTar_Contr agg'!AC:AC,\n'Z0.7.b InvestNoTar_Contr agg'!$P:$P,\"pianificato\",\n'Z0.7.b InvestNoTar_Contr agg'!$L:$L,\"in corso\")","v":0},{"$f":"SUMIFS('Z0.7.b InvestNoTar_Contr agg'!AD:AD,\n'Z0.7.b InvestNoTar_Contr agg'!$P:$P,\"pianificato\",\n'Z0.7.b InvestNoTar_Contr agg'!$L:$L,\"in corso\")","v":0},{"$f":"SUMIFS('Z0.7.b InvestNoTar_Contr agg'!AE:AE,\n'Z0.7.b InvestNoTar_Contr agg'!$P:$P,\"pianificato\",\n'Z0.7.b InvestNoTar_Contr agg'!$L:$L,\"in corso\")","v":0},{"$f":"SUMIFS('Z0.7.b InvestNoTar_Contr agg'!AF:AF,\n'Z0.7.b InvestNoTar_Contr agg'!$P:$P,\"pianificato\",\n'Z0.7.b InvestNoTar_Contr agg'!$L:$L,\"in corso\")","v":0},{"$f":"SUMIFS('Z0.7.b InvestNoTar_Contr agg'!AG:AG,\n'Z0.7.b InvestNoTar_Contr agg'!$P:$P,\"pianificato\",\n'Z0.7.b InvestNoTar_Contr agg'!$L:$L,\"in corso\")","v":0},{"$f":"SUMIFS('Z0.7.b InvestNoTar_Contr agg'!AH:AH,\n'Z0.7.b InvestNoTar_Contr agg'!$P:$P,\"pianificato\",\n'Z0.7.b InvestNoTar_Contr agg'!$L:$L,\"in corso\")","v":0},{"$f":"SUMIFS('Z0.7.b InvestNoTar_Contr agg'!AI:AI,\n'Z0.7.b InvestNoTar_Contr agg'!$P:$P,\"pianificato\",\n'Z0.7.b InvestNoTar_Contr agg'!$L:$L,\"in corso\")","v":0},{"$f":"SUMIFS('Z0.7.b InvestNoTar_Contr agg'!AJ:AJ,\n'Z0.7.b InvestNoTar_Contr agg'!$P:$P,\"pianificato\",\n'Z0.7.b InvestNoTar_Contr agg'!$L:$L,\"in corso\")","v":0}]
[null,null,"Totale",null,{"$f":"SUM(E51:E52)","v":0},{"$f":"SUM(F51:F52)","v":0},0,0,{"$f":"SUM(I51:I52)","v":0},0,0,0,0,0,0,0,0,0,0]
[]
[null,null,"Dismissioni annue, classificate per tipologia di investimento"]
[]
[null,null,"Intervento ultimato",null,{"$f":"SUMIFS('Z0.7.c InvestNoTar_Dismiss agg'!V:V,\n'Z0.7.c InvestNoTar_Dismiss agg'!$P:$P,\"pianificato\",\n'Z0.7.c InvestNoTar_Dismiss agg'!$L:$L,\"in esercizio\")","v":0},{"$f":"SUMIFS('Z0.7.c InvestNoTar_Dismiss agg'!W:W,\n'Z0.7.c InvestNoTar_Dismiss agg'!$P:$P,\"pianificato\",\n'Z0.7.c InvestNoTar_Dismiss agg'!$L:$L,\"in esercizio\")","v":0},{"$f":"SUMIFS('Z0.7.c InvestNoTar_Dismiss agg'!X:X,\n'Z0.7.c InvestNoTar_Dismiss agg'!$P:$P,\"pianificato\",\n'Z0.7.c InvestNoTar_Dismiss agg'!$L:$L,\"in esercizio\")","v":0},{"$f":"SUMIFS('Z0.7.c InvestNoTar_Dismiss agg'!Y:Y,\n'Z0.7.c InvestNoTar_Dismiss agg'!$P:$P,\"pianificato\",\n'Z0.7.c InvestNoTar_Dismiss agg'!$L:$L,\"in esercizio\")","v":0},{"$f":"SUMIFS('Z0.7.c InvestNoTar_Dismiss agg'!Z:Z,\n'Z0.7.c InvestNoTar_Dismiss agg'!$P:$P,\"pianificato\",\n'Z0.7.c InvestNoTar_Dismiss agg'!$L:$L,\"in esercizio\")","v":0},{"$f":"SUMIFS('Z0.7.c InvestNoTar_Dismiss agg'!AA:AA,\n'Z0.7.c InvestNoTar_Dismiss agg'!$P:$P,\"pianificato\",\n'Z0.7.c InvestNoTar_Dismiss agg'!$L:$L,\"in esercizio\")","v":0},{"$f":"SUMIFS('Z0.7.c InvestNoTar_Dismiss agg'!AB:AB,\n'Z0.7.c InvestNoTar_Dismiss agg'!$P:$P,\"pianificato\",\n'Z0.7.c InvestNoTar_Dismiss agg'!$L:$L,\"in esercizio\")","v":0},{"$f":"SUMIFS('Z0.7.c InvestNoTar_Dismiss agg'!AC:AC,\n'Z0.7.c InvestNoTar_Dismiss agg'!$P:$P,\"pianificato\",\n'Z0.7.c InvestNoTar_Dismiss agg'!$L:$L,\"in esercizio\")","v":0},{"$f":"SUMIFS('Z0.7.c InvestNoTar_Dismiss agg'!AD:AD,\n'Z0.7.c InvestNoTar_Dismiss agg'!$P:$P,\"pianificato\",\n'Z0.7.c InvestNoTar_Dismiss agg'!$L:$L,\"in esercizio\")","v":0},{"$f":"SUMIFS('Z0.7.c InvestNoTar_Dismiss agg'!AE:AE,\n'Z0.7.c InvestNoTar_Dismiss agg'!$P:$P,\"pianificato\",\n'Z0.7.c InvestNoTar_Dismiss agg'!$L:$L,\"in esercizio\")","v":0},{"$f":"SUMIFS('Z0.7.c InvestNoTar_Dismiss agg'!AF:AF,\n'Z0.7.c InvestNoTar_Dismiss agg'!$P:$P,\"pianificato\",\n'Z0.7.c InvestNoTar_Dismiss agg'!$L:$L,\"in esercizio\")","v":0},{"$f":"SUMIFS('Z0.7.c InvestNoTar_Dismiss agg'!AG:AG,\n'Z0.7.c InvestNoTar_Dismiss agg'!$P:$P,\"pianificato\",\n'Z0.7.c InvestNoTar_Dismiss agg'!$L:$L,\"in esercizio\")","v":0},{"$f":"SUMIFS('Z0.7.c InvestNoTar_Dismiss agg'!AH:AH,\n'Z0.7.c InvestNoTar_Dismiss agg'!$P:$P,\"pianificato\",\n'Z0.7.c InvestNoTar_Dismiss agg'!$L:$L,\"in esercizio\")","v":0},{"$f":"SUMIFS('Z0.7.c InvestNoTar_Dismiss agg'!AI:AI,\n'Z0.7.c InvestNoTar_Dismiss agg'!$P:$P,\"pianificato\",\n'Z0.7.c InvestNoTar_Dismiss agg'!$L:$L,\"in esercizio\")","v":0},{"$f":"SUMIFS('Z0.7.c InvestNoTar_Dismiss agg'!AJ:AJ,\n'Z0.7.c InvestNoTar_Dismiss agg'!$P:$P,\"pianificato\",\n'Z0.7.c InvestNoTar_Dismiss agg'!$L:$L,\"in esercizio\")","v":0}]
[null,null,"Intervento in corso",null,{"$f":"SUMIFS('Z0.7.c InvestNoTar_Dismiss agg'!V:V,\n'Z0.7.c InvestNoTar_Dismiss agg'!$P:$P,\"pianificato\",\n'Z0.7.c InvestNoTar_Dismiss agg'!$L:$L,\"in corso\")","v":0},{"$f":"SUMIFS('Z0.7.c InvestNoTar_Dismiss agg'!W:W,\n'Z0.7.c InvestNoTar_Dismiss agg'!$P:$P,\"pianificato\",\n'Z0.7.c InvestNoTar_Dismiss agg'!$L:$L,\"in corso\")","v":0},{"$f":"SUMIFS('Z0.7.c InvestNoTar_Dismiss agg'!X:X,\n'Z0.7.c InvestNoTar_Dismiss agg'!$P:$P,\"pianificato\",\n'Z0.7.c InvestNoTar_Dismiss agg'!$L:$L,\"in corso\")","v":0},{"$f":"SUMIFS('Z0.7.c InvestNoTar_Dismiss agg'!Y:Y,\n'Z0.7.c InvestNoTar_Dismiss agg'!$P:$P,\"pianificato\",\n'Z0.7.c InvestNoTar_Dismiss agg'!$L:$L,\"in corso\")","v":0},{"$f":"SUMIFS('Z0.7.c InvestNoTar_Dismiss agg'!Z:Z,\n'Z0.7.c InvestNoTar_Dismiss agg'!$P:$P,\"pianificato\",\n'Z0.7.c InvestNoTar_Dismiss agg'!$L:$L,\"in corso\")","v":0},{"$f":"SUMIFS('Z0.7.c InvestNoTar_Dismiss agg'!AA:AA,\n'Z0.7.c InvestNoTar_Dismiss agg'!$P:$P,\"pianificato\",\n'Z0.7.c InvestNoTar_Dismiss agg'!$L:$L,\"in corso\")","v":0},{"$f":"SUMIFS('Z0.7.c InvestNoTar_Dismiss agg'!AB:AB,\n'Z0.7.c InvestNoTar_Dismiss agg'!$P:$P,\"pianificato\",\n'Z0.7.c InvestNoTar_Dismiss agg'!$L:$L,\"in corso\")","v":0},{"$f":"SUMIFS('Z0.7.c InvestNoTar_Dismiss agg'!AC:AC,\n'Z0.7.c InvestNoTar_Dismiss agg'!$P:$P,\"pianificato\",\n'Z0.7.c InvestNoTar_Dismiss agg'!$L:$L,\"in corso\")","v":0},{"$f":"SUMIFS('Z0.7.c InvestNoTar_Dismiss agg'!AD:AD,\n'Z0.7.c InvestNoTar_Dismiss agg'!$P:$P,\"pianificato\",\n'Z0.7.c InvestNoTar_Dismiss agg'!$L:$L,\"in corso\")","v":0},{"$f":"SUMIFS('Z0.7.c InvestNoTar_Dismiss agg'!AE:AE,\n'Z0.7.c InvestNoTar_Dismiss agg'!$P:$P,\"pianificato\",\n'Z0.7.c InvestNoTar_Dismiss agg'!$L:$L,\"in corso\")","v":0},{"$f":"SUMIFS('Z0.7.c InvestNoTar_Dismiss agg'!AF:AF,\n'Z0.7.c InvestNoTar_Dismiss agg'!$P:$P,\"pianificato\",\n'Z0.7.c InvestNoTar_Dismiss agg'!$L:$L,\"in corso\")","v":0},{"$f":"SUMIFS('Z0.7.c InvestNoTar_Dismiss agg'!AG:AG,\n'Z0.7.c InvestNoTar_Dismiss agg'!$P:$P,\"pianificato\",\n'Z0.7.c InvestNoTar_Dismiss agg'!$L:$L,\"in corso\")","v":0},{"$f":"SUMIFS('Z0.7.c InvestNoTar_Dismiss agg'!AH:AH,\n'Z0.7.c InvestNoTar_Dismiss agg'!$P:$P,\"pianificato\",\n'Z0.7.c InvestNoTar_Dismiss agg'!$L:$L,\"in corso\")","v":0},{"$f":"SUMIFS('Z0.7.c InvestNoTar_Dismiss agg'!AI:AI,\n'Z0.7.c InvestNoTar_Dismiss agg'!$P:$P,\"pianificato\",\n'Z0.7.c InvestNoTar_Dismiss agg'!$L:$L,\"in corso\")","v":0},{"$f":"SUMIFS('Z0.7.c InvestNoTar_Dismiss agg'!AJ:AJ,\n'Z0.7.c InvestNoTar_Dismiss agg'!$P:$P,\"pianificato\",\n'Z0.7.c InvestNoTar_Dismiss agg'!$L:$L,\"in corso\")","v":0}]
[null,null,"Totale",null,{"$f":"SUM(E57:E58)","v":0},{"$f":"SUM(F57:F58)","v":0},0,0,{"$f":"SUM(I57:I58)","v":0},0,0,0,0,0,0,0,0,0,0]
[]
[null,null,"Investimenti netti annui, classificati per tipologia"]
[]
[null,null,"Intervento ultimato",null,{"$f":"E45-E51-E57","v":0},{"$f":"F45-F51-F57","v":0},0,0,{"$f":"I45-I51-I57","v":0},0,0,0,0,0,0,0,0,0,0]
[null,null,"Intervento in corso",null,{"$f":"E46-E52-E58","v":0},{"$f":"F46-F52-F58","v":0},0,0,{"$f":"I46-I52-I58","v":0},0,0,0,0,0,0,0,0,0,0]
[null,null,"Totale",null,{"$f":"SUM(E63:E64)","v":0},{"$f":"SUM(F63:F64)","v":0},0,0,{"$f":"SUM(I63:I64)","v":0},0,0,0,0,0,0,0,0,0,0]
[]
[]
[null,null,"Nuovi investimenti di carattere urgente e indifferibile, non programmati"]
[]
[null,null,"Investimenti lordi, classificati per tipologia"]
[]
[null,null,"Intervento ultimato",null,{"$f":"SUMIFS('Z0.7.a InvestNoTar_Spesa agg'!V:V,\n'Z0.7.a InvestNoTar_Spesa agg'!$P:$P,\"nuovo, urgente\",\n'Z0.7.a InvestNoTar_Spesa agg'!$L:$L,\"in esercizio\")","v":0},{"$f":"SUMIFS('Z0.7.a InvestNoTar_Spesa agg'!W:W,\n'Z0.7.a InvestNoTar_Spesa agg'!$P:$P,\"nuovo, urgente\",\n'Z0.7.a InvestNoTar_Spesa agg'!$L:$L,\"in esercizio\")","v":0},{"$f":"SUMIFS('Z0.7.a InvestNoTar_Spesa agg'!X:X,\n'Z0.7.a InvestNoTar_Spesa agg'!$P:$P,\"nuovo, urgente\",\n'Z0.7.a InvestNoTar_Spesa agg'!$L:$L,\"in esercizio\")","v":0},{"$f":"SUMIFS('Z0.7.a InvestNoTar_Spesa agg'!Y:Y,\n'Z0.7.a InvestNoTar_Spesa agg'!$P:$P,\"nuovo, urgente\",\n'Z0.7.a InvestNoTar_Spesa agg'!$L:$L,\"in esercizio\")","v":0},{"$f":"SUMIFS('Z0.7.a InvestNoTar_Spesa agg'!Z:Z,\n'Z0.7.a InvestNoTar_Spesa agg'!$P:$P,\"nuovo, urgente\",\n'Z0.7.a InvestNoTar_Spesa agg'!$L:$L,\"in esercizio\")","v":0},{"$f":"SUMIFS('Z0.7.a InvestNoTar_Spesa agg'!AA:AA,\n'Z0.7.a InvestNoTar_Spesa agg'!$P:$P,\"nuovo, urgente\",\n'Z0.7.a InvestNoTar_Spesa agg'!$L:$L,\"in esercizio\")","v":0},{"$f":"SUMIFS('Z0.7.a InvestNoTar_Spesa agg'!AB:AB,\n'Z0.7.a InvestNoTar_Spesa agg'!$P:$P,\"nuovo, urgente\",\n'Z0.7.a InvestNoTar_Spesa agg'!$L:$L,\"in esercizio\")","v":0},{"$f":"SUMIFS('Z0.7.a InvestNoTar_Spesa agg'!AC:AC,\n'Z0.7.a InvestNoTar_Spesa agg'!$P:$P,\"nuovo, urgente\",\n'Z0.7.a InvestNoTar_Spesa agg'!$L:$L,\"in esercizio\")","v":0},{"$f":"SUMIFS('Z0.7.a InvestNoTar_Spesa agg'!AD:AD,\n'Z0.7.a InvestNoTar_Spesa agg'!$P:$P,\"nuovo, urgente\",\n'Z0.7.a InvestNoTar_Spesa agg'!$L:$L,\"in esercizio\")","v":0},{"$f":"SUMIFS('Z0.7.a InvestNoTar_Spesa agg'!AE:AE,\n'Z0.7.a InvestNoTar_Spesa agg'!$P:$P,\"nuovo, urgente\",\n'Z0.7.a InvestNoTar_Spesa agg'!$L:$L,\"in esercizio\")","v":0},{"$f":"SUMIFS('Z0.7.a InvestNoTar_Spesa agg'!AF:AF,\n'Z0.7.a InvestNoTar_Spesa agg'!$P:$P,\"nuovo, urgente\",\n'Z0.7.a InvestNoTar_Spesa agg'!$L:$L,\"in esercizio\")","v":0},{"$f":"SUMIFS('Z0.7.a InvestNoTar_Spesa agg'!AG:AG,\n'Z0.7.a InvestNoTar_Spesa agg'!$P:$P,\"nuovo, urgente\",\n'Z0.7.a InvestNoTar_Spesa agg'!$L:$L,\"in esercizio\")","v":0},{"$f":"SUMIFS('Z0.7.a InvestNoTar_Spesa agg'!AH:AH,\n'Z0.7.a InvestNoTar_Spesa agg'!$P:$P,\"nuovo, urgente\",\n'Z0.7.a InvestNoTar_Spesa agg'!$L:$L,\"in esercizio\")","v":0},{"$f":"SUMIFS('Z0.7.a InvestNoTar_Spesa agg'!AI:AI,\n'Z0.7.a InvestNoTar_Spesa agg'!$P:$P,\"nuovo, urgente\",\n'Z0.7.a InvestNoTar_Spesa agg'!$L:$L,\"in esercizio\")","v":0},{"$f":"SUMIFS('Z0.7.a InvestNoTar_Spesa agg'!AJ:AJ,\n'Z0.7.a InvestNoTar_Spesa agg'!$P:$P,\"nuovo, urgente\",\n'Z0.7.a InvestNoTar_Spesa agg'!$L:$L,\"in esercizio\")","v":0}]
[null,null,"Intervento in corso",null,{"$f":"SUMIFS('Z0.7.a InvestNoTar_Spesa agg'!V:V,\n'Z0.7.a InvestNoTar_Spesa agg'!$P:$P,\"nuovo, urgente\",\n'Z0.7.a InvestNoTar_Spesa agg'!$L:$L,\"in corso\")","v":0},{"$f":"SUMIFS('Z0.7.a InvestNoTar_Spesa agg'!W:W,\n'Z0.7.a InvestNoTar_Spesa agg'!$P:$P,\"nuovo, urgente\",\n'Z0.7.a InvestNoTar_Spesa agg'!$L:$L,\"in corso\")","v":0},{"$f":"SUMIFS('Z0.7.a InvestNoTar_Spesa agg'!X:X,\n'Z0.7.a InvestNoTar_Spesa agg'!$P:$P,\"nuovo, urgente\",\n'Z0.7.a InvestNoTar_Spesa agg'!$L:$L,\"in corso\")","v":0},{"$f":"SUMIFS('Z0.7.a InvestNoTar_Spesa agg'!Y:Y,\n'Z0.7.a InvestNoTar_Spesa agg'!$P:$P,\"nuovo, urgente\",\n'Z0.7.a InvestNoTar_Spesa agg'!$L:$L,\"in corso\")","v":0},{"$f":"SUMIFS('Z0.7.a InvestNoTar_Spesa agg'!Z:Z,\n'Z0.7.a InvestNoTar_Spesa agg'!$P:$P,\"nuovo, urgente\",\n'Z0.7.a InvestNoTar_Spesa agg'!$L:$L,\"in corso\")","v":0},{"$f":"SUMIFS('Z0.7.a InvestNoTar_Spesa agg'!AA:AA,\n'Z0.7.a InvestNoTar_Spesa agg'!$P:$P,\"nuovo, urgente\",\n'Z0.7.a InvestNoTar_Spesa agg'!$L:$L,\"in corso\")","v":0},{"$f":"SUMIFS('Z0.7.a InvestNoTar_Spesa agg'!AB:AB,\n'Z0.7.a InvestNoTar_Spesa agg'!$P:$P,\"nuovo, urgente\",\n'Z0.7.a InvestNoTar_Spesa agg'!$L:$L,\"in corso\")","v":0},{"$f":"SUMIFS('Z0.7.a InvestNoTar_Spesa agg'!AC:AC,\n'Z0.7.a InvestNoTar_Spesa agg'!$P:$P,\"nuovo, urgente\",\n'Z0.7.a InvestNoTar_Spesa agg'!$L:$L,\"in corso\")","v":0},{"$f":"SUMIFS('Z0.7.a InvestNoTar_Spesa agg'!AD:AD,\n'Z0.7.a InvestNoTar_Spesa agg'!$P:$P,\"nuovo, urgente\",\n'Z0.7.a InvestNoTar_Spesa agg'!$L:$L,\"in corso\")","v":0},{"$f":"SUMIFS('Z0.7.a InvestNoTar_Spesa agg'!AE:AE,\n'Z0.7.a InvestNoTar_Spesa agg'!$P:$P,\"nuovo, urgente\",\n'Z0.7.a InvestNoTar_Spesa agg'!$L:$L,\"in corso\")","v":0},{"$f":"SUMIFS('Z0.7.a InvestNoTar_Spesa agg'!AF:AF,\n'Z0.7.a InvestNoTar_Spesa agg'!$P:$P,\"nuovo, urgente\",\n'Z0.7.a InvestNoTar_Spesa agg'!$L:$L,\"in corso\")","v":0},{"$f":"SUMIFS('Z0.7.a InvestNoTar_Spesa agg'!AG:AG,\n'Z0.7.a InvestNoTar_Spesa agg'!$P:$P,\"nuovo, urgente\",\n'Z0.7.a InvestNoTar_Spesa agg'!$L:$L,\"in corso\")","v":0},{"$f":"SUMIFS('Z0.7.a InvestNoTar_Spesa agg'!AH:AH,\n'Z0.7.a InvestNoTar_Spesa agg'!$P:$P,\"nuovo, urgente\",\n'Z0.7.a InvestNoTar_Spesa agg'!$L:$L,\"in corso\")","v":0},{"$f":"SUMIFS('Z0.7.a InvestNoTar_Spesa agg'!AI:AI,\n'Z0.7.a InvestNoTar_Spesa agg'!$P:$P,\"nuovo, urgente\",\n'Z0.7.a InvestNoTar_Spesa agg'!$L:$L,\"in corso\")","v":0},{"$f":"SUMIFS('Z0.7.a InvestNoTar_Spesa agg'!AJ:AJ,\n'Z0.7.a InvestNoTar_Spesa agg'!$P:$P,\"nuovo, urgente\",\n'Z0.7.a InvestNoTar_Spesa agg'!$L:$L,\"in corso\")","v":0}]
[null,null,"Totale",null,{"$f":"SUM(E72:E73)","v":0},{"$f":"SUM(F72:F73)","v":0},0,0,{"$f":"SUM(I72:I73)","v":0},0,0,0,0,0,0,0,0,0,0]
[]
[null,null,"Contributi, classificati per tipologia di investimento"]
[]
[null,null,"Intervento ultimato",null,{"$f":"SUMIFS('Z0.7.b InvestNoTar_Contr agg'!V:V,\n'Z0.7.b InvestNoTar_Contr agg'!$P:$P,\"nuovo, urgente\",\n'Z0.7.b InvestNoTar_Contr agg'!$L:$L,\"in esercizio\")","v":0},{"$f":"SUMIFS('Z0.7.b InvestNoTar_Contr agg'!W:W,\n'Z0.7.b InvestNoTar_Contr agg'!$P:$P,\"nuovo, urgente\",\n'Z0.7.b InvestNoTar_Contr agg'!$L:$L,\"in esercizio\")","v":0},{"$f":"SUMIFS('Z0.7.b InvestNoTar_Contr agg'!X:X,\n'Z0.7.b InvestNoTar_Contr agg'!$P:$P,\"nuovo, urgente\",\n'Z0.7.b InvestNoTar_Contr agg'!$L:$L,\"in esercizio\")","v":0},{"$f":"SUMIFS('Z0.7.b InvestNoTar_Contr agg'!Y:Y,\n'Z0.7.b InvestNoTar_Contr agg'!$P:$P,\"nuovo, urgente\",\n'Z0.7.b InvestNoTar_Contr agg'!$L:$L,\"in esercizio\")","v":0},{"$f":"SUMIFS('Z0.7.b InvestNoTar_Contr agg'!Z:Z,\n'Z0.7.b InvestNoTar_Contr agg'!$P:$P,\"nuovo, urgente\",\n'Z0.7.b InvestNoTar_Contr agg'!$L:$L,\"in esercizio\")","v":0},{"$f":"SUMIFS('Z0.7.b InvestNoTar_Contr agg'!AA:AA,\n'Z0.7.b InvestNoTar_Contr agg'!$P:$P,\"nuovo, urgente\",\n'Z0.7.b InvestNoTar_Contr agg'!$L:$L,\"in esercizio\")","v":0},{"$f":"SUMIFS('Z0.7.b InvestNoTar_Contr agg'!AB:AB,\n'Z0.7.b InvestNoTar_Contr agg'!$P:$P,\"nuovo, urgente\",\n'Z0.7.b InvestNoTar_Contr agg'!$L:$L,\"in esercizio\")","v":0},{"$f":"SUMIFS('Z0.7.b InvestNoTar_Contr agg'!AC:AC,\n'Z0.7.b InvestNoTar_Contr agg'!$P:$P,\"nuovo, urgente\",\n'Z0.7.b InvestNoTar_Contr agg'!$L:$L,\"in esercizio\")","v":0},{"$f":"SUMIFS('Z0.7.b InvestNoTar_Contr agg'!AD:AD,\n'Z0.7.b InvestNoTar_Contr agg'!$P:$P,\"nuovo, urgente\",\n'Z0.7.b InvestNoTar_Contr agg'!$L:$L,\"in esercizio\")","v":0},{"$f":"SUMIFS('Z0.7.b InvestNoTar_Contr agg'!AE:AE,\n'Z0.7.b InvestNoTar_Contr agg'!$P:$P,\"nuovo, urgente\",\n'Z0.7.b InvestNoTar_Contr agg'!$L:$L,\"in esercizio\")","v":0},{"$f":"SUMIFS('Z0.7.b InvestNoTar_Contr agg'!AF:AF,\n'Z0.7.b InvestNoTar_Contr agg'!$P:$P,\"nuovo, urgente\",\n'Z0.7.b InvestNoTar_Contr agg'!$L:$L,\"in esercizio\")","v":0},{"$f":"SUMIFS('Z0.7.b InvestNoTar_Contr agg'!AG:AG,\n'Z0.7.b InvestNoTar_Contr agg'!$P:$P,\"nuovo, urgente\",\n'Z0.7.b InvestNoTar_Contr agg'!$L:$L,\"in esercizio\")","v":0},{"$f":"SUMIFS('Z0.7.b InvestNoTar_Contr agg'!AH:AH,\n'Z0.7.b InvestNoTar_Contr agg'!$P:$P,\"nuovo, urgente\",\n'Z0.7.b InvestNoTar_Contr agg'!$L:$L,\"in esercizio\")","v":0},{"$f":"SUMIFS('Z0.7.b InvestNoTar_Contr agg'!AI:AI,\n'Z0.7.b InvestNoTar_Contr agg'!$P:$P,\"nuovo, urgente\",\n'Z0.7.b InvestNoTar_Contr agg'!$L:$L,\"in esercizio\")","v":0},{"$f":"SUMIFS('Z0.7.b InvestNoTar_Contr agg'!AJ:AJ,\n'Z0.7.b InvestNoTar_Contr agg'!$P:$P,\"nuovo, urgente\",\n'Z0.7.b InvestNoTar_Contr agg'!$L:$L,\"in esercizio\")","v":0}]
[null,null,"Intervento in corso",null,{"$f":"SUMIFS('Z0.7.b InvestNoTar_Contr agg'!V:V,\n'Z0.7.b InvestNoTar_Contr agg'!$P:$P,\"nuovo, urgente\",\n'Z0.7.b InvestNoTar_Contr agg'!$L:$L,\"in corso\")","v":0},{"$f":"SUMIFS('Z0.7.b InvestNoTar_Contr agg'!W:W,\n'Z0.7.b InvestNoTar_Contr agg'!$P:$P,\"nuovo, urgente\",\n'Z0.7.b InvestNoTar_Contr agg'!$L:$L,\"in corso\")","v":0},{"$f":"SUMIFS('Z0.7.b InvestNoTar_Contr agg'!X:X,\n'Z0.7.b InvestNoTar_Contr agg'!$P:$P,\"nuovo, urgente\",\n'Z0.7.b InvestNoTar_Contr agg'!$L:$L,\"in corso\")","v":0},{"$f":"SUMIFS('Z0.7.b InvestNoTar_Contr agg'!Y:Y,\n'Z0.7.b InvestNoTar_Contr agg'!$P:$P,\"nuovo, urgente\",\n'Z0.7.b InvestNoTar_Contr agg'!$L:$L,\"in corso\")","v":0},{"$f":"SUMIFS('Z0.7.b InvestNoTar_Contr agg'!Z:Z,\n'Z0.7.b InvestNoTar_Contr agg'!$P:$P,\"nuovo, urgente\",\n'Z0.7.b InvestNoTar_Contr agg'!$L:$L,\"in corso\")","v":0},{"$f":"SUMIFS('Z0.7.b InvestNoTar_Contr agg'!AA:AA,\n'Z0.7.b InvestNoTar_Contr agg'!$P:$P,\"nuovo, urgente\",\n'Z0.7.b InvestNoTar_Contr agg'!$L:$L,\"in corso\")","v":0},{"$f":"SUMIFS('Z0.7.b InvestNoTar_Contr agg'!AB:AB,\n'Z0.7.b InvestNoTar_Contr agg'!$P:$P,\"nuovo, urgente\",\n'Z0.7.b InvestNoTar_Contr agg'!$L:$L,\"in corso\")","v":0},{"$f":"SUMIFS('Z0.7.b InvestNoTar_Contr agg'!AC:AC,\n'Z0.7.b InvestNoTar_Contr agg'!$P:$P,\"nuovo, urgente\",\n'Z0.7.b InvestNoTar_Contr agg'!$L:$L,\"in corso\")","v":0},{"$f":"SUMIFS('Z0.7.b InvestNoTar_Contr agg'!AD:AD,\n'Z0.7.b InvestNoTar_Contr agg'!$P:$P,\"nuovo, urgente\",\n'Z0.7.b InvestNoTar_Contr agg'!$L:$L,\"in corso\")","v":0},{"$f":"SUMIFS('Z0.7.b InvestNoTar_Contr agg'!AE:AE,\n'Z0.7.b InvestNoTar_Contr agg'!$P:$P,\"nuovo, urgente\",\n'Z0.7.b InvestNoTar_Contr agg'!$L:$L,\"in corso\")","v":0},{"$f":"SUMIFS('Z0.7.b InvestNoTar_Contr agg'!AF:AF,\n'Z0.7.b InvestNoTar_Contr agg'!$P:$P,\"nuovo, urgente\",\n'Z0.7.b InvestNoTar_Contr agg'!$L:$L,\"in corso\")","v":0},{"$f":"SUMIFS('Z0.7.b InvestNoTar_Contr agg'!AG:AG,\n'Z0.7.b InvestNoTar_Contr agg'!$P:$P,\"nuovo, urgente\",\n'Z0.7.b InvestNoTar_Contr agg'!$L:$L,\"in corso\")","v":0},{"$f":"SUMIFS('Z0.7.b InvestNoTar_Contr agg'!AH:AH,\n'Z0.7.b InvestNoTar_Contr agg'!$P:$P,\"nuovo, urgente\",\n'Z0.7.b InvestNoTar_Contr agg'!$L:$L,\"in corso\")","v":0},{"$f":"SUMIFS('Z0.7.b InvestNoTar_Contr agg'!AI:AI,\n'Z0.7.b InvestNoTar_Contr agg'!$P:$P,\"nuovo, urgente\",\n'Z0.7.b InvestNoTar_Contr agg'!$L:$L,\"in corso\")","v":0},{"$f":"SUMIFS('Z0.7.b InvestNoTar_Contr agg'!AJ:AJ,\n'Z0.7.b InvestNoTar_Contr agg'!$P:$P,\"nuovo, urgente\",\n'Z0.7.b InvestNoTar_Contr agg'!$L:$L,\"in corso\")","v":0}]
[null,null,"Totale",null,{"$f":"SUM(E78:E79)","v":0},{"$f":"SUM(F78:F79)","v":0},0,0,{"$f":"SUM(I78:I79)","v":0},0,0,0,0,0,0,0,0,0,0]
[]
[null,null,"Dismissioni, classificate per tipologia di investimento"]
[]
[null,null,"Intervento ultimato",null,{"$f":"SUMIFS('Z0.7.c InvestNoTar_Dismiss agg'!V:V,\n'Z0.7.c InvestNoTar_Dismiss agg'!$P:$P,\"nuovo, urgente\",\n'Z0.7.c InvestNoTar_Dismiss agg'!$L:$L,\"in esercizio\")","v":0},{"$f":"SUMIFS('Z0.7.c InvestNoTar_Dismiss agg'!W:W,\n'Z0.7.c InvestNoTar_Dismiss agg'!$P:$P,\"nuovo, urgente\",\n'Z0.7.c InvestNoTar_Dismiss agg'!$L:$L,\"in esercizio\")","v":0},{"$f":"SUMIFS('Z0.7.c InvestNoTar_Dismiss agg'!X:X,\n'Z0.7.c InvestNoTar_Dismiss agg'!$P:$P,\"nuovo, urgente\",\n'Z0.7.c InvestNoTar_Dismiss agg'!$L:$L,\"in esercizio\")","v":0},{"$f":"SUMIFS('Z0.7.c InvestNoTar_Dismiss agg'!Y:Y,\n'Z0.7.c InvestNoTar_Dismiss agg'!$P:$P,\"nuovo, urgente\",\n'Z0.7.c InvestNoTar_Dismiss agg'!$L:$L,\"in esercizio\")","v":0},{"$f":"SUMIFS('Z0.7.c InvestNoTar_Dismiss agg'!Z:Z,\n'Z0.7.c InvestNoTar_Dismiss agg'!$P:$P,\"nuovo, urgente\",\n'Z0.7.c InvestNoTar_Dismiss agg'!$L:$L,\"in esercizio\")","v":0},{"$f":"SUMIFS('Z0.7.c InvestNoTar_Dismiss agg'!AA:AA,\n'Z0.7.c InvestNoTar_Dismiss agg'!$P:$P,\"nuovo, urgente\",\n'Z0.7.c InvestNoTar_Dismiss agg'!$L:$L,\"in esercizio\")","v":0},{"$f":"SUMIFS('Z0.7.c InvestNoTar_Dismiss agg'!AB:AB,\n'Z0.7.c InvestNoTar_Dismiss agg'!$P:$P,\"nuovo, urgente\",\n'Z0.7.c InvestNoTar_Dismiss agg'!$L:$L,\"in esercizio\")","v":0},{"$f":"SUMIFS('Z0.7.c InvestNoTar_Dismiss agg'!AC:AC,\n'Z0.7.c InvestNoTar_Dismiss agg'!$P:$P,\"nuovo, urgente\",\n'Z0.7.c InvestNoTar_Dismiss agg'!$L:$L,\"in esercizio\")","v":0},{"$f":"SUMIFS('Z0.7.c InvestNoTar_Dismiss agg'!AD:AD,\n'Z0.7.c InvestNoTar_Dismiss agg'!$P:$P,\"nuovo, urgente\",\n'Z0.7.c InvestNoTar_Dismiss agg'!$L:$L,\"in esercizio\")","v":0},{"$f":"SUMIFS('Z0.7.c InvestNoTar_Dismiss agg'!AE:AE,\n'Z0.7.c InvestNoTar_Dismiss agg'!$P:$P,\"nuovo, urgente\",\n'Z0.7.c InvestNoTar_Dismiss agg'!$L:$L,\"in esercizio\")","v":0},{"$f":"SUMIFS('Z0.7.c InvestNoTar_Dismiss agg'!AF:AF,\n'Z0.7.c InvestNoTar_Dismiss agg'!$P:$P,\"nuovo, urgente\",\n'Z0.7.c InvestNoTar_Dismiss agg'!$L:$L,\"in esercizio\")","v":0},{"$f":"SUMIFS('Z0.7.c InvestNoTar_Dismiss agg'!AG:AG,\n'Z0.7.c InvestNoTar_Dismiss agg'!$P:$P,\"nuovo, urgente\",\n'Z0.7.c InvestNoTar_Dismiss agg'!$L:$L,\"in esercizio\")","v":0},{"$f":"SUMIFS('Z0.7.c InvestNoTar_Dismiss agg'!AH:AH,\n'Z0.7.c InvestNoTar_Dismiss agg'!$P:$P,\"nuovo, urgente\",\n'Z0.7.c InvestNoTar_Dismiss agg'!$L:$L,\"in esercizio\")","v":0},{"$f":"SUMIFS('Z0.7.c InvestNoTar_Dismiss agg'!AI:AI,\n'Z0.7.c InvestNoTar_Dismiss agg'!$P:$P,\"nuovo, urgente\",\n'Z0.7.c InvestNoTar_Dismiss agg'!$L:$L,\"in esercizio\")","v":0},{"$f":"SUMIFS('Z0.7.c InvestNoTar_Dismiss agg'!AJ:AJ,\n'Z0.7.c InvestNoTar_Dismiss agg'!$P:$P,\"nuovo, urgente\",\n'Z0.7.c InvestNoTar_Dismiss agg'!$L:$L,\"in esercizio\")","v":0}]
[null,null,"Intervento in corso",null,{"$f":"SUMIFS('Z0.7.c InvestNoTar_Dismiss agg'!V:V,\n'Z0.7.c InvestNoTar_Dismiss agg'!$P:$P,\"nuovo, urgente\",\n'Z0.7.c InvestNoTar_Dismiss agg'!$L:$L,\"in corso\")","v":0},{"$f":"SUMIFS('Z0.7.c InvestNoTar_Dismiss agg'!W:W,\n'Z0.7.c InvestNoTar_Dismiss agg'!$P:$P,\"nuovo, urgente\",\n'Z0.7.c InvestNoTar_Dismiss agg'!$L:$L,\"in corso\")","v":0},{"$f":"SUMIFS('Z0.7.c InvestNoTar_Dismiss agg'!X:X,\n'Z0.7.c InvestNoTar_Dismiss agg'!$P:$P,\"nuovo, urgente\",\n'Z0.7.c InvestNoTar_Dismiss agg'!$L:$L,\"in corso\")","v":0},{"$f":"SUMIFS('Z0.7.c InvestNoTar_Dismiss agg'!Y:Y,\n'Z0.7.c InvestNoTar_Dismiss agg'!$P:$P,\"nuovo, urgente\",\n'Z0.7.c InvestNoTar_Dismiss agg'!$L:$L,\"in corso\")","v":0},{"$f":"SUMIFS('Z0.7.c InvestNoTar_Dismiss agg'!Z:Z,\n'Z0.7.c InvestNoTar_Dismiss agg'!$P:$P,\"nuovo, urgente\",\n'Z0.7.c InvestNoTar_Dismiss agg'!$L:$L,\"in corso\")","v":0},{"$f":"SUMIFS('Z0.7.c InvestNoTar_Dismiss agg'!AA:AA,\n'Z0.7.c InvestNoTar_Dismiss agg'!$P:$P,\"nuovo, urgente\",\n'Z0.7.c InvestNoTar_Dismiss agg'!$L:$L,\"in corso\")","v":0},{"$f":"SUMIFS('Z0.7.c InvestNoTar_Dismiss agg'!AB:AB,\n'Z0.7.c InvestNoTar_Dismiss agg'!$P:$P,\"nuovo, urgente\",\n'Z0.7.c InvestNoTar_Dismiss agg'!$L:$L,\"in corso\")","v":0},{"$f":"SUMIFS('Z0.7.c InvestNoTar_Dismiss agg'!AC:AC,\n'Z0.7.c InvestNoTar_Dismiss agg'!$P:$P,\"nuovo, urgente\",\n'Z0.7.c InvestNoTar_Dismiss agg'!$L:$L,\"in corso\")","v":0},{"$f":"SUMIFS('Z0.7.c InvestNoTar_Dismiss agg'!AD:AD,\n'Z0.7.c InvestNoTar_Dismiss agg'!$P:$P,\"nuovo, urgente\",\n'Z0.7.c InvestNoTar_Dismiss agg'!$L:$L,\"in corso\")","v":0},{"$f":"SUMIFS('Z0.7.c InvestNoTar_Dismiss agg'!AE:AE,\n'Z0.7.c InvestNoTar_Dismiss agg'!$P:$P,\"nuovo, urgente\",\n'Z0.7.c InvestNoTar_Dismiss agg'!$L:$L,\"in corso\")","v":0},{"$f":"SUMIFS('Z0.7.c InvestNoTar_Dismiss agg'!AF:AF,\n'Z0.7.c InvestNoTar_Dismiss agg'!$P:$P,\"nuovo, urgente\",\n'Z0.7.c InvestNoTar_Dismiss agg'!$L:$L,\"in corso\")","v":0},{"$f":"SUMIFS('Z0.7.c InvestNoTar_Dismiss agg'!AG:AG,\n'Z0.7.c InvestNoTar_Dismiss agg'!$P:$P,\"nuovo, urgente\",\n'Z0.7.c InvestNoTar_Dismiss agg'!$L:$L,\"in corso\")","v":0},{"$f":"SUMIFS('Z0.7.c InvestNoTar_Dismiss agg'!AH:AH,\n'Z0.7.c InvestNoTar_Dismiss agg'!$P:$P,\"nuovo, urgente\",\n'Z0.7.c InvestNoTar_Dismiss agg'!$L:$L,\"in corso\")","v":0},{"$f":"SUMIFS('Z0.7.c InvestNoTar_Dismiss agg'!AI:AI,\n'Z0.7.c InvestNoTar_Dismiss agg'!$P:$P,\"nuovo, urgente\",\n'Z0.7.c InvestNoTar_Dismiss agg'!$L:$L,\"in corso\")","v":0},{"$f":"SUMIFS('Z0.7.c InvestNoTar_Dismiss agg'!AJ:AJ,\n'Z0.7.c InvestNoTar_Dismiss agg'!$P:$P,\"nuovo, urgente\",\n'Z0.7.c InvestNoTar_Dismiss agg'!$L:$L,\"in corso\")","v":0}]
[null,null,"Totale",null,{"$f":"SUM(E84:E85)","v":0},{"$f":"SUM(F84:F85)","v":0},0,0,{"$f":"SUM(I84:I85)","v":0},0,0,0,0,0,0,0,0,0,0]
[]
[null,null,"Investimenti netti, classificati per tipologia"]
[]
[null,null,"Intervento ultimato",null,{"$f":"E72-E78-E84","v":0},{"$f":"F72-F78-F84","v":0},0,0,{"$f":"I72-I78-I84","v":0},0,0,0,0,0,0,0,0,0,0]
[null,null,"Intervento in corso",null,{"$f":"E73-E79-E85","v":0},{"$f":"F73-F79-F85","v":0},0,0,{"$f":"I73-I79-I85","v":0},0,0,0,0,0,0,0,0,0,0]
[null,null,"Totale",null,{"$f":"SUM(E90:E91)","v":0},{"$f":"SUM(F90:F91)","v":0},0,0,{"$f":"SUM(I90:I91)","v":0},0,0,0,0,0,0,0,0,0,0]
[]
[]
[null,null,"Variazioni complessive al Programma degli investimenti"]
[]
[null,null,"Investimenti lordi, classificati per tipologia"]
[]
[null,null,"Intervento ultimato",null,{"$f":"E45+E72-E18","v":0},0,0,0,{"$f":"I45+I72-I18","v":0},0,0,0,0,0,0,0,0,0,0]
[null,null,"Intervento in corso",null,{"$f":"E46+E73-E19","v":0},0,0,0,{"$f":"I46+I73-I19","v":0},0,0,0,0,0,0,0,0,0,0]
[null,null,"Totale",null,{"$f":"SUM(E99:E100)","v":0},0,0,0,{"$f":"SUM(I99:I100)","v":0},0,0,0,0,0,0,0,0,0,0]
[]
[null,null,"Contributi, classificati per tipologia di investimento"]
[]
[null,null,"Intervento ultimato",null,{"$f":"E51+E78-E24","v":0},0,0,0,{"$f":"I51+I78-I24","v":0},0,0,0,0,0,0,0,0,0,0]
[null,null,"Intervento in corso",null,{"$f":"E52+E79-E25","v":0},0,0,0,{"$f":"I52+I79-I25","v":0},0,0,0,0,0,0,0,0,0,0]
[null,null,"Totale",null,{"$f":"SUM(E105:E106)","v":0},0,0,0,{"$f":"SUM(I105:I106)","v":0},0,0,0,0,0,0,0,0,0,0]
[]
[null,null,"Dismissioni, classificate per tipologia di investimento"]
[]
[null,null,"Intervento ultimato",null,{"$f":"E57+E84-E30","v":0},0,0,0,{"$f":"I57+I84-I30","v":0},0,0,0,0,0,0,0,0,0,0]
[null,null,"Intervento in corso",null,{"$f":"E58+E85-E31","v":0},0,0,0,{"$f":"I58+I85-I31","v":0},0,0,0,0,0,0,0,0,0,0]
[null,null,"Totale",null,{"$f":"SUM(E111:E112)","v":0},0,0,0,{"$f":"SUM(I111:I112)","v":0},0,0,0,0,0,0,0,0,0,0]
[]
[null,null,"Investimenti netti, classificati per tipologia"]
[]
[null,null,"Intervento ultimato",null,{"$f":"E63+E90-E36","v":0},0,0,0,{"$f":"I63+I90-I36","v":0},0,0,0,0,0,0,0,0,0,0]
[null,null,"Intervento in corso",null,{"$f":"E64+E91-E37","v":0},0,0,0,{"$f":"I64+I91-I37","v":0},0,0,0,0,0,0,0,0,0,0]
[null,null,"Totale",null,{"$f":"SUM(E117:E118)","v":0},0,0,0,{"$f":"SUM(I117:I118)","v":0},0,0,0,0,0,0,0,0,0,0]
[]
[]
[null,null,"Dettaglio delle variazioni agli investimenti netti, per tipologia"]
[]
[null,null,"1 - Conguaglio relativo ai dati a consuntivo dell'anno precedente quello in corso"]
[]
[null,null,"Intervento ultimato",null,{"$f":"IF(E$4=AnnoMon-1,E117,\"\")","v":""},"",0,"",{"$f":"IF(I$4=AnnoMon-1,I117,\"\")","v":""},"","","","","","","","","",""]
[null,null,"Intervento in corso",null,{"$f":"IF(E$4=AnnoMon-1,E118,\"\")","v":""},"",0,"",{"$f":"IF(I$4=AnnoMon-1,I118,\"\")","v":""},"","","","","","","","","",""]
[null,null,"Totale",null,{"$f":"SUM(E126:E127)","v":0},{"$f":"SUM(F126:F127)","v":0},0,0,{"$f":"SUM(I126:I127)","v":0},0,0,0,0,0,0,0,0,0,0]
[]
[null,null,"2 - Investimenti effettivamente realizzati dal concessionario rispetto a quanto programmato nel PEF vigente, sulla base dei dati consuntivi e preconsuntivi al 30 settembre di ogni anno"]
[]
[null,null,"Intervento ultimato",null,{"$f":"IF(E$4=AnnoMon,E117,\"\")","v":""},"","",0,{"$f":"IF(I$4=AnnoMon,I117,\"\")","v":""},"","","","","","","","","",""]
[null,null,"Intervento in corso",null,{"$f":"IF(E$4=AnnoMon,E118,\"\")","v":""},"","",0,{"$f":"IF(I$4=AnnoMon,I118,\"\")","v":""},"","","","","","","","","",""]
[null,null,"Totale",null,{"$f":"SUM(E132:E133)","v":0},{"$f":"SUM(F132:F133)","v":0},0,0,{"$f":"SUM(I132:I133)","v":0},0,0,0,0,0,0,0,0,0,0]
[]
[null,null,"3 - Aggiornamento del cronoprogramma degli investimenti, a partire dall'anno successivo a quello in corso, nel rispetto delle condizioni di ammissibilità definite da ART"]
[]
[null,null,"Intervento ultimato",null,{"$f":"IF(E$4>AnnoMon,E117,\"\")","v":""},"","","",{"$f":"IF(I$4>AnnoMon,I117,\"\")","v":0},0,0,0,0,0,0,0,0,0,0]
[null,null,"Intervento in corso",null,{"$f":"IF(E$4>AnnoMon,E118,\"\")","v":""},"","","",{"$f":"IF(I$4>AnnoMon,I118,\"\")","v":0},0,0,0,0,0,0,0,0,0,0]
[null,null,"Totale",null,{"$f":"SUM(E138:E139)","v":0},{"$f":"SUM(F138:F139)","v":0},0,0,{"$f":"SUM(I138:I139)","v":0},0,0,0,0,0,0,0,0,0,0]
[]
[null,null,"4 - Interventi di carattere urgente ed indifferibile, non inclusi nel Programma degli Investimenti, ma approvati e riconosciuti dal concedente"]
[]
[null,null,"Intervento ultimato",null,{"$f":"IF(E$4>AnnoPonte,E90,\"\")","v":""},"",0,0,{"$f":"IF(I$4>AnnoPonte,I90,\"\")","v":0},0,0,0,0,0,0,0,0,0,0]
[null,null,"Intervento in corso",null,{"$f":"IF(E$4>AnnoPonte,E91,\"\")","v":""},"",0,0,{"$f":"IF(I$4>AnnoPonte,I91,\"\")","v":0},0,0,0,0,0,0,0,0,0,0]
[null,null,"Totale",null,{"$f":"SUM(E144:E145)","v":0},{"$f":"SUM(F144:F145)","v":0},0,0,{"$f":"SUM(I144:I145)","v":0},0,0,0,0,0,0,0,0,0,0]
[]
[]
[]
[null,null,"termine foglio di lavoro"]

{"sheet":"C3 Tk Supporto","index":20,"n_rows":30,"n_cols":14,"rows_kept":30,"cut":false,"hidden":false,"merged":[]}
[]
[null,null,"Vite utili regolatorie - asset reversibili",null,null,null,"Convalida compilazione"]
[]
[null,null,"Tipologia di asset","Vita utile","Aliquota",null,"Atto convenzionale di riferimento","Macro tipologia intervento","Tipologia intervento","Stato lavori","Tipologia CIN","Stati di \navanzamento \nCIN ante","Criterio di ammortamento","Responsabilità della variazione"]
[null,null,"Viadotti/Ponti/Cavalcavia",40,{"$f":"1/D5","v":2.5000000000000001E-2},null,"Convenzione","Manutenzione straordinaria","Viadotti/Ponti/Cavalcavia","in esercizio","CIN ante","SAL contabilizzati","Finanziario","concessionario"]
[null,null,"Gallerie",40,{"$f":"1/D6","v":2.5000000000000001E-2},null,"Atto aggiuntivo 1","Nuove opere","Gallerie","in corso","CIN pre2026","SAL da contabilizzare","Vite utili 1","forza maggiore"]
[null,null,"Barriere",25,0.04,null,"Atto aggiuntivo 2","Rinnovo globale","Barriere","nuovo","CIN post2026",null,"Vite utili 2"]
[null,null,"Corpo autostradale, opere sul territorio",30,3.3333333333333333E-2,null,"Atto aggiuntivo 3",null,"Corpo autostradale, opere sul territorio"]
[null,null,"Reti recinzione",20,0.05,null,"Atto aggiuntivo 4",null,"Reti recinzione"]
[null,null,"Portali e segnaletica",20,0.05,null,"Atto aggiuntivo 5",null,"Portali e segnaletica"]
[null,null,"Pavimentazioni",20,0.05,null,"Atto aggiuntivo 6",null,"Pavimentazioni"]
[null,null,"Infrastrutture tecnologiche ed impianti",10,0.1,null,null,null,"Infrastrutture tecnologiche ed impianti"]
[null,null,"Stazioni/Barriere di esazione, fabbricati, aree di servizio",40,2.5000000000000001E-2,null,null,null,"Stazioni/Barriere di esazione, fabbricati, aree di servizio"]
[null,null,"Altro",30,3.3333333333333333E-2,null,null,null,"Altro"]
[null,null,null,null,null,null,null,null,"(assoggettata ad ammortamento finanziario)"]
[]
[]
[]
[]
[]
[]
[]
[]
[]
[]
[]
[]
[]
[]
[null,null,"termine foglio di lavoro"]

{"sheet":"C4 Tk Ricalcolo","index":21,"n_rows":685,"n_cols":19,"rows_kept":685,"cut":false,"hidden":false,"merged":[]}
[]
[null,null,"Ricalcolo componente tariffaria di costruzione (Tk)"]
[]
[null,null,"Anno",null,2024,2025,2026,2027,2028,2029,2030,2031,2032,2033,2034,2035,2036,2037,2038]
[]
[null,null,"Anno base",null,1,0,0,0,1,0,0,0,0,1,0,0,0,0,0]
[null,null,"Anno ponte",null,0,1,0,0,0,1,0,0,0,0,1,0,0,0,0]
[null,null,"Periodo regolatorio",null,0,0,1,1,1,1,2,2,2,2,2,3,3,3,3]
[null,null,"Anno del periodo regolatorio",null,0,0,1,2,3,4,1,2,3,4,5,1,2,3,4]
[null,null,"Frazione di anno significativa",null,null,null,1,1,1,1,1,1,1,1,1,1,1,1,1]
[]
[null,null,null,null,null,"Ultimo adattamento schema: 03/11/2025 14:32:58"]
[]
[null,null,"Informazioni generali"]
[]
[null,null,"Tasso di remunerazione del CIN ante (TIR previgente)","TIR",null,{"$f":"'Z0.1 Dati generali'!G65","v":0.13869999999999999},{"$f":"'Z0.1 Dati generali'!H65","v":0.13869999999999999},{"$f":"'Z0.1 Dati generali'!I65","v":0.13869999999999999},{"$f":"'Z0.1 Dati generali'!J65","v":0.13869999999999999},{"$f":"'Z0.1 Dati generali'!K65","v":0.13869999999999999},{"$f":"'Z0.1 Dati generali'!L65","v":0.13869999999999999},{"$f":"'Z0.1 Dati generali'!M65","v":0.13869999999999999},{"$f":"'Z0.1 Dati generali'!N65","v":0.13869999999999999},{"$f":"'Z0.1 Dati generali'!O65","v":0.13869999999999999},{"$f":"'Z0.1 Dati generali'!P65","v":0.13869999999999999},{"$f":"'Z0.1 Dati generali'!Q65","v":0.13869999999999999},{"$f":"'Z0.1 Dati generali'!R65","v":0.13869999999999999},{"$f":"'Z0.1 Dati generali'!S65","v":0.13869999999999999},{"$f":"'Z0.1 Dati generali'!T65","v":0.13869999999999999}]
[null,null,"Tasso di remunerazione del CIN pre2026 e post2026 (WACC)","WACC",null,{"$f":"'Z0.1 Dati generali'!G66","v":7.51E-2},{"$f":"'Z0.1 Dati generali'!H66","v":7.51E-2},{"$f":"'Z0.1 Dati generali'!I66","v":7.51E-2},{"$f":"'Z0.1 Dati generali'!J66","v":7.51E-2},{"$f":"'Z0.1 Dati generali'!K66","v":7.51E-2},{"$f":"'Z0.1 Dati generali'!L66","v":7.51E-2},{"$f":"'Z0.1 Dati generali'!M66","v":7.51E-2},{"$f":"'Z0.1 Dati generali'!N66","v":7.51E-2},{"$f":"'Z0.1 Dati generali'!O66","v":7.51E-2},{"$f":"'Z0.1 Dati generali'!P66","v":7.51E-2},{"$f":"'Z0.1 Dati generali'!Q66","v":7.51E-2},{"$f":"'Z0.1 Dati generali'!R66","v":7.51E-2},{"$f":"'Z0.1 Dati generali'!S66","v":7.51E-2},{"$f":"'Z0.1 Dati generali'!T66","v":7.51E-2}]
[null,null,"Tasso di remunerazione del valore di subentro (Rtv) - CIN ante","Rtv - ante",null,{"$f":"'Z0.1 Dati generali'!G67","v":0.13869999999999999},{"$f":"'Z0.1 Dati generali'!H67","v":0.13869999999999999},{"$f":"'Z0.1 Dati generali'!I67","v":0.13869999999999999},{"$f":"'Z0.1 Dati generali'!J67","v":0.13869999999999999},{"$f":"'Z0.1 Dati generali'!K67","v":0.13869999999999999},{"$f":"'Z0.1 Dati generali'!L67","v":0.13869999999999999},{"$f":"'Z0.1 Dati generali'!M67","v":0.13869999999999999},{"$f":"'Z0.1 Dati generali'!N67","v":0.13869999999999999},{"$f":"'Z0.1 Dati generali'!O67","v":0.13869999999999999},{"$f":"'Z0.1 Dati generali'!P67","v":0.13869999999999999},{"$f":"'Z0.1 Dati generali'!Q67","v":0.13869999999999999},{"$f":"'Z0.1 Dati generali'!R67","v":0.13869999999999999},{"$f":"'Z0.1 Dati generali'!S67","v":0.13869999999999999},{"$f":"'Z0.1 Dati generali'!T67","v":0.13869999999999999}]
[null,null,"Tasso di remunerazione del valore di subentro (Rtv) - CIN pre2026 e post2026","Rtv - post",null,{"$f":"'Z0.1 Dati generali'!G68","v":7.51E-2},{"$f":"'Z0.1 Dati generali'!H68","v":7.51E-2},{"$f":"'Z0.1 Dati generali'!I68","v":7.51E-2},{"$f":"'Z0.1 Dati generali'!J68","v":7.51E-2},{"$f":"'Z0.1 Dati generali'!K68","v":7.51E-2},{"$f":"'Z0.1 Dati generali'!L68","v":7.51E-2},{"$f":"'Z0.1 Dati generali'!M68","v":7.51E-2},{"$f":"'Z0.1 Dati generali'!N68","v":7.51E-2},{"$f":"'Z0.1 Dati generali'!O68","v":7.51E-2},{"$f":"'Z0.1 Dati generali'!P68","v":7.51E-2},{"$f":"'Z0.1 Dati generali'!Q68","v":7.51E-2},{"$f":"'Z0.1 Dati generali'!R68","v":7.51E-2},{"$f":"'Z0.1 Dati generali'!S68","v":7.51E-2},{"$f":"'Z0.1 Dati generali'!T68","v":7.51E-2}]
[null,null,"Tasso di remunerazione delle lavorazioni in corso di secondo livello (vite utili)","Rlic",null,{"$f":"'Z0.1 Dati generali'!G69","v":4.3499999999999997E-2},{"$f":"'Z0.1 Dati generali'!H69","v":4.3499999999999997E-2},{"$f":"'Z0.1 Dati generali'!I69","v":4.3499999999999997E-2},{"$f":"'Z0.1 Dati generali'!J69","v":4.3499999999999997E-2},{"$f":"'Z0.1 Dati generali'!K69","v":4.3499999999999997E-2},{"$f":"'Z0.1 Dati generali'!L69","v":4.3499999999999997E-2},{"$f":"'Z0.1 Dati generali'!M69","v":4.3499999999999997E-2},{"$f":"'Z0.1 Dati generali'!N69","v":4.3499999999999997E-2},{"$f":"'Z0.1 Dati generali'!O69","v":4.3499999999999997E-2},{"$f":"'Z0.1 Dati generali'!P69","v":4.3499999999999997E-2},{"$f":"'Z0.1 Dati generali'!Q69","v":4.3499999999999997E-2},{"$f":"'Z0.1 Dati generali'!R69","v":4.3499999999999997E-2},{"$f":"'Z0.1 Dati generali'!S69","v":4.3499999999999997E-2},{"$f":"'Z0.1 Dati generali'!T69","v":4.3499999999999997E-2}]
[]
[null,null,"Tasso di inflazione","P",null,{"$f":"'Z0.1 Dati generali'!G43","v":2.1000000000000001E-2},{"$f":"'Z0.1 Dati generali'!H43","v":1.9E-2},{"$f":"'Z0.1 Dati generali'!I43","v":1.7999999999999999E-2},{"$f":"'Z0.1 Dati generali'!J43","v":0.02},{"$f":"'Z0.1 Dati generali'!K43","v":0.02},{"$f":"'Z0.1 Dati generali'!L43","v":0.02},{"$f":"'Z0.1 Dati generali'!M43","v":0.02},{"$f":"'Z0.1 Dati generali'!N43","v":0.02},{"$f":"'Z0.1 Dati generali'!O43","v":0.02},{"$f":"'Z0.1 Dati generali'!P43","v":0.02},{"$f":"'Z0.1 Dati generali'!Q43","v":0.02},{"$f":"'Z0.1 Dati generali'!R43","v":0.02},{"$f":"'Z0.1 Dati generali'!S43","v":0.02},{"$f":"'Z0.1 Dati generali'!T43","v":0.02}]
[null,null,"Indicatore di produttività annuale","X",null,null,{"$f":"'Z0.1 Dati generali'!H52","v":-6.0733238517972632E-3},{"$f":"'Z0.1 Dati generali'!I52","v":-6.0733238517972632E-3},{"$f":"'Z0.1 Dati generali'!J52","v":-6.0733238517972632E-3},{"$f":"'Z0.1 Dati generali'!K52","v":-6.0733238517972632E-3},{"$f":"'Z0.1 Dati generali'!L52","v":-6.0733238517972632E-3},{"$f":"'Z0.1 Dati generali'!M52","v":0},{"$f":"'Z0.1 Dati generali'!N52","v":0},{"$f":"'Z0.1 Dati generali'!O52","v":0},{"$f":"'Z0.1 Dati generali'!P52","v":0},{"$f":"'Z0.1 Dati generali'!Q52","v":0},{"$f":"'Z0.1 Dati generali'!R52","v":0},{"$f":"'Z0.1 Dati generali'!S52","v":0},{"$f":"'Z0.1 Dati generali'!T52","v":0}]
[]
[null,null,"Volumi di traffico previsti (000 veicoli/km) ","V",{"$f":"'Z0.1 Dati generali'!F193","v":1039148.6969304882},{"$f":"'Z0.1 Dati generali'!G193","v":1044344.4404151405},{"$f":"'Z0.1 Dati generali'!H193","v":1049566.1626172159},{"$f":"'Z0.1 Dati generali'!I193","v":1054813.993430302},{"$f":"'Z0.1 Dati generali'!J193","v":1060088.0633974536},{"$f":"'Z0.1 Dati generali'!K193","v":1065388.5037144406},{"$f":"'Z0.1 Dati generali'!L193","v":1070715.4462330127},{"$f":"'Z0.1 Dati generali'!M193","v":1076069.0234641777},{"$f":"'Z0.1 Dati generali'!N193","v":1081449.3685814985},{"$f":"'Z0.1 Dati generali'!O193","v":1086856.6154244058},{"$f":"'Z0.1 Dati generali'!P193","v":1092290.8985015275},{"$f":"'Z0.1 Dati generali'!Q193","v":1097752.3529940352},{"$f":"'Z0.1 Dati generali'!R193","v":1103241.1147590054},{"$f":"'Z0.1 Dati generali'!S193","v":1108757.3203328},{"$f":"'Z0.1 Dati generali'!T193","v":1114301.1069344641}]
[null,null,"Volumi di traffico medi annui per periodo regolatorio (000 veicoli/km)                               ","V'",{"$f":"'Z0.1 Dati generali'!F194","v":0},{"$f":"'Z0.1 Dati generali'!G194","v":1057464.180789853},{"$f":"'Z0.1 Dati generali'!H194","v":""},{"$f":"'Z0.1 Dati generali'!I194","v":""},{"$f":"'Z0.1 Dati generali'!J194","v":""},{"$f":"'Z0.1 Dati generali'!K194","v":1081476.2704409244},{"$f":"'Z0.1 Dati generali'!L194","v":""},{"$f":"'Z0.1 Dati generali'!M194","v":""},{"$f":"'Z0.1 Dati generali'!N194","v":""},{"$f":"'Z0.1 Dati generali'!O194","v":""},{"$f":"'Z0.1 Dati generali'!P194","v":1106012.9737550761},{"$f":"'Z0.1 Dati generali'!Q194","v":""},{"$f":"'Z0.1 Dati generali'!R194","v":""},{"$f":"'Z0.1 Dati generali'!S194","v":""},{"$f":"'Z0.1 Dati generali'!T194","v":""}]
[null,null,"Volumi di traffico medi annui per discontinuità di costo (000 veicoli/km)                               ","V''",{"$f":"'Z0.1 Dati generali'!F195","v":0},{"$f":"'Z0.1 Dati generali'!G195","v":1057464.180789853},{"$f":"'Z0.1 Dati generali'!H195","v":1057464.180789853},{"$f":"'Z0.1 Dati generali'!I195","v":1060096.8535140655},{"$f":"'Z0.1 Dati generali'!J195","v":1062738.2835559472},{"$f":"'Z0.1 Dati generali'!K195","v":1065388.5037144406},{"$f":"'Z0.1 Dati generali'!L195","v":1081476.2704409244},{"$f":"'Z0.1 Dati generali'!M195","v":1084166.4764929023},{"$f":"'Z0.1 Dati generali'!N195","v":1086865.6275024773},{"$f":"'Z0.1 Dati generali'!O195","v":1089573.7569629666},{"$f":"'Z0.1 Dati generali'!P195","v":1092290.8985015275},{"$f":"'Z0.1 Dati generali'!Q195","v":1106012.9737550761},{"$f":"'Z0.1 Dati generali'!R195","v":1108766.5140087565},{"$f":"'Z0.1 Dati generali'!S195","v":1111529.2136336321},{"$f":"'Z0.1 Dati generali'!T195","v":1114301.1069344641}]
[]
[null,null,"Aliquota di ammortamento annua da applicare al CIN ante residuo per ammortamento finanziario",null,null,null,{"$f":"'Z0.1 Dati generali'!H99","v":0.125},{"$f":"'Z0.1 Dati generali'!I99","v":0.14285714285714285},{"$f":"'Z0.1 Dati generali'!J99","v":0.16666666666666666},{"$f":"'Z0.1 Dati generali'!K99","v":0.2},{"$f":"'Z0.1 Dati generali'!L99","v":0.25},{"$f":"'Z0.1 Dati generali'!M99","v":0.33333333333333331},{"$f":"'Z0.1 Dati generali'!N99","v":0.5},{"$f":"'Z0.1 Dati generali'!O99","v":1},{"$f":"'Z0.1 Dati generali'!P99","v":0},{"$f":"'Z0.1 Dati generali'!Q99","v":0},{"$f":"'Z0.1 Dati generali'!R99","v":0},{"$f":"'Z0.1 Dati generali'!S99","v":0},{"$f":"'Z0.1 Dati generali'!T99","v":0}]
[null,null,"Aliquota di ammortamento annua da applicare al CIN pre2026/post2026 residuo per ammortamento finanziario",null,null,null,{"$f":"'Z0.1 Dati generali'!H107","v":0},{"$f":"'Z0.1 Dati generali'!I107","v":0},{"$f":"'Z0.1 Dati generali'!J107","v":0},{"$f":"'Z0.1 Dati generali'!K107","v":0},{"$f":"'Z0.1 Dati generali'!L107","v":0},{"$f":"'Z0.1 Dati generali'!M107","v":0},{"$f":"'Z0.1 Dati generali'!N107","v":0},{"$f":"'Z0.1 Dati generali'!O107","v":0},{"$f":"'Z0.1 Dati generali'!P107","v":0.2},{"$f":"'Z0.1 Dati generali'!Q107","v":0.25},{"$f":"'Z0.1 Dati generali'!R107","v":0.33333333333333331},{"$f":"'Z0.1 Dati generali'!S107","v":0.5},{"$f":"'Z0.1 Dati generali'!T107","v":1}]
[]
[]
[null,null,"CIN ante","CIN ante"]
[]
[null,null,"Ammortamento finanziario - SAL contabilizzati","SAL contabilizzati"]
[]
[null,"1a","CIN investimenti (lordo contributi e subentro, netto dismissioni) bop (amm. finanziario)",null,null,null,{"$f":"F41","v":208421.05263157893},183618.42105263157,158815.78947368421,134013.15789473685,109210.52631578948,84407.894736842107,59605.26315789474,34802.631578947374,10000,10000,10000,10000,9980]
[null,null,"Investimenti entrati in esercizio (amm.finanziario)",null,null,null,{"$f":"SUMIFS(\n'Z0.6.a ProgInvest_Spesa agg'!Z:Z,\n'Z0.6.a ProgInvest_Spesa agg'!$M:$M,$D$33,\n'Z0.6.a ProgInvest_Spesa agg'!$N:$N,$D$35)","v":0},{"$f":"SUMIFS(\n'Z0.6.a ProgInvest_Spesa agg'!AA:AA,\n'Z0.6.a ProgInvest_Spesa agg'!$M:$M,$D$33,\n'Z0.6.a ProgInvest_Spesa agg'!$N:$N,$D$35)","v":0},{"$f":"SUMIFS(\n'Z0.6.a ProgInvest_Spesa agg'!AB:AB,\n'Z0.6.a ProgInvest_Spesa agg'!$M:$M,$D$33,\n'Z0.6.a ProgInvest_Spesa agg'!$N:$N,$D$35)","v":0},{"$f":"SUMIFS(\n'Z0.6.a ProgInvest_Spesa agg'!AC:AC,\n'Z0.6.a ProgInvest_Spesa agg'!$M:$M,$D$33,\n'Z0.6.a ProgInvest_Spesa agg'!$N:$N,$D$35)","v":0},{"$f":"SUMIFS(\n'Z0.6.a ProgInvest_Spesa agg'!AD:AD,\n'Z0.6.a ProgInvest_Spesa agg'!$M:$M,$D$33,\n'Z0.6.a ProgInvest_Spesa agg'!$N:$N,$D$35)","v":0},{"$f":"SUMIFS(\n'Z0.6.a ProgInvest_Spesa agg'!AE:AE,\n'Z0.6.a ProgInvest_Spesa agg'!$M:$M,$D$33,\n'Z0.6.a ProgInvest_Spesa agg'!$N:$N,$D$35)","v":0},{"$f":"SUMIFS(\n'Z0.6.a ProgInvest_Spesa agg'!AF:AF,\n'Z0.6.a ProgInvest_Spesa agg'!$M:$M,$D$33,\n'Z0.6.a ProgInvest_Spesa agg'!$N:$N,$D$35)","v":0},{"$f":"SUMIFS(\n'Z0.6.a ProgInvest_Spesa agg'!AG:AG,\n'Z0.6.a ProgInvest_Spesa agg'!$M:$M,$D$33,\n'Z0.6.a ProgInvest_Spesa agg'!$N:$N,$D$35)","v":0},{"$f":"SUMIFS(\n'Z0.6.a ProgInvest_Spesa agg'!AH:AH,\n'Z0.6.a ProgInvest_Spesa agg'!$M:$M,$D$33,\n'Z0.6.a ProgInvest_Spesa agg'!$N:$N,$D$35)","v":0},{"$f":"SUMIFS(\n'Z0.6.a ProgInvest_Spesa agg'!AI:AI,\n'Z0.6.a ProgInvest_Spesa agg'!$M:$M,$D$33,\n'Z0.6.a ProgInvest_Spesa agg'!$N:$N,$D$35)","v":0},{"$f":"SUMIFS(\n'Z0.6.a ProgInvest_Spesa agg'!AJ:AJ,\n'Z0.6.a ProgInvest_Spesa agg'!$M:$M,$D$33,\n'Z0.6.a ProgInvest_Spesa agg'!$N:$N,$D$35)","v":0},{"$f":"SUMIFS(\n'Z0.6.a ProgInvest_Spesa agg'!AK:AK,\n'Z0.6.a ProgInvest_Spesa agg'!$M:$M,$D$33,\n'Z0.6.a ProgInvest_Spesa agg'!$N:$N,$D$35)","v":0},{"$f":"SUMIFS(\n'Z0.6.a ProgInvest_Spesa agg'!AL:AL,\n'Z0.6.a ProgInvest_Spesa agg'!$M:$M,$D$33,\n'Z0.6.a ProgInvest_Spesa agg'!$N:$N,$D$35)","v":0}]
[null,null,"Dismissioni",null,null,null,{"$f":"SUMIFS(\n'Z0.6.c ProgInvest_Dism agg'!Z:Z,\n'Z0.6.c ProgInvest_Dism agg'!$M:$M,$D$33,\n'Z0.6.a ProgInvest_Spesa agg'!$N:$N,$D$35)","v":0},{"$f":"SUMIFS(\n'Z0.6.c ProgInvest_Dism agg'!AA:AA,\n'Z0.6.c ProgInvest_Dism agg'!$M:$M,$D$33,\n'Z0.6.a ProgInvest_Spesa agg'!$N:$N,$D$35)","v":0},{"$f":"SUMIFS(\n'Z0.6.c ProgInvest_Dism agg'!AB:AB,\n'Z0.6.c ProgInvest_Dism agg'!$M:$M,$D$33,\n'Z0.6.a ProgInvest_Spesa agg'!$N:$N,$D$35)","v":0},{"$f":"SUMIFS(\n'Z0.6.c ProgInvest_Dism agg'!AC:AC,\n'Z0.6.c ProgInvest_Dism agg'!$M:$M,$D$33,\n'Z0.6.a ProgInvest_Spesa agg'!$N:$N,$D$35)","v":0},{"$f":"SUMIFS(\n'Z0.6.c ProgInvest_Dism agg'!AD:AD,\n'Z0.6.c ProgInvest_Dism agg'!$M:$M,$D$33,\n'Z0.6.a ProgInvest_Spesa agg'!$N:$N,$D$35)","v":0},{"$f":"SUMIFS(\n'Z0.6.c ProgInvest_Dism agg'!AE:AE,\n'Z0.6.c ProgInvest_Dism agg'!$M:$M,$D$33,\n'Z0.6.a ProgInvest_Spesa agg'!$N:$N,$D$35)","v":0},{"$f":"SUMIFS(\n'Z0.6.c ProgInvest_Dism agg'!AF:AF,\n'Z0.6.c ProgInvest_Dism agg'!$M:$M,$D$33,\n'Z0.6.a ProgInvest_Spesa agg'!$N:$N,$D$35)","v":0},{"$f":"SUMIFS(\n'Z0.6.c ProgInvest_Dism agg'!AG:AG,\n'Z0.6.c ProgInvest_Dism agg'!$M:$M,$D$33,\n'Z0.6.a ProgInvest_Spesa agg'!$N:$N,$D$35)","v":0},{"$f":"SUMIFS(\n'Z0.6.c ProgInvest_Dism agg'!AH:AH,\n'Z0.6.c ProgInvest_Dism agg'!$M:$M,$D$33,\n'Z0.6.a ProgInvest_Spesa agg'!$N:$N,$D$35)","v":0},{"$f":"SUMIFS(\n'Z0.6.c ProgInvest_Dism agg'!AI:AI,\n'Z0.6.c ProgInvest_Dism agg'!$M:$M,$D$33,\n'Z0.6.a ProgInvest_Spesa agg'!$N:$N,$D$35)","v":0},{"$f":"SUMIFS(\n'Z0.6.c ProgInvest_Dism agg'!AJ:AJ,\n'Z0.6.c ProgInvest_Dism agg'!$M:$M,$D$33,\n'Z0.6.a ProgInvest_Spesa agg'!$N:$N,$D$35)","v":0},{"$f":"SUMIFS(\n'Z0.6.c ProgInvest_Dism agg'!AK:AK,\n'Z0.6.c ProgInvest_Dism agg'!$M:$M,$D$33,\n'Z0.6.a ProgInvest_Spesa agg'!$N:$N,$D$35)","v":20},{"$f":"SUMIFS(\n'Z0.6.c ProgInvest_Dism agg'!AL:AL,\n'Z0.6.c ProgInvest_Dism agg'!$M:$M,$D$33,\n'Z0.6.a ProgInvest_Spesa agg'!$N:$N,$D$35)","v":0}]
[null,"22a","Ammortamento (finanziario)",null,null,null,{"$f":"(G37-F45)*G$29","v":24802.631578947367},{"$f":"(H37-G45)*H$29","v":24802.631578947367},24802.631578947367,24802.631578947374,24802.63157894737,24802.631578947367,24802.63157894737,24802.631578947374,0,0,0,0,0]
[null,null,"CIN investimenti (lordo contributi, netto dismissioni) eop (amm. finanziario)",null,null,{"$f":"OFFSET('Z0.2.a PR Pregressi'!E229,0,AnnoPonte-UltimoAnnoRTP,1,1)","v":208421.05263157893},{"$f":"G37+G38-G39-G40","v":183618.42105263157},{"$f":"H37+H38-H39-H40","v":158815.78947368421},134013.15789473685,109210.52631578948,84407.894736842107,59605.26315789474,34802.631578947374,10000,10000,10000,10000,9980,9980]
[]
[null,"42a","Remunerazione CIN investimenti",null,null,null,{"$f":"(G37-G45)*G$16*G$10","v":27520.999999999996},24080.874999999996,20640.75,17200.625,13760.5,10320.375,6880.25,3440.1250000000005,0,0,0,0,2.774]
[]
[null,6,"Valore di subentro CIN ante (lordo contributi)",null,null,{"$f":"MIN(TVante,F37)","v":10000},{"$f":"MIN(TVante,G37+G65)","v":10000},10000,10000,10000,10000,10000,10000,10000,10000,10000,10000,10000,9960]
[]
[null,46,"Remunerazione valore di subentro CIN investimenti",null,null,null,{"$f":"G45*G$18*G$10","v":1387},{"$f":"H45*H$18*H$10","v":1387},1387,1387,1387,1387,1387,1387,1387,1387,1387,1387,1381.452]
[]
[null,"2a","CIN contributi bop (amm. finanziario)",null,null,null,{"$f":"F52","v":0},-2000,-1714.2857142857142,-1428.5714285714284,-1142.8571428571427,-857.142857142857,-571.42857142857133,-285.71428571428567,0,0,0,0,0]
[null,null,"contributi annui (amm. finanziario)",null,null,null,{"$f":"-SUMIFS(\n'Z0.6.b ProgInvest_Contr agg'!Z:Z,\n'Z0.6.b ProgInvest_Contr agg'!$M:$M,$D$33,\n'Z0.6.b ProgInvest_Contr agg'!$N:$N,$D$35\n)","v":-2000},{"$f":"-SUMIFS(\n'Z0.6.b ProgInvest_Contr agg'!AA:AA,\n'Z0.6.b ProgInvest_Contr agg'!$M:$M,$D$33,\n'Z0.6.b ProgInvest_Contr agg'!$N:$N,$D$35\n)","v":0},{"$f":"-SUMIFS(\n'Z0.6.b ProgInvest_Contr agg'!AB:AB,\n'Z0.6.b ProgInvest_Contr agg'!$M:$M,$D$33,\n'Z0.6.b ProgInvest_Contr agg'!$N:$N,$D$35\n)","v":0},{"$f":"-SUMIFS(\n'Z0.6.b ProgInvest_Contr agg'!AC:AC,\n'Z0.6.b ProgInvest_Contr agg'!$M:$M,$D$33,\n'Z0.6.b ProgInvest_Contr agg'!$N:$N,$D$35\n)","v":0},{"$f":"-SUMIFS(\n'Z0.6.b ProgInvest_Contr agg'!AD:AD,\n'Z0.6.b ProgInvest_Contr agg'!$M:$M,$D$33,\n'Z0.6.b ProgInvest_Contr agg'!$N:$N,$D$35\n)","v":0},{"$f":"-SUMIFS(\n'Z0.6.b ProgInvest_Contr agg'!AE:AE,\n'Z0.6.b ProgInvest_Contr agg'!$M:$M,$D$33,\n'Z0.6.b ProgInvest_Contr agg'!$N:$N,$D$35\n)","v":0},{"$f":"-SUMIFS(\n'Z0.6.b ProgInvest_Contr agg'!AF:AF,\n'Z0.6.b ProgInvest_Contr agg'!$M:$M,$D$33,\n'Z0.6.b ProgInvest_Contr agg'!$N:$N,$D$35\n)","v":0},{"$f":"-SUMIFS(\n'Z0.6.b ProgInvest_Contr agg'!AG:AG,\n'Z0.6.b ProgInvest_Contr agg'!$M:$M,$D$33,\n'Z0.6.b ProgInvest_Contr agg'!$N:$N,$D$35\n)","v":0},{"$f":"-SUMIFS(\n'Z0.6.b ProgInvest_Contr agg'!AH:AH,\n'Z0.6.b ProgInvest_Contr agg'!$M:$M,$D$33,\n'Z0.6.b ProgInvest_Contr agg'!$N:$N,$D$35\n)","v":0},{"$f":"-SUMIFS(\n'Z0.6.b ProgInvest_Contr agg'!AI:AI,\n'Z0.6.b ProgInvest_Contr agg'!$M:$M,$D$33,\n'Z0.6.b ProgInvest_Contr agg'!$N:$N,$D$35\n)","v":0},{"$f":"-SUMIFS(\n'Z0.6.b ProgInvest_Contr agg'!AJ:AJ,\n'Z0.6.b ProgInvest_Contr agg'!$M:$M,$D$33,\n'Z0.6.b ProgInvest_Contr agg'!$N:$N,$D$35\n)","v":0},{"$f":"-SUMIFS(\n'Z0.6.b ProgInvest_Contr agg'!AK:AK,\n'Z0.6.b ProgInvest_Contr agg'!$M:$M,$D$33,\n'Z0.6.b ProgInvest_Contr agg'!$N:$N,$D$35\n)","v":0},{"$f":"-SUMIFS(\n'Z0.6.b ProgInvest_Contr agg'!AL:AL,\n'Z0.6.b ProgInvest_Contr agg'!$M:$M,$D$33,\n'Z0.6.b ProgInvest_Contr agg'!$N:$N,$D$35\n)","v":0}]
[null,"23a","Ammortamento contributi (amm. finanziario)",null,null,null,{"$f":"(G49)*G$29","v":0},{"$f":"(H49)*H$29","v":-285.71428571428572},-285.71428571428567,-285.71428571428572,-285.71428571428567,-285.71428571428567,-285.71428571428567,-285.71428571428567,0,0,0,0,0]
[null,null,"CIN contributi eop (amm. finanziario)",null,null,{"$f":"-OFFSET('Z0.2.a PR Pregressi'!E237,0,AnnoPonte-UltimoAnnoRTP,1,1)","v":0},{"$f":"G49+G50-G51","v":-2000},{"$f":"H49+H50-H51","v":-1714.2857142857142},-1428.5714285714284,-1142.8571428571427,-857.142857142857,-571.42857142857133,-285.71428571428567,0,0,0,0,0,0]
[]
[null,"43a","Remunerazione CIN contributi",null,null,null,{"$f":"G49*G$16*G$10","v":0},-277.39999999999998,-237.77142857142854,-198.14285714285711,-158.51428571428568,-118.88571428571426,-79.257142857142838,-39.628571428571419,0,0,0,0,0]
[]
[null,3,"CIN avviamento bop (amm. finanziario)",null,null,null,{"$f":"F58","v":0},0,0,0,0,0,0,0,0,0,0,0,0]
[null,24,"Ammortamento (finanziario)",null,null,null,{"$f":"(G56)*G$30","v":0},{"$f":"(H56)*H$30","v":0},0,0,0,0,0,0,0,0,0,0,0]
[null,null,"CIN avviamento eop (amm. finanziario)",null,null,{"$f":"OFFSET('Z0.2.a PR Pregressi'!E244,0,AnnoPonte-UltimoAnnoRTP,1,1)","v":0},{"$f":"G56-G57","v":0},{"$f":"H56-H57","v":0},0,0,0,0,0,0,0,0,0,0,0]
[]
[null,44,"Remunerazione CIN avviamento",null,null,null,{"$f":"G56*G$16*G$10","v":0},0,0,0,0,0,0,0,0,0,0,0,0]
[]
[]
[null,null,"Ammortamento finanziario - SAL da contabilizzare","SAL da contabilizzare"]
[]
[null,"1b","CIN investimenti (lordo contributi e subentro, netto dismissioni) bop (amm. finanziario)",null,null,null,{"$f":"F69","v":10000},18750,26071.428571428572,21726.190476190477,17380.952380952382,13035.714285714286,8690.4761904761908,4345.2380952380954,0,0,0,0,-20]
[null,null,"Investimenti entrati in esercizio (amm.finanziario)",null,null,null,{"$f":"SUMIFS(\n'Z0.6.a ProgInvest_Spesa agg'!Z:Z,\n'Z0.6.a ProgInvest_Spesa agg'!$M:$M,$D$33,\n'Z0.6.a ProgInvest_Spesa agg'!$N:$N,$D$63)","v":10000},{"$f":"SUMIFS(\n'Z0.6.a ProgInvest_Spesa agg'!AA:AA,\n'Z0.6.a ProgInvest_Spesa agg'!$M:$M,$D$33,\n'Z0.6.a ProgInvest_Spesa agg'!$N:$N,$D$63)","v":10000},{"$f":"SUMIFS(\n'Z0.6.a ProgInvest_Spesa agg'!AB:AB,\n'Z0.6.a ProgInvest_Spesa agg'!$M:$M,$D$33,\n'Z0.6.a ProgInvest_Spesa agg'!$N:$N,$D$63)","v":0},{"$f":"SUMIFS(\n'Z0.6.a ProgInvest_Spesa agg'!AC:AC,\n'Z0.6.a ProgInvest_Spesa agg'!$M:$M,$D$33,\n'Z0.6.a ProgInvest_Spesa agg'!$N:$N,$D$63)","v":0},{"$f":"SUMIFS(\n'Z0.6.a ProgInvest_Spesa agg'!AD:AD,\n'Z0.6.a ProgInvest_Spesa agg'!$M:$M,$D$33,\n'Z0.6.a ProgInvest_Spesa agg'!$N:$N,$D$63)","v":0},{"$f":"SUMIFS(\n'Z0.6.a ProgInvest_Spesa agg'!AE:AE,\n'Z0.6.a ProgInvest_Spesa agg'!$M:$M,$D$33,\n'Z0.6.a ProgInvest_Spesa agg'!$N:$N,$D$63)","v":0},{"$f":"SUMIFS(\n'Z0.6.a ProgInvest_Spesa agg'!AF:AF,\n'Z0.6.a ProgInvest_Spesa agg'!$M:$M,$D$33,\n'Z0.6.a ProgInvest_Spesa agg'!$N:$N,$D$63)","v":0},{"$f":"SUMIFS(\n'Z0.6.a ProgInvest_Spesa agg'!AG:AG,\n'Z0.6.a ProgInvest_Spesa agg'!$M:$M,$D$33,\n'Z0.6.a ProgInvest_Spesa agg'!$N:$N,$D$63)","v":0},{"$f":"SUMIFS(\n'Z0.6.a ProgInvest_Spesa agg'!AH:AH,\n'Z0.6.a ProgInvest_Spesa agg'!$M:$M,$D$33,\n'Z0.6.a ProgInvest_Spesa agg'!$N:$N,$D$63)","v":0},{"$f":"SUMIFS(\n'Z0.6.a ProgInvest_Spesa agg'!AI:AI,\n'Z0.6.a ProgInvest_Spesa agg'!$M:$M,$D$33,\n'Z0.6.a ProgInvest_Spesa agg'!$N:$N,$D$63)","v":0},{"$f":"SUMIFS(\n'Z0.6.a ProgInvest_Spesa agg'!AJ:AJ,\n'Z0.6.a ProgInvest_Spesa agg'!$M:$M,$D$33,\n'Z0.6.a ProgInvest_Spesa agg'!$N:$N,$D$63)","v":0},{"$f":"SUMIFS(\n'Z0.6.a ProgInvest_Spesa agg'!AK:AK,\n'Z0.6.a ProgInvest_Spesa agg'!$M:$M,$D$33,\n'Z0.6.a ProgInvest_Spesa agg'!$N:$N,$D$63)","v":0},{"$f":"SUMIFS(\n'Z0.6.a ProgInvest_Spesa agg'!AL:AL,\n'Z0.6.a ProgInvest_Spesa agg'!$M:$M,$D$33,\n'Z0.6.a ProgInvest_Spesa agg'!$N:$N,$D$63)","v":0}]
[null,null,"Dismissioni",null,null,null,{"$f":"SUMIFS(\n'Z0.6.c ProgInvest_Dism agg'!Z:Z,\n'Z0.6.c ProgInvest_Dism agg'!$M:$M,$D$33,\n'Z0.6.a ProgInvest_Spesa agg'!$N:$N,$D$63)","v":0},{"$f":"SUMIFS(\n'Z0.6.c ProgInvest_Dism agg'!AA:AA,\n'Z0.6.c ProgInvest_Dism agg'!$M:$M,$D$33,\n'Z0.6.a ProgInvest_Spesa agg'!$N:$N,$D$63)","v":0},{"$f":"SUMIFS(\n'Z0.6.c ProgInvest_Dism agg'!AB:AB,\n'Z0.6.c ProgInvest_Dism agg'!$M:$M,$D$33,\n'Z0.6.a ProgInvest_Spesa agg'!$N:$N,$D$63)","v":0},{"$f":"SUMIFS(\n'Z0.6.c ProgInvest_Dism agg'!AC:AC,\n'Z0.6.c ProgInvest_Dism agg'!$M:$M,$D$33,\n'Z0.6.a ProgInvest_Spesa agg'!$N:$N,$D$63)","v":0},{"$f":"SUMIFS(\n'Z0.6.c ProgInvest_Dism agg'!AD:AD,\n'Z0.6.c ProgInvest_Dism agg'!$M:$M,$D$33,\n'Z0.6.a ProgInvest_Spesa agg'!$N:$N,$D$63)","v":0},{"$f":"SUMIFS(\n'Z0.6.c ProgInvest_Dism agg'!AE:AE,\n'Z0.6.c ProgInvest_Dism agg'!$M:$M,$D$33,\n'Z0.6.a ProgInvest_Spesa agg'!$N:$N,$D$63)","v":0},{"$f":"SUMIFS(\n'Z0.6.c ProgInvest_Dism agg'!AF:AF,\n'Z0.6.c ProgInvest_Dism agg'!$M:$M,$D$33,\n'Z0.6.a ProgInvest_Spesa agg'!$N:$N,$D$63)","v":0},{"$f":"SUMIFS(\n'Z0.6.c ProgInvest_Dism agg'!AG:AG,\n'Z0.6.c ProgInvest_Dism agg'!$M:$M,$D$33,\n'Z0.6.a ProgInvest_Spesa agg'!$N:$N,$D$63)","v":0},{"$f":"SUMIFS(\n'Z0.6.c ProgInvest_Dism agg'!AH:AH,\n'Z0.6.c ProgInvest_Dism agg'!$M:$M,$D$33,\n'Z0.6.a ProgInvest_Spesa agg'!$N:$N,$D$63)","v":0},{"$f":"SUMIFS(\n'Z0.6.c ProgInvest_Dism agg'!AI:AI,\n'Z0.6.c ProgInvest_Dism agg'!$M:$M,$D$33,\n'Z0.6.a ProgInvest_Spesa agg'!$N:$N,$D$63)","v":0},{"$f":"SUMIFS(\n'Z0.6.c ProgInvest_Dism agg'!AJ:AJ,\n'Z0.6.c ProgInvest_Dism agg'!$M:$M,$D$33,\n'Z0.6.a ProgInvest_Spesa agg'!$N:$N,$D$63)","v":0},{"$f":"SUMIFS(\n'Z0.6.c ProgInvest_Dism agg'!AK:AK,\n'Z0.6.c ProgInvest_Dism agg'!$M:$M,$D$33,\n'Z0.6.a ProgInvest_Spesa agg'!$N:$N,$D$63)","v":20},{"$f":"SUMIFS(\n'Z0.6.c ProgInvest_Dism agg'!AL:AL,\n'Z0.6.c ProgInvest_Dism agg'!$M:$M,$D$33,\n'Z0.6.a ProgInvest_Spesa agg'!$N:$N,$D$63)","v":0}]
[null,"22b","Ammortamento (finanziario)",null,null,null,{"$f":"(G65)*G$29","v":1250},{"$f":"(H65)*H$29","v":2678.5714285714284},4345.2380952380954,4345.2380952380954,4345.2380952380954,4345.2380952380954,4345.2380952380954,4345.2380952380954,0,0,0,0,0]
[null,null,"CIN investimenti (lordo contributi, netto dismissioni) eop (amm. finanziario)",null,null,{"$f":"OFFSET('Z0.2.a PR Pregressi'!E253,0,AnnoPonte-UltimoAnnoRTP,1,1)","v":10000},{"$f":"G65+G66-G67-G68","v":18750},26071.428571428572,21726.190476190477,17380.952380952382,13035.714285714286,8690.4761904761908,4345.2380952380954,0,0,0,0,-20,-20]
[]
[null,"42b","Remunerazione CIN investimenti",null,null,null,{"$f":"(G65)*G$16*G$10","v":1387},{"$f":"(H65)*H$16*H$10","v":2600.625},3616.1071428571427,3013.4226190476188,2410.738095238095,1808.0535714285713,1205.3690476190475,602.68452380952374,0,0,0,0,-2.774]
[]
[null,"2b","CIN contributi bop (amm. finanziario)",null,null,null,{"$f":"F76","v":0},-1000,-857.14285714285711,-714.28571428571422,-571.42857142857133,-428.5714285714285,-285.71428571428567,-142.85714285714283,0,0,0,0,0]
[null,null,"contributi annui (amm. finanziario)",null,null,null,{"$f":"-SUMIFS(\n'Z0.6.b ProgInvest_Contr agg'!Z:Z,\n'Z0.6.b ProgInvest_Contr agg'!$M:$M,$D$33,\n'Z0.6.b ProgInvest_Contr agg'!$N:$N,$D$63\n)","v":-1000},{"$f":"-SUMIFS(\n'Z0.6.b ProgInvest_Contr agg'!AA:AA,\n'Z0.6.b ProgInvest_Contr agg'!$M:$M,$D$33,\n'Z0.6.b ProgInvest_Contr agg'!$N:$N,$D$63\n)","v":0},{"$f":"-SUMIFS(\n'Z0.6.b ProgInvest_Contr agg'!AB:AB,\n'Z0.6.b ProgInvest_Contr agg'!$M:$M,$D$33,\n'Z0.6.b ProgInvest_Contr agg'!$N:$N,$D$63\n)","v":0},{"$f":"-SUMIFS(\n'Z0.6.b ProgInvest_Contr agg'!AC:AC,\n'Z0.6.b ProgInvest_Contr agg'!$M:$M,$D$33,\n'Z0.6.b ProgInvest_Contr agg'!$N:$N,$D$63\n)","v":0},{"$f":"-SUMIFS(\n'Z0.6.b ProgInvest_Contr agg'!AD:AD,\n'Z0.6.b ProgInvest_Contr agg'!$M:$M,$D$33,\n'Z0.6.b ProgInvest_Contr agg'!$N:$N,$D$63\n)","v":0},{"$f":"-SUMIFS(\n'Z0.6.b ProgInvest_Contr agg'!AE:AE,\n'Z0.6.b ProgInvest_Contr agg'!$M:$M,$D$33,\n'Z0.6.b ProgInvest_Contr agg'!$N:$N,$D$63\n)","v":0},{"$f":"-SUMIFS(\n'Z0.6.b ProgInvest_Contr agg'!AF:AF,\n'Z0.6.b ProgInvest_Contr agg'!$M:$M,$D$33,\n'Z0.6.b ProgInvest_Contr agg'!$N:$N,$D$63\n)","v":0},{"$f":"-SUMIFS(\n'Z0.6.b ProgInvest_Contr agg'!AG:AG,\n'Z0.6.b ProgInvest_Contr agg'!$M:$M,$D$33,\n'Z0.6.b ProgInvest_Contr agg'!$N:$N,$D$63\n)","v":0},{"$f":"-SUMIFS(\n'Z0.6.b ProgInvest_Contr agg'!AH:AH,\n'Z0.6.b ProgInvest_Contr agg'!$M:$M,$D$33,\n'Z0.6.b ProgInvest_Contr agg'!$N:$N,$D$63\n)","v":0},{"$f":"-SUMIFS(\n'Z0.6.b ProgInvest_Contr agg'!AI:AI,\n'Z0.6.b ProgInvest_Contr agg'!$M:$M,$D$33,\n'Z0.6.b ProgInvest_Contr agg'!$N:$N,$D$63\n)","v":0},{"$f":"-SUMIFS(\n'Z0.6.b ProgInvest_Contr agg'!AJ:AJ,\n'Z0.6.b ProgInvest_Contr agg'!$M:$M,$D$33,\n'Z0.6.b ProgInvest_Contr agg'!$N:$N,$D$63\n)","v":0},{"$f":"-SUMIFS(\n'Z0.6.b ProgInvest_Contr agg'!AK:AK,\n'Z0.6.b ProgInvest_Contr agg'!$M:$M,$D$33,\n'Z0.6.b ProgInvest_Contr agg'!$N:$N,$D$63\n)","v":0},{"$f":"-SUMIFS(\n'Z0.6.b ProgInvest_Contr agg'!AL:AL,\n'Z0.6.b ProgInvest_Contr agg'!$M:$M,$D$33,\n'Z0.6.b ProgInvest_Contr agg'!$N:$N,$D$63\n)","v":0}]
[null,"23b","Ammortamento contributi (amm. finanziario)",null,null,null,{"$f":"(G73)*G$29","v":0},-142.85714285714286,-142.85714285714283,-142.85714285714286,-142.85714285714283,-142.85714285714283,-142.85714285714283,-142.85714285714283,0,0,0,0,0]
[null,null,"CIN contributi eop (amm. finanziario)",null,null,{"$f":"-OFFSET('Z0.2.a PR Pregressi'!E259,0,AnnoPonte-UltimoAnnoRTP,1,1)","v":0},{"$f":"G73+G74-G75","v":-1000},-857.14285714285711,-714.28571428571422,-571.42857142857133,-428.5714285714285,-285.71428571428567,-142.85714285714283,0,0,0,0,0,0]
[]
[null,"43b","Remunerazione CIN contributi",null,null,null,{"$f":"G73*G$16*G$10","v":0},-138.69999999999999,-118.88571428571427,-99.071428571428555,-79.257142857142838,-59.442857142857129,-39.628571428571419,-19.81428571428571,0,0,0,0,0]
[]
[]
[null,null,"Riepilogo CIN ante"]
[]
[null,null,"CIN regolatorio - asset reversibili - CIN ante","bop",null,null,{"$f":"G37+G49+G56+G65+G73","v":218421.05263157893},{"$f":"H37+H49+H56+H65+H73","v":199368.42105263157},182315.78947368421,153596.4912280702,124877.19298245615,96157.894736842107,67438.596491228061,38719.298245614045,10000,10000,10000,10000,9960]
[null,null,"CIN regolatorio - asset reversibili - CIN ante","eop",null,{"$f":"F41+F52+F58+F69+F76","v":218421.05263157893},{"$f":"G41+G52+G58+G69+G76","v":199368.42105263157},{"$f":"H41+H52+H58+H69+H76","v":182315.78947368421},153596.4912280702,124877.19298245615,96157.894736842107,67438.596491228061,38719.298245614045,10000,10000,10000,10000,9960,9960]
[]
[null,null,"Totale ammortamento CIN ante",null,null,null,{"$f":"G75+G68+G57+G51+G40","v":26052.631578947367},{"$f":"H75+H68+H57+H51+H40","v":27052.631578947367},28719.298245614034,28719.298245614042,28719.298245614038,28719.298245614034,28719.298245614038,28719.298245614042,0,0,0,0,0]
[null,null,"Totale remunerazione CIN ante",null,null,null,{"$f":"G78+G71+G60+G54+G43+G47","v":30294.999999999996},{"$f":"H78+H71+H60+H54+H43+H47","v":27652.399999999998},25287.200000000001,21303.833333333332,17320.466666666667,13337.1,9353.7333333333336,5370.3666666666668,1387,1387,1387,1387,1381.452]
[null,null,"Totale costi ammessi di costruzione CIN ante",null,null,null,{"$f":"+G86+G87","v":56347.631578947359},{"$f":"+H86+H87","v":54705.031578947368},54006.498245614035,50023.131578947374,46039.764912280705,42056.398245614037,38073.031578947368,34089.664912280707,1387,1387,1387,1387,1381.452]
[]
[null,null,"Check - TIR di progetto"]
[null,null,"Cash out investimenti",null,null,{"$f":"-(F41+F52+F58+F69+F76)","v":-218421.05263157893},{"$f":"-(G38-G39+G50+G66-G67+G74)","v":-7000},{"$f":"-(H38-H39+H50+H66-H67+H74)","v":-10000},0,0,0,0,0,0,0,0,0,40,0]
[null,null,"Cash in valore di subentro",null,null,null,{"$f":"IF(G$4=ScadenzaConcessione,G45,\"\")","v":""},"",{"$f":"IF(I$4=ScadenzaConcessione,I45,\"\")","v":""},"","","","","","","","","",9960]
[null,null,"Cash in ammortamenti",null,null,null,{"$f":"G86","v":26052.631578947367},27052.631578947367,28719.298245614034,28719.298245614042,28719.298245614038,28719.298245614034,28719.298245614038,28719.298245614042,0,0,0,0,0]
[null,null,"Cash in remunerazioni (annualizzato)",null,null,null,{"$f":"G87/G$10","v":30294.999999999996},27652.399999999998,25287.200000000001,21303.833333333332,17320.466666666667,13337.1,9353.7333333333336,5370.3666666666668,1387,1387,1387,1387,1381.452]
[null,null,"Cash flow",null,null,{"$f":"SUM(F91:F94)","v":-218421.05263157893},49347.631578947359,{"$f":"SUM(H91:H94)","v":44705.031578947368},54006.498245614035,50023.131578947374,46039.764912280705,42056.398245614037,38073.031578947368,34089.664912280707,1387,1387,1387,1427,11341.451999999999]
[null,null,"Tasso interno di rendimento",null,null,{"$f":"IFERROR(IRR(OFFSET(F95,0,0,1,ScadenzaConcessione-AnnoPonte+1)),\"non calc.\")","v":0.13869999999999871}]
[null,null,"VAN",null,{"$f":"TIR","v":0.13869999999999999},{"$f":"NPV(E97,OFFSET(F95,0,0,1,ScadenzaConcessione-AnnoPonte+1))","v":-1.6772976848363477E-11}]
[]
[]
[]
[null,null,"CIN pre2026","CIN pre2026"]
[]
[null,null,"Ammortamento finanziario"]
[]
[null,4,"CIN investimenti (lordo contributi e subentro, netto dismissioni) bop (amm. finanziario)",null,null,null,{"$f":"F109","v":20000},30000,40000,40000,40000,40000,40000,40000,40000,32200,24400,16600,8780]
[null,null,"Investimenti entrati in esercizio (amm.finanziario)",null,null,null,{"$f":"SUMIFS(\n'Z0.6.a ProgInvest_Spesa agg'!Z:Z,\n'Z0.6.a ProgInvest_Spesa agg'!$M:$M,$D$101)","v":10000},{"$f":"SUMIFS(\n'Z0.6.a ProgInvest_Spesa agg'!AA:AA,\n'Z0.6.a ProgInvest_Spesa agg'!$M:$M,$D$101)","v":10000},{"$f":"SUMIFS(\n'Z0.6.a ProgInvest_Spesa agg'!AB:AB,\n'Z0.6.a ProgInvest_Spesa agg'!$M:$M,$D$101)","v":0},{"$f":"SUMIFS(\n'Z0.6.a ProgInvest_Spesa agg'!AC:AC,\n'Z0.6.a ProgInvest_Spesa agg'!$M:$M,$D$101)","v":0},{"$f":"SUMIFS(\n'Z0.6.a ProgInvest_Spesa agg'!AD:AD,\n'Z0.6.a ProgInvest_Spesa agg'!$M:$M,$D$101)","v":0},{"$f":"SUMIFS(\n'Z0.6.a ProgInvest_Spesa agg'!AE:AE,\n'Z0.6.a ProgInvest_Spesa agg'!$M:$M,$D$101)","v":0},{"$f":"SUMIFS(\n'Z0.6.a ProgInvest_Spesa agg'!AF:AF,\n'Z0.6.a ProgInvest_Spesa agg'!$M:$M,$D$101)","v":0},{"$f":"SUMIFS(\n'Z0.6.a ProgInvest_Spesa agg'!AG:AG,\n'Z0.6.a ProgInvest_Spesa agg'!$M:$M,$D$101)","v":0},{"$f":"SUMIFS(\n'Z0.6.a ProgInvest_Spesa agg'!AH:AH,\n'Z0.6.a ProgInvest_Spesa agg'!$M:$M,$D$101)","v":0},{"$f":"SUMIFS(\n'Z0.6.a ProgInvest_Spesa agg'!AI:AI,\n'Z0.6.a ProgInvest_Spesa agg'!$M:$M,$D$101)","v":0},{"$f":"SUMIFS(\n'Z0.6.a ProgInvest_Spesa agg'!AJ:AJ,\n'Z0.6.a ProgInvest_Spesa agg'!$M:$M,$D$101)","v":0},{"$f":"SUMIFS(\n'Z0.6.a ProgInvest_Spesa agg'!AK:AK,\n'Z0.6.a ProgInvest_Spesa agg'!$M:$M,$D$101)","v":0},{"$f":"SUMIFS(\n'Z0.6.a ProgInvest_Spesa agg'!AL:AL,\n'Z0.6.a ProgInvest_Spesa agg'!$M:$M,$D$101)","v":0}]
[null,null,"Dismissioni",null,null,null,{"$f":"SUMIFS(\n'Z0.6.c ProgInvest_Dism agg'!Z:Z,\n'Z0.6.a ProgInvest_Spesa agg'!$M:$M,$D$101)","v":0},{"$f":"SUMIFS(\n'Z0.6.c ProgInvest_Dism agg'!AA:AA,\n'Z0.6.a ProgInvest_Spesa agg'!$M:$M,$D$101)","v":0},{"$f":"SUMIFS(\n'Z0.6.c ProgInvest_Dism agg'!AB:AB,\n'Z0.6.a ProgInvest_Spesa agg'!$M:$M,$D$101)","v":0},{"$f":"SUMIFS(\n'Z0.6.c ProgInvest_Dism agg'!AC:AC,\n'Z0.6.a ProgInvest_Spesa agg'!$M:$M,$D$101)","v":0},{"$f":"SUMIFS(\n'Z0.6.c ProgInvest_Dism agg'!AD:AD,\n'Z0.6.a ProgInvest_Spesa agg'!$M:$M,$D$101)","v":0},{"$f":"SUMIFS(\n'Z0.6.c ProgInvest_Dism agg'!AE:AE,\n'Z0.6.a ProgInvest_Spesa agg'!$M:$M,$D$101)","v":0},{"$f":"SUMIFS(\n'Z0.6.c ProgInvest_Dism agg'!AF:AF,\n'Z0.6.a ProgInvest_Spesa agg'!$M:$M,$D$101)","v":0},{"$f":"SUMIFS(\n'Z0.6.c ProgInvest_Dism agg'!AG:AG,\n'Z0.6.a ProgInvest_Spesa agg'!$M:$M,$D$101)","v":0},{"$f":"SUMIFS(\n'Z0.6.c ProgInvest_Dism agg'!AH:AH,\n'Z0.6.a ProgInvest_Spesa agg'!$M:$M,$D$101)","v":0},{"$f":"SUMIFS(\n'Z0.6.c ProgInvest_Dism agg'!AI:AI,\n'Z0.6.a ProgInvest_Spesa agg'!$M:$M,$D$101)","v":0},{"$f":"SUMIFS(\n'Z0.6.c ProgInvest_Dism agg'!AJ:AJ,\n'Z0.6.a ProgInvest_Spesa agg'!$M:$M,$D$101)","v":0},{"$f":"SUMIFS(\n'Z0.6.c ProgInvest_Dism agg'!AK:AK,\n'Z0.6.a ProgInvest_Spesa agg'!$M:$M,$D$101)","v":20},{"$f":"SUMIFS(\n'Z0.6.c ProgInvest_Dism agg'!AL:AL,\n'Z0.6.a ProgInvest_Spesa agg'!$M:$M,$D$101)","v":0}]
[null,25,"Ammortamento (finanziario)",null,null,null,{"$f":"(G105-F113)*G$30","v":0},{"$f":"(H105-G113)*H$30","v":0},0,0,0,0,0,0,7800,7800,7800,7800,7780]
[null,null,"CIN investimenti (lordo contributi, netto dismissioni) eop (amm. finanziario)",null,null,{"$f":"OFFSET('Z0.2.a PR Pregressi'!E271,0,AnnoPonte-UltimoAnnoRTP,1,1)","v":20000},{"$f":"G105+G106-G107-G108","v":30000},40000,40000,40000,40000,40000,40000,40000,32200,24400,16600,8780,1000]
[]
[null,45,"Remunerazione CIN investimenti",null,null,null,{"$f":"(G105-G113)*G$17*G10","v":1426.9},2177.9,2928.9,2928.9,2928.9,2928.9,2928.9,2928.9,2928.9,2343.12,1757.34,1171.56,584.27800000000002]
[]
[null,7,"Valore di subentro CIN post (lordo contributi)",null,null,{"$f":"MIN(TVpre2026,F105)","v":1000},1000,1000,1000,1000,1000,1000,1000,1000,1000,1000,1000,1000,1000]
[]
[null,47,"Remunerazione valore di subentro CIN investimenti",null,null,null,{"$f":"G113*G$19*G10","v":75.099999999999994},75.099999999999994,75.099999999999994,75.099999999999994,75.099999999999994,75.099999999999994,75.099999999999994,75.099999999999994,75.099999999999994,75.099999999999994,75.099999999999994,75.099999999999994,75.099999999999994]
[]
[null,5,"CIN contributi bop (amm. finanziario)",null,null,null,{"$f":"F120","v":0},-1000,-1000,-1000,-1000,-1000,-1000,-1000,-1000,-800,-600,-400,-200]
[null,null,"contributi annui (amm. finanziario)",null,null,null,{"$f":"-SUMIFS(\n'Z0.6.b ProgInvest_Contr agg'!Z:Z,\n'Z0.6.b ProgInvest_Contr agg'!$M:$M,$D$101)","v":-1000},{"$f":"-SUMIFS(\n'Z0.6.b ProgInvest_Contr agg'!AA:AA,\n'Z0.6.b ProgInvest_Contr agg'!$M:$M,$D$101)","v":0},{"$f":"-SUMIFS(\n'Z0.6.b ProgInvest_Contr agg'!AB:AB,\n'Z0.6.b ProgInvest_Contr agg'!$M:$M,$D$101)","v":0},{"$f":"-SUMIFS(\n'Z0.6.b ProgInvest_Contr agg'!AC:AC,\n'Z0.6.b ProgInvest_Contr agg'!$M:$M,$D$101)","v":0},{"$f":"-SUMIFS(\n'Z0.6.b ProgInvest_Contr agg'!AD:AD,\n'Z0.6.b ProgInvest_Contr agg'!$M:$M,$D$101)","v":0},{"$f":"-SUMIFS(\n'Z0.6.b ProgInvest_Contr agg'!AE:AE,\n'Z0.6.b ProgInvest_Contr agg'!$M:$M,$D$101)","v":0},{"$f":"-SUMIFS(\n'Z0.6.b ProgInvest_Contr agg'!AF:AF,\n'Z0.6.b ProgInvest_Contr agg'!$M:$M,$D$101)","v":0},{"$f":"-SUMIFS(\n'Z0.6.b ProgInvest_Contr agg'!AG:AG,\n'Z0.6.b ProgInvest_Contr agg'!$M:$M,$D$101)","v":0},{"$f":"-SUMIFS(\n'Z0.6.b ProgInvest_Contr agg'!AH:AH,\n'Z0.6.b ProgInvest_Contr agg'!$M:$M,$D$101)","v":0},{"$f":"-SUMIFS(\n'Z0.6.b ProgInvest_Contr agg'!AI:AI,\n'Z0.6.b ProgInvest_Contr agg'!$M:$M,$D$101)","v":0},{"$f":"-SUMIFS(\n'Z0.6.b ProgInvest_Contr agg'!AJ:AJ,\n'Z0.6.b ProgInvest_Contr agg'!$M:$M,$D$101)","v":0},{"$f":"-SUMIFS(\n'Z0.6.b ProgInvest_Contr agg'!AK:AK,\n'Z0.6.b ProgInvest_Contr agg'!$M:$M,$D$101)","v":0},{"$f":"-SUMIFS(\n'Z0.6.b ProgInvest_Contr agg'!AL:AL,\n'Z0.6.b ProgInvest_Contr agg'!$M:$M,$D$101)","v":0}]
[null,26,"Ammortamento contributi (amm. finanziario)",null,null,null,{"$f":"(G117)*G$30","v":0},0,0,0,0,0,0,0,-200,-200,-200,-200,-200]
[null,null,"CIN contributi eop (amm. finanziario)",null,null,{"$f":"-OFFSET('Z0.2.a PR Pregressi'!E279,0,AnnoPonte-UltimoAnnoRTP,1,1)","v":0},{"$f":"G117+G118-G119","v":-1000},-1000,-1000,-1000,-1000,-1000,-1000,-1000,-800,-600,-400,-200,0]
[]
[null,48,"Remunerazione CIN contributi",null,null,null,{"$f":"G117*G$17*G10","v":0},-75.099999999999994,-75.099999999999994,-75.099999999999994,-75.099999999999994,-75.099999999999994,-75.099999999999994,-75.099999999999994,-75.099999999999994,-60.08,-45.06,-30.04,-15.02]
[]
[]
[null,null,"Riepilogo CIN pre2026"]
[]
[null,null,"CIN regolatorio - asset reversibili - CIN pre2026","bop",null,null,{"$f":"G105+G117","v":20000},29000,39000,39000,39000,39000,39000,39000,39000,31400,23800,16200,8580]
[null,null,"CIN regolatorio - asset reversibili - CIN pre2026","eop",null,{"$f":"F109+F120","v":20000},29000,39000,39000,39000,39000,39000,39000,39000,31400,23800,16200,8580,1000]
[]
[null,null,"Totale ammortamento CIN ante",null,null,null,{"$f":"G119+G108","v":0},0,0,0,0,0,0,0,7600,7600,7600,7600,7580]
[null,null,"Totale remunerazione CIN ante",null,null,null,{"$f":"G122+G111+G115","v":1502},2177.9,2928.9,2928.9,2928.9,2928.9,2928.9,2928.9,2928.9,2358.14,1787.3799999999999,1216.6199999999999,644.35800000000006]
[null,null,"Totale costi ammessi di costruzione CIN ante",null,null,null,{"$f":"+G130+G131","v":1502},2177.9,2928.9,2928.9,2928.9,2928.9,2928.9,2928.9,10528.9,9958.14,9387.3799999999992,8816.619999999999,8224.3580000000002]
[]
[null,null,"Check - TIR di progetto"]
[null,null,"Cash out investimenti",null,null,{"$f":"-(F109+F120)","v":-20000},{"$f":"-(G106-G107+G118)","v":-9000},-10000,0,0,0,0,0,0,0,0,0,20,0]
[null,null,"Cash in valore di subentro",null,null,null,{"$f":"IF(G$4=ScadenzaConcessione,G113,\"\")","v":""},"","","","","","","","","","","",1000]
[null,null,"Cash in ammortamenti",null,null,null,{"$f":"G130","v":0},0,0,0,0,0,0,0,7600,7600,7600,7600,7580]
[null,null,"Cash in remunerazioni (annualizzato)",null,null,null,{"$f":"G131/G$10","v":1502},2177.9,2928.9,2928.9,2928.9,2928.9,2928.9,2928.9,2928.9,2358.14,1787.3799999999999,1216.6199999999999,644.35800000000006]
[null,null,"Cash flow",null,null,{"$f":"SUM(F135:F138)","v":-20000},-7498,{"$f":"SUM(H135:H138)","v":-7822.1},2928.9,2928.9,2928.9,2928.9,2928.9,2928.9,10528.9,9958.14,9387.3799999999992,8836.619999999999,9224.3580000000002]
[null,null,"Tasso interno di rendimento",null,null,{"$f":"IFERROR(IRR(OFFSET(F139,0,0,1,ScadenzaConcessione-AnnoPonte+1)),\"non calc.\")","v":7.5100000000143607E-2}]
[null,null,"VAN",null,{"$f":"WACC","v":7.51E-2},{"$f":"NPV(E141,OFFSET(F139,0,0,1,ScadenzaConcessione-AnnoPonte+1))","v":1.0574536110279605E-11}]
[]
[]
[]
[null,null,"CIN post2026","CIN post2026"]
[]
[null,null,"Ammortamento finanziario"]
[]
[null,9,"CIN investimenti (lordo contributi e subentro, netto dismissioni) bop (amm. finanziario)",null,null,null,{"$f":"F153","v":0},50000,100000,100000,100000,100000,100000,100000,100000,80000,60000,40000,19980]
[null,null,"Investimenti entrati in esercizio (amm.finanziario)",null,null,null,{"$f":"SUMIFS(\n'Z0.6.a ProgInvest_Spesa agg'!Z:Z,\n'Z0.6.a ProgInvest_Spesa agg'!$M:$M,$D$145,\n'Z0.6.a ProgInvest_Spesa agg'!$O:$O,\"finanziario\")","v":50000},{"$f":"SUMIFS(\n'Z0.6.a ProgInvest_Spesa agg'!AA:AA,\n'Z0.6.a ProgInvest_Spesa agg'!$M:$M,$D$145,\n'Z0.6.a ProgInvest_Spesa agg'!$O:$O,\"finanziario\")","v":50000},{"$f":"SUMIFS(\n'Z0.6.a ProgInvest_Spesa agg'!AB:AB,\n'Z0.6.a ProgInvest_Spesa agg'!$M:$M,$D$145,\n'Z0.6.a ProgInvest_Spesa agg'!$O:$O,\"finanziario\")","v":0},{"$f":"SUMIFS(\n'Z0.6.a ProgInvest_Spesa agg'!AC:AC,\n'Z0.6.a ProgInvest_Spesa agg'!$M:$M,$D$145,\n'Z0.6.a ProgInvest_Spesa agg'!$O:$O,\"finanziario\")","v":0},{"$f":"SUMIFS(\n'Z0.6.a ProgInvest_Spesa agg'!AD:AD,\n'Z0.6.a ProgInvest_Spesa agg'!$M:$M,$D$145,\n'Z0.6.a ProgInvest_Spesa agg'!$O:$O,\"finanziario\")","v":0},{"$f":"SUMIFS(\n'Z0.6.a ProgInvest_Spesa agg'!AE:AE,\n'Z0.6.a ProgInvest_Spesa agg'!$M:$M,$D$145,\n'Z0.6.a ProgInvest_Spesa agg'!$O:$O,\"finanziario\")","v":0},{"$f":"SUMIFS(\n'Z0.6.a ProgInvest_Spesa agg'!AF:AF,\n'Z0.6.a ProgInvest_Spesa agg'!$M:$M,$D$145,\n'Z0.6.a ProgInvest_Spesa agg'!$O:$O,\"finanziario\")","v":0},{"$f":"SUMIFS(\n'Z0.6.a ProgInvest_Spesa agg'!AG:AG,\n'Z0.6.a ProgInvest_Spesa agg'!$M:$M,$D$145,\n'Z0.6.a ProgInvest_Spesa agg'!$O:$O,\"finanziario\")","v":0},{"$f":"SUMIFS(\n'Z0.6.a ProgInvest_Spesa agg'!AH:AH,\n'Z0.6.a ProgInvest_Spesa agg'!$M:$M,$D$145,\n'Z0.6.a ProgInvest_Spesa agg'!$O:$O,\"finanziario\")","v":0},{"$f":"SUMIFS(\n'Z0.6.a ProgInvest_Spesa agg'!AI:AI,\n'Z0.6.a ProgInvest_Spesa agg'!$M:$M,$D$145,\n'Z0.6.a ProgInvest_Spesa agg'!$O:$O,\"finanziario\")","v":0},{"$f":"SUMIFS(\n'Z0.6.a ProgInvest_Spesa agg'!AJ:AJ,\n'Z0.6.a ProgInvest_Spesa agg'!$M:$M,$D$145,\n'Z0.6.a ProgInvest_Spesa agg'!$O:$O,\"finanziario\")","v":0},{"$f":"SUMIFS(\n'Z0.6.a ProgInvest_Spesa agg'!AK:AK,\n'Z0.6.a ProgInvest_Spesa agg'!$M:$M,$D$145,\n'Z0.6.a ProgInvest_Spesa agg'!$O:$O,\"finanziario\")","v":0},{"$f":"SUMIFS(\n'Z0.6.a ProgInvest_Spesa agg'!AL:AL,\n'Z0.6.a ProgInvest_Spesa agg'!$M:$M,$D$145,\n'Z0.6.a ProgInvest_Spesa agg'!$O:$O,\"finanziario\")","v":0}]
[null,null,"Dismissioni",null,null,null,{"$f":"SUMIFS(\n'Z0.6.c ProgInvest_Dism agg'!Z:Z,\n'Z0.6.c ProgInvest_Dism agg'!$M:$M,$D$145,\n'Z0.6.a ProgInvest_Spesa agg'!$O:$O,\"finanziario\")","v":0},{"$f":"SUMIFS(\n'Z0.6.c ProgInvest_Dism agg'!AA:AA,\n'Z0.6.c ProgInvest_Dism agg'!$M:$M,$D$145,\n'Z0.6.a ProgInvest_Spesa agg'!$O:$O,\"finanziario\")","v":0},{"$f":"SUMIFS(\n'Z0.6.c ProgInvest_Dism agg'!AB:AB,\n'Z0.6.c ProgInvest_Dism agg'!$M:$M,$D$145,\n'Z0.6.a ProgInvest_Spesa agg'!$O:$O,\"finanziario\")","v":0},{"$f":"SUMIFS(\n'Z0.6.c ProgInvest_Dism agg'!AC:AC,\n'Z0.6.c ProgInvest_Dism agg'!$M:$M,$D$145,\n'Z0.6.a ProgInvest_Spesa agg'!$O:$O,\"finanziario\")","v":0},{"$f":"SUMIFS(\n'Z0.6.c ProgInvest_Dism agg'!AD:AD,\n'Z0.6.c ProgInvest_Dism agg'!$M:$M,$D$145,\n'Z0.6.a ProgInvest_Spesa agg'!$O:$O,\"finanziario\")","v":0},{"$f":"SUMIFS(\n'Z0.6.c ProgInvest_Dism agg'!AE:AE,\n'Z0.6.c ProgInvest_Dism agg'!$M:$M,$D$145,\n'Z0.6.a ProgInvest_Spesa agg'!$O:$O,\"finanziario\")","v":0},{"$f":"SUMIFS(\n'Z0.6.c ProgInvest_Dism agg'!AF:AF,\n'Z0.6.c ProgInvest_Dism agg'!$M:$M,$D$145,\n'Z0.6.a ProgInvest_Spesa agg'!$O:$O,\"finanziario\")","v":0},{"$f":"SUMIFS(\n'Z0.6.c ProgInvest_Dism agg'!AG:AG,\n'Z0.6.c ProgInvest_Dism agg'!$M:$M,$D$145,\n'Z0.6.a ProgInvest_Spesa agg'!$O:$O,\"finanziario\")","v":0},{"$f":"SUMIFS(\n'Z0.6.c ProgInvest_Dism agg'!AH:AH,\n'Z0.6.c ProgInvest_Dism agg'!$M:$M,$D$145,\n'Z0.6.a ProgInvest_Spesa agg'!$O:$O,\"finanziario\")","v":0},{"$f":"SUMIFS(\n'Z0.6.c ProgInvest_Dism agg'!AI:AI,\n'Z0.6.c ProgInvest_Dism agg'!$M:$M,$D$145,\n'Z0.6.a ProgInvest_Spesa agg'!$O:$O,\"finanziario\")","v":0},{"$f":"SUMIFS(\n'Z0.6.c ProgInvest_Dism agg'!AJ:AJ,\n'Z0.6.c ProgInvest_Dism agg'!$M:$M,$D$145,\n'Z0.6.a ProgInvest_Spesa agg'!$O:$O,\"finanziario\")","v":0},{"$f":"SUMIFS(\n'Z0.6.c ProgInvest_Dism agg'!AK:AK,\n'Z0.6.c ProgInvest_Dism agg'!$M:$M,$D$145,\n'Z0.6.a ProgInvest_Spesa agg'!$O:$O,\"finanziario\")","v":20},{"$f":"SUMIFS(\n'Z0.6.c ProgInvest_Dism agg'!AL:AL,\n'Z0.6.c ProgInvest_Dism agg'!$M:$M,$D$145,\n'Z0.6.a ProgInvest_Spesa agg'!$O:$O,\"finanziario\")","v":0}]
[null,29,"Ammortamento (finanziario)",null,null,null,{"$f":"(G149-F157)*G$30","v":0},0,0,0,0,0,0,0,20000,20000,20000,20000,19980]
[null,null,"CIN investimenti (lordo contributi, netto dismissioni) eop (amm. finanziario)",null,null,{"$f":"OFFSET('Z0.2.a PR Pregressi'!E291,0,AnnoPonte-UltimoAnnoRTP,1,1)","v":0},{"$f":"G149+G150-G151-G152","v":50000},{"$f":"H149+H150-H151-H152","v":100000},100000,100000,100000,100000,100000,100000,80000,60000,40000,19980,0]
[]
[null,49,"Remunerazione CIN investimenti",null,null,null,{"$f":"(G149-G157)*G$17*G10","v":0},3755,7510,7510,7510,7510,7510,7510,7510,6008,4506,3004,1500.498]
[]
[null,11,"Valore di subentro CIN post (lordo contributi)",null,null,{"$f":"MIN(OFFSET('Z0.2.a PR Pregressi'!$E$292,0,AnnoPonte-UltimoAnnoRTP,1,1),F153)","v":0},{"$f":"MIN(TVpost,G149)","v":0},0,0,0,0,0,0,0,0,0,0,0,0]
[]
[null,51,"Remunerazione valore di subentro CIN investimenti",null,null,null,{"$f":"G157*G$19*G10","v":0},0,0,0,0,0,0,0,0,0,0,0,0]
[]
[null,10,"CIN contributi bop (amm. finanziario)",null,null,null,{"$f":"F164","v":0},-1000,-1000,-1000,-1000,-1000,-1000,-1000,-1000,-800,-600,-400,-200]
[null,null,"contributi annui (amm. finanziario)",null,null,null,{"$f":"-SUMIFS(\n'Z0.6.b ProgInvest_Contr agg'!Z:Z,\n'Z0.6.b ProgInvest_Contr agg'!$M:$M,$D$145,\n'Z0.6.b ProgInvest_Contr agg'!$L:$L,\"in corso\",\n'Z0.6.a ProgInvest_Spesa agg'!$O:$O,\"finanziario\")","v":-1000},{"$f":"-SUMIFS(\n'Z0.6.b ProgInvest_Contr agg'!AA:AA,\n'Z0.6.b ProgInvest_Contr agg'!$M:$M,$D$145,\n'Z0.6.b ProgInvest_Contr agg'!$L:$L,\"in corso\",\n'Z0.6.a ProgInvest_Spesa agg'!$O:$O,\"finanziario\")","v":0},{"$f":"-SUMIFS(\n'Z0.6.b ProgInvest_Contr agg'!AB:AB,\n'Z0.6.b ProgInvest_Contr agg'!$M:$M,$D$145,\n'Z0.6.b ProgInvest_Contr agg'!$L:$L,\"in corso\",\n'Z0.6.a ProgInvest_Spesa agg'!$O:$O,\"finanziario\")","v":0},{"$f":"-SUMIFS(\n'Z0.6.b ProgInvest_Contr agg'!AC:AC,\n'Z0.6.b ProgInvest_Contr agg'!$M:$M,$D$145,\n'Z0.6.b ProgInvest_Contr agg'!$L:$L,\"in corso\",\n'Z0.6.a ProgInvest_Spesa agg'!$O:$O,\"finanziario\")","v":0},{"$f":"-SUMIFS(\n'Z0.6.b ProgInvest_Contr agg'!AD:AD,\n'Z0.6.b ProgInvest_Contr agg'!$M:$M,$D$145,\n'Z0.6.b ProgInvest_Contr agg'!$L:$L,\"in corso\",\n'Z0.6.a ProgInvest_Spesa agg'!$O:$O,\"finanziario\")","v":0},{"$f":"-SUMIFS(\n'Z0.6.b ProgInvest_Contr agg'!AE:AE,\n'Z0.6.b ProgInvest_Contr agg'!$M:$M,$D$145,\n'Z0.6.b ProgInvest_Contr agg'!$L:$L,\"in corso\",\n'Z0.6.a ProgInvest_Spesa agg'!$O:$O,\"finanziario\")","v":0},{"$f":"-SUMIFS(\n'Z0.6.b ProgInvest_Contr agg'!AF:AF,\n'Z0.6.b ProgInvest_Contr agg'!$M:$M,$D$145,\n'Z0.6.b ProgInvest_Contr agg'!$L:$L,\"in corso\",\n'Z0.6.a ProgInvest_Spesa agg'!$O:$O,\"finanziario\")","v":0},{"$f":"-SUMIFS(\n'Z0.6.b ProgInvest_Contr agg'!AG:AG,\n'Z0.6.b ProgInvest_Contr agg'!$M:$M,$D$145,\n'Z0.6.b ProgInvest_Contr agg'!$L:$L,\"in corso\",\n'Z0.6.a ProgInvest_Spesa agg'!$O:$O,\"finanziario\")","v":0},{"$f":"-SUMIFS(\n'Z0.6.b ProgInvest_Contr agg'!AH:AH,\n'Z0.6.b ProgInvest_Contr agg'!$M:$M,$D$145,\n'Z0.6.b ProgInvest_Contr agg'!$L:$L,\"in corso\",\n'Z0.6.a ProgInvest_Spesa agg'!$O:$O,\"finanziario\")","v":0},{"$f":"-SUMIFS(\n'Z0.6.b ProgInvest_Contr agg'!AI:AI,\n'Z0.6.b ProgInvest_Contr agg'!$M:$M,$D$145,\n'Z0.6.b ProgInvest_Contr agg'!$L:$L,\"in corso\",\n'Z0.6.a ProgInvest_Spesa agg'!$O:$O,\"finanziario\")","v":0},{"$f":"-SUMIFS(\n'Z0.6.b ProgInvest_Contr agg'!AJ:AJ,\n'Z0.6.b ProgInvest_Contr agg'!$M:$M,$D$145,\n'Z0.6.b ProgInvest_Contr agg'!$L:$L,\"in corso\",\n'Z0.6.a ProgInvest_Spesa agg'!$O:$O,\"finanziario\")","v":0},{"$f":"-SUMIFS(\n'Z0.6.b ProgInvest_Contr agg'!AK:AK,\n'Z0.6.b ProgInvest_Contr agg'!$M:$M,$D$145,\n'Z0.6.b ProgInvest_Contr agg'!$L:$L,\"in corso\",\n'Z0.6.a ProgInvest_Spesa agg'!$O:$O,\"finanziario\")","v":0},{"$f":"-SUMIFS(\n'Z0.6.b ProgInvest_Contr agg'!AL:AL,\n'Z0.6.b ProgInvest_Contr agg'!$M:$M,$D$145,\n'Z0.6.b ProgInvest_Contr agg'!$L:$L,\"in corso\",\n'Z0.6.a ProgInvest_Spesa agg'!$O:$O,\"finanziario\")","v":0}]
[null,30,"Ammortamento contributi (amm. finanziario)",null,null,null,{"$f":"(G161)*G$30","v":0},{"$f":"(H161)*H$30","v":0},0,0,0,0,0,0,-200,-200,-200,-200,-200]
[null,null,"CIN contributi eop (amm. finanziario)",null,null,{"$f":"-OFFSET('Z0.2.a PR Pregressi'!E299,0,AnnoPonte-UltimoAnnoRTP,1,1)","v":0},{"$f":"G161+G162-G163","v":-1000},{"$f":"H161+H162-H163","v":-1000},-1000,-1000,-1000,-1000,-1000,-1000,-800,-600,-400,-200,0]
[]
[null,50,"Remunerazione CIN contributi",null,null,null,{"$f":"G161*G$17*G10","v":0},-75.099999999999994,-75.099999999999994,-75.099999999999994,-75.099999999999994,-75.099999999999994,-75.099999999999994,-75.099999999999994,-75.099999999999994,-60.08,-45.06,-30.04,-15.02]
[]
[null,null,"Check - TIR di progetto"]
[null,null,"Cash out investimenti",null,null,{"$f":"-(F153+F164)","v":0},{"$f":"-(G150-G151+G162)","v":-49000},{"$f":"-(H150-H151+H162)","v":-50000},0,0,0,0,0,0,0,0,0,20,0]
[null,null,"Cash in valore di subentro",null,null,null,{"$f":"IF(G$4=ScadenzaConcessione,G157,\"\")","v":""},{"$f":"IF(H$4=ScadenzaConcessione,H157,\"\")","v":""},"","","","","","","","","","",0]
[null,null,"Cash in ammortamenti",null,null,null,{"$f":"G152+G163","v":0},0,0,0,0,0,0,0,19800,19800,19800,19800,19780]
[null,null,"Cash in remunerazioni (annualizzato)",null,null,null,{"$f":"(G155+G159+G166)/G$10","v":0},3679.9,7434.9,7434.9,7434.9,7434.9,7434.9,7434.9,7434.9,5947.92,4460.9399999999996,2973.96,1485.4780000000001]
[null,null,"Cash flow",null,null,{"$f":"SUM(F169:F172)","v":0},-49000,{"$f":"SUM(H169:H172)","v":-46320.1},7434.9,7434.9,7434.9,7434.9,7434.9,7434.9,27234.9,25747.919999999998,24260.94,22793.96,21265.477999999999]
[null,null,"Tasso interno di rendimento",null,null,{"$f":"IFERROR(IRR(OFFSET(F173,0,0,1,ScadenzaConcessione-AnnoPonte+1)),\"non calc.\")","v":7.5100000000035472E-2}]
[null,null,"VAN",null,{"$f":"WACC","v":7.51E-2},{"$f":"NPV(E175,OFFSET(F173,0,0,1,ScadenzaConcessione-AnnoPonte+1))","v":1.3535406221157894E-11}]
[]
[]
[null,null,"Ammortamento a vite utili"]
[]
[null,null,"Viadotti/Ponti/Cavalcavia",{"$f":"VLOOKUP(C180,'C3 Tk Supporto'!C:E,2,0)","v":40},"vita utile","VU01"]
[]
[null,null,"LIC livello 1 - bop",null,null,null,{"$f":"F185","v":0},0,100,0,0,0,0,0,0,0,0,0,0]
[null,null,"Investimenti in corso aggiuntivi",null,null,null,{"$f":"SUMIFS(\n'Z0.6.a ProgInvest_Spesa agg'!Z:Z,\n'Z0.6.a ProgInvest_Spesa agg'!$K:$K,$C180,\n'Z0.6.a ProgInvest_Spesa agg'!$M:$M,$D$145,\n'Z0.6.a ProgInvest_Spesa agg'!$L:$L,\"in corso\",\n'Z0.6.a ProgInvest_Spesa agg'!$O:$O,\"vite utili 1\")","v":0},{"$f":"SUMIFS(\n'Z0.6.a ProgInvest_Spesa agg'!AA:AA,\n'Z0.6.a ProgInvest_Spesa agg'!$K:$K,$C180,\n'Z0.6.a ProgInvest_Spesa agg'!$M:$M,$D$145,\n'Z0.6.a ProgInvest_Spesa agg'!$L:$L,\"in corso\",\n'Z0.6.a ProgInvest_Spesa agg'!$O:$O,\"vite utili 1\")","v":100},{"$f":"SUMIFS(\n'Z0.6.a ProgInvest_Spesa agg'!AB:AB,\n'Z0.6.a ProgInvest_Spesa agg'!$K:$K,$C180,\n'Z0.6.a ProgInvest_Spesa agg'!$M:$M,$D$145,\n'Z0.6.a ProgInvest_Spesa agg'!$L:$L,\"in corso\",\n'Z0.6.a ProgInvest_Spesa agg'!$O:$O,\"vite utili 1\")","v":100},{"$f":"SUMIFS(\n'Z0.6.a ProgInvest_Spesa agg'!AC:AC,\n'Z0.6.a ProgInvest_Spesa agg'!$K:$K,$C180,\n'Z0.6.a ProgInvest_Spesa agg'!$M:$M,$D$145,\n'Z0.6.a ProgInvest_Spesa agg'!$L:$L,\"in corso\",\n'Z0.6.a ProgInvest_Spesa agg'!$O:$O,\"vite utili 1\")","v":0},{"$f":"SUMIFS(\n'Z0.6.a ProgInvest_Spesa agg'!AD:AD,\n'Z0.6.a ProgInvest_Spesa agg'!$K:$K,$C180,\n'Z0.6.a ProgInvest_Spesa agg'!$M:$M,$D$145,\n'Z0.6.a ProgInvest_Spesa agg'!$L:$L,\"in corso\",\n'Z0.6.a ProgInvest_Spesa agg'!$O:$O,\"vite utili 1\")","v":0},{"$f":"SUMIFS(\n'Z0.6.a ProgInvest_Spesa agg'!AE:AE,\n'Z0.6.a ProgInvest_Spesa agg'!$K:$K,$C180,\n'Z0.6.a ProgInvest_Spesa agg'!$M:$M,$D$145,\n'Z0.6.a ProgInvest_Spesa agg'!$L:$L,\"in corso\",\n'Z0.6.a ProgInvest_Spesa agg'!$O:$O,\"vite utili 1\")","v":0},{"$f":"SUMIFS(\n'Z0.6.a ProgInvest_Spesa agg'!AF:AF,\n'Z0.6.a ProgInvest_Spesa agg'!$K:$K,$C180,\n'Z0.6.a ProgInvest_Spesa agg'!$M:$M,$D$145,\n'Z0.6.a ProgInvest_Spesa agg'!$L:$L,\"in corso\",\n'Z0.6.a ProgInvest_Spesa agg'!$O:$O,\"vite utili 1\")","v":0},{"$f":"SUMIFS(\n'Z0.6.a ProgInvest_Spesa agg'!AG:AG,\n'Z0.6.a ProgInvest_Spesa agg'!$K:$K,$C180,\n'Z0.6.a ProgInvest_Spesa agg'!$M:$M,$D$145,\n'Z0.6.a ProgInvest_Spesa agg'!$L:$L,\"in corso\",\n'Z0.6.a ProgInvest_Spesa agg'!$O:$O,\"vite utili 1\")","v":0},{"$f":"SUMIFS(\n'Z0.6.a ProgInvest_Spesa agg'!AH:AH,\n'Z0.6.a ProgInvest_Spesa agg'!$K:$K,$C180,\n'Z0.6.a ProgInvest_Spesa agg'!$M:$M,$D$145,\n'Z0.6.a ProgInvest_Spesa agg'!$L:$L,\"in corso\",\n'Z0.6.a ProgInvest_Spesa agg'!$O:$O,\"vite utili 1\")","v":0},{"$f":"SUMIFS(\n'Z0.6.a ProgInvest_Spesa agg'!AI:AI,\n'Z0.6.a ProgInvest_Spesa agg'!$K:$K,$C180,\n'Z0.6.a ProgInvest_Spesa agg'!$M:$M,$D$145,\n'Z0.6.a ProgInvest_Spesa agg'!$L:$L,\"in corso\",\n'Z0.6.a ProgInvest_Spesa agg'!$O:$O,\"vite utili 1\")","v":0},{"$f":"SUMIFS(\n'Z0.6.a ProgInvest_Spesa agg'!AJ:AJ,\n'Z0.6.a ProgInvest_Spesa agg'!$K:$K,$C180,\n'Z0.6.a ProgInvest_Spesa agg'!$M:$M,$D$145,\n'Z0.6.a ProgInvest_Spesa agg'!$L:$L,\"in corso\",\n'Z0.6.a ProgInvest_Spesa agg'!$O:$O,\"vite utili 1\")","v":0},{"$f":"SUMIFS(\n'Z0.6.a ProgInvest_Spesa agg'!AK:AK,\n'Z0.6.a ProgInvest_Spesa agg'!$K:$K,$C180,\n'Z0.6.a ProgInvest_Spesa agg'!$M:$M,$D$145,\n'Z0.6.a ProgInvest_Spesa agg'!$L:$L,\"in corso\",\n'Z0.6.a ProgInvest_Spesa agg'!$O:$O,\"vite utili 1\")","v":0},{"$f":"SUMIFS(\n'Z0.6.a ProgInvest_Spesa agg'!AL:AL,\n'Z0.6.a ProgInvest_Spesa agg'!$K:$K,$C180,\n'Z0.6.a ProgInvest_Spesa agg'!$M:$M,$D$145,\n'Z0.6.a ProgInvest_Spesa agg'!$L:$L,\"in corso\",\n'Z0.6.a ProgInvest_Spesa agg'!$O:$O,\"vite utili 1\")","v":0}]
[null,null,"Investimenti in corso cessanti (entrata in esercizio)",null,null,null,{"$f":"-SUMIFS(\n'Z0.6.a ProgInvest_Spesa agg'!$S:$S,\n'Z0.6.a ProgInvest_Spesa agg'!$K:$K,$C180,\n'Z0.6.a ProgInvest_Spesa agg'!$M:$M,$D$145,\n'Z0.6.a ProgInvest_Spesa agg'!$L:$L,\"in corso\",\n'Z0.6.a ProgInvest_Spesa agg'!$O:$O,\"vite utili 1\",\n'Z0.6.a ProgInvest_Spesa agg'!$P:$P,G$4)","v":0},{"$f":"-SUMIFS(\n'Z0.6.a ProgInvest_Spesa agg'!$S:$S,\n'Z0.6.a ProgInvest_Spesa agg'!$K:$K,$C180,\n'Z0.6.a ProgInvest_Spesa agg'!$M:$M,$D$145,\n'Z0.6.a ProgInvest_Spesa agg'!$L:$L,\"in corso\",\n'Z0.6.a ProgInvest_Spesa agg'!$O:$O,\"vite utili 1\",\n'Z0.6.a ProgInvest_Spesa agg'!$P:$P,H$4)","v":0},{"$f":"-SUMIFS(\n'Z0.6.a ProgInvest_Spesa agg'!$S:$S,\n'Z0.6.a ProgInvest_Spesa agg'!$K:$K,$C180,\n'Z0.6.a ProgInvest_Spesa agg'!$M:$M,$D$145,\n'Z0.6.a ProgInvest_Spesa agg'!$L:$L,\"in corso\",\n'Z0.6.a ProgInvest_Spesa agg'!$O:$O,\"vite utili 1\",\n'Z0.6.a ProgInvest_Spesa agg'!$P:$P,I$4)","v":-200},{"$f":"-SUMIFS(\n'Z0.6.a ProgInvest_Spesa agg'!$S:$S,\n'Z0.6.a ProgInvest_Spesa agg'!$K:$K,$C180,\n'Z0.6.a ProgInvest_Spesa agg'!$M:$M,$D$145,\n'Z0.6.a ProgInvest_Spesa agg'!$L:$L,\"in corso\",\n'Z0.6.a ProgInvest_Spesa agg'!$O:$O,\"vite utili 1\",\n'Z0.6.a ProgInvest_Spesa agg'!$P:$P,J$4)","v":0},{"$f":"-SUMIFS(\n'Z0.6.a ProgInvest_Spesa agg'!$S:$S,\n'Z0.6.a ProgInvest_Spesa agg'!$K:$K,$C180,\n'Z0.6.a ProgInvest_Spesa agg'!$M:$M,$D$145,\n'Z0.6.a ProgInvest_Spesa agg'!$L:$L,\"in corso\",\n'Z0.6.a ProgInvest_Spesa agg'!$O:$O,\"vite utili 1\",\n'Z0.6.a ProgInvest_Spesa agg'!$P:$P,K$4)","v":0},{"$f":"-SUMIFS(\n'Z0.6.a ProgInvest_Spesa agg'!$S:$S,\n'Z0.6.a ProgInvest_Spesa agg'!$K:$K,$C180,\n'Z0.6.a ProgInvest_Spesa agg'!$M:$M,$D$145,\n'Z0.6.a ProgInvest_Spesa agg'!$L:$L,\"in corso\",\n'Z0.6.a ProgInvest_Spesa agg'!$O:$O,\"vite utili 1\",\n'Z0.6.a ProgInvest_Spesa agg'!$P:$P,L$4)","v":0},{"$f":"-SUMIFS(\n'Z0.6.a ProgInvest_Spesa agg'!$S:$S,\n'Z0.6.a ProgInvest_Spesa agg'!$K:$K,$C180,\n'Z0.6.a ProgInvest_Spesa agg'!$M:$M,$D$145,\n'Z0.6.a ProgInvest_Spesa agg'!$L:$L,\"in corso\",\n'Z0.6.a ProgInvest_Spesa agg'!$O:$O,\"vite utili 1\",\n'Z0.6.a ProgInvest_Spesa agg'!$P:$P,M$4)","v":0},{"$f":"-SUMIFS(\n'Z0.6.a ProgInvest_Spesa agg'!$S:$S,\n'Z0.6.a ProgInvest_Spesa agg'!$K:$K,$C180,\n'Z0.6.a ProgInvest_Spesa agg'!$M:$M,$D$145,\n'Z0.6.a ProgInvest_Spesa agg'!$L:$L,\"in corso\",\n'Z0.6.a ProgInvest_Spesa agg'!$O:$O,\"vite utili 1\",\n'Z0.6.a ProgInvest_Spesa agg'!$P:$P,N$4)","v":0},{"$f":"-SUMIFS(\n'Z0.6.a ProgInvest_Spesa agg'!$S:$S,\n'Z0.6.a ProgInvest_Spesa agg'!$K:$K,$C180,\n'Z0.6.a ProgInvest_Spesa agg'!$M:$M,$D$145,\n'Z0.6.a ProgInvest_Spesa agg'!$L:$L,\"in corso\",\n'Z0.6.a ProgInvest_Spesa agg'!$O:$O,\"vite utili 1\",\n'Z0.6.a ProgInvest_Spesa agg'!$P:$P,O$4)","v":0},{"$f":"-SUMIFS(\n'Z0.6.a ProgInvest_Spesa agg'!$S:$S,\n'Z0.6.a ProgInvest_Spesa agg'!$K:$K,$C180,\n'Z0.6.a ProgInvest_Spesa agg'!$M:$M,$D$145,\n'Z0.6.a ProgInvest_Spesa agg'!$L:$L,\"in corso\",\n'Z0.6.a ProgInvest_Spesa agg'!$O:$O,\"vite utili 1\",\n'Z0.6.a ProgInvest_Spesa agg'!$P:$P,P$4)","v":0},{"$f":"-SUMIFS(\n'Z0.6.a ProgInvest_Spesa agg'!$S:$S,\n'Z0.6.a ProgInvest_Spesa agg'!$K:$K,$C180,\n'Z0.6.a ProgInvest_Spesa agg'!$M:$M,$D$145,\n'Z0.6.a ProgInvest_Spesa agg'!$L:$L,\"in corso\",\n'Z0.6.a ProgInvest_Spesa agg'!$O:$O,\"vite utili 1\",\n'Z0.6.a ProgInvest_Spesa agg'!$P:$P,Q$4)","v":0},{"$f":"-SUMIFS(\n'Z0.6.a ProgInvest_Spesa agg'!$S:$S,\n'Z0.6.a ProgInvest_Spesa agg'!$K:$K,$C180,\n'Z0.6.a ProgInvest_Spesa agg'!$M:$M,$D$145,\n'Z0.6.a ProgInvest_Spesa agg'!$L:$L,\"in corso\",\n'Z0.6.a ProgInvest_Spesa agg'!$O:$O,\"vite utili 1\",\n'Z0.6.a ProgInvest_Spesa agg'!$P:$P,R$4)","v":0},{"$f":"-SUMIFS(\n'Z0.6.a ProgInvest_Spesa agg'!$S:$S,\n'Z0.6.a ProgInvest_Spesa agg'!$K:$K,$C180,\n'Z0.6.a ProgInvest_Spesa agg'!$M:$M,$D$145,\n'Z0.6.a ProgInvest_Spesa agg'!$L:$L,\"in corso\",\n'Z0.6.a ProgInvest_Spesa agg'!$O:$O,\"vite utili 1\",\n'Z0.6.a ProgInvest_Spesa agg'!$P:$P,S$4)","v":0}]
[null,null,"LIC livello 1 - eop",null,null,{"$f":"OFFSET(INDIRECT($F180 & \"inv\"),-10,2+AnnoPonte-UltimoAnnoRTP,1,1)","v":0},{"$f":"G182+G183+G184","v":0},{"$f":"H182+H183+H184","v":100},0,0,0,0,0,0,0,0,0,0,0]
[null,null,"Valore di subentro LIC",null,null,null,{"$f":"IF(G$4=ScadenzaConcessione,G185,0)","v":0},{"$f":"IF(H$4=ScadenzaConcessione,H185,0)","v":0},0,0,0,0,0,0,0,0,0,0,0]
[null,null,"Remunerazione LIC",null,null,null,{"$f":"G182*G$17*G$10","v":0},{"$f":"H182*H$17*H$10","v":0},7.51,0,0,0,0,0,0,0,0,0,0]
[]
[null,null,"LIC livello 2 - bop",null,null,null,{"$f":"F192","v":0},{"$f":"G192","v":0},{"$f":"H192","v":100},{"$f":"I192","v":0},{"$f":"J192","v":0},{"$f":"K192","v":0},{"$f":"L192","v":0},{"$f":"M192","v":0},{"$f":"N192","v":0},{"$f":"O192","v":0},{"$f":"P192","v":0},{"$f":"Q192","v":0},{"$f":"R192","v":0}]
[null,null,"Investimenti in corso aggiuntivi",null,null,null,{"$f":"SUMIFS(\n'Z0.6.a ProgInvest_Spesa agg'!Z:Z,\n'Z0.6.a ProgInvest_Spesa agg'!$K:$K,$C180,\n'Z0.6.a ProgInvest_Spesa agg'!$M:$M,$D$145,\n'Z0.6.a ProgInvest_Spesa agg'!$L:$L,\"in corso\",\n'Z0.6.a ProgInvest_Spesa agg'!$O:$O,\"vite utili 2\")","v":0},{"$f":"SUMIFS(\n'Z0.6.a ProgInvest_Spesa agg'!AA:AA,\n'Z0.6.a ProgInvest_Spesa agg'!$K:$K,$C180,\n'Z0.6.a ProgInvest_Spesa agg'!$M:$M,$D$145,\n'Z0.6.a ProgInvest_Spesa agg'!$L:$L,\"in corso\",\n'Z0.6.a ProgInvest_Spesa agg'!$O:$O,\"vite utili 2\")","v":100},{"$f":"SUMIFS(\n'Z0.6.a ProgInvest_Spesa agg'!AB:AB,\n'Z0.6.a ProgInvest_Spesa agg'!$K:$K,$C180,\n'Z0.6.a ProgInvest_Spesa agg'!$M:$M,$D$145,\n'Z0.6.a ProgInvest_Spesa agg'!$L:$L,\"in corso\",\n'Z0.6.a ProgInvest_Spesa agg'!$O:$O,\"vite utili 2\")","v":100},{"$f":"SUMIFS(\n'Z0.6.a ProgInvest_Spesa agg'!AC:AC,\n'Z0.6.a ProgInvest_Spesa agg'!$K:$K,$C180,\n'Z0.6.a ProgInvest_Spesa agg'!$M:$M,$D$145,\n'Z0.6.a ProgInvest_Spesa agg'!$L:$L,\"in corso\",\n'Z0.6.a ProgInvest_Spesa agg'!$O:$O,\"vite utili 2\")","v":0},{"$f":"SUMIFS(\n'Z0.6.a ProgInvest_Spesa agg'!AD:AD,\n'Z0.6.a ProgInvest_Spesa agg'!$K:$K,$C180,\n'Z0.6.a ProgInvest_Spesa agg'!$M:$M,$D$145,\n'Z0.6.a ProgInvest_Spesa agg'!$L:$L,\"in corso\",\n'Z0.6.a ProgInvest_Spesa agg'!$O:$O,\"vite utili 2\")","v":0},{"$f":"SUMIFS(\n'Z0.6.a ProgInvest_Spesa agg'!AE:AE,\n'Z0.6.a ProgInvest_Spesa agg'!$K:$K,$C180,\n'Z0.6.a ProgInvest_Spesa agg'!$M:$M,$D$145,\n'Z0.6.a ProgInvest_Spesa agg'!$L:$L,\"in corso\",\n'Z0.6.a ProgInvest_Spesa agg'!$O:$O,\"vite utili 2\")","v":0},{"$f":"SUMIFS(\n'Z0.6.a ProgInvest_Spesa agg'!AF:AF,\n'Z0.6.a ProgInvest_Spesa agg'!$K:$K,$C180,\n'Z0.6.a ProgInvest_Spesa agg'!$M:$M,$D$145,\n'Z0.6.a ProgInvest_Spesa agg'!$L:$L,\"in corso\",\n'Z0.6.a ProgInvest_Spesa agg'!$O:$O,\"vite utili 2\")","v":0},{"$f":"SUMIFS(\n'Z0.6.a ProgInvest_Spesa agg'!AG:AG,\n'Z0.6.a ProgInvest_Spesa agg'!$K:$K,$C180,\n'Z0.6.a ProgInvest_Spesa agg'!$M:$M,$D$145,\n'Z0.6.a ProgInvest_Spesa agg'!$L:$L,\"in corso\",\n'Z0.6.a ProgInvest_Spesa agg'!$O:$O,\"vite utili 2\")","v":0},{"$f":"SUMIFS(\n'Z0.6.a ProgInvest_Spesa agg'!AH:AH,\n'Z0.6.a ProgInvest_Spesa agg'!$K:$K,$C180,\n'Z0.6.a ProgInvest_Spesa agg'!$M:$M,$D$145,\n'Z0.6.a ProgInvest_Spesa agg'!$L:$L,\"in corso\",\n'Z0.6.a ProgInvest_Spesa agg'!$O:$O,\"vite utili 2\")","v":0},{"$f":"SUMIFS(\n'Z0.6.a ProgInvest_Spesa agg'!AI:AI,\n'Z0.6.a ProgInvest_Spesa agg'!$K:$K,$C180,\n'Z0.6.a ProgInvest_Spesa agg'!$M:$M,$D$145,\n'Z0.6.a ProgInvest_Spesa agg'!$L:$L,\"in corso\",\n'Z0.6.a ProgInvest_Spesa agg'!$O:$O,\"vite utili 2\")","v":0},{"$f":"SUMIFS(\n'Z0.6.a ProgInvest_Spesa agg'!AJ:AJ,\n'Z0.6.a ProgInvest_Spesa agg'!$K:$K,$C180,\n'Z0.6.a ProgInvest_Spesa agg'!$M:$M,$D$145,\n'Z0.6.a ProgInvest_Spesa agg'!$L:$L,\"in corso\",\n'Z0.6.a ProgInvest_Spesa agg'!$O:$O,\"vite utili 2\")","v":0},{"$f":"SUMIFS(\n'Z0.6.a ProgInvest_Spesa agg'!AK:AK,\n'Z0.6.a ProgInvest_Spesa agg'!$K:$K,$C180,\n'Z0.6.a ProgInvest_Spesa agg'!$M:$M,$D$145,\n'Z0.6.a ProgInvest_Spesa agg'!$L:$L,\"in corso\",\n'Z0.6.a ProgInvest_Spesa agg'!$O:$O,\"vite utili 2\")","v":0},{"$f":"SUMIFS(\n'Z0.6.a ProgInvest_Spesa agg'!AL:AL,\n'Z0.6.a ProgInvest_Spesa agg'!$K:$K,$C180,\n'Z0.6.a ProgInvest_Spesa agg'!$M:$M,$D$145,\n'Z0.6.a ProgInvest_Spesa agg'!$L:$L,\"in corso\",\n'Z0.6.a ProgInvest_Spesa agg'!$O:$O,\"vite utili 2\")","v":0}]
[null,null,"Investimenti in corso cessanti (entrata in esercizio)",null,null,null,{"$f":"-SUMIFS(\n'Z0.6.a ProgInvest_Spesa agg'!$S:$S,\n'Z0.6.a ProgInvest_Spesa agg'!$K:$K,$C180,\n'Z0.6.a ProgInvest_Spesa agg'!$M:$M,$D$145,\n'Z0.6.a ProgInvest_Spesa agg'!$L:$L,\"in corso\",\n'Z0.6.a ProgInvest_Spesa agg'!$O:$O,\"vite utili 2\",\n'Z0.6.a ProgInvest_Spesa agg'!$P:$P,G$4)","v":0},{"$f":"-SUMIFS(\n'Z0.6.a ProgInvest_Spesa agg'!$S:$S,\n'Z0.6.a ProgInvest_Spesa agg'!$K:$K,$C180,\n'Z0.6.a ProgInvest_Spesa agg'!$M:$M,$D$145,\n'Z0.6.a ProgInvest_Spesa agg'!$L:$L,\"in corso\",\n'Z0.6.a ProgInvest_Spesa agg'!$O:$O,\"vite utili 2\",\n'Z0.6.a ProgInvest_Spesa agg'!$P:$P,H$4)","v":0},{"$f":"-SUMIFS(\n'Z0.6.a ProgInvest_Spesa agg'!$S:$S,\n'Z0.6.a ProgInvest_Spesa agg'!$K:$K,$C180,\n'Z0.6.a ProgInvest_Spesa agg'!$M:$M,$D$145,\n'Z0.6.a ProgInvest_Spesa agg'!$L:$L,\"in corso\",\n'Z0.6.a ProgInvest_Spesa agg'!$O:$O,\"vite utili 2\",\n'Z0.6.a ProgInvest_Spesa agg'!$P:$P,I$4)","v":-200},{"$f":"-SUMIFS(\n'Z0.6.a ProgInvest_Spesa agg'!$S:$S,\n'Z0.6.a ProgInvest_Spesa agg'!$K:$K,$C180,\n'Z0.6.a ProgInvest_Spesa agg'!$M:$M,$D$145,\n'Z0.6.a ProgInvest_Spesa agg'!$L:$L,\"in corso\",\n'Z0.6.a ProgInvest_Spesa agg'!$O:$O,\"vite utili 2\",\n'Z0.6.a ProgInvest_Spesa agg'!$P:$P,J$4)","v":0},{"$f":"-SUMIFS(\n'Z0.6.a ProgInvest_Spesa agg'!$S:$S,\n'Z0.6.a ProgInvest_Spesa agg'!$K:$K,$C180,\n'Z0.6.a ProgInvest_Spesa agg'!$M:$M,$D$145,\n'Z0.6.a ProgInvest_Spesa agg'!$L:$L,\"in corso\",\n'Z0.6.a ProgInvest_Spesa agg'!$O:$O,\"vite utili 2\",\n'Z0.6.a ProgInvest_Spesa agg'!$P:$P,K$4)","v":0},{"$f":"-SUMIFS(\n'Z0.6.a ProgInvest_Spesa agg'!$S:$S,\n'Z0.6.a ProgInvest_Spesa agg'!$K:$K,$C180,\n'Z0.6.a ProgInvest_Spesa agg'!$M:$M,$D$145,\n'Z0.6.a ProgInvest_Spesa agg'!$L:$L,\"in corso\",\n'Z0.6.a ProgInvest_Spesa agg'!$O:$O,\"vite utili 2\",\n'Z0.6.a ProgInvest_Spesa agg'!$P:$P,L$4)","v":0},{"$f":"-SUMIFS(\n'Z0.6.a ProgInvest_Spesa agg'!$S:$S,\n'Z0.6.a ProgInvest_Spesa agg'!$K:$K,$C180,\n'Z0.6.a ProgInvest_Spesa agg'!$M:$M,$D$145,\n'Z0.6.a ProgInvest_Spesa agg'!$L:$L,\"in corso\",\n'Z0.6.a ProgInvest_Spesa agg'!$O:$O,\"vite utili 2\",\n'Z0.6.a ProgInvest_Spesa agg'!$P:$P,M$4)","v":0},{"$f":"-SUMIFS(\n'Z0.6.a ProgInvest_Spesa agg'!$S:$S,\n'Z0.6.a ProgInvest_Spesa agg'!$K:$K,$C180,\n'Z0.6.a ProgInvest_Spesa agg'!$M:$M,$D$145,\n'Z0.6.a ProgInvest_Spesa agg'!$L:$L,\"in corso\",\n'Z0.6.a ProgInvest_Spesa agg'!$O:$O,\"vite utili 2\",\n'Z0.6.a ProgInvest_Spesa agg'!$P:$P,N$4)","v":0},{"$f":"-SUMIFS(\n'Z0.6.a ProgInvest_Spesa agg'!$S:$S,\n'Z0.6.a ProgInvest_Spesa agg'!$K:$K,$C180,\n'Z0.6.a ProgInvest_Spesa agg'!$M:$M,$D$145,\n'Z0.6.a ProgInvest_Spesa agg'!$L:$L,\"in corso\",\n'Z0.6.a ProgInvest_Spesa agg'!$O:$O,\"vite utili 2\",\n'Z0.6.a ProgInvest_Spesa agg'!$P:$P,O$4)","v":0},{"$f":"-SUMIFS(\n'Z0.6.a ProgInvest_Spesa agg'!$S:$S,\n'Z0.6.a ProgInvest_Spesa agg'!$K:$K,$C180,\n'Z0.6.a ProgInvest_Spesa agg'!$M:$M,$D$145,\n'Z0.6.a ProgInvest_Spesa agg'!$L:$L,\"in corso\",\n'Z0.6.a ProgInvest_Spesa agg'!$O:$O,\"vite utili 2\",\n'Z0.6.a ProgInvest_Spesa agg'!$P:$P,P$4)","v":0},{"$f":"-SUMIFS(\n'Z0.6.a ProgInvest_Spesa agg'!$S:$S,\n'Z0.6.a ProgInvest_Spesa agg'!$K:$K,$C180,\n'Z0.6.a ProgInvest_Spesa agg'!$M:$M,$D$145,\n'Z0.6.a ProgInvest_Spesa agg'!$L:$L,\"in corso\",\n'Z0.6.a ProgInvest_Spesa agg'!$O:$O,\"vite utili 2\",\n'Z0.6.a ProgInvest_Spesa agg'!$P:$P,Q$4)","v":0},{"$f":"-SUMIFS(\n'Z0.6.a ProgInvest_Spesa agg'!$S:$S,\n'Z0.6.a ProgInvest_Spesa agg'!$K:$K,$C180,\n'Z0.6.a ProgInvest_Spesa agg'!$M:$M,$D$145,\n'Z0.6.a ProgInvest_Spesa agg'!$L:$L,\"in corso\",\n'Z0.6.a ProgInvest_Spesa agg'!$O:$O,\"vite utili 2\",\n'Z0.6.a ProgInvest_Spesa agg'!$P:$P,R$4)","v":0},{"$f":"-SUMIFS(\n'Z0.6.a ProgInvest_Spesa agg'!$S:$S,\n'Z0.6.a ProgInvest_Spesa agg'!$K:$K,$C180,\n'Z0.6.a ProgInvest_Spesa agg'!$M:$M,$D$145,\n'Z0.6.a ProgInvest_Spesa agg'!$L:$L,\"in corso\",\n'Z0.6.a ProgInvest_Spesa agg'!$O:$O,\"vite utili 2\",\n'Z0.6.a ProgInvest_Spesa agg'!$P:$P,S$4)","v":0}]
[null,null,"LIC livello 2 - eop",null,null,{"$f":"OFFSET(INDIRECT($F180 & \"inv\"),-4,2+AnnoPonte-UltimoAnnoRTP,1,1)","v":0},{"$f":"G189+G190+G191","v":0},100,0,0,0,0,0,0,0,0,0,0,0]
[null,null,"Valore di subentro LIC",null,null,null,{"$f":"IF(G$4=ScadenzaConcessione,G192,0)","v":0},0,0,0,0,0,0,0,0,0,0,0,0]
[null,null,"Remunerazione LIC",null,null,null,{"$f":"G189*G$20*G$10","v":0},0,4.3499999999999996,0,0,0,0,0,0,0,0,0,0]
[]
[null,null,"CIN investimenti (lordo contributi e subentro, netto dismissioni) bop (amm. a vite utili)",null,"precedenti",null,{"$f":"F200","v":0},0,0,400,390,380,370,360,350,340,330,320,310]
[null,null,"Investimenti entrati in esercizio (amm.a vite utili)",null,{"$f":"SUM(OFFSET(INDIRECT($F180 & \"inv\"),0,3,1,IF(EsistePrev,AnnoPonte-UltimoAnnoRTP,1)))","v":0},null,{"$f":"-G184-G191","v":0},{"$f":"-H184-H191","v":0},400,0,0,0,0,0,0,0,0,0,0]
[null,null,"Dismissioni",null,{"$f":"-SUM(OFFSET(INDIRECT($F180&\"dism\"),0,3,1,IF(EsistePrev,AnnoPonte-UltimoAnnoRTP,1)))","v":0},null,{"$f":"SUMIFS(\n'Z0.6.c ProgInvest_Dism agg'!Z:Z,\n'Z0.6.c ProgInvest_Dism agg'!$K:$K,$C180,\n'Z0.6.c ProgInvest_Dism agg'!$M:$M,$D$145,\n'Z0.6.c ProgInvest_Dism agg'!$L:$L,\"in corso\",\n'Z0.6.c ProgInvest_Dism agg'!$O:$O,\"vite utili 1\")\n+SUMIFS(\n'Z0.6.c ProgInvest_Dism agg'!Z:Z,\n'Z0.6.c ProgInvest_Dism agg'!$K:$K,$C180,\n'Z0.6.c ProgInvest_Dism agg'!$M:$M,$D$145,\n'Z0.6.c ProgInvest_Dism agg'!$L:$L,\"in corso\",\n'Z0.6.c ProgInvest_Dism agg'!$O:$O,\"vite utili 2\")","v":0},{"$f":"SUMIFS(\n'Z0.6.c ProgInvest_Dism agg'!AA:AA,\n'Z0.6.c ProgInvest_Dism agg'!$K:$K,$C180,\n'Z0.6.c ProgInvest_Dism agg'!$M:$M,$D$145,\n'Z0.6.c ProgInvest_Dism agg'!$L:$L,\"in corso\",\n'Z0.6.c ProgInvest_Dism agg'!$O:$O,\"vite utili 1\")\n+SUMIFS(\n'Z0.6.c ProgInvest_Dism agg'!AA:AA,\n'Z0.6.c ProgInvest_Dism agg'!$K:$K,$C180,\n'Z0.6.c ProgInvest_Dism agg'!$M:$M,$D$145,\n'Z0.6.c ProgInvest_Dism agg'!$L:$L,\"in corso\",\n'Z0.6.c ProgInvest_Dism agg'!$O:$O,\"vite utili 2\")","v":0},{"$f":"SUMIFS(\n'Z0.6.c ProgInvest_Dism agg'!AB:AB,\n'Z0.6.c ProgInvest_Dism agg'!$K:$K,$C180,\n'Z0.6.c ProgInvest_Dism agg'!$M:$M,$D$145,\n'Z0.6.c ProgInvest_Dism agg'!$L:$L,\"in corso\",\n'Z0.6.c ProgInvest_Dism agg'!$O:$O,\"vite utili 1\")\n+SUMIFS(\n'Z0.6.c ProgInvest_Dism agg'!AB:AB,\n'Z0.6.c ProgInvest_Dism agg'!$K:$K,$C180,\n'Z0.6.c ProgInvest_Dism agg'!$M:$M,$D$145,\n'Z0.6.c ProgInvest_Dism agg'!$L:$L,\"in corso\",\n'Z0.6.c ProgInvest_Dism agg'!$O:$O,\"vite utili 2\")","v":0},{"$f":"SUMIFS(\n'Z0.6.c ProgInvest_Dism agg'!AC:AC,\n'Z0.6.c ProgInvest_Dism agg'!$K:$K,$C180,\n'Z0.6.c ProgInvest_Dism agg'!$M:$M,$D$145,\n'Z0.6.c ProgInvest_Dism agg'!$L:$L,\"in corso\",\n'Z0.6.c ProgInvest_Dism agg'!$O:$O,\"vite utili 1\")\n+SUMIFS(\n'Z0.6.c ProgInvest_Dism agg'!AC:AC,\n'Z0.6.c ProgInvest_Dism agg'!$K:$K,$C180,\n'Z0.6.c ProgInvest_Dism agg'!$M:$M,$D$145,\n'Z0.6.c ProgInvest_Dism agg'!$L:$L,\"in corso\",\n'Z0.6.c ProgInvest_Dism agg'!$O:$O,\"vite utili 2\")","v":0},{"$f":"SUMIFS(\n'Z0.6.c ProgInvest_Dism agg'!AD:AD,\n'Z0.6.c ProgInvest_Dism agg'!$K:$K,$C180,\n'Z0.6.c ProgInvest_Dism agg'!$M:$M,$D$145,\n'Z0.6.c ProgInvest_Dism agg'!$L:$L,\"in corso\",\n'Z0.6.c ProgInvest_Dism agg'!$O:$O,\"vite utili 1\")\n+SUMIFS(\n'Z0.6.c ProgInvest_Dism agg'!AD:AD,\n'Z0.6.c ProgInvest_Dism agg'!$K:$K,$C180,\n'Z0.6.c ProgInvest_Dism agg'!$M:$M,$D$145,\n'Z0.6.c ProgInvest_Dism agg'!$L:$L,\"in corso\",\n'Z0.6.c ProgInvest_Dism agg'!$O:$O,\"vite utili 2\")","v":0},{"$f":"SUMIFS(\n'Z0.6.c ProgInvest_Dism agg'!AE:AE,\n'Z0.6.c ProgInvest_Dism agg'!$K:$K,$C180,\n'Z0.6.c ProgInvest_Dism agg'!$M:$M,$D$145,\n'Z0.6.c ProgInvest_Dism agg'!$L:$L,\"in corso\",\n'Z0.6.c ProgInvest_Dism agg'!$O:$O,\"vite utili 1\")\n+SUMIFS(\n'Z0.6.c ProgInvest_Dism agg'!AE:AE,\n'Z0.6.c ProgInvest_Dism agg'!$K:$K,$C180,\n'Z0.6.c ProgInvest_Dism agg'!$M:$M,$D$145,\n'Z0.6.c ProgInvest_Dism agg'!$L:$L,\"in corso\",\n'Z0.6.c ProgInvest_Dism agg'!$O:$O,\"vite utili 2\")","v":0},{"$f":"SUMIFS(\n'Z0.6.c ProgInvest_Dism agg'!AF:AF,\n'Z0.6.c ProgInvest_Dism agg'!$K:$K,$C180,\n'Z0.6.c ProgInvest_Dism agg'!$M:$M,$D$145,\n'Z0.6.c ProgInvest_Dism agg'!$L:$L,\"in corso\",\n'Z0.6.c ProgInvest_Dism agg'!$O:$O,\"vite utili 1\")\n+SUMIFS(\n'Z0.6.c ProgInvest_Dism agg'!AF:AF,\n'Z0.6.c ProgInvest_Dism agg'!$K:$K,$C180,\n'Z0.6.c ProgInvest_Dism agg'!$M:$M,$D$145,\n'Z0.6.c ProgInvest_Dism agg'!$L:$L,\"in corso\",\n'Z0.6.c ProgInvest_Dism agg'!$O:$O,\"vite utili 2\")","v":0},{"$f":"SUMIFS(\n'Z0.6.c ProgInvest_Dism agg'!AG:AG,\n'Z0.6.c ProgInvest_Dism agg'!$K:$K,$C180,\n'Z0.6.c ProgInvest_Dism agg'!$M:$M,$D$145,\n'Z0.6.c ProgInvest_Dism agg'!$L:$L,\"in corso\",\n'Z0.6.c ProgInvest_Dism agg'!$O:$O,\"vite utili 1\")\n+SUMIFS(\n'Z0.6.c ProgInvest_Dism agg'!AG:AG,\n'Z0.6.c ProgInvest_Dism agg'!$K:$K,$C180,\n'Z0.6.c ProgInvest_Dism agg'!$M:$M,$D$145,\n'Z0.6.c ProgInvest_Dism agg'!$L:$L,\"in corso\",\n'Z0.6.c ProgInvest_Dism agg'!$O:$O,\"vite utili 2\")","v":0},{"$f":"SUMIFS(\n'Z0.6.c ProgInvest_Dism agg'!AH:AH,\n'Z0.6.c ProgInvest_Dism agg'!$K:$K,$C180,\n'Z0.6.c ProgInvest_Dism agg'!$M:$M,$D$145,\n'Z0.6.c ProgInvest_Dism agg'!$L:$L,\"in corso\",\n'Z0.6.c ProgInvest_Dism agg'!$O:$O,\"vite utili 1\")\n+SUMIFS(\n'Z0.6.c ProgInvest_Dism agg'!AH:AH,\n'Z0.6.c ProgInvest_Dism agg'!$K:$K,$C180,\n'Z0.6.c ProgInvest_Dism agg'!$M:$M,$D$145,\n'Z0.6.c ProgInvest_Dism agg'!$L:$L,\"in corso\",\n'Z0.6.c ProgInvest_Dism agg'!$O:$O,\"vite utili 2\")","v":0},{"$f":"SUMIFS(\n'Z0.6.c ProgInvest_Dism agg'!AI:AI,\n'Z0.6.c ProgInvest_Dism agg'!$K:$K,$C180,\n'Z0.6.c ProgInvest_Dism agg'!$M:$M,$D$145,\n'Z0.6.c ProgInvest_Dism agg'!$L:$L,\"in corso\",\n'Z0.6.c ProgInvest_Dism agg'!$O:$O,\"vite utili 1\")\n+SUMIFS(\n'Z0.6.c ProgInvest_Dism agg'!AI:AI,\n'Z0.6.c ProgInvest_Dism agg'!$K:$K,$C180,\n'Z0.6.c ProgInvest_Dism agg'!$M:$M,$D$145,\n'Z0.6.c ProgInvest_Dism agg'!$L:$L,\"in corso\",\n'Z0.6.c ProgInvest_Dism agg'!$O:$O,\"vite utili 2\")","v":0},{"$f":"SUMIFS(\n'Z0.6.c ProgInvest_Dism agg'!AJ:AJ,\n'Z0.6.c ProgInvest_Dism agg'!$K:$K,$C180,\n'Z0.6.c ProgInvest_Dism agg'!$M:$M,$D$145,\n'Z0.6.c ProgInvest_Dism agg'!$L:$L,\"in corso\",\n'Z0.6.c ProgInvest_Dism agg'!$O:$O,\"vite utili 1\")\n+SUMIFS(\n'Z0.6.c ProgInvest_Dism agg'!AJ:AJ,\n'Z0.6.c ProgInvest_Dism agg'!$K:$K,$C180,\n'Z0.6.c ProgInvest_Dism agg'!$M:$M,$D$145,\n'Z0.6.c ProgInvest_Dism agg'!$L:$L,\"in corso\",\n'Z0.6.c ProgInvest_Dism agg'!$O:$O,\"vite utili 2\")","v":0},{"$f":"SUMIFS(\n'Z0.6.c ProgInvest_Dism agg'!AK:AK,\n'Z0.6.c ProgInvest_Dism agg'!$K:$K,$C180,\n'Z0.6.c ProgInvest_Dism agg'!$M:$M,$D$145,\n'Z0.6.c ProgInvest_Dism agg'!$L:$L,\"in corso\",\n'Z0.6.c ProgInvest_Dism agg'!$O:$O,\"vite utili 1\")\n+SUMIFS(\n'Z0.6.c ProgInvest_Dism agg'!AK:AK,\n'Z0.6.c ProgInvest_Dism agg'!$K:$K,$C180,\n'Z0.6.c ProgInvest_Dism agg'!$M:$M,$D$145,\n'Z0.6.c ProgInvest_Dism agg'!$L:$L,\"in corso\",\n'Z0.6.c ProgInvest_Dism agg'!$O:$O,\"vite utili 2\")","v":0},{"$f":"SUMIFS(\n'Z0.6.c ProgInvest_Dism agg'!AL:AL,\n'Z0.6.c ProgInvest_Dism agg'!$K:$K,$C180,\n'Z0.6.c ProgInvest_Dism agg'!$M:$M,$D$145,\n'Z0.6.c ProgInvest_Dism agg'!$L:$L,\"in corso\",\n'Z0.6.c ProgInvest_Dism agg'!$O:$O,\"vite utili 1\")\n+SUMIFS(\n'Z0.6.c ProgInvest_Dism agg'!AL:AL,\n'Z0.6.c ProgInvest_Dism agg'!$K:$K,$C180,\n'Z0.6.c ProgInvest_Dism agg'!$M:$M,$D$145,\n'Z0.6.c ProgInvest_Dism agg'!$L:$L,\"in corso\",\n'Z0.6.c ProgInvest_Dism agg'!$O:$O,\"vite utili 2\")","v":20}]
[null,null,"Ammortamento (a vite utili)",null,{"$f":"SUM(OFFSET(INDIRECT($F180 & \"inv\"),2,3,1,IF(EsistePrev,AnnoPonte-UltimoAnnoRTP,1)))","v":0},null,{"$f":"MIN(G196,IF(F$4-UltimoAnnoRTP<=$D180,\n(SUM($F197:F197)+SUM(OFFSET(INDIRECT($F180 & \"inv\"),0,3,1,IF(EsistePrev,AnnoPonte-UltimoAnnoRTP,1)))\n-SUM($F198:F198)-SUM(OFFSET(INDIRECT($F180 & \"dism\"),0,3,1,IF(EsistePrev,AnnoPonte-UltimoAnnoRTP,1))))/$D180,\n\nIF(AND(F$4-UltimoAnnoRTP>$D180,F$4-AnnoPonte<=$D180),\n(SUM($F197:F197)+SUM(IFERROR(OFFSET(INDIRECT($F180 & \"inv\"),0,3+(F$4-UltimoAnnoRTP-$D180),1,(IF(EsistePrev,AnnoPonte-UltimoAnnoRTP,1)-(F$4-UltimoAnnoRTP-$D180))),0))\n-SUM($F198:F198)-SUM(IFERROR(OFFSET(INDIRECT($F180 & \"dism\"),0,3+(F$4-UltimoAnnoRTP-$D180),1,(IF(EsistePrev,AnnoPonte-UltimoAnnoRTP,1)-(F$4-UltimoAnnoRTP-$D180))),0)))/$D180,\n\n(SUM(OFFSET(F197,0,-$D180+1,1,$D180))\n-SUM(OFFSET(F198,0,-$D180+1,1,$D180)))/$D180)))","v":0},{"$f":"MIN(H196,IF(G$4-UltimoAnnoRTP<=$D180,\n(SUM($F197:G197)+SUM(OFFSET(INDIRECT($F180 & \"inv\"),0,3,1,IF(EsistePrev,AnnoPonte-UltimoAnnoRTP,1)))\n-SUM($F198:G198)-SUM(OFFSET(INDIRECT($F180 & \"dism\"),0,3,1,IF(EsistePrev,AnnoPonte-UltimoAnnoRTP,1))))/$D180,\n\nIF(AND(G$4-UltimoAnnoRTP>$D180,G$4-AnnoPonte<=$D180),\n(SUM($F197:G197)+SUM(IFERROR(OFFSET(INDIRECT($F180 & \"inv\"),0,3+(G$4-UltimoAnnoRTP-$D180),1,(IF(EsistePrev,AnnoPonte-UltimoAnnoRTP,1)-(G$4-UltimoAnnoRTP-$D180))),0))\n-SUM($F198:G198)-SUM(IFERROR(OFFSET(INDIRECT($F180 & \"dism\"),0,3+(G$4-UltimoAnnoRTP-$D180),1,(IF(EsistePrev,AnnoPonte-UltimoAnnoRTP,1)-(G$4-UltimoAnnoRTP-$D180))),0)))/$D180,\n\n(SUM(OFFSET(G197,0,-$D180+1,1,$D180))\n-SUM(OFFSET(G198,0,-$D180+1,1,$D180)))/$D180)))","v":0},{"$f":"MIN(I196,IF(H$4-UltimoAnnoRTP<=$D180,\n(SUM($F197:H197)+SUM(OFFSET(INDIRECT($F180 & \"inv\"),0,3,1,IF(EsistePrev,AnnoPonte-UltimoAnnoRTP,1)))\n-SUM($F198:H198)-SUM(OFFSET(INDIRECT($F180 & \"dism\"),0,3,1,IF(EsistePrev,AnnoPonte-UltimoAnnoRTP,1))))/$D180,\n\nIF(AND(H$4-UltimoAnnoRTP>$D180,H$4-AnnoPonte<=$D180),\n(SUM($F197:H197)+SUM(IFERROR(OFFSET(INDIRECT($F180 & \"inv\"),0,3+(H$4-UltimoAnnoRTP-$D180),1,(IF(EsistePrev,AnnoPonte-UltimoAnnoRTP,1)-(H$4-UltimoAnnoRTP-$D180))),0))\n-SUM($F198:H198)-SUM(IFERROR(OFFSET(INDIRECT($F180 & \"dism\"),0,3+(H$4-UltimoAnnoRTP-$D180),1,(IF(EsistePrev,AnnoPonte-UltimoAnnoRTP,1)-(H$4-UltimoAnnoRTP-$D180))),0)))/$D180,\n\n(SUM(OFFSET(H197,0,-$D180+1,1,$D180))\n-SUM(OFFSET(H198,0,-$D180+1,1,$D180)))/$D180)))","v":0},{"$f":"MIN(J196,IF(I$4-UltimoAnnoRTP<=$D180,\n(SUM($F197:I197)+SUM(OFFSET(INDIRECT($F180 & \"inv\"),0,3,1,IF(EsistePrev,AnnoPonte-UltimoAnnoRTP,1)))\n-SUM($F198:I198)-SUM(OFFSET(INDIRECT($F180 & \"dism\"),0,3,1,IF(EsistePrev,AnnoPonte-UltimoAnnoRTP,1))))/$D180,\n\nIF(AND(I$4-UltimoAnnoRTP>$D180,I$4-AnnoPonte<=$D180),\n(SUM($F197:I197)+SUM(IFERROR(OFFSET(INDIRECT($F180 & \"inv\"),0,3+(I$4-UltimoAnnoRTP-$D180),1,(IF(EsistePrev,AnnoPonte-UltimoAnnoRTP,1)-(I$4-UltimoAnnoRTP-$D180))),0))\n-SUM($F198:I198)-SUM(IFERROR(OFFSET(INDIRECT($F180 & \"dism\"),0,3+(I$4-UltimoAnnoRTP-$D180),1,(IF(EsistePrev,AnnoPonte-UltimoAnnoRTP,1)-(I$4-UltimoAnnoRTP-$D180))),0)))/$D180,\n\n(SUM(OFFSET(I197,0,-$D180+1,1,$D180))\n-SUM(OFFSET(I198,0,-$D180+1,1,$D180)))/$D180)))","v":10},{"$f":"MIN(K196,IF(J$4-UltimoAnnoRTP<=$D180,\n(SUM($F197:J197)+SUM(OFFSET(INDIRECT($F180 & \"inv\"),0,3,1,IF(EsistePrev,AnnoPonte-UltimoAnnoRTP,1)))\n-SUM($F198:J198)-SUM(OFFSET(INDIRECT($F180 & \"dism\"),0,3,1,IF(EsistePrev,AnnoPonte-UltimoAnnoRTP,1))))/$D180,\n\nIF(AND(J$4-UltimoAnnoRTP>$D180,J$4-AnnoPonte<=$D180),\n(SUM($F197:J197)+SUM(IFERROR(OFFSET(INDIRECT($F180 & \"inv\"),0,3+(J$4-UltimoAnnoRTP-$D180),1,(IF(EsistePrev,AnnoPonte-UltimoAnnoRTP,1)-(J$4-UltimoAnnoRTP-$D180))),0))\n-SUM($F198:J198)-SUM(IFERROR(OFFSET(INDIRECT($F180 & \"dism\"),0,3+(J$4-UltimoAnnoRTP-$D180),1,(IF(EsistePrev,AnnoPonte-UltimoAnnoRTP,1)-(J$4-UltimoAnnoRTP-$D180))),0)))/$D180,\n\n(SUM(OFFSET(J197,0,-$D180+1,1,$D180))\n-SUM(OFFSET(J198,0,-$D180+1,1,$D180)))/$D180)))","v":10},{"$f":"MIN(L196,IF(K$4-UltimoAnnoRTP<=$D180,\n(SUM($F197:K197)+SUM(OFFSET(INDIRECT($F180 & \"inv\"),0,3,1,IF(EsistePrev,AnnoPonte-UltimoAnnoRTP,1)))\n-SUM($F198:K198)-SUM(OFFSET(INDIRECT($F180 & \"dism\"),0,3,1,IF(EsistePrev,AnnoPonte-UltimoAnnoRTP,1))))/$D180,\n\nIF(AND(K$4-UltimoAnnoRTP>$D180,K$4-AnnoPonte<=$D180),\n(SUM($F197:K197)+SUM(IFERROR(OFFSET(INDIRECT($F180 & \"inv\"),0,3+(K$4-UltimoAnnoRTP-$D180),1,(IF(EsistePrev,AnnoPonte-UltimoAnnoRTP,1)-(K$4-UltimoAnnoRTP-$D180))),0))\n-SUM($F198:K198)-SUM(IFERROR(OFFSET(INDIRECT($F180 & \"dism\"),0,3+(K$4-UltimoAnnoRTP-$D180),1,(IF(EsistePrev,AnnoPonte-UltimoAnnoRTP,1)-(K$4-UltimoAnnoRTP-$D180))),0)))/$D180,\n\n(SUM(OFFSET(K197,0,-$D180+1,1,$D180))\n-SUM(OFFSET(K198,0,-$D180+1,1,$D180)))/$D180)))","v":10},{"$f":"MIN(M196,IF(L$4-UltimoAnnoRTP<=$D180,\n(SUM($F197:L197)+SUM(OFFSET(INDIRECT($F180 & \"inv\"),0,3,1,IF(EsistePrev,AnnoPonte-UltimoAnnoRTP,1)))\n-SUM($F198:L198)-SUM(OFFSET(INDIRECT($F180 & \"dism\"),0,3,1,IF(EsistePrev,AnnoPonte-UltimoAnnoRTP,1))))/$D180,\n\nIF(AND(L$4-UltimoAnnoRTP>$D180,L$4-AnnoPonte<=$D180),\n(SUM($F197:L197)+SUM(IFERROR(OFFSET(INDIRECT($F180 & \"inv\"),0,3+(L$4-UltimoAnnoRTP-$D180),1,(IF(EsistePrev,AnnoPonte-UltimoAnnoRTP,1)-(L$4-UltimoAnnoRTP-$D180))),0))\n-SUM($F198:L198)-SUM(IFERROR(OFFSET(INDIRECT($F180 & \"dism\"),0,3+(L$4-UltimoAnnoRTP-$D180),1,(IF(EsistePrev,AnnoPonte-UltimoAnnoRTP,1)-(L$4-UltimoAnnoRTP-$D180))),0)))/$D180,\n\n(SUM(OFFSET(L197,0,-$D180+1,1,$D180))\n-SUM(OFFSET(L198,0,-$D180+1,1,$D180)))/$D180)))","v":10},{"$f":"MIN(N196,IF(M$4-UltimoAnnoRTP<=$D180,\n(SUM($F197:M197)+SUM(OFFSET(INDIRECT($F180 & \"inv\"),0,3,1,IF(EsistePrev,AnnoPonte-UltimoAnnoRTP,1)))\n-SUM($F198:M198)-SUM(OFFSET(INDIRECT($F180 & \"dism\"),0,3,1,IF(EsistePrev,AnnoPonte-UltimoAnnoRTP,1))))/$D180,\n\nIF(AND(M$4-UltimoAnnoRTP>$D180,M$4-AnnoPonte<=$D180),\n(SUM($F197:M197)+SUM(IFERROR(OFFSET(INDIRECT($F180 & \"inv\"),0,3+(M$4-UltimoAnnoRTP-$D180),1,(IF(EsistePrev,AnnoPonte-UltimoAnnoRTP,1)-(M$4-UltimoAnnoRTP-$D180))),0))\n-SUM($F198:M198)-SUM(IFERROR(OFFSET(INDIRECT($F180 & \"dism\"),0,3+(M$4-UltimoAnnoRTP-$D180),1,(IF(EsistePrev,AnnoPonte-UltimoAnnoRTP,1)-(M$4-UltimoAnnoRTP-$D180))),0)))/$D180,\n\n(SUM(OFFSET(M197,0,-$D180+1,1,$D180))\n-SUM(OFFSET(M198,0,-$D180+1,1,$D180)))/$D180)))","v":10},{"$f":"MIN(O196,IF(N$4-UltimoAnnoRTP<=$D180,\n(SUM($F197:N197)+SUM(OFFSET(INDIRECT($F180 & \"inv\"),0,3,1,IF(EsistePrev,AnnoPonte-UltimoAnnoRTP,1)))\n-SUM($F198:N198)-SUM(OFFSET(INDIRECT($F180 & \"dism\"),0,3,1,IF(EsistePrev,AnnoPonte-UltimoAnnoRTP,1))))/$D180,\n\nIF(AND(N$4-UltimoAnnoRTP>$D180,N$4-AnnoPonte<=$D180),\n(SUM($F197:N197)+SUM(IFERROR(OFFSET(INDIRECT($F180 & \"inv\"),0,3+(N$4-UltimoAnnoRTP-$D180),1,(IF(EsistePrev,AnnoPonte-UltimoAnnoRTP,1)-(N$4-UltimoAnnoRTP-$D180))),0))\n-SUM($F198:N198)-SUM(IFERROR(OFFSET(INDIRECT($F180 & \"dism\"),0,3+(N$4-UltimoAnnoRTP-$D180),1,(IF(EsistePrev,AnnoPonte-UltimoAnnoRTP,1)-(N$4-UltimoAnnoRTP-$D180))),0)))/$D180,\n\n(SUM(OFFSET(N197,0,-$D180+1,1,$D180))\n-SUM(OFFSET(N198,0,-$D180+1,1,$D180)))/$D180)))","v":10},{"$f":"MIN(P196,IF(O$4-UltimoAnnoRTP<=$D180,\n(SUM($F197:O197)+SUM(OFFSET(INDIRECT($F180 & \"inv\"),0,3,1,IF(EsistePrev,AnnoPonte-UltimoAnnoRTP,1)))\n-SUM($F198:O198)-SUM(OFFSET(INDIRECT($F180 & \"dism\"),0,3,1,IF(EsistePrev,AnnoPonte-UltimoAnnoRTP,1))))/$D180,\n\nIF(AND(O$4-UltimoAnnoRTP>$D180,O$4-AnnoPonte<=$D180),\n(SUM($F197:O197)+SUM(IFERROR(OFFSET(INDIRECT($F180 & \"inv\"),0,3+(O$4-UltimoAnnoRTP-$D180),1,(IF(EsistePrev,AnnoPonte-UltimoAnnoRTP,1)-(O$4-UltimoAnnoRTP-$D180))),0))\n-SUM($F198:O198)-SUM(IFERROR(OFFSET(INDIRECT($F180 & \"dism\"),0,3+(O$4-UltimoAnnoRTP-$D180),1,(IF(EsistePrev,AnnoPonte-UltimoAnnoRTP,1)-(O$4-UltimoAnnoRTP-$D180))),0)))/$D180,\n\n(SUM(OFFSET(O197,0,-$D180+1,1,$D180))\n-SUM(OFFSET(O198,0,-$D180+1,1,$D180)))/$D180)))","v":10},{"$f":"MIN(Q196,IF(P$4-UltimoAnnoRTP<=$D180,\n(SUM($F197:P197)+SUM(OFFSET(INDIRECT($F180 & \"inv\"),0,3,1,IF(EsistePrev,AnnoPonte-UltimoAnnoRTP,1)))\n-SUM($F198:P198)-SUM(OFFSET(INDIRECT($F180 & \"dism\"),0,3,1,IF(EsistePrev,AnnoPonte-UltimoAnnoRTP,1))))/$D180,\n\nIF(AND(P$4-UltimoAnnoRTP>$D180,P$4-AnnoPonte<=$D180),\n(SUM($F197:P197)+SUM(IFERROR(OFFSET(INDIRECT($F180 & \"inv\"),0,3+(P$4-UltimoAnnoRTP-$D180),1,(IF(EsistePrev,AnnoPonte-UltimoAnnoRTP,1)-(P$4-UltimoAnnoRTP-$D180))),0))\n-SUM($F198:P198)-SUM(IFERROR(OFFSET(INDIRECT($F180 & \"dism\"),0,3+(P$4-UltimoAnnoRTP-$D180),1,(IF(EsistePrev,AnnoPonte-UltimoAnnoRTP,1)-(P$4-UltimoAnnoRTP-$D180))),0)))/$D180,\n\n(SUM(OFFSET(P197,0,-$D180+1,1,$D180))\n-SUM(OFFSET(P198,0,-$D180+1,1,$D180)))/$D180)))","v":10},{"$f":"MIN(R196,IF(Q$4-UltimoAnnoRTP<=$D180,\n(SUM($F197:Q197)+SUM(OFFSET(INDIRECT($F180 & \"inv\"),0,3,1,IF(EsistePrev,AnnoPonte-UltimoAnnoRTP,1)))\n-SUM($F198:Q198)-SUM(OFFSET(INDIRECT($F180 & \"dism\"),0,3,1,IF(EsistePrev,AnnoPonte-UltimoAnnoRTP,1))))/$D180,\n\nIF(AND(Q$4-UltimoAnnoRTP>$D180,Q$4-AnnoPonte<=$D180),\n(SUM($F197:Q197)+SUM(IFERROR(OFFSET(INDIRECT($F180 & \"inv\"),0,3+(Q$4-UltimoAnnoRTP-$D180),1,(IF(EsistePrev,AnnoPonte-UltimoAnnoRTP,1)-(Q$4-UltimoAnnoRTP-$D180))),0))\n-SUM($F198:Q198)-SUM(IFERROR(OFFSET(INDIRECT($F180 & \"dism\"),0,3+(Q$4-UltimoAnnoRTP-$D180),1,(IF(EsistePrev,AnnoPonte-UltimoAnnoRTP,1)-(Q$4-UltimoAnnoRTP-$D180))),0)))/$D180,\n\n(SUM(OFFSET(Q197,0,-$D180+1,1,$D180))\n-SUM(OFFSET(Q198,0,-$D180+1,1,$D180)))/$D180)))","v":10},{"$f":"MIN(S196,IF(R$4-UltimoAnnoRTP<=$D180,\n(SUM($F197:R197)+SUM(OFFSET(INDIRECT($F180 & \"inv\"),0,3,1,IF(EsistePrev,AnnoPonte-UltimoAnnoRTP,1)))\n-SUM($F198:R198)-SUM(OFFSET(INDIRECT($F180 & \"dism\"),0,3,1,IF(EsistePrev,AnnoPonte-UltimoAnnoRTP,1))))/$D180,\n\nIF(AND(R$4-UltimoAnnoRTP>$D180,R$4-AnnoPonte<=$D180),\n(SUM($F197:R197)+SUM(IFERROR(OFFSET(INDIRECT($F180 & \"inv\"),0,3+(R$4-UltimoAnnoRTP-$D180),1,(IF(EsistePrev,AnnoPonte-UltimoAnnoRTP,1)-(R$4-UltimoAnnoRTP-$D180))),0))\n-SUM($F198:R198)-SUM(IFERROR(OFFSET(INDIRECT($F180 & \"dism\"),0,3+(R$4-UltimoAnnoRTP-$D180),1,(IF(EsistePrev,AnnoPonte-UltimoAnnoRTP,1)-(R$4-UltimoAnnoRTP-$D180))),0)))/$D180,\n\n(SUM(OFFSET(R197,0,-$D180+1,1,$D180))\n-SUM(OFFSET(R198,0,-$D180+1,1,$D180)))/$D180)))","v":10}]
[null,null,"CIN investimenti (lordo contributi, netto dismissioni) eop (amm. a vite utili)",null,null,{"$f":"OFFSET(INDIRECT($F180 & \"inv\"),3,2+AnnoPonte-UltimoAnnoRTP,1,1)","v":0},{"$f":"G196+G197-G198-G199","v":0},{"$f":"H196+H197-H198-H199","v":0},400,390,380,370,360,350,340,330,320,310,280]
[null,null,"Remunerazione CIN investimenti",null,null,null,{"$f":"(G196-F202)*G$17*G$10","v":0},0,0,7.51,6.7590000000000003,6.008,5.2569999999999997,4.5060000000000002,3.7549999999999999,3.004,2.2530000000000001,1.502,0.751]
[null,null,"Valore di subentro investimenti (lordo contributi) - cumulato",null,null,{"$f":"OFFSET(INDIRECT($F180 & \"inv\"),5,2+AnnoPonte-UltimoAnnoRTP,1,1)","v":0},{"$f":"IF(MAX(-SUM(OFFSET($G198,0,0,1,ScadenzaConcessione-AnnoPonte)),F202+(G197-G198)/$D180*($D180-(ScadenzaConcessione-G$4)))<0,0,MAX(-SUM(OFFSET($G198,0,0,1,ScadenzaConcessione-AnnoPonte)),F202+(G197-G198)/$D180*($D180-(ScadenzaConcessione-G$4))))","v":0},0,300,300,300,300,300,300,300,300,300,300,280]
[null,null,"Remunerazione valore di subentro CIN investimenti",null,null,null,{"$f":"F202*G$19*G$10","v":0},{"$f":"G202*H$19*H$10","v":0},0,22.53,22.53,22.53,22.53,22.53,22.53,22.53,22.53,22.53,22.53]
[]
[null,null,"CIN contributi bop (amm. a vite utili)",null,"precedenti",null,{"$f":"F208","v":0},0,-40,-39,-38,-37,-36,-35,-34,-33,-32,-31,-30]
[null,null,"contributi annui (amm. a vite utili)",null,{"$f":"-SUM(OFFSET(INDIRECT($F180 & \"contr\"),0,3,1,IF(EsistePrev,AnnoPonte-UltimoAnnoRTP,1)))","v":0},null,{"$f":"-SUMIFS(\n'Z0.6.b ProgInvest_Contr agg'!Z:Z,\n'Z0.6.b ProgInvest_Contr agg'!$K:$K,$C180,\n'Z0.6.b ProgInvest_Contr agg'!$M:$M,$D$145,\n'Z0.6.b ProgInvest_Contr agg'!$L:$L,\"in corso\",\n'Z0.6.b ProgInvest_Contr agg'!$O:$O,\"vite utili 1\")\n-SUMIFS(\n'Z0.6.b ProgInvest_Contr agg'!Z:Z,\n'Z0.6.b ProgInvest_Contr agg'!$K:$K,$C180,\n'Z0.6.b ProgInvest_Contr agg'!$M:$M,$D$145,\n'Z0.6.b ProgInvest_Contr agg'!$L:$L,\"in corso\",\n'Z0.6.b ProgInvest_Contr agg'!$O:$O,\"vite utili 2\")","v":0},{"$f":"-SUMIFS(\n'Z0.6.b ProgInvest_Contr agg'!AA:AA,\n'Z0.6.b ProgInvest_Contr agg'!$K:$K,$C180,\n'Z0.6.b ProgInvest_Contr agg'!$M:$M,$D$145,\n'Z0.6.b ProgInvest_Contr agg'!$L:$L,\"in corso\",\n'Z0.6.b ProgInvest_Contr agg'!$O:$O,\"vite utili 1\")\n-SUMIFS(\n'Z0.6.b ProgInvest_Contr agg'!AA:AA,\n'Z0.6.b ProgInvest_Contr agg'!$K:$K,$C180,\n'Z0.6.b ProgInvest_Contr agg'!$M:$M,$D$145,\n'Z0.6.b ProgInvest_Contr agg'!$L:$L,\"in corso\",\n'Z0.6.b ProgInvest_Contr agg'!$O:$O,\"vite utili 2\")","v":-40},{"$f":"-SUMIFS(\n'Z0.6.b ProgInvest_Contr agg'!AB:AB,\n'Z0.6.b ProgInvest_Contr agg'!$K:$K,$C180,\n'Z0.6.b ProgInvest_Contr agg'!$M:$M,$D$145,\n'Z0.6.b ProgInvest_Contr agg'!$L:$L,\"in corso\",\n'Z0.6.b ProgInvest_Contr agg'!$O:$O,\"vite utili 1\")\n-SUMIFS(\n'Z0.6.b ProgInvest_Contr agg'!AB:AB,\n'Z0.6.b ProgInvest_Contr agg'!$K:$K,$C180,\n'Z0.6.b ProgInvest_Contr agg'!$M:$M,$D$145,\n'Z0.6.b ProgInvest_Contr agg'!$L:$L,\"in corso\",\n'Z0.6.b ProgInvest_Contr agg'!$O:$O,\"vite utili 2\")","v":0},{"$f":"-SUMIFS(\n'Z0.6.b ProgInvest_Contr agg'!AC:AC,\n'Z0.6.b ProgInvest_Contr agg'!$K:$K,$C180,\n'Z0.6.b ProgInvest_Contr agg'!$M:$M,$D$145,\n'Z0.6.b ProgInvest_Contr agg'!$L:$L,\"in corso\",\n'Z0.6.b ProgInvest_Contr agg'!$O:$O,\"vite utili 1\")\n-SUMIFS(\n'Z0.6.b ProgInvest_Contr agg'!AC:AC,\n'Z0.6.b ProgInvest_Contr agg'!$K:$K,$C180,\n'Z0.6.b ProgInvest_Contr agg'!$M:$M,$D$145,\n'Z0.6.b ProgInvest_Contr agg'!$L:$L,\"in corso\",\n'Z0.6.b ProgInvest_Contr agg'!$O:$O,\"vite utili 2\")","v":0},{"$f":"-SUMIFS(\n'Z0.6.b ProgInvest_Contr agg'!AD:AD,\n'Z0.6.b ProgInvest_Contr agg'!$K:$K,$C180,\n'Z0.6.b ProgInvest_Contr agg'!$M:$M,$D$145,\n'Z0.6.b ProgInvest_Contr agg'!$L:$L,\"in corso\",\n'Z0.6.b ProgInvest_Contr agg'!$O:$O,\"vite utili 1\")\n-SUMIFS(\n'Z0.6.b ProgInvest_Contr agg'!AD:AD,\n'Z0.6.b ProgInvest_Contr agg'!$K:$K,$C180,\n'Z0.6.b ProgInvest_Contr agg'!$M:$M,$D$145,\n'Z0.6.b ProgInvest_Contr agg'!$L:$L,\"in corso\",\n'Z0.6.b ProgInvest_Contr agg'!$O:$O,\"vite utili 2\")","v":0},{"$f":"-SUMIFS(\n'Z0.6.b ProgInvest_Contr agg'!AE:AE,\n'Z0.6.b ProgInvest_Contr agg'!$K:$K,$C180,\n'Z0.6.b ProgInvest_Contr agg'!$M:$M,$D$145,\n'Z0.6.b ProgInvest_Contr agg'!$L:$L,\"in corso\",\n'Z0.6.b ProgInvest_Contr agg'!$O:$O,\"vite utili 1\")\n-SUMIFS(\n'Z0.6.b ProgInvest_Contr agg'!AE:AE,\n'Z0.6.b ProgInvest_Contr agg'!$K:$K,$C180,\n'Z0.6.b ProgInvest_Contr agg'!$M:$M,$D$145,\n'Z0.6.b ProgInvest_Contr agg'!$L:$L,\"in corso\",\n'Z0.6.b ProgInvest_Contr agg'!$O:$O,\"vite utili 2\")","v":0},{"$f":"-SUMIFS(\n'Z0.6.b ProgInvest_Contr agg'!AF:AF,\n'Z0.6.b ProgInvest_Contr agg'!$K:$K,$C180,\n'Z0.6.b ProgInvest_Contr agg'!$M:$M,$D$145,\n'Z0.6.b ProgInvest_Contr agg'!$L:$L,\"in corso\",\n'Z0.6.b ProgInvest_Contr agg'!$O:$O,\"vite utili 1\")\n-SUMIFS(\n'Z0.6.b ProgInvest_Contr agg'!AF:AF,\n'Z0.6.b ProgInvest_Contr agg'!$K:$K,$C180,\n'Z0.6.b ProgInvest_Contr agg'!$M:$M,$D$145,\n'Z0.6.b ProgInvest_Contr agg'!$L:$L,\"in corso\",\n'Z0.6.b ProgInvest_Contr agg'!$O:$O,\"vite utili 2\")","v":0},{"$f":"-SUMIFS(\n'Z0.6.b ProgInvest_Contr agg'!AG:AG,\n'Z0.6.b ProgInvest_Contr agg'!$K:$K,$C180,\n'Z0.6.b ProgInvest_Contr agg'!$M:$M,$D$145,\n'Z0.6.b ProgInvest_Contr agg'!$L:$L,\"in corso\",\n'Z0.6.b ProgInvest_Contr agg'!$O:$O,\"vite utili 1\")\n-SUMIFS(\n'Z0.6.b ProgInvest_Contr agg'!AG:AG,\n'Z0.6.b ProgInvest_Contr agg'!$K:$K,$C180,\n'Z0.6.b ProgInvest_Contr agg'!$M:$M,$D$145,\n'Z0.6.b ProgInvest_Contr agg'!$L:$L,\"in corso\",\n'Z0.6.b ProgInvest_Contr agg'!$O:$O,\"vite utili 2\")","v":0},{"$f":"-SUMIFS(\n'Z0.6.b ProgInvest_Contr agg'!AH:AH,\n'Z0.6.b ProgInvest_Contr agg'!$K:$K,$C180,\n'Z0.6.b ProgInvest_Contr agg'!$M:$M,$D$145,\n'Z0.6.b ProgInvest_Contr agg'!$L:$L,\"in corso\",\n'Z0.6.b ProgInvest_Contr agg'!$O:$O,\"vite utili 1\")\n-SUMIFS(\n'Z0.6.b ProgInvest_Contr agg'!AH:AH,\n'Z0.6.b ProgInvest_Contr agg'!$K:$K,$C180,\n'Z0.6.b ProgInvest_Contr agg'!$M:$M,$D$145,\n'Z0.6.b ProgInvest_Contr agg'!$L:$L,\"in corso\",\n'Z0.6.b ProgInvest_Contr agg'!$O:$O,\"vite utili 2\")","v":0},{"$f":"-SUMIFS(\n'Z0.6.b ProgInvest_Contr agg'!AI:AI,\n'Z0.6.b ProgInvest_Contr agg'!$K:$K,$C180,\n'Z0.6.b ProgInvest_Contr agg'!$M:$M,$D$145,\n'Z0.6.b ProgInvest_Contr agg'!$L:$L,\"in corso\",\n'Z0.6.b ProgInvest_Contr agg'!$O:$O,\"vite utili 1\")\n-SUMIFS(\n'Z0.6.b ProgInvest_Contr agg'!AI:AI,\n'Z0.6.b ProgInvest_Contr agg'!$K:$K,$C180,\n'Z0.6.b ProgInvest_Contr agg'!$M:$M,$D$145,\n'Z0.6.b ProgInvest_Contr agg'!$L:$L,\"in corso\",\n'Z0.6.b ProgInvest_Contr agg'!$O:$O,\"vite utili 2\")","v":0},{"$f":"-SUMIFS(\n'Z0.6.b ProgInvest_Contr agg'!AJ:AJ,\n'Z0.6.b ProgInvest_Contr agg'!$K:$K,$C180,\n'Z0.6.b ProgInvest_Contr agg'!$M:$M,$D$145,\n'Z0.6.b ProgInvest_Contr agg'!$L:$L,\"in corso\",\n'Z0.6.b ProgInvest_Contr agg'!$O:$O,\"vite utili 1\")\n-SUMIFS(\n'Z0.6.b ProgInvest_Contr agg'!AJ:AJ,\n'Z0.6.b ProgInvest_Contr agg'!$K:$K,$C180,\n'Z0.6.b ProgInvest_Contr agg'!$M:$M,$D$145,\n'Z0.6.b ProgInvest_Contr agg'!$L:$L,\"in corso\",\n'Z0.6.b ProgInvest_Contr agg'!$O:$O,\"vite utili 2\")","v":0},{"$f":"-SUMIFS(\n'Z0.6.b ProgInvest_Contr agg'!AK:AK,\n'Z0.6.b ProgInvest_Contr agg'!$K:$K,$C180,\n'Z0.6.b ProgInvest_Contr agg'!$M:$M,$D$145,\n'Z0.6.b ProgInvest_Contr agg'!$L:$L,\"in corso\",\n'Z0.6.b ProgInvest_Contr agg'!$O:$O,\"vite utili 1\")\n-SUMIFS(\n'Z0.6.b ProgInvest_Contr agg'!AK:AK,\n'Z0.6.b ProgInvest_Contr agg'!$K:$K,$C180,\n'Z0.6.b ProgInvest_Contr agg'!$M:$M,$D$145,\n'Z0.6.b ProgInvest_Contr agg'!$L:$L,\"in corso\",\n'Z0.6.b ProgInvest_Contr agg'!$O:$O,\"vite utili 2\")","v":0},{"$f":"-SUMIFS(\n'Z0.6.b ProgInvest_Contr agg'!AL:AL,\n'Z0.6.b ProgInvest_Contr agg'!$K:$K,$C180,\n'Z0.6.b ProgInvest_Contr agg'!$M:$M,$D$145,\n'Z0.6.b ProgInvest_Contr agg'!$L:$L,\"in corso\",\n'Z0.6.b ProgInvest_Contr agg'!$O:$O,\"vite utili 1\")\n-SUMIFS(\n'Z0.6.b ProgInvest_Contr agg'!AL:AL,\n'Z0.6.b ProgInvest_Contr agg'!$K:$K,$C180,\n'Z0.6.b ProgInvest_Contr agg'!$M:$M,$D$145,\n'Z0.6.b ProgInvest_Contr agg'!$L:$L,\"in corso\",\n'Z0.6.b ProgInvest_Contr agg'!$O:$O,\"vite utili 2\")","v":0}]
[null,null,"Ammortamento contributi (amm. a vite utili)",null,{"$f":"-SUM(OFFSET(INDIRECT($F180 & \"contr\"),1,3,1,IF(EsistePrev,AnnoPonte-UltimoAnnoRTP,1)))","v":0},null,{"$f":"IF(F$4-UltimoAnnoRTP<=$D180,\n(SUM($F206:F206)-SUM(OFFSET(INDIRECT($F180 & \"contr\"),0,3,1,IF(EsistePrev,AnnoPonte-UltimoAnnoRTP,1)))\n)/$D180,\n\nIF(AND(F$4-UltimoAnnoRTP>$D180,F$4-AnnoPonte<=$D180),\n(SUM($F206:F206)-SUM(IFERROR(OFFSET(INDIRECT($F180 & \"contr\"),0,3+(F$4-UltimoAnnoRTP-$D180),1,(IF(EsistePrev,AnnoPonte-UltimoAnnoRTP,1)-(F$4-UltimoAnnoRTP-$D180))),0))\n)/$D180,\n\n(SUM(OFFSET(F206,0,-$D180+1,1,$D180))\n)/$D180))","v":0},{"$f":"IF(G$4-UltimoAnnoRTP<=$D180,\n(SUM($F206:G206)-SUM(OFFSET(INDIRECT($F180 & \"contr\"),0,3,1,IF(EsistePrev,AnnoPonte-UltimoAnnoRTP,1)))\n)/$D180,\n\nIF(AND(G$4-UltimoAnnoRTP>$D180,G$4-AnnoPonte<=$D180),\n(SUM($F206:G206)-SUM(IFERROR(OFFSET(INDIRECT($F180 & \"contr\"),0,3+(G$4-UltimoAnnoRTP-$D180),1,(IF(EsistePrev,AnnoPonte-UltimoAnnoRTP,1)-(G$4-UltimoAnnoRTP-$D180))),0))\n)/$D180,\n\n(SUM(OFFSET(G206,0,-$D180+1,1,$D180))\n)/$D180))","v":0},{"$f":"IF(H$4-UltimoAnnoRTP<=$D180,\n(SUM($F206:H206)-SUM(OFFSET(INDIRECT($F180 & \"contr\"),0,3,1,IF(EsistePrev,AnnoPonte-UltimoAnnoRTP,1)))\n)/$D180,\n\nIF(AND(H$4-UltimoAnnoRTP>$D180,H$4-AnnoPonte<=$D180),\n(SUM($F206:H206)-SUM(IFERROR(OFFSET(INDIRECT($F180 & \"contr\"),0,3+(H$4-UltimoAnnoRTP-$D180),1,(IF(EsistePrev,AnnoPonte-UltimoAnnoRTP,1)-(H$4-UltimoAnnoRTP-$D180))),0))\n)/$D180,\n\n(SUM(OFFSET(H206,0,-$D180+1,1,$D180))\n)/$D180))","v":-1},{"$f":"IF(I$4-UltimoAnnoRTP<=$D180,\n(SUM($F206:I206)-SUM(OFFSET(INDIRECT($F180 & \"contr\"),0,3,1,IF(EsistePrev,AnnoPonte-UltimoAnnoRTP,1)))\n)/$D180,\n\nIF(AND(I$4-UltimoAnnoRTP>$D180,I$4-AnnoPonte<=$D180),\n(SUM($F206:I206)-SUM(IFERROR(OFFSET(INDIRECT($F180 & \"contr\"),0,3+(I$4-UltimoAnnoRTP-$D180),1,(IF(EsistePrev,AnnoPonte-UltimoAnnoRTP,1)-(I$4-UltimoAnnoRTP-$D180))),0))\n)/$D180,\n\n(SUM(OFFSET(I206,0,-$D180+1,1,$D180))\n)/$D180))","v":-1},{"$f":"IF(J$4-UltimoAnnoRTP<=$D180,\n(SUM($F206:J206)-SUM(OFFSET(INDIRECT($F180 & \"contr\"),0,3,1,IF(EsistePrev,AnnoPonte-UltimoAnnoRTP,1)))\n)/$D180,\n\nIF(AND(J$4-UltimoAnnoRTP>$D180,J$4-AnnoPonte<=$D180),\n(SUM($F206:J206)-SUM(IFERROR(OFFSET(INDIRECT($F180 & \"contr\"),0,3+(J$4-UltimoAnnoRTP-$D180),1,(IF(EsistePrev,AnnoPonte-UltimoAnnoRTP,1)-(J$4-UltimoAnnoRTP-$D180))),0))\n)/$D180,\n\n(SUM(OFFSET(J206,0,-$D180+1,1,$D180))\n)/$D180))","v":-1},{"$f":"IF(K$4-UltimoAnnoRTP<=$D180,\n(SUM($F206:K206)-SUM(OFFSET(INDIRECT($F180 & \"contr\"),0,3,1,IF(EsistePrev,AnnoPonte-UltimoAnnoRTP,1)))\n)/$D180,\n\nIF(AND(K$4-UltimoAnnoRTP>$D180,K$4-AnnoPonte<=$D180),\n(SUM($F206:K206)-SUM(IFERROR(OFFSET(INDIRECT($F180 & \"contr\"),0,3+(K$4-UltimoAnnoRTP-$D180),1,(IF(EsistePrev,AnnoPonte-UltimoAnnoRTP,1)-(K$4-UltimoAnnoRTP-$D180))),0))\n)/$D180,\n\n(SUM(OFFSET(K206,0,-$D180+1,1,$D180))\n)/$D180))","v":-1},{"$f":"IF(L$4-UltimoAnnoRTP<=$D180,\n(SUM($F206:L206)-SUM(OFFSET(INDIRECT($F180 & \"contr\"),0,3,1,IF(EsistePrev,AnnoPonte-UltimoAnnoRTP,1)))\n)/$D180,\n\nIF(AND(L$4-UltimoAnnoRTP>$D180,L$4-AnnoPonte<=$D180),\n(SUM($F206:L206)-SUM(IFERROR(OFFSET(INDIRECT($F180 & \"contr\"),0,3+(L$4-UltimoAnnoRTP-$D180),1,(IF(EsistePrev,AnnoPonte-UltimoAnnoRTP,1)-(L$4-UltimoAnnoRTP-$D180))),0))\n)/$D180,\n\n(SUM(OFFSET(L206,0,-$D180+1,1,$D180))\n)/$D180))","v":-1},{"$f":"IF(M$4-UltimoAnnoRTP<=$D180,\n(SUM($F206:M206)-SUM(OFFSET(INDIRECT($F180 & \"contr\"),0,3,1,IF(EsistePrev,AnnoPonte-UltimoAnnoRTP,1)))\n)/$D180,\n\nIF(AND(M$4-UltimoAnnoRTP>$D180,M$4-AnnoPonte<=$D180),\n(SUM($F206:M206)-SUM(IFERROR(OFFSET(INDIRECT($F180 & \"contr\"),0,3+(M$4-UltimoAnnoRTP-$D180),1,(IF(EsistePrev,AnnoPonte-UltimoAnnoRTP,1)-(M$4-UltimoAnnoRTP-$D180))),0))\n)/$D180,\n\n(SUM(OFFSET(M206,0,-$D180+1,1,$D180))\n)/$D180))","v":-1},{"$f":"IF(N$4-UltimoAnnoRTP<=$D180,\n(SUM($F206:N206)-SUM(OFFSET(INDIRECT($F180 & \"contr\"),0,3,1,IF(EsistePrev,AnnoPonte-UltimoAnnoRTP,1)))\n)/$D180,\n\nIF(AND(N$4-UltimoAnnoRTP>$D180,N$4-AnnoPonte<=$D180),\n(SUM($F206:N206)-SUM(IFERROR(OFFSET(INDIRECT($F180 & \"contr\"),0,3+(N$4-UltimoAnnoRTP-$D180),1,(IF(EsistePrev,AnnoPonte-UltimoAnnoRTP,1)-(N$4-UltimoAnnoRTP-$D180))),0))\n)/$D180,\n\n(SUM(OFFSET(N206,0,-$D180+1,1,$D180))\n)/$D180))","v":-1},{"$f":"IF(O$4-UltimoAnnoRTP<=$D180,\n(SUM($F206:O206)-SUM(OFFSET(INDIRECT($F180 & \"contr\"),0,3,1,IF(EsistePrev,AnnoPonte-UltimoAnnoRTP,1)))\n)/$D180,\n\nIF(AND(O$4-UltimoAnnoRTP>$D180,O$4-AnnoPonte<=$D180),\n(SUM($F206:O206)-SUM(IFERROR(OFFSET(INDIRECT($F180 & \"contr\"),0,3+(O$4-UltimoAnnoRTP-$D180),1,(IF(EsistePrev,AnnoPonte-UltimoAnnoRTP,1)-(O$4-UltimoAnnoRTP-$D180))),0))\n)/$D180,\n\n(SUM(OFFSET(O206,0,-$D180+1,1,$D180))\n)/$D180))","v":-1},{"$f":"IF(P$4-UltimoAnnoRTP<=$D180,\n(SUM($F206:P206)-SUM(OFFSET(INDIRECT($F180 & \"contr\"),0,3,1,IF(EsistePrev,AnnoPonte-UltimoAnnoRTP,1)))\n)/$D180,\n\nIF(AND(P$4-UltimoAnnoRTP>$D180,P$4-AnnoPonte<=$D180),\n(SUM($F206:P206)-SUM(IFERROR(OFFSET(INDIRECT($F180 & \"contr\"),0,3+(P$4-UltimoAnnoRTP-$D180),1,(IF(EsistePrev,AnnoPonte-UltimoAnnoRTP,1)-(P$4-UltimoAnnoRTP-$D180))),0))\n)/$D180,\n\n(SUM(OFFSET(P206,0,-$D180+1,1,$D180))\n)/$D180))","v":-1},{"$f":"IF(Q$4-UltimoAnnoRTP<=$D180,\n(SUM($F206:Q206)-SUM(OFFSET(INDIRECT($F180 & \"contr\"),0,3,1,IF(EsistePrev,AnnoPonte-UltimoAnnoRTP,1)))\n)/$D180,\n\nIF(AND(Q$4-UltimoAnnoRTP>$D180,Q$4-AnnoPonte<=$D180),\n(SUM($F206:Q206)-SUM(IFERROR(OFFSET(INDIRECT($F180 & \"contr\"),0,3+(Q$4-UltimoAnnoRTP-$D180),1,(IF(EsistePrev,AnnoPonte-UltimoAnnoRTP,1)-(Q$4-UltimoAnnoRTP-$D180))),0))\n)/$D180,\n\n(SUM(OFFSET(Q206,0,-$D180+1,1,$D180))\n)/$D180))","v":-1},{"$f":"IF(R$4-UltimoAnnoRTP<=$D180,\n(SUM($F206:R206)-SUM(OFFSET(INDIRECT($F180 & \"contr\"),0,3,1,IF(EsistePrev,AnnoPonte-UltimoAnnoRTP,1)))\n)/$D180,\n\nIF(AND(R$4-UltimoAnnoRTP>$D180,R$4-AnnoPonte<=$D180),\n(SUM($F206:R206)-SUM(IFERROR(OFFSET(INDIRECT($F180 & \"contr\"),0,3+(R$4-UltimoAnnoRTP-$D180),1,(IF(EsistePrev,AnnoPonte-UltimoAnnoRTP,1)-(R$4-UltimoAnnoRTP-$D180))),0))\n)/$D180,\n\n(SUM(OFFSET(R206,0,-$D180+1,1,$D180))\n)/$D180))","v":-1}]
[null,null,"CIN contributi eop (amm. a vite utili)",null,null,{"$f":"-OFFSET(INDIRECT($F180 & \"contr\"),2,2+AnnoPonte-UltimoAnnoRTP,1,1)","v":0},{"$f":"G205+G206-G207","v":0},{"$f":"H205+H206-H207","v":-40},-39,-38,-37,-36,-35,-34,-33,-32,-31,-30,-29]
[null,null,"Remunerazione CIN contributi",null,null,null,{"$f":"(G205-F210)*G$17*G$10","v":0},0,-0.82610000000000006,-0.751,-0.67589999999999995,-0.6008,-0.52570000000000006,-0.4506,-0.3755,-0.3004,-0.2253,-0.1502,-7.51E-2]
[null,null,"Valore di subentro contributi - cumulato",null,null,{"$f":"-OFFSET(INDIRECT($F180 & \"contr\"),4,2+AnnoPonte-UltimoAnnoRTP,1,1)","v":0},{"$f":"MIN(0,F210+(G206)/$D180*($D180-(ScadenzaConcessione-G$4)))","v":0},-29,-29,-29,-29,-29,-29,-29,-29,-29,-29,-29,-29]
[null,null,"Remunerazione valore di subentro CIN contributi ",null,null,null,{"$f":"F210*G$19*G$10","v":0},{"$f":"G210*H$19*H$10","v":0},-2.1779000000000002,-2.1779000000000002,-2.1779000000000002,-2.1779000000000002,-2.1779000000000002,-2.1779000000000002,-2.1779000000000002,-2.1779000000000002,-2.1779000000000002,-2.1779000000000002,-2.1779000000000002]
[]
[null,null,"Check - TIR di progetto"]
[null,null,"Cash out investimenti",null,null,{"$f":"-(F185+F192+F200+F208)","v":0},{"$f":"-(G183+G190-G198+G206)","v":0},{"$f":"-(H183+H190-H198+H206)","v":-160},-200,0,0,0,0,0,0,0,0,0,20]
[null,null,"Cash in valore di subentro",null,null,null,{"$f":"IF(G$4=ScadenzaConcessione,G186+G202+G210,\"\")","v":""},{"$f":"IF(H$4=ScadenzaConcessione,H186+H202+H210,\"\")","v":""},"","","","","","","","","","",{"$f":"IF(S$4=ScadenzaConcessione,S186+S193+S202+S210,\"\")","v":251}]
[null,null,"Cash in ammortamenti",null,null,null,{"$f":"G199+G207","v":0},0,-1,9,9,9,9,9,9,9,9,9,9]
[null,null,"Cash in remunerazioni (annualizzato)",null,null,null,{"$f":"(G187+G194+G201+G203+G209+G211)/G$10","v":0},{"$f":"(H187+H194+H201+H203+H209+H211)/H$10","v":0},8.8559999999999981,27.111099999999997,26.435200000000002,25.7593,25.083399999999997,24.407499999999999,23.7316,23.055700000000002,22.379799999999999,21.703899999999997,21.028000000000002]
[null,null,"Cash flow",null,null,{"$f":"SUM(F214:F217)","v":0},0,{"$f":"SUM(H214:H217)","v":-160},-192.14400000000001,36.111099999999993,35.435200000000002,34.759299999999996,34.083399999999997,33.407499999999999,32.7316,32.055700000000002,31.379799999999999,30.703899999999997,301.02800000000002]
[null,null,"Tasso interno di rendimento",null,null,{"$f":"IFERROR(IRR(OFFSET(F218,0,0,1,ScadenzaConcessione-AnnoPonte+1)),\"non calc.\")","v":7.3787894851059299E-2}]
[null,null,"VAN",null,{"$f":"WACC","v":7.51E-2},{"$f":"NPV(E220,OFFSET(F218,0,0,1,ScadenzaConcessione-AnnoPonte+1))","v":-2.3653294286997539}]
[]
[null,null,"Gallerie",{"$f":"VLOOKUP(C222,'C3 Tk Supporto'!C:E,2,0)","v":40},"vita utile","VU02"]
[]
[null,null,"LIC livello 1 - bop",null,null,null,{"$f":"F227","v":0},{"$f":"G227","v":0},{"$f":"H227","v":0},{"$f":"I227","v":100},{"$f":"J227","v":0},{"$f":"K227","v":0},{"$f":"L227","v":0},{"$f":"M227","v":0},{"$f":"N227","v":0},{"$f":"O227","v":0},{"$f":"P227","v":0},{"$f":"Q227","v":0},{"$f":"R227","v":0}]
[null,null,"Investimenti in corso aggiuntivi",null,null,null,{"$f":"SUMIFS(\n'Z0.6.a ProgInvest_Spesa agg'!Z:Z,\n'Z0.6.a ProgInvest_Spesa agg'!$K:$K,$C222,\n'Z0.6.a ProgInvest_Spesa agg'!$M:$M,$D$145,\n'Z0.6.a ProgInvest_Spesa agg'!$L:$L,\"in corso\",\n'Z0.6.a ProgInvest_Spesa agg'!$O:$O,\"vite utili 1\")","v":0},{"$f":"SUMIFS(\n'Z0.6.a ProgInvest_Spesa agg'!AA:AA,\n'Z0.6.a ProgInvest_Spesa agg'!$K:$K,$C222,\n'Z0.6.a ProgInvest_Spesa agg'!$M:$M,$D$145,\n'Z0.6.a ProgInvest_Spesa agg'!$L:$L,\"in corso\",\n'Z0.6.a ProgInvest_Spesa agg'!$O:$O,\"vite utili 1\")","v":0},{"$f":"SUMIFS(\n'Z0.6.a ProgInvest_Spesa agg'!AB:AB,\n'Z0.6.a ProgInvest_Spesa agg'!$K:$K,$C222,\n'Z0.6.a ProgInvest_Spesa agg'!$M:$M,$D$145,\n'Z0.6.a ProgInvest_Spesa agg'!$L:$L,\"in corso\",\n'Z0.6.a ProgInvest_Spesa agg'!$O:$O,\"vite utili 1\")","v":100},{"$f":"SUMIFS(\n'Z0.6.a ProgInvest_Spesa agg'!AC:AC,\n'Z0.6.a ProgInvest_Spesa agg'!$K:$K,$C222,\n'Z0.6.a ProgInvest_Spesa agg'!$M:$M,$D$145,\n'Z0.6.a ProgInvest_Spesa agg'!$L:$L,\"in corso\",\n'Z0.6.a ProgInvest_Spesa agg'!$O:$O,\"vite utili 1\")","v":100},{"$f":"SUMIFS(\n'Z0.6.a ProgInvest_Spesa agg'!AD:AD,\n'Z0.6.a ProgInvest_Spesa agg'!$K:$K,$C222,\n'Z0.6.a ProgInvest_Spesa agg'!$M:$M,$D$145,\n'Z0.6.a ProgInvest_Spesa agg'!$L:$L,\"in corso\",\n'Z0.6.a ProgInvest_Spesa agg'!$O:$O,\"vite utili 1\")","v":0},{"$f":"SUMIFS(\n'Z0.6.a ProgInvest_Spesa agg'!AE:AE,\n'Z0.6.a ProgInvest_Spesa agg'!$K:$K,$C222,\n'Z0.6.a ProgInvest_Spesa agg'!$M:$M,$D$145,\n'Z0.6.a ProgInvest_Spesa agg'!$L:$L,\"in corso\",\n'Z0.6.a ProgInvest_Spesa agg'!$O:$O,\"vite utili 1\")","v":0},{"$f":"SUMIFS(\n'Z0.6.a ProgInvest_Spesa agg'!AF:AF,\n'Z0.6.a ProgInvest_Spesa agg'!$K:$K,$C222,\n'Z0.6.a ProgInvest_Spesa agg'!$M:$M,$D$145,\n'Z0.6.a ProgInvest_Spesa agg'!$L:$L,\"in corso\",\n'Z0.6.a ProgInvest_Spesa agg'!$O:$O,\"vite utili 1\")","v":0},{"$f":"SUMIFS(\n'Z0.6.a ProgInvest_Spesa agg'!AG:AG,\n'Z0.6.a ProgInvest_Spesa agg'!$K:$K,$C222,\n'Z0.6.a ProgInvest_Spesa agg'!$M:$M,$D$145,\n'Z0.6.a ProgInvest_Spesa agg'!$L:$L,\"in corso\",\n'Z0.6.a ProgInvest_Spesa agg'!$O:$O,\"vite utili 1\")","v":0},{"$f":"SUMIFS(\n'Z0.6.a ProgInvest_Spesa agg'!AH:AH,\n'Z0.6.a ProgInvest_Spesa agg'!$K:$K,$C222,\n'Z0.6.a ProgInvest_Spesa agg'!$M:$M,$D$145,\n'Z0.6.a ProgInvest_Spesa agg'!$L:$L,\"in corso\",\n'Z0.6.a ProgInvest_Spesa agg'!$O:$O,\"vite utili 1\")","v":0},{"$f":"SUMIFS(\n'Z0.6.a ProgInvest_Spesa agg'!AI:AI,\n'Z0.6.a ProgInvest_Spesa agg'!$K:$K,$C222,\n'Z0.6.a ProgInvest_Spesa agg'!$M:$M,$D$145,\n'Z0.6.a ProgInvest_Spesa agg'!$L:$L,\"in corso\",\n'Z0.6.a ProgInvest_Spesa agg'!$O:$O,\"vite utili 1\")","v":0},{"$f":"SUMIFS(\n'Z0.6.a ProgInvest_Spesa agg'!AJ:AJ,\n'Z0.6.a ProgInvest_Spesa agg'!$K:$K,$C222,\n'Z0.6.a ProgInvest_Spesa agg'!$M:$M,$D$145,\n'Z0.6.a ProgInvest_Spesa agg'!$L:$L,\"in corso\",\n'Z0.6.a ProgInvest_Spesa agg'!$O:$O,\"vite utili 1\")","v":0},{"$f":"SUMIFS(\n'Z0.6.a ProgInvest_Spesa agg'!AK:AK,\n'Z0.6.a ProgInvest_Spesa agg'!$K:$K,$C222,\n'Z0.6.a ProgInvest_Spesa agg'!$M:$M,$D$145,\n'Z0.6.a ProgInvest_Spesa agg'!$L:$L,\"in corso\",\n'Z0.6.a ProgInvest_Spesa agg'!$O:$O,\"vite utili 1\")","v":0},{"$f":"SUMIFS(\n'Z0.6.a ProgInvest_Spesa agg'!AL:AL,\n'Z0.6.a ProgInvest_Spesa agg'!$K:$K,$C222,\n'Z0.6.a ProgInvest_Spesa agg'!$M:$M,$D$145,\n'Z0.6.a ProgInvest_Spesa agg'!$L:$L,\"in corso\",\n'Z0.6.a ProgInvest_Spesa agg'!$O:$O,\"vite utili 1\")","v":0}]
[null,null,"Investimenti in corso cessanti (entrata in esercizio)",null,null,null,{"$f":"-SUMIFS(\n'Z0.6.a ProgInvest_Spesa agg'!$S:$S,\n'Z0.6.a ProgInvest_Spesa agg'!$K:$K,$C222,\n'Z0.6.a ProgInvest_Spesa agg'!$M:$M,$D$145,\n'Z0.6.a ProgInvest_Spesa agg'!$L:$L,\"in corso\",\n'Z0.6.a ProgInvest_Spesa agg'!$O:$O,\"vite utili 1\",\n'Z0.6.a ProgInvest_Spesa agg'!$P:$P,G$4)","v":0},{"$f":"-SUMIFS(\n'Z0.6.a ProgInvest_Spesa agg'!$S:$S,\n'Z0.6.a ProgInvest_Spesa agg'!$K:$K,$C222,\n'Z0.6.a ProgInvest_Spesa agg'!$M:$M,$D$145,\n'Z0.6.a ProgInvest_Spesa agg'!$L:$L,\"in corso\",\n'Z0.6.a ProgInvest_Spesa agg'!$O:$O,\"vite utili 1\",\n'Z0.6.a ProgInvest_Spesa agg'!$P:$P,H$4)","v":0},{"$f":"-SUMIFS(\n'Z0.6.a ProgInvest_Spesa agg'!$S:$S,\n'Z0.6.a ProgInvest_Spesa agg'!$K:$K,$C222,\n'Z0.6.a ProgInvest_Spesa agg'!$M:$M,$D$145,\n'Z0.6.a ProgInvest_Spesa agg'!$L:$L,\"in corso\",\n'Z0.6.a ProgInvest_Spesa agg'!$O:$O,\"vite utili 1\",\n'Z0.6.a ProgInvest_Spesa agg'!$P:$P,I$4)","v":0},{"$f":"-SUMIFS(\n'Z0.6.a ProgInvest_Spesa agg'!$S:$S,\n'Z0.6.a ProgInvest_Spesa agg'!$K:$K,$C222,\n'Z0.6.a ProgInvest_Spesa agg'!$M:$M,$D$145,\n'Z0.6.a ProgInvest_Spesa agg'!$L:$L,\"in corso\",\n'Z0.6.a ProgInvest_Spesa agg'!$O:$O,\"vite utili 1\",\n'Z0.6.a ProgInvest_Spesa agg'!$P:$P,J$4)","v":-200},{"$f":"-SUMIFS(\n'Z0.6.a ProgInvest_Spesa agg'!$S:$S,\n'Z0.6.a ProgInvest_Spesa agg'!$K:$K,$C222,\n'Z0.6.a ProgInvest_Spesa agg'!$M:$M,$D$145,\n'Z0.6.a ProgInvest_Spesa agg'!$L:$L,\"in corso\",\n'Z0.6.a ProgInvest_Spesa agg'!$O:$O,\"vite utili 1\",\n'Z0.6.a ProgInvest_Spesa agg'!$P:$P,K$4)","v":0},{"$f":"-SUMIFS(\n'Z0.6.a ProgInvest_Spesa agg'!$S:$S,\n'Z0.6.a ProgInvest_Spesa agg'!$K:$K,$C222,\n'Z0.6.a ProgInvest_Spesa agg'!$M:$M,$D$145,\n'Z0.6.a ProgInvest_Spesa agg'!$L:$L,\"in corso\",\n'Z0.6.a ProgInvest_Spesa agg'!$O:$O,\"vite utili 1\",\n'Z0.6.a ProgInvest_Spesa agg'!$P:$P,L$4)","v":0},{"$f":"-SUMIFS(\n'Z0.6.a ProgInvest_Spesa agg'!$S:$S,\n'Z0.6.a ProgInvest_Spesa agg'!$K:$K,$C222,\n'Z0.6.a ProgInvest_Spesa agg'!$M:$M,$D$145,\n'Z0.6.a ProgInvest_Spesa agg'!$L:$L,\"in corso\",\n'Z0.6.a ProgInvest_Spesa agg'!$O:$O,\"vite utili 1\",\n'Z0.6.a ProgInvest_Spesa agg'!$P:$P,M$4)","v":0},{"$f":"-SUMIFS(\n'Z0.6.a ProgInvest_Spesa agg'!$S:$S,\n'Z0.6.a ProgInvest_Spesa agg'!$K:$K,$C222,\n'Z0.6.a ProgInvest_Spesa agg'!$M:$M,$D$145,\n'Z0.6.a ProgInvest_Spesa agg'!$L:$L,\"in corso\",\n'Z0.6.a ProgInvest_Spesa agg'!$O:$O,\"vite utili 1\",\n'Z0.6.a ProgInvest_Spesa agg'!$P:$P,N$4)","v":0},{"$f":"-SUMIFS(\n'Z0.6.a ProgInvest_Spesa agg'!$S:$S,\n'Z0.6.a ProgInvest_Spesa agg'!$K:$K,$C222,\n'Z0.6.a ProgInvest_Spesa agg'!$M:$M,$D$145,\n'Z0.6.a ProgInvest_Spesa agg'!$L:$L,\"in corso\",\n'Z0.6.a ProgInvest_Spesa agg'!$O:$O,\"vite utili 1\",\n'Z0.6.a ProgInvest_Spesa agg'!$P:$P,O$4)","v":0},{"$f":"-SUMIFS(\n'Z0.6.a ProgInvest_Spesa agg'!$S:$S,\n'Z0.6.a ProgInvest_Spesa agg'!$K:$K,$C222,\n'Z0.6.a ProgInvest_Spesa agg'!$M:$M,$D$145,\n'Z0.6.a ProgInvest_Spesa agg'!$L:$L,\"in corso\",\n'Z0.6.a ProgInvest_Spesa agg'!$O:$O,\"vite utili 1\",\n'Z0.6.a ProgInvest_Spesa agg'!$P:$P,P$4)","v":0},{"$f":"-SUMIFS(\n'Z0.6.a ProgInvest_Spesa agg'!$S:$S,\n'Z0.6.a ProgInvest_Spesa agg'!$K:$K,$C222,\n'Z0.6.a ProgInvest_Spesa agg'!$M:$M,$D$145,\n'Z0.6.a ProgInvest_Spesa agg'!$L:$L,\"in corso\",\n'Z0.6.a ProgInvest_Spesa agg'!$O:$O,\"vite utili 1\",\n'Z0.6.a ProgInvest_Spesa agg'!$P:$P,Q$4)","v":0},{"$f":"-SUMIFS(\n'Z0.6.a ProgInvest_Spesa agg'!$S:$S,\n'Z0.6.a ProgInvest_Spesa agg'!$K:$K,$C222,\n'Z0.6.a ProgInvest_Spesa agg'!$M:$M,$D$145,\n'Z0.6.a ProgInvest_Spesa agg'!$L:$L,\"in corso\",\n'Z0.6.a ProgInvest_Spesa agg'!$O:$O,\"vite utili 1\",\n'Z0.6.a ProgInvest_Spesa agg'!$P:$P,R$4)","v":0},{"$f":"-SUMIFS(\n'Z0.6.a ProgInvest_Spesa agg'!$S:$S,\n'Z0.6.a ProgInvest_Spesa agg'!$K:$K,$C222,\n'Z0.6.a ProgInvest_Spesa agg'!$M:$M,$D$145,\n'Z0.6.a ProgInvest_Spesa agg'!$L:$L,\"in corso\",\n'Z0.6.a ProgInvest_Spesa agg'!$O:$O,\"vite utili 1\",\n'Z0.6.a ProgInvest_Spesa agg'!$P:$P,S$4)","v":0}]
[null,null,"LIC livello 1 - eop",null,null,{"$f":"OFFSET(INDIRECT($F222 & \"inv\"),-10,2+AnnoPonte-UltimoAnnoRTP,1,1)","v":0},{"$f":"G224+G225+G226","v":0},0,100,0,0,0,0,0,0,0,0,0,0]
[null,null,"Valore di subentro LIC",null,null,null,{"$f":"IF(G$4=ScadenzaConcessione,G227,0)","v":0},0,0,0,0,0,0,0,0,0,0,0,0]
[null,null,"Remunerazione LIC",null,null,null,{"$f":"G224*G$17*G$10","v":0},{"$f":"H224*H$17*H$10","v":0},0,7.51,0,0,0,0,0,0,0,0,0]
[]
[null,null,"LIC livello 2 - bop",null,null,null,{"$f":"F234","v":0},{"$f":"G234","v":0},{"$f":"H234","v":0},{"$f":"I234","v":100},{"$f":"J234","v":0},{"$f":"K234","v":0},{"$f":"L234","v":0},{"$f":"M234","v":0},{"$f":"N234","v":0},{"$f":"O234","v":0},{"$f":"P234","v":0},{"$f":"Q234","v":0},{"$f":"R234","v":0}]
[null,null,"Investimenti in corso aggiuntivi",null,null,null,{"$f":"SUMIFS(\n'Z0.6.a ProgInvest_Spesa agg'!Z:Z,\n'Z0.6.a ProgInvest_Spesa agg'!$K:$K,$C222,\n'Z0.6.a ProgInvest_Spesa agg'!$M:$M,$D$145,\n'Z0.6.a ProgInvest_Spesa agg'!$L:$L,\"in corso\",\n'Z0.6.a ProgInvest_Spesa agg'!$O:$O,\"vite utili 2\")","v":0},{"$f":"SUMIFS(\n'Z0.6.a ProgInvest_Spesa agg'!AA:AA,\n'Z0.6.a ProgInvest_Spesa agg'!$K:$K,$C222,\n'Z0.6.a ProgInvest_Spesa agg'!$M:$M,$D$145,\n'Z0.6.a ProgInvest_Spesa agg'!$L:$L,\"in corso\",\n'Z0.6.a ProgInvest_Spesa agg'!$O:$O,\"vite utili 2\")","v":0},{"$f":"SUMIFS(\n'Z0.6.a ProgInvest_Spesa agg'!AB:AB,\n'Z0.6.a ProgInvest_Spesa agg'!$K:$K,$C222,\n'Z0.6.a ProgInvest_Spesa agg'!$M:$M,$D$145,\n'Z0.6.a ProgInvest_Spesa agg'!$L:$L,\"in corso\",\n'Z0.6.a ProgInvest_Spesa agg'!$O:$O,\"vite utili 2\")","v":100},{"$f":"SUMIFS(\n'Z0.6.a ProgInvest_Spesa agg'!AC:AC,\n'Z0.6.a ProgInvest_Spesa agg'!$K:$K,$C222,\n'Z0.6.a ProgInvest_Spesa agg'!$M:$M,$D$145,\n'Z0.6.a ProgInvest_Spesa agg'!$L:$L,\"in corso\",\n'Z0.6.a ProgInvest_Spesa agg'!$O:$O,\"vite utili 2\")","v":100},{"$f":"SUMIFS(\n'Z0.6.a ProgInvest_Spesa agg'!AD:AD,\n'Z0.6.a ProgInvest_Spesa agg'!$K:$K,$C222,\n'Z0.6.a ProgInvest_Spesa agg'!$M:$M,$D$145,\n'Z0.6.a ProgInvest_Spesa agg'!$L:$L,\"in corso\",\n'Z0.6.a ProgInvest_Spesa agg'!$O:$O,\"vite utili 2\")","v":0},{"$f":"SUMIFS(\n'Z0.6.a ProgInvest_Spesa agg'!AE:AE,\n'Z0.6.a ProgInvest_Spesa agg'!$K:$K,$C222,\n'Z0.6.a ProgInvest_Spesa agg'!$M:$M,$D$145,\n'Z0.6.a ProgInvest_Spesa agg'!$L:$L,\"in corso\",\n'Z0.6.a ProgInvest_Spesa agg'!$O:$O,\"vite utili 2\")","v":0},{"$f":"SUMIFS(\n'Z0.6.a ProgInvest_Spesa agg'!AF:AF,\n'Z0.6.a ProgInvest_Spesa agg'!$K:$K,$C222,\n'Z0.6.a ProgInvest_Spesa agg'!$M:$M,$D$145,\n'Z0.6.a ProgInvest_Spesa agg'!$L:$L,\"in corso\",\n'Z0.6.a ProgInvest_Spesa agg'!$O:$O,\"vite utili 2\")","v":0},{"$f":"SUMIFS(\n'Z0.6.a ProgInvest_Spesa agg'!AG:AG,\n'Z0.6.a ProgInvest_Spesa agg'!$K:$K,$C222,\n'Z0.6.a ProgInvest_Spesa agg'!$M:$M,$D$145,\n'Z0.6.a ProgInvest_Spesa agg'!$L:$L,\"in corso\",\n'Z0.6.a ProgInvest_Spesa agg'!$O:$O,\"vite utili 2\")","v":0},{"$f":"SUMIFS(\n'Z0.6.a ProgInvest_Spesa agg'!AH:AH,\n'Z0.6.a ProgInvest_Spesa agg'!$K:$K,$C222,\n'Z0.6.a ProgInvest_Spesa agg'!$M:$M,$D$145,\n'Z0.6.a ProgInvest_Spesa agg'!$L:$L,\"in corso\",\n'Z0.6.a ProgInvest_Spesa agg'!$O:$O,\"vite utili 2\")","v":0},{"$f":"SUMIFS(\n'Z0.6.a ProgInvest_Spesa agg'!AI:AI,\n'Z0.6.a ProgInvest_Spesa agg'!$K:$K,$C222,\n'Z0.6.a ProgInvest_Spesa agg'!$M:$M,$D$145,\n'Z0.6.a ProgInvest_Spesa agg'!$L:$L,\"in corso\",\n'Z0.6.a ProgInvest_Spesa agg'!$O:$O,\"vite utili 2\")","v":0},{"$f":"SUMIFS(\n'Z0.6.a ProgInvest_Spesa agg'!AJ:AJ,\n'Z0.6.a ProgInvest_Spesa agg'!$K:$K,$C222,\n'Z0.6.a ProgInvest_Spesa agg'!$M:$M,$D$145,\n'Z0.6.a ProgInvest_Spesa agg'!$L:$L,\"in corso\",\n'Z0.6.a ProgInvest_Spesa agg'!$O:$O,\"vite utili 2\")","v":0},{"$f":"SUMIFS(\n'Z0.6.a ProgInvest_Spesa agg'!AK:AK,\n'Z0.6.a ProgInvest_Spesa agg'!$K:$K,$C222,\n'Z0.6.a ProgInvest_Spesa agg'!$M:$M,$D$145,\n'Z0.6.a ProgInvest_Spesa agg'!$L:$L,\"in corso\",\n'Z0.6.a ProgInvest_Spesa agg'!$O:$O,\"vite utili 2\")","v":0},{"$f":"SUMIFS(\n'Z0.6.a ProgInvest_Spesa agg'!AL:AL,\n'Z0.6.a ProgInvest_Spesa agg'!$K:$K,$C222,\n'Z0.6.a ProgInvest_Spesa agg'!$M:$M,$D$145,\n'Z0.6.a ProgInvest_Spesa agg'!$L:$L,\"in corso\",\n'Z0.6.a ProgInvest_Spesa agg'!$O:$O,\"vite utili 2\")","v":0}]
[null,null,"Investimenti in corso cessanti (entrata in esercizio)",null,null,null,{"$f":"-SUMIFS(\n'Z0.6.a ProgInvest_Spesa agg'!$S:$S,\n'Z0.6.a ProgInvest_Spesa agg'!$K:$K,$C222,\n'Z0.6.a ProgInvest_Spesa agg'!$M:$M,$D$145,\n'Z0.6.a ProgInvest_Spesa agg'!$L:$L,\"in corso\",\n'Z0.6.a ProgInvest_Spesa agg'!$O:$O,\"vite utili 2\",\n'Z0.6.a ProgInvest_Spesa agg'!$P:$P,G$4)","v":0},{"$f":"-SUMIFS(\n'Z0.6.a ProgInvest_Spesa agg'!$S:$S,\n'Z0.6.a ProgInvest_Spesa agg'!$K:$K,$C222,\n'Z0.6.a ProgInvest_Spesa agg'!$M:$M,$D$145,\n'Z0.6.a ProgInvest_Spesa agg'!$L:$L,\"in corso\",\n'Z0.6.a ProgInvest_Spesa agg'!$O:$O,\"vite utili 2\",\n'Z0.6.a ProgInvest_Spesa agg'!$P:$P,H$4)","v":0},{"$f":"-SUMIFS(\n'Z0.6.a ProgInvest_Spesa agg'!$S:$S,\n'Z0.6.a ProgInvest_Spesa agg'!$K:$K,$C222,\n'Z0.6.a ProgInvest_Spesa agg'!$M:$M,$D$145,\n'Z0.6.a ProgInvest_Spesa agg'!$L:$L,\"in corso\",\n'Z0.6.a ProgInvest_Spesa agg'!$O:$O,\"vite utili 2\",\n'Z0.6.a ProgInvest_Spesa agg'!$P:$P,I$4)","v":0},{"$f":"-SUMIFS(\n'Z0.6.a ProgInvest_Spesa agg'!$S:$S,\n'Z0.6.a ProgInvest_Spesa agg'!$K:$K,$C222,\n'Z0.6.a ProgInvest_Spesa agg'!$M:$M,$D$145,\n'Z0.6.a ProgInvest_Spesa agg'!$L:$L,\"in corso\",\n'Z0.6.a ProgInvest_Spesa agg'!$O:$O,\"vite utili 2\",\n'Z0.6.a ProgInvest_Spesa agg'!$P:$P,J$4)","v":-200},{"$f":"-SUMIFS(\n'Z0.6.a ProgInvest_Spesa agg'!$S:$S,\n'Z0.6.a ProgInvest_Spesa agg'!$K:$K,$C222,\n'Z0.6.a ProgInvest_Spesa agg'!$M:$M,$D$145,\n'Z0.6.a ProgInvest_Spesa agg'!$L:$L,\"in corso\",\n'Z0.6.a ProgInvest_Spesa agg'!$O:$O,\"vite utili 2\",\n'Z0.6.a ProgInvest_Spesa agg'!$P:$P,K$4)","v":0},{"$f":"-SUMIFS(\n'Z0.6.a ProgInvest_Spesa agg'!$S:$S,\n'Z0.6.a ProgInvest_Spesa agg'!$K:$K,$C222,\n'Z0.6.a ProgInvest_Spesa agg'!$M:$M,$D$145,\n'Z0.6.a ProgInvest_Spesa agg'!$L:$L,\"in corso\",\n'Z0.6.a ProgInvest_Spesa agg'!$O:$O,\"vite utili 2\",\n'Z0.6.a ProgInvest_Spesa agg'!$P:$P,L$4)","v":0},{"$f":"-SUMIFS(\n'Z0.6.a ProgInvest_Spesa agg'!$S:$S,\n'Z0.6.a ProgInvest_Spesa agg'!$K:$K,$C222,\n'Z0.6.a ProgInvest_Spesa agg'!$M:$M,$D$145,\n'Z0.6.a ProgInvest_Spesa agg'!$L:$L,\"in corso\",\n'Z0.6.a ProgInvest_Spesa agg'!$O:$O,\"vite utili 2\",\n'Z0.6.a ProgInvest_Spesa agg'!$P:$P,M$4)","v":0},{"$f":"-SUMIFS(\n'Z0.6.a ProgInvest_Spesa agg'!$S:$S,\n'Z0.6.a ProgInvest_Spesa agg'!$K:$K,$C222,\n'Z0.6.a ProgInvest_Spesa agg'!$M:$M,$D$145,\n'Z0.6.a ProgInvest_Spesa agg'!$L:$L,\"in corso\",\n'Z0.6.a ProgInvest_Spesa agg'!$O:$O,\"vite utili 2\",\n'Z0.6.a ProgInvest_Spesa agg'!$P:$P,N$4)","v":0},{"$f":"-SUMIFS(\n'Z0.6.a ProgInvest_Spesa agg'!$S:$S,\n'Z0.6.a ProgInvest_Spesa agg'!$K:$K,$C222,\n'Z0.6.a ProgInvest_Spesa agg'!$M:$M,$D$145,\n'Z0.6.a ProgInvest_Spesa agg'!$L:$L,\"in corso\",\n'Z0.6.a ProgInvest_Spesa agg'!$O:$O,\"vite utili 2\",\n'Z0.6.a ProgInvest_Spesa agg'!$P:$P,O$4)","v":0},{"$f":"-SUMIFS(\n'Z0.6.a ProgInvest_Spesa agg'!$S:$S,\n'Z0.6.a ProgInvest_Spesa agg'!$K:$K,$C222,\n'Z0.6.a ProgInvest_Spesa agg'!$M:$M,$D$145,\n'Z0.6.a ProgInvest_Spesa agg'!$L:$L,\"in corso\",\n'Z0.6.a ProgInvest_Spesa agg'!$O:$O,\"vite utili 2\",\n'Z0.6.a ProgInvest_Spesa agg'!$P:$P,P$4)","v":0},{"$f":"-SUMIFS(\n'Z0.6.a ProgInvest_Spesa agg'!$S:$S,\n'Z0.6.a ProgInvest_Spesa agg'!$K:$K,$C222,\n'Z0.6.a ProgInvest_Spesa agg'!$M:$M,$D$145,\n'Z0.6.a ProgInvest_Spesa agg'!$L:$L,\"in corso\",\n'Z0.6.a ProgInvest_Spesa agg'!$O:$O,\"vite utili 2\",\n'Z0.6.a ProgInvest_Spesa agg'!$P:$P,Q$4)","v":0},{"$f":"-SUMIFS(\n'Z0.6.a ProgInvest_Spesa agg'!$S:$S,\n'Z0.6.a ProgInvest_Spesa agg'!$K:$K,$C222,\n'Z0.6.a ProgInvest_Spesa agg'!$M:$M,$D$145,\n'Z0.6.a ProgInvest_Spesa agg'!$L:$L,\"in corso\",\n'Z0.6.a ProgInvest_Spesa agg'!$O:$O,\"vite utili 2\",\n'Z0.6.a ProgInvest_Spesa agg'!$P:$P,R$4)","v":0},{"$f":"-SUMIFS(\n'Z0.6.a ProgInvest_Spesa agg'!$S:$S,\n'Z0.6.a ProgInvest_Spesa agg'!$K:$K,$C222,\n'Z0.6.a ProgInvest_Spesa agg'!$M:$M,$D$145,\n'Z0.6.a ProgInvest_Spesa agg'!$L:$L,\"in corso\",\n'Z0.6.a ProgInvest_Spesa agg'!$O:$O,\"vite utili 2\",\n'Z0.6.a ProgInvest_Spesa agg'!$P:$P,S$4)","v":0}]
[null,null,"LIC livello 2 - eop",null,null,{"$f":"OFFSET(INDIRECT($F222 & \"inv\"),-4,2+AnnoPonte-UltimoAnnoRTP,1,1)","v":0},{"$f":"G231+G232+G233","v":0},0,100,0,0,0,0,0,0,0,0,0,0]
[null,null,"Valore di subentro LIC",null,null,null,{"$f":"IF(G$4=ScadenzaConcessione,G234,0)","v":0},0,0,0,0,0,0,0,0,0,0,0,0]
[null,null,"Remunerazione LIC",null,null,null,{"$f":"G231*G$20*G$10","v":0},0,0,4.3499999999999996,0,0,0,0,0,0,0,0,0]
[]
[null,null,"CIN investimenti (lordo contributi e subentro, netto dismissioni) bop (amm. a vite utili)",null,"precedenti",null,{"$f":"F242","v":0},{"$f":"G242","v":0},{"$f":"H242","v":0},{"$f":"I242","v":0},{"$f":"J242","v":400},{"$f":"K242","v":390},{"$f":"L242","v":380},{"$f":"M242","v":370},{"$f":"N242","v":360},{"$f":"O242","v":350},{"$f":"P242","v":340},{"$f":"Q242","v":330},{"$f":"R242","v":320}]
[null,null,"Investimenti entrati in esercizio (amm.a vite utili)",null,{"$f":"SUM(OFFSET(INDIRECT($F222 & \"inv\"),0,3,1,IF(EsistePrev,AnnoPonte-UltimoAnnoRTP,1)))","v":0},null,{"$f":"-G226-G233","v":0},{"$f":"-H226-H233","v":0},0,400,0,0,0,0,0,0,0,0,0]
[null,null,"Dismissioni",null,{"$f":"-SUM(OFFSET(INDIRECT($F222&\"dism\"),0,3,1,IF(EsistePrev,AnnoPonte-UltimoAnnoRTP,1)))","v":0},null,{"$f":"SUMIFS(\n'Z0.6.c ProgInvest_Dism agg'!Z:Z,\n'Z0.6.c ProgInvest_Dism agg'!$K:$K,$C222,\n'Z0.6.c ProgInvest_Dism agg'!$M:$M,$D$145,\n'Z0.6.c ProgInvest_Dism agg'!$L:$L,\"in corso\",\n'Z0.6.c ProgInvest_Dism agg'!$O:$O,\"vite utili 1\")\n+SUMIFS(\n'Z0.6.c ProgInvest_Dism agg'!Z:Z,\n'Z0.6.c ProgInvest_Dism agg'!$K:$K,$C222,\n'Z0.6.c ProgInvest_Dism agg'!$M:$M,$D$145,\n'Z0.6.c ProgInvest_Dism agg'!$L:$L,\"in corso\",\n'Z0.6.c ProgInvest_Dism agg'!$O:$O,\"vite utili 2\")","v":0},{"$f":"SUMIFS(\n'Z0.6.c ProgInvest_Dism agg'!AA:AA,\n'Z0.6.c ProgInvest_Dism agg'!$K:$K,$C222,\n'Z0.6.c ProgInvest_Dism agg'!$M:$M,$D$145,\n'Z0.6.c ProgInvest_Dism agg'!$L:$L,\"in corso\",\n'Z0.6.c ProgInvest_Dism agg'!$O:$O,\"vite utili 1\")\n+SUMIFS(\n'Z0.6.c ProgInvest_Dism agg'!AA:AA,\n'Z0.6.c ProgInvest_Dism agg'!$K:$K,$C222,\n'Z0.6.c ProgInvest_Dism agg'!$M:$M,$D$145,\n'Z0.6.c ProgInvest_Dism agg'!$L:$L,\"in corso\",\n'Z0.6.c ProgInvest_Dism agg'!$O:$O,\"vite utili 2\")","v":0},{"$f":"SUMIFS(\n'Z0.6.c ProgInvest_Dism agg'!AB:AB,\n'Z0.6.c ProgInvest_Dism agg'!$K:$K,$C222,\n'Z0.6.c ProgInvest_Dism agg'!$M:$M,$D$145,\n'Z0.6.c ProgInvest_Dism agg'!$L:$L,\"in corso\",\n'Z0.6.c ProgInvest_Dism agg'!$O:$O,\"vite utili 1\")\n+SUMIFS(\n'Z0.6.c ProgInvest_Dism agg'!AB:AB,\n'Z0.6.c ProgInvest_Dism agg'!$K:$K,$C222,\n'Z0.6.c ProgInvest_Dism agg'!$M:$M,$D$145,\n'Z0.6.c ProgInvest_Dism agg'!$L:$L,\"in corso\",\n'Z0.6.c ProgInvest_Dism agg'!$O:$O,\"vite utili 2\")","v":0},{"$f":"SUMIFS(\n'Z0.6.c ProgInvest_Dism agg'!AC:AC,\n'Z0.6.c ProgInvest_Dism agg'!$K:$K,$C222,\n'Z0.6.c ProgInvest_Dism agg'!$M:$M,$D$145,\n'Z0.6.c ProgInvest_Dism agg'!$L:$L,\"in corso\",\n'Z0.6.c ProgInvest_Dism agg'!$O:$O,\"vite utili 1\")\n+SUMIFS(\n'Z0.6.c ProgInvest_Dism agg'!AC:AC,\n'Z0.6.c ProgInvest_Dism agg'!$K:$K,$C222,\n'Z0.6.c ProgInvest_Dism agg'!$M:$M,$D$145,\n'Z0.6.c ProgInvest_Dism agg'!$L:$L,\"in corso\",\n'Z0.6.c ProgInvest_Dism agg'!$O:$O,\"vite utili 2\")","v":0},{"$f":"SUMIFS(\n'Z0.6.c ProgInvest_Dism agg'!AD:AD,\n'Z0.6.c ProgInvest_Dism agg'!$K:$K,$C222,\n'Z0.6.c ProgInvest_Dism agg'!$M:$M,$D$145,\n'Z0.6.c ProgInvest_Dism agg'!$L:$L,\"in corso\",\n'Z0.6.c ProgInvest_Dism agg'!$O:$O,\"vite utili 1\")\n+SUMIFS(\n'Z0.6.c ProgInvest_Dism agg'!AD:AD,\n'Z0.6.c ProgInvest_Dism agg'!$K:$K,$C222,\n'Z0.6.c ProgInvest_Dism agg'!$M:$M,$D$145,\n'Z0.6.c ProgInvest_Dism agg'!$L:$L,\"in corso\",\n'Z0.6.c ProgInvest_Dism agg'!$O:$O,\"vite utili 2\")","v":0},{"$f":"SUMIFS(\n'Z0.6.c ProgInvest_Dism agg'!AE:AE,\n'Z0.6.c ProgInvest_Dism agg'!$K:$K,$C222,\n'Z0.6.c ProgInvest_Dism agg'!$M:$M,$D$145,\n'Z0.6.c ProgInvest_Dism agg'!$L:$L,\"in corso\",\n'Z0.6.c ProgInvest_Dism agg'!$O:$O,\"vite utili 1\")\n+SUMIFS(\n'Z0.6.c ProgInvest_Dism agg'!AE:AE,\n'Z0.6.c ProgInvest_Dism agg'!$K:$K,$C222,\n'Z0.6.c ProgInvest_Dism agg'!$M:$M,$D$145,\n'Z0.6.c ProgInvest_Dism agg'!$L:$L,\"in corso\",\n'Z0.6.c ProgInvest_Dism agg'!$O:$O,\"vite utili 2\")","v":0},{"$f":"SUMIFS(\n'Z0.6.c ProgInvest_Dism agg'!AF:AF,\n'Z0.6.c ProgInvest_Dism agg'!$K:$K,$C222,\n'Z0.6.c ProgInvest_Dism agg'!$M:$M,$D$145,\n'Z0.6.c ProgInvest_Dism agg'!$L:$L,\"in corso\",\n'Z0.6.c ProgInvest_Dism agg'!$O:$O,\"vite utili 1\")\n+SUMIFS(\n'Z0.6.c ProgInvest_Dism agg'!AF:AF,\n'Z0.6.c ProgInvest_Dism agg'!$K:$K,$C222,\n'Z0.6.c ProgInvest_Dism agg'!$M:$M,$D$145,\n'Z0.6.c ProgInvest_Dism agg'!$L:$L,\"in corso\",\n'Z0.6.c ProgInvest_Dism agg'!$O:$O,\"vite utili 2\")","v":0},{"$f":"SUMIFS(\n'Z0.6.c ProgInvest_Dism agg'!AG:AG,\n'Z0.6.c ProgInvest_Dism agg'!$K:$K,$C222,\n'Z0.6.c ProgInvest_Dism agg'!$M:$M,$D$145,\n'Z0.6.c ProgInvest_Dism agg'!$L:$L,\"in corso\",\n'Z0.6.c ProgInvest_Dism agg'!$O:$O,\"vite utili 1\")\n+SUMIFS(\n'Z0.6.c ProgInvest_Dism agg'!AG:AG,\n'Z0.6.c ProgInvest_Dism agg'!$K:$K,$C222,\n'Z0.6.c ProgInvest_Dism agg'!$M:$M,$D$145,\n'Z0.6.c ProgInvest_Dism agg'!$L:$L,\"in corso\",\n'Z0.6.c ProgInvest_Dism agg'!$O:$O,\"vite utili 2\")","v":0},{"$f":"SUMIFS(\n'Z0.6.c ProgInvest_Dism agg'!AH:AH,\n'Z0.6.c ProgInvest_Dism agg'!$K:$K,$C222,\n'Z0.6.c ProgInvest_Dism agg'!$M:$M,$D$145,\n'Z0.6.c ProgInvest_Dism agg'!$L:$L,\"in corso\",\n'Z0.6.c ProgInvest_Dism agg'!$O:$O,\"vite utili 1\")\n+SUMIFS(\n'Z0.6.c ProgInvest_Dism agg'!AH:AH,\n'Z0.6.c ProgInvest_Dism agg'!$K:$K,$C222,\n'Z0.6.c ProgInvest_Dism agg'!$M:$M,$D$145,\n'Z0.6.c ProgInvest_Dism agg'!$L:$L,\"in corso\",\n'Z0.6.c ProgInvest_Dism agg'!$O:$O,\"vite utili 2\")","v":0},{"$f":"SUMIFS(\n'Z0.6.c ProgInvest_Dism agg'!AI:AI,\n'Z0.6.c ProgInvest_Dism agg'!$K:$K,$C222,\n'Z0.6.c ProgInvest_Dism agg'!$M:$M,$D$145,\n'Z0.6.c ProgInvest_Dism agg'!$L:$L,\"in corso\",\n'Z0.6.c ProgInvest_Dism agg'!$O:$O,\"vite utili 1\")\n+SUMIFS(\n'Z0.6.c ProgInvest_Dism agg'!AI:AI,\n'Z0.6.c ProgInvest_Dism agg'!$K:$K,$C222,\n'Z0.6.c ProgInvest_Dism agg'!$M:$M,$D$145,\n'Z0.6.c ProgInvest_Dism agg'!$L:$L,\"in corso\",\n'Z0.6.c ProgInvest_Dism agg'!$O:$O,\"vite utili 2\")","v":0},{"$f":"SUMIFS(\n'Z0.6.c ProgInvest_Dism agg'!AJ:AJ,\n'Z0.6.c ProgInvest_Dism agg'!$K:$K,$C222,\n'Z0.6.c ProgInvest_Dism agg'!$M:$M,$D$145,\n'Z0.6.c ProgInvest_Dism agg'!$L:$L,\"in corso\",\n'Z0.6.c ProgInvest_Dism agg'!$O:$O,\"vite utili 1\")\n+SUMIFS(\n'Z0.6.c ProgInvest_Dism agg'!AJ:AJ,\n'Z0.6.c ProgInvest_Dism agg'!$K:$K,$C222,\n'Z0.6.c ProgInvest_Dism agg'!$M:$M,$D$145,\n'Z0.6.c ProgInvest_Dism agg'!$L:$L,\"in corso\",\n'Z0.6.c ProgInvest_Dism agg'!$O:$O,\"vite utili 2\")","v":0},{"$f":"SUMIFS(\n'Z0.6.c ProgInvest_Dism agg'!AK:AK,\n'Z0.6.c ProgInvest_Dism agg'!$K:$K,$C222,\n'Z0.6.c ProgInvest_Dism agg'!$M:$M,$D$145,\n'Z0.6.c ProgInvest_Dism agg'!$L:$L,\"in corso\",\n'Z0.6.c ProgInvest_Dism agg'!$O:$O,\"vite utili 1\")\n+SUMIFS(\n'Z0.6.c ProgInvest_Dism agg'!AK:AK,\n'Z0.6.c ProgInvest_Dism agg'!$K:$K,$C222,\n'Z0.6.c ProgInvest_Dism agg'!$M:$M,$D$145,\n'Z0.6.c ProgInvest_Dism agg'!$L:$L,\"in corso\",\n'Z0.6.c ProgInvest_Dism agg'!$O:$O,\"vite utili 2\")","v":0},{"$f":"SUMIFS(\n'Z0.6.c ProgInvest_Dism agg'!AL:AL,\n'Z0.6.c ProgInvest_Dism agg'!$K:$K,$C222,\n'Z0.6.c ProgInvest_Dism agg'!$M:$M,$D$145,\n'Z0.6.c ProgInvest_Dism agg'!$L:$L,\"in corso\",\n'Z0.6.c ProgInvest_Dism agg'!$O:$O,\"vite utili 1\")\n+SUMIFS(\n'Z0.6.c ProgInvest_Dism agg'!AL:AL,\n'Z0.6.c ProgInvest_Dism agg'!$K:$K,$C222,\n'Z0.6.c ProgInvest_Dism agg'!$M:$M,$D$145,\n'Z0.6.c ProgInvest_Dism agg'!$L:$L,\"in corso\",\n'Z0.6.c ProgInvest_Dism agg'!$O:$O,\"vite utili 2\")","v":20}]
[null,null,"Ammortamento (a vite utili)",null,{"$f":"SUM(OFFSET(INDIRECT($F222 & \"inv\"),2,3,1,IF(EsistePrev,AnnoPonte-UltimoAnnoRTP,1)))","v":0},null,{"$f":"MIN(G238,IF(F$4-UltimoAnnoRTP<=$D222,\n(SUM($F239:F239)+SUM(OFFSET(INDIRECT($F222 & \"inv\"),0,3,1,IF(EsistePrev,AnnoPonte-UltimoAnnoRTP,1)))\n-SUM($F240:F240)-SUM(OFFSET(INDIRECT($F222 & \"dism\"),0,3,1,IF(EsistePrev,AnnoPonte-UltimoAnnoRTP,1))))/$D222,\n\nIF(AND(F$4-UltimoAnnoRTP>$D222,F$4-AnnoPonte<=$D222),\n(SUM($F239:F239)+SUM(IFERROR(OFFSET(INDIRECT($F222 & \"inv\"),0,3+(F$4-UltimoAnnoRTP-$D222),1,(IF(EsistePrev,AnnoPonte-UltimoAnnoRTP,1)-(F$4-UltimoAnnoRTP-$D222))),0))\n-SUM($F240:F240)-SUM(IFERROR(OFFSET(INDIRECT($F222 & \"dism\"),0,3+(F$4-UltimoAnnoRTP-$D222),1,(IF(EsistePrev,AnnoPonte-UltimoAnnoRTP,1)-(F$4-UltimoAnnoRTP-$D222))),0)))/$D222,\n\n(SUM(OFFSET(F239,0,-$D222+1,1,$D222))\n-SUM(OFFSET(F240,0,-$D222+1,1,$D222)))/$D222)))","v":0},{"$f":"MIN(H238,IF(G$4-UltimoAnnoRTP<=$D222,\n(SUM($F239:G239)+SUM(OFFSET(INDIRECT($F222 & \"inv\"),0,3,1,IF(EsistePrev,AnnoPonte-UltimoAnnoRTP,1)))\n-SUM($F240:G240)-SUM(OFFSET(INDIRECT($F222 & \"dism\"),0,3,1,IF(EsistePrev,AnnoPonte-UltimoAnnoRTP,1))))/$D222,\n\nIF(AND(G$4-UltimoAnnoRTP>$D222,G$4-AnnoPonte<=$D222),\n(SUM($F239:G239)+SUM(IFERROR(OFFSET(INDIRECT($F222 & \"inv\"),0,3+(G$4-UltimoAnnoRTP-$D222),1,(IF(EsistePrev,AnnoPonte-UltimoAnnoRTP,1)-(G$4-UltimoAnnoRTP-$D222))),0))\n-SUM($F240:G240)-SUM(IFERROR(OFFSET(INDIRECT($F222 & \"dism\"),0,3+(G$4-UltimoAnnoRTP-$D222),1,(IF(EsistePrev,AnnoPonte-UltimoAnnoRTP,1)-(G$4-UltimoAnnoRTP-$D222))),0)))/$D222,\n\n(SUM(OFFSET(G239,0,-$D222+1,1,$D222))\n-SUM(OFFSET(G240,0,-$D222+1,1,$D222)))/$D222)))","v":0},{"$f":"MIN(I238,IF(H$4-UltimoAnnoRTP<=$D222,\n(SUM($F239:H239)+SUM(OFFSET(INDIRECT($F222 & \"inv\"),0,3,1,IF(EsistePrev,AnnoPonte-UltimoAnnoRTP,1)))\n-SUM($F240:H240)-SUM(OFFSET(INDIRECT($F222 & \"dism\"),0,3,1,IF(EsistePrev,AnnoPonte-UltimoAnnoRTP,1))))/$D222,\n\nIF(AND(H$4-UltimoAnnoRTP>$D222,H$4-AnnoPonte<=$D222),\n(SUM($F239:H239)+SUM(IFERROR(OFFSET(INDIRECT($F222 & \"inv\"),0,3+(H$4-UltimoAnnoRTP-$D222),1,(IF(EsistePrev,AnnoPonte-UltimoAnnoRTP,1)-(H$4-UltimoAnnoRTP-$D222))),0))\n-SUM($F240:H240)-SUM(IFERROR(OFFSET(INDIRECT($F222 & \"dism\"),0,3+(H$4-UltimoAnnoRTP-$D222),1,(IF(EsistePrev,AnnoPonte-UltimoAnnoRTP,1)-(H$4-UltimoAnnoRTP-$D222))),0)))/$D222,\n\n(SUM(OFFSET(H239,0,-$D222+1,1,$D222))\n-SUM(OFFSET(H240,0,-$D222+1,1,$D222)))/$D222)))","v":0},{"$f":"MIN(J238,IF(I$4-UltimoAnnoRTP<=$D222,\n(SUM($F239:I239)+SUM(OFFSET(INDIRECT($F222 & \"inv\"),0,3,1,IF(EsistePrev,AnnoPonte-UltimoAnnoRTP,1)))\n-SUM($F240:I240)-SUM(OFFSET(INDIRECT($F222 & \"dism\"),0,3,1,IF(EsistePrev,AnnoPonte-UltimoAnnoRTP,1))))/$D222,\n\nIF(AND(I$4-UltimoAnnoRTP>$D222,I$4-AnnoPonte<=$D222),\n(SUM($F239:I239)+SUM(IFERROR(OFFSET(INDIRECT($F222 & \"inv\"),0,3+(I$4-UltimoAnnoRTP-$D222),1,(IF(EsistePrev,AnnoPonte-UltimoAnnoRTP,1)-(I$4-UltimoAnnoRTP-$D222))),0))\n-SUM($F240:I240)-SUM(IFERROR(OFFSET(INDIRECT($F222 & \"dism\"),0,3+(I$4-UltimoAnnoRTP-$D222),1,(IF(EsistePrev,AnnoPonte-UltimoAnnoRTP,1)-(I$4-UltimoAnnoRTP-$D222))),0)))/$D222,\n\n(SUM(OFFSET(I239,0,-$D222+1,1,$D222))\n-SUM(OFFSET(I240,0,-$D222+1,1,$D222)))/$D222)))","v":0},{"$f":"MIN(K238,IF(J$4-UltimoAnnoRTP<=$D222,\n(SUM($F239:J239)+SUM(OFFSET(INDIRECT($F222 & \"inv\"),0,3,1,IF(EsistePrev,AnnoPonte-UltimoAnnoRTP,1)))\n-SUM($F240:J240)-SUM(OFFSET(INDIRECT($F222 & \"dism\"),0,3,1,IF(EsistePrev,AnnoPonte-UltimoAnnoRTP,1))))/$D222,\n\nIF(AND(J$4-UltimoAnnoRTP>$D222,J$4-AnnoPonte<=$D222),\n(SUM($F239:J239)+SUM(IFERROR(OFFSET(INDIRECT($F222 & \"inv\"),0,3+(J$4-UltimoAnnoRTP-$D222),1,(IF(EsistePrev,AnnoPonte-UltimoAnnoRTP,1)-(J$4-UltimoAnnoRTP-$D222))),0))\n-SUM($F240:J240)-SUM(IFERROR(OFFSET(INDIRECT($F222 & \"dism\"),0,3+(J$4-UltimoAnnoRTP-$D222),1,(IF(EsistePrev,AnnoPonte-UltimoAnnoRTP,1)-(J$4-UltimoAnnoRTP-$D222))),0)))/$D222,\n\n(SUM(OFFSET(J239,0,-$D222+1,1,$D222))\n-SUM(OFFSET(J240,0,-$D222+1,1,$D222)))/$D222)))","v":10},{"$f":"MIN(L238,IF(K$4-UltimoAnnoRTP<=$D222,\n(SUM($F239:K239)+SUM(OFFSET(INDIRECT($F222 & \"inv\"),0,3,1,IF(EsistePrev,AnnoPonte-UltimoAnnoRTP,1)))\n-SUM($F240:K240)-SUM(OFFSET(INDIRECT($F222 & \"dism\"),0,3,1,IF(EsistePrev,AnnoPonte-UltimoAnnoRTP,1))))/$D222,\n\nIF(AND(K$4-UltimoAnnoRTP>$D222,K$4-AnnoPonte<=$D222),\n(SUM($F239:K239)+SUM(IFERROR(OFFSET(INDIRECT($F222 & \"inv\"),0,3+(K$4-UltimoAnnoRTP-$D222),1,(IF(EsistePrev,AnnoPonte-UltimoAnnoRTP,1)-(K$4-UltimoAnnoRTP-$D222))),0))\n-SUM($F240:K240)-SUM(IFERROR(OFFSET(INDIRECT($F222 & \"dism\"),0,3+(K$4-UltimoAnnoRTP-$D222),1,(IF(EsistePrev,AnnoPonte-UltimoAnnoRTP,1)-(K$4-UltimoAnnoRTP-$D222))),0)))/$D222,\n\n(SUM(OFFSET(K239,0,-$D222+1,1,$D222))\n-SUM(OFFSET(K240,0,-$D222+1,1,$D222)))/$D222)))","v":10},{"$f":"MIN(M238,IF(L$4-UltimoAnnoRTP<=$D222,\n(SUM($F239:L239)+SUM(OFFSET(INDIRECT($F222 & \"inv\"),0,3,1,IF(EsistePrev,AnnoPonte-UltimoAnnoRTP,1)))\n-SUM($F240:L240)-SUM(OFFSET(INDIRECT($F222 & \"dism\"),0,3,1,IF(EsistePrev,AnnoPonte-UltimoAnnoRTP,1))))/$D222,\n\nIF(AND(L$4-UltimoAnnoRTP>$D222,L$4-AnnoPonte<=$D222),\n(SUM($F239:L239)+SUM(IFERROR(OFFSET(INDIRECT($F222 & \"inv\"),0,3+(L$4-UltimoAnnoRTP-$D222),1,(IF(EsistePrev,AnnoPonte-UltimoAnnoRTP,1)-(L$4-UltimoAnnoRTP-$D222))),0))\n-SUM($F240:L240)-SUM(IFERROR(OFFSET(INDIRECT($F222 & \"dism\"),0,3+(L$4-UltimoAnnoRTP-$D222),1,(IF(EsistePrev,AnnoPonte-UltimoAnnoRTP,1)-(L$4-UltimoAnnoRTP-$D222))),0)))/$D222,\n\n(SUM(OFFSET(L239,0,-$D222+1,1,$D222))\n-SUM(OFFSET(L240,0,-$D222+1,1,$D222)))/$D222)))","v":10},{"$f":"MIN(N238,IF(M$4-UltimoAnnoRTP<=$D222,\n(SUM($F239:M239)+SUM(OFFSET(INDIRECT($F222 & \"inv\"),0,3,1,IF(EsistePrev,AnnoPonte-UltimoAnnoRTP,1)))\n-SUM($F240:M240)-SUM(OFFSET(INDIRECT($F222 & \"dism\"),0,3,1,IF(EsistePrev,AnnoPonte-UltimoAnnoRTP,1))))/$D222,\n\nIF(AND(M$4-UltimoAnnoRTP>$D222,M$4-AnnoPonte<=$D222),\n(SUM($F239:M239)+SUM(IFERROR(OFFSET(INDIRECT($F222 & \"inv\"),0,3+(M$4-UltimoAnnoRTP-$D222),1,(IF(EsistePrev,AnnoPonte-UltimoAnnoRTP,1)-(M$4-UltimoAnnoRTP-$D222))),0))\n-SUM($F240:M240)-SUM(IFERROR(OFFSET(INDIRECT($F222 & \"dism\"),0,3+(M$4-UltimoAnnoRTP-$D222),1,(IF(EsistePrev,AnnoPonte-UltimoAnnoRTP,1)-(M$4-UltimoAnnoRTP-$D222))),0)))/$D222,\n\n(SUM(OFFSET(M239,0,-$D222+1,1,$D222))\n-SUM(OFFSET(M240,0,-$D222+1,1,$D222)))/$D222)))","v":10},{"$f":"MIN(O238,IF(N$4-UltimoAnnoRTP<=$D222,\n(SUM($F239:N239)+SUM(OFFSET(INDIRECT($F222 & \"inv\"),0,3,1,IF(EsistePrev,AnnoPonte-UltimoAnnoRTP,1)))\n-SUM($F240:N240)-SUM(OFFSET(INDIRECT($F222 & \"dism\"),0,3,1,IF(EsistePrev,AnnoPonte-UltimoAnnoRTP,1))))/$D222,\n\nIF(AND(N$4-UltimoAnnoRTP>$D222,N$4-AnnoPonte<=$D222),\n(SUM($F239:N239)+SUM(IFERROR(OFFSET(INDIRECT($F222 & \"inv\"),0,3+(N$4-UltimoAnnoRTP-$D222),1,(IF(EsistePrev,AnnoPonte-UltimoAnnoRTP,1)-(N$4-UltimoAnnoRTP-$D222))),0))\n-SUM($F240:N240)-SUM(IFERROR(OFFSET(INDIRECT($F222 & \"dism\"),0,3+(N$4-UltimoAnnoRTP-$D222),1,(IF(EsistePrev,AnnoPonte-UltimoAnnoRTP,1)-(N$4-UltimoAnnoRTP-$D222))),0)))/$D222,\n\n(SUM(OFFSET(N239,0,-$D222+1,1,$D222))\n-SUM(OFFSET(N240,0,-$D222+1,1,$D222)))/$D222)))","v":10},{"$f":"MIN(P238,IF(O$4-UltimoAnnoRTP<=$D222,\n(SUM($F239:O239)+SUM(OFFSET(INDIRECT($F222 & \"inv\"),0,3,1,IF(EsistePrev,AnnoPonte-UltimoAnnoRTP,1)))\n-SUM($F240:O240)-SUM(OFFSET(INDIRECT($F222 & \"dism\"),0,3,1,IF(EsistePrev,AnnoPonte-UltimoAnnoRTP,1))))/$D222,\n\nIF(AND(O$4-UltimoAnnoRTP>$D222,O$4-AnnoPonte<=$D222),\n(SUM($F239:O239)+SUM(IFERROR(OFFSET(INDIRECT($F222 & \"inv\"),0,3+(O$4-UltimoAnnoRTP-$D222),1,(IF(EsistePrev,AnnoPonte-UltimoAnnoRTP,1)-(O$4-UltimoAnnoRTP-$D222))),0))\n-SUM($F240:O240)-SUM(IFERROR(OFFSET(INDIRECT($F222 & \"dism\"),0,3+(O$4-UltimoAnnoRTP-$D222),1,(IF(EsistePrev,AnnoPonte-UltimoAnnoRTP,1)-(O$4-UltimoAnnoRTP-$D222))),0)))/$D222,\n\n(SUM(OFFSET(O239,0,-$D222+1,1,$D222))\n-SUM(OFFSET(O240,0,-$D222+1,1,$D222)))/$D222)))","v":10},{"$f":"MIN(Q238,IF(P$4-UltimoAnnoRTP<=$D222,\n(SUM($F239:P239)+SUM(OFFSET(INDIRECT($F222 & \"inv\"),0,3,1,IF(EsistePrev,AnnoPonte-UltimoAnnoRTP,1)))\n-SUM($F240:P240)-SUM(OFFSET(INDIRECT($F222 & \"dism\"),0,3,1,IF(EsistePrev,AnnoPonte-UltimoAnnoRTP,1))))/$D222,\n\nIF(AND(P$4-UltimoAnnoRTP>$D222,P$4-AnnoPonte<=$D222),\n(SUM($F239:P239)+SUM(IFERROR(OFFSET(INDIRECT($F222 & \"inv\"),0,3+(P$4-UltimoAnnoRTP-$D222),1,(IF(EsistePrev,AnnoPonte-UltimoAnnoRTP,1)-(P$4-UltimoAnnoRTP-$D222))),0))\n-SUM($F240:P240)-SUM(IFERROR(OFFSET(INDIRECT($F222 & \"dism\"),0,3+(P$4-UltimoAnnoRTP-$D222),1,(IF(EsistePrev,AnnoPonte-UltimoAnnoRTP,1)-(P$4-UltimoAnnoRTP-$D222))),0)))/$D222,\n\n(SUM(OFFSET(P239,0,-$D222+1,1,$D222))\n-SUM(OFFSET(P240,0,-$D222+1,1,$D222)))/$D222)))","v":10},{"$f":"MIN(R238,IF(Q$4-UltimoAnnoRTP<=$D222,\n(SUM($F239:Q239)+SUM(OFFSET(INDIRECT($F222 & \"inv\"),0,3,1,IF(EsistePrev,AnnoPonte-UltimoAnnoRTP,1)))\n-SUM($F240:Q240)-SUM(OFFSET(INDIRECT($F222 & \"dism\"),0,3,1,IF(EsistePrev,AnnoPonte-UltimoAnnoRTP,1))))/$D222,\n\nIF(AND(Q$4-UltimoAnnoRTP>$D222,Q$4-AnnoPonte<=$D222),\n(SUM($F239:Q239)+SUM(IFERROR(OFFSET(INDIRECT($F222 & \"inv\"),0,3+(Q$4-UltimoAnnoRTP-$D222),1,(IF(EsistePrev,AnnoPonte-UltimoAnnoRTP,1)-(Q$4-UltimoAnnoRTP-$D222))),0))\n-SUM($F240:Q240)-SUM(IFERROR(OFFSET(INDIRECT($F222 & \"dism\"),0,3+(Q$4-UltimoAnnoRTP-$D222),1,(IF(EsistePrev,AnnoPonte-UltimoAnnoRTP,1)-(Q$4-UltimoAnnoRTP-$D222))),0)))/$D222,\n\n(SUM(OFFSET(Q239,0,-$D222+1,1,$D222))\n-SUM(OFFSET(Q240,0,-$D222+1,1,$D222)))/$D222)))","v":10},{"$f":"MIN(S238,IF(R$4-UltimoAnnoRTP<=$D222,\n(SUM($F239:R239)+SUM(OFFSET(INDIRECT($F222 & \"inv\"),0,3,1,IF(EsistePrev,AnnoPonte-UltimoAnnoRTP,1)))\n-SUM($F240:R240)-SUM(OFFSET(INDIRECT($F222 & \"dism\"),0,3,1,IF(EsistePrev,AnnoPonte-UltimoAnnoRTP,1))))/$D222,\n\nIF(AND(R$4-UltimoAnnoRTP>$D222,R$4-AnnoPonte<=$D222),\n(SUM($F239:R239)+SUM(IFERROR(OFFSET(INDIRECT($F222 & \"inv\"),0,3+(R$4-UltimoAnnoRTP-$D222),1,(IF(EsistePrev,AnnoPonte-UltimoAnnoRTP,1)-(R$4-UltimoAnnoRTP-$D222))),0))\n-SUM($F240:R240)-SUM(IFERROR(OFFSET(INDIRECT($F222 & \"dism\"),0,3+(R$4-UltimoAnnoRTP-$D222),1,(IF(EsistePrev,AnnoPonte-UltimoAnnoRTP,1)-(R$4-UltimoAnnoRTP-$D222))),0)))/$D222,\n\n(SUM(OFFSET(R239,0,-$D222+1,1,$D222))\n-SUM(OFFSET(R240,0,-$D222+1,1,$D222)))/$D222)))","v":10}]
[null,null,"CIN investimenti (lordo contributi, netto dismissioni) eop (amm. a vite utili)",null,null,{"$f":"OFFSET(INDIRECT($F222 & \"inv\"),3,2+AnnoPonte-UltimoAnnoRTP,1,1)","v":0},{"$f":"G238+G239-G240-G241","v":0},0,0,400,390,380,370,360,350,340,330,320,290]
[null,null,"Remunerazione CIN investimenti",null,null,null,{"$f":"(G238-F244)*G$17*G$10","v":0},{"$f":"(H238-G244)*H$17*H$10","v":0},{"$f":"(I238-H244)*I$17*I$10","v":0},{"$f":"(J238-I244)*J$17*J$10","v":0},{"$f":"(K238-J244)*K$17*K$10","v":6.7590000000000003},{"$f":"(L238-K244)*L$17*L$10","v":6.008},{"$f":"(M238-L244)*M$17*M$10","v":5.2569999999999997},{"$f":"(N238-M244)*N$17*N$10","v":4.5060000000000002},{"$f":"(O238-N244)*O$17*O$10","v":3.7549999999999999},{"$f":"(P238-O244)*P$17*P$10","v":3.004},{"$f":"(Q238-P244)*Q$17*Q$10","v":2.2530000000000001},{"$f":"(R238-Q244)*R$17*R$10","v":1.502},{"$f":"(S238-R244)*S$17*S$10","v":0.751}]
[null,null,"Valore di subentro investimenti (lordo contributi) - cumulato",null,null,{"$f":"OFFSET(INDIRECT($F222 & \"inv\"),5,2+AnnoPonte-UltimoAnnoRTP,1,1)","v":0},{"$f":"IF(MAX(-SUM(OFFSET($G240,0,0,1,ScadenzaConcessione-AnnoPonte)),F244+(G239-G240)/$D222*($D222-(ScadenzaConcessione-G$4)))<0,0,MAX(-SUM(OFFSET($G240,0,0,1,ScadenzaConcessione-AnnoPonte)),F244+(G239-G240)/$D222*($D222-(ScadenzaConcessione-G$4))))","v":0},{"$f":"IF(MAX(-SUM(OFFSET($G240,0,0,1,ScadenzaConcessione-AnnoPonte)),G244+(H239-H240)/$D222*($D222-(ScadenzaConcessione-H$4)))<0,0,MAX(-SUM(OFFSET($G240,0,0,1,ScadenzaConcessione-AnnoPonte)),G244+(H239-H240)/$D222*($D222-(ScadenzaConcessione-H$4))))","v":0},{"$f":"IF(MAX(-SUM(OFFSET($G240,0,0,1,ScadenzaConcessione-AnnoPonte)),H244+(I239-I240)/$D222*($D222-(ScadenzaConcessione-I$4)))<0,0,MAX(-SUM(OFFSET($G240,0,0,1,ScadenzaConcessione-AnnoPonte)),H244+(I239-I240)/$D222*($D222-(ScadenzaConcessione-I$4))))","v":0},{"$f":"IF(MAX(-SUM(OFFSET($G240,0,0,1,ScadenzaConcessione-AnnoPonte)),I244+(J239-J240)/$D222*($D222-(ScadenzaConcessione-J$4)))<0,0,MAX(-SUM(OFFSET($G240,0,0,1,ScadenzaConcessione-AnnoPonte)),I244+(J239-J240)/$D222*($D222-(ScadenzaConcessione-J$4))))","v":310},{"$f":"IF(MAX(-SUM(OFFSET($G240,0,0,1,ScadenzaConcessione-AnnoPonte)),J244+(K239-K240)/$D222*($D222-(ScadenzaConcessione-K$4)))<0,0,MAX(-SUM(OFFSET($G240,0,0,1,ScadenzaConcessione-AnnoPonte)),J244+(K239-K240)/$D222*($D222-(ScadenzaConcessione-K$4))))","v":310},{"$f":"IF(MAX(-SUM(OFFSET($G240,0,0,1,ScadenzaConcessione-AnnoPonte)),K244+(L239-L240)/$D222*($D222-(ScadenzaConcessione-L$4)))<0,0,MAX(-SUM(OFFSET($G240,0,0,1,ScadenzaConcessione-AnnoPonte)),K244+(L239-L240)/$D222*($D222-(ScadenzaConcessione-L$4))))","v":310},{"$f":"IF(MAX(-SUM(OFFSET($G240,0,0,1,ScadenzaConcessione-AnnoPonte)),L244+(M239-M240)/$D222*($D222-(ScadenzaConcessione-M$4)))<0,0,MAX(-SUM(OFFSET($G240,0,0,1,ScadenzaConcessione-AnnoPonte)),L244+(M239-M240)/$D222*($D222-(ScadenzaConcessione-M$4))))","v":310},{"$f":"IF(MAX(-SUM(OFFSET($G240,0,0,1,ScadenzaConcessione-AnnoPonte)),M244+(N239-N240)/$D222*($D222-(ScadenzaConcessione-N$4)))<0,0,MAX(-SUM(OFFSET($G240,0,0,1,ScadenzaConcessione-AnnoPonte)),M244+(N239-N240)/$D222*($D222-(ScadenzaConcessione-N$4))))","v":310},{"$f":"IF(MAX(-SUM(OFFSET($G240,0,0,1,ScadenzaConcessione-AnnoPonte)),N244+(O239-O240)/$D222*($D222-(ScadenzaConcessione-O$4)))<0,0,MAX(-SUM(OFFSET($G240,0,0,1,ScadenzaConcessione-AnnoPonte)),N244+(O239-O240)/$D222*($D222-(ScadenzaConcessione-O$4))))","v":310},{"$f":"IF(MAX(-SUM(OFFSET($G240,0,0,1,ScadenzaConcessione-AnnoPonte)),O244+(P239-P240)/$D222*($D222-(ScadenzaConcessione-P$4)))<0,0,MAX(-SUM(OFFSET($G240,0,0,1,ScadenzaConcessione-AnnoPonte)),O244+(P239-P240)/$D222*($D222-(ScadenzaConcessione-P$4))))","v":310},{"$f":"IF(MAX(-SUM(OFFSET($G240,0,0,1,ScadenzaConcessione-AnnoPonte)),P244+(Q239-Q240)/$D222*($D222-(ScadenzaConcessione-Q$4)))<0,0,MAX(-SUM(OFFSET($G240,0,0,1,ScadenzaConcessione-AnnoPonte)),P244+(Q239-Q240)/$D222*($D222-(ScadenzaConcessione-Q$4))))","v":310},{"$f":"IF(MAX(-SUM(OFFSET($G240,0,0,1,ScadenzaConcessione-AnnoPonte)),Q244+(R239-R240)/$D222*($D222-(ScadenzaConcessione-R$4)))<0,0,MAX(-SUM(OFFSET($G240,0,0,1,ScadenzaConcessione-AnnoPonte)),Q244+(R239-R240)/$D222*($D222-(ScadenzaConcessione-R$4))))","v":310},{"$f":"IF(MAX(-SUM(OFFSET($G240,0,0,1,ScadenzaConcessione-AnnoPonte)),R244+(S239-S240)/$D222*($D222-(ScadenzaConcessione-S$4)))<0,0,MAX(-SUM(OFFSET($G240,0,0,1,ScadenzaConcessione-AnnoPonte)),R244+(S239-S240)/$D222*($D222-(ScadenzaConcessione-S$4))))","v":290}]
[null,null,"Remunerazione valore di subentro CIN investimenti",null,null,null,{"$f":"F244*G$19*G$10","v":0},{"$f":"G244*H$19*H$10","v":0},0,0,23.280999999999999,23.280999999999999,23.280999999999999,23.280999999999999,23.280999999999999,23.280999999999999,23.280999999999999,23.280999999999999,23.280999999999999]
[]
[null,null,"CIN contributi bop (amm. a vite utili)",null,"precedenti",null,{"$f":"F250","v":0},{"$f":"G250","v":0},{"$f":"H250","v":0},{"$f":"I250","v":-40},{"$f":"J250","v":-39},{"$f":"K250","v":-38},{"$f":"L250","v":-37},{"$f":"M250","v":-36},{"$f":"N250","v":-35},{"$f":"O250","v":-34},{"$f":"P250","v":-33},{"$f":"Q250","v":-32},{"$f":"R250","v":-31}]
[null,null,"contributi annui (amm. a vite utili)",null,{"$f":"-SUM(OFFSET(INDIRECT($F222 & \"contr\"),0,3,1,IF(EsistePrev,AnnoPonte-UltimoAnnoRTP,1)))","v":0},null,{"$f":"-SUMIFS(\n'Z0.6.b ProgInvest_Contr agg'!Z:Z,\n'Z0.6.b ProgInvest_Contr agg'!$K:$K,$C222,\n'Z0.6.b ProgInvest_Contr agg'!$M:$M,$D$145,\n'Z0.6.b ProgInvest_Contr agg'!$L:$L,\"in corso\",\n'Z0.6.b ProgInvest_Contr agg'!$O:$O,\"vite utili 1\")\n-SUMIFS(\n'Z0.6.b ProgInvest_Contr agg'!Z:Z,\n'Z0.6.b ProgInvest_Contr agg'!$K:$K,$C222,\n'Z0.6.b ProgInvest_Contr agg'!$M:$M,$D$145,\n'Z0.6.b ProgInvest_Contr agg'!$L:$L,\"in corso\",\n'Z0.6.b ProgInvest_Contr agg'!$O:$O,\"vite utili 2\")","v":0},{"$f":"-SUMIFS(\n'Z0.6.b ProgInvest_Contr agg'!AA:AA,\n'Z0.6.b ProgInvest_Contr agg'!$K:$K,$C222,\n'Z0.6.b ProgInvest_Contr agg'!$M:$M,$D$145,\n'Z0.6.b ProgInvest_Contr agg'!$L:$L,\"in corso\",\n'Z0.6.b ProgInvest_Contr agg'!$O:$O,\"vite utili 1\")\n-SUMIFS(\n'Z0.6.b ProgInvest_Contr agg'!AA:AA,\n'Z0.6.b ProgInvest_Contr agg'!$K:$K,$C222,\n'Z0.6.b ProgInvest_Contr agg'!$M:$M,$D$145,\n'Z0.6.b ProgInvest_Contr agg'!$L:$L,\"in corso\",\n'Z0.6.b ProgInvest_Contr agg'!$O:$O,\"vite utili 2\")","v":0},{"$f":"-SUMIFS(\n'Z0.6.b ProgInvest_Contr agg'!AB:AB,\n'Z0.6.b ProgInvest_Contr agg'!$K:$K,$C222,\n'Z0.6.b ProgInvest_Contr agg'!$M:$M,$D$145,\n'Z0.6.b ProgInvest_Contr agg'!$L:$L,\"in corso\",\n'Z0.6.b ProgInvest_Contr agg'!$O:$O,\"vite utili 1\")\n-SUMIFS(\n'Z0.6.b ProgInvest_Contr agg'!AB:AB,\n'Z0.6.b ProgInvest_Contr agg'!$K:$K,$C222,\n'Z0.6.b ProgInvest_Contr agg'!$M:$M,$D$145,\n'Z0.6.b ProgInvest_Contr agg'!$L:$L,\"in corso\",\n'Z0.6.b ProgInvest_Contr agg'!$O:$O,\"vite utili 2\")","v":-40},{"$f":"-SUMIFS(\n'Z0.6.b ProgInvest_Contr agg'!AC:AC,\n'Z0.6.b ProgInvest_Contr agg'!$K:$K,$C222,\n'Z0.6.b ProgInvest_Contr agg'!$M:$M,$D$145,\n'Z0.6.b ProgInvest_Contr agg'!$L:$L,\"in corso\",\n'Z0.6.b ProgInvest_Contr agg'!$O:$O,\"vite utili 1\")\n-SUMIFS(\n'Z0.6.b ProgInvest_Contr agg'!AC:AC,\n'Z0.6.b ProgInvest_Contr agg'!$K:$K,$C222,\n'Z0.6.b ProgInvest_Contr agg'!$M:$M,$D$145,\n'Z0.6.b ProgInvest_Contr agg'!$L:$L,\"in corso\",\n'Z0.6.b ProgInvest_Contr agg'!$O:$O,\"vite utili 2\")","v":0},{"$f":"-SUMIFS(\n'Z0.6.b ProgInvest_Contr agg'!AD:AD,\n'Z0.6.b ProgInvest_Contr agg'!$K:$K,$C222,\n'Z0.6.b ProgInvest_Contr agg'!$M:$M,$D$145,\n'Z0.6.b ProgInvest_Contr agg'!$L:$L,\"in corso\",\n'Z0.6.b ProgInvest_Contr agg'!$O:$O,\"vite utili 1\")\n-SUMIFS(\n'Z0.6.b ProgInvest_Contr agg'!AD:AD,\n'Z0.6.b ProgInvest_Contr agg'!$K:$K,$C222,\n'Z0.6.b ProgInvest_Contr agg'!$M:$M,$D$145,\n'Z0.6.b ProgInvest_Contr agg'!$L:$L,\"in corso\",\n'Z0.6.b ProgInvest_Contr agg'!$O:$O,\"vite utili 2\")","v":0},{"$f":"-SUMIFS(\n'Z0.6.b ProgInvest_Contr agg'!AE:AE,\n'Z0.6.b ProgInvest_Contr agg'!$K:$K,$C222,\n'Z0.6.b ProgInvest_Contr agg'!$M:$M,$D$145,\n'Z0.6.b ProgInvest_Contr agg'!$L:$L,\"in corso\",\n'Z0.6.b ProgInvest_Contr agg'!$O:$O,\"vite utili 1\")\n-SUMIFS(\n'Z0.6.b ProgInvest_Contr agg'!AE:AE,\n'Z0.6.b ProgInvest_Contr agg'!$K:$K,$C222,\n'Z0.6.b ProgInvest_Contr agg'!$M:$M,$D$145,\n'Z0.6.b ProgInvest_Contr agg'!$L:$L,\"in corso\",\n'Z0.6.b ProgInvest_Contr agg'!$O:$O,\"vite utili 2\")","v":0},{"$f":"-SUMIFS(\n'Z0.6.b ProgInvest_Contr agg'!AF:AF,\n'Z0.6.b ProgInvest_Contr agg'!$K:$K,$C222,\n'Z0.6.b ProgInvest_Contr agg'!$M:$M,$D$145,\n'Z0.6.b ProgInvest_Contr agg'!$L:$L,\"in corso\",\n'Z0.6.b ProgInvest_Contr agg'!$O:$O,\"vite utili 1\")\n-SUMIFS(\n'Z0.6.b ProgInvest_Contr agg'!AF:AF,\n'Z0.6.b ProgInvest_Contr agg'!$K:$K,$C222,\n'Z0.6.b ProgInvest_Contr agg'!$M:$M,$D$145,\n'Z0.6.b ProgInvest_Contr agg'!$L:$L,\"in corso\",\n'Z0.6.b ProgInvest_Contr agg'!$O:$O,\"vite utili 2\")","v":0},{"$f":"-SUMIFS(\n'Z0.6.b ProgInvest_Contr agg'!AG:AG,\n'Z0.6.b ProgInvest_Contr agg'!$K:$K,$C222,\n'Z0.6.b ProgInvest_Contr agg'!$M:$M,$D$145,\n'Z0.6.b ProgInvest_Contr agg'!$L:$L,\"in corso\",\n'Z0.6.b ProgInvest_Contr agg'!$O:$O,\"vite utili 1\")\n-SUMIFS(\n'Z0.6.b ProgInvest_Contr agg'!AG:AG,\n'Z0.6.b ProgInvest_Contr agg'!$K:$K,$C222,\n'Z0.6.b ProgInvest_Contr agg'!$M:$M,$D$145,\n'Z0.6.b ProgInvest_Contr agg'!$L:$L,\"in corso\",\n'Z0.6.b ProgInvest_Contr agg'!$O:$O,\"vite utili 2\")","v":0},{"$f":"-SUMIFS(\n'Z0.6.b ProgInvest_Contr agg'!AH:AH,\n'Z0.6.b ProgInvest_Contr agg'!$K:$K,$C222,\n'Z0.6.b ProgInvest_Contr agg'!$M:$M,$D$145,\n'Z0.6.b ProgInvest_Contr agg'!$L:$L,\"in corso\",\n'Z0.6.b ProgInvest_Contr agg'!$O:$O,\"vite utili 1\")\n-SUMIFS(\n'Z0.6.b ProgInvest_Contr agg'!AH:AH,\n'Z0.6.b ProgInvest_Contr agg'!$K:$K,$C222,\n'Z0.6.b ProgInvest_Contr agg'!$M:$M,$D$145,\n'Z0.6.b ProgInvest_Contr agg'!$L:$L,\"in corso\",\n'Z0.6.b ProgInvest_Contr agg'!$O:$O,\"vite utili 2\")","v":0},{"$f":"-SUMIFS(\n'Z0.6.b ProgInvest_Contr agg'!AI:AI,\n'Z0.6.b ProgInvest_Contr agg'!$K:$K,$C222,\n'Z0.6.b ProgInvest_Contr agg'!$M:$M,$D$145,\n'Z0.6.b ProgInvest_Contr agg'!$L:$L,\"in corso\",\n'Z0.6.b ProgInvest_Contr agg'!$O:$O,\"vite utili 1\")\n-SUMIFS(\n'Z0.6.b ProgInvest_Contr agg'!AI:AI,\n'Z0.6.b ProgInvest_Contr agg'!$K:$K,$C222,\n'Z0.6.b ProgInvest_Contr agg'!$M:$M,$D$145,\n'Z0.6.b ProgInvest_Contr agg'!$L:$L,\"in corso\",\n'Z0.6.b ProgInvest_Contr agg'!$O:$O,\"vite utili 2\")","v":0},{"$f":"-SUMIFS(\n'Z0.6.b ProgInvest_Contr agg'!AJ:AJ,\n'Z0.6.b ProgInvest_Contr agg'!$K:$K,$C222,\n'Z0.6.b ProgInvest_Contr agg'!$M:$M,$D$145,\n'Z0.6.b ProgInvest_Contr agg'!$L:$L,\"in corso\",\n'Z0.6.b ProgInvest_Contr agg'!$O:$O,\"vite utili 1\")\n-SUMIFS(\n'Z0.6.b ProgInvest_Contr agg'!AJ:AJ,\n'Z0.6.b ProgInvest_Contr agg'!$K:$K,$C222,\n'Z0.6.b ProgInvest_Contr agg'!$M:$M,$D$145,\n'Z0.6.b ProgInvest_Contr agg'!$L:$L,\"in corso\",\n'Z0.6.b ProgInvest_Contr agg'!$O:$O,\"vite utili 2\")","v":0},{"$f":"-SUMIFS(\n'Z0.6.b ProgInvest_Contr agg'!AK:AK,\n'Z0.6.b ProgInvest_Contr agg'!$K:$K,$C222,\n'Z0.6.b ProgInvest_Contr agg'!$M:$M,$D$145,\n'Z0.6.b ProgInvest_Contr agg'!$L:$L,\"in corso\",\n'Z0.6.b ProgInvest_Contr agg'!$O:$O,\"vite utili 1\")\n-SUMIFS(\n'Z0.6.b ProgInvest_Contr agg'!AK:AK,\n'Z0.6.b ProgInvest_Contr agg'!$K:$K,$C222,\n'Z0.6.b ProgInvest_Contr agg'!$M:$M,$D$145,\n'Z0.6.b ProgInvest_Contr agg'!$L:$L,\"in corso\",\n'Z0.6.b ProgInvest_Contr agg'!$O:$O,\"vite utili 2\")","v":0},{"$f":"-SUMIFS(\n'Z0.6.b ProgInvest_Contr agg'!AL:AL,\n'Z0.6.b ProgInvest_Contr agg'!$K:$K,$C222,\n'Z0.6.b ProgInvest_Contr agg'!$M:$M,$D$145,\n'Z0.6.b ProgInvest_Contr agg'!$L:$L,\"in corso\",\n'Z0.6.b ProgInvest_Contr agg'!$O:$O,\"vite utili 1\")\n-SUMIFS(\n'Z0.6.b ProgInvest_Contr agg'!AL:AL,\n'Z0.6.b ProgInvest_Contr agg'!$K:$K,$C222,\n'Z0.6.b ProgInvest_Contr agg'!$M:$M,$D$145,\n'Z0.6.b ProgInvest_Contr agg'!$L:$L,\"in corso\",\n'Z0.6.b ProgInvest_Contr agg'!$O:$O,\"vite utili 2\")","v":0}]
[null,null,"Ammortamento contributi (amm. a vite utili)",null,{"$f":"-SUM(OFFSET(INDIRECT($F222 & \"contr\"),1,3,1,IF(EsistePrev,AnnoPonte-UltimoAnnoRTP,1)))","v":0},null,{"$f":"IF(F$4-UltimoAnnoRTP<=$D222,\n(SUM($F248:F248)-SUM(OFFSET(INDIRECT($F222 & \"contr\"),0,3,1,IF(EsistePrev,AnnoPonte-UltimoAnnoRTP,1)))\n)/$D222,\n\nIF(AND(F$4-UltimoAnnoRTP>$D222,F$4-AnnoPonte<=$D222),\n(SUM($F248:F248)-SUM(IFERROR(OFFSET(INDIRECT($F222 & \"contr\"),0,3+(F$4-UltimoAnnoRTP-$D222),1,(IF(EsistePrev,AnnoPonte-UltimoAnnoRTP,1)-(F$4-UltimoAnnoRTP-$D222))),0))\n)/$D222,\n\n(SUM(OFFSET(F248,0,-$D222+1,1,$D222))\n)/$D222))","v":0},{"$f":"IF(G$4-UltimoAnnoRTP<=$D222,\n(SUM($F248:G248)-SUM(OFFSET(INDIRECT($F222 & \"contr\"),0,3,1,IF(EsistePrev,AnnoPonte-UltimoAnnoRTP,1)))\n)/$D222,\n\nIF(AND(G$4-UltimoAnnoRTP>$D222,G$4-AnnoPonte<=$D222),\n(SUM($F248:G248)-SUM(IFERROR(OFFSET(INDIRECT($F222 & \"contr\"),0,3+(G$4-UltimoAnnoRTP-$D222),1,(IF(EsistePrev,AnnoPonte-UltimoAnnoRTP,1)-(G$4-UltimoAnnoRTP-$D222))),0))\n)/$D222,\n\n(SUM(OFFSET(G248,0,-$D222+1,1,$D222))\n)/$D222))","v":0},{"$f":"IF(H$4-UltimoAnnoRTP<=$D222,\n(SUM($F248:H248)-SUM(OFFSET(INDIRECT($F222 & \"contr\"),0,3,1,IF(EsistePrev,AnnoPonte-UltimoAnnoRTP,1)))\n)/$D222,\n\nIF(AND(H$4-UltimoAnnoRTP>$D222,H$4-AnnoPonte<=$D222),\n(SUM($F248:H248)-SUM(IFERROR(OFFSET(INDIRECT($F222 & \"contr\"),0,3+(H$4-UltimoAnnoRTP-$D222),1,(IF(EsistePrev,AnnoPonte-UltimoAnnoRTP,1)-(H$4-UltimoAnnoRTP-$D222))),0))\n)/$D222,\n\n(SUM(OFFSET(H248,0,-$D222+1,1,$D222))\n)/$D222))","v":0},{"$f":"IF(I$4-UltimoAnnoRTP<=$D222,\n(SUM($F248:I248)-SUM(OFFSET(INDIRECT($F222 & \"contr\"),0,3,1,IF(EsistePrev,AnnoPonte-UltimoAnnoRTP,1)))\n)/$D222,\n\nIF(AND(I$4-UltimoAnnoRTP>$D222,I$4-AnnoPonte<=$D222),\n(SUM($F248:I248)-SUM(IFERROR(OFFSET(INDIRECT($F222 & \"contr\"),0,3+(I$4-UltimoAnnoRTP-$D222),1,(IF(EsistePrev,AnnoPonte-UltimoAnnoRTP,1)-(I$4-UltimoAnnoRTP-$D222))),0))\n)/$D222,\n\n(SUM(OFFSET(I248,0,-$D222+1,1,$D222))\n)/$D222))","v":-1},{"$f":"IF(J$4-UltimoAnnoRTP<=$D222,\n(SUM($F248:J248)-SUM(OFFSET(INDIRECT($F222 & \"contr\"),0,3,1,IF(EsistePrev,AnnoPonte-UltimoAnnoRTP,1)))\n)/$D222,\n\nIF(AND(J$4-UltimoAnnoRTP>$D222,J$4-AnnoPonte<=$D222),\n(SUM($F248:J248)-SUM(IFERROR(OFFSET(INDIRECT($F222 & \"contr\"),0,3+(J$4-UltimoAnnoRTP-$D222),1,(IF(EsistePrev,AnnoPonte-UltimoAnnoRTP,1)-(J$4-UltimoAnnoRTP-$D222))),0))\n)/$D222,\n\n(SUM(OFFSET(J248,0,-$D222+1,1,$D222))\n)/$D222))","v":-1},{"$f":"IF(K$4-UltimoAnnoRTP<=$D222,\n(SUM($F248:K248)-SUM(OFFSET(INDIRECT($F222 & \"contr\"),0,3,1,IF(EsistePrev,AnnoPonte-UltimoAnnoRTP,1)))\n)/$D222,\n\nIF(AND(K$4-UltimoAnnoRTP>$D222,K$4-AnnoPonte<=$D222),\n(SUM($F248:K248)-SUM(IFERROR(OFFSET(INDIRECT($F222 & \"contr\"),0,3+(K$4-UltimoAnnoRTP-$D222),1,(IF(EsistePrev,AnnoPonte-UltimoAnnoRTP,1)-(K$4-UltimoAnnoRTP-$D222))),0))\n)/$D222,\n\n(SUM(OFFSET(K248,0,-$D222+1,1,$D222))\n)/$D222))","v":-1},{"$f":"IF(L$4-UltimoAnnoRTP<=$D222,\n(SUM($F248:L248)-SUM(OFFSET(INDIRECT($F222 & \"contr\"),0,3,1,IF(EsistePrev,AnnoPonte-UltimoAnnoRTP,1)))\n)/$D222,\n\nIF(AND(L$4-UltimoAnnoRTP>$D222,L$4-AnnoPonte<=$D222),\n(SUM($F248:L248)-SUM(IFERROR(OFFSET(INDIRECT($F222 & \"contr\"),0,3+(L$4-UltimoAnnoRTP-$D222),1,(IF(EsistePrev,AnnoPonte-UltimoAnnoRTP,1)-(L$4-UltimoAnnoRTP-$D222))),0))\n)/$D222,\n\n(SUM(OFFSET(L248,0,-$D222+1,1,$D222))\n)/$D222))","v":-1},{"$f":"IF(M$4-UltimoAnnoRTP<=$D222,\n(SUM($F248:M248)-SUM(OFFSET(INDIRECT($F222 & \"contr\"),0,3,1,IF(EsistePrev,AnnoPonte-UltimoAnnoRTP,1)))\n)/$D222,\n\nIF(AND(M$4-UltimoAnnoRTP>$D222,M$4-AnnoPonte<=$D222),\n(SUM($F248:M248)-SUM(IFERROR(OFFSET(INDIRECT($F222 & \"contr\"),0,3+(M$4-UltimoAnnoRTP-$D222),1,(IF(EsistePrev,AnnoPonte-UltimoAnnoRTP,1)-(M$4-UltimoAnnoRTP-$D222))),0))\n)/$D222,\n\n(SUM(OFFSET(M248,0,-$D222+1,1,$D222))\n)/$D222))","v":-1},{"$f":"IF(N$4-UltimoAnnoRTP<=$D222,\n(SUM($F248:N248)-SUM(OFFSET(INDIRECT($F222 & \"contr\"),0,3,1,IF(EsistePrev,AnnoPonte-UltimoAnnoRTP,1)))\n)/$D222,\n\nIF(AND(N$4-UltimoAnnoRTP>$D222,N$4-AnnoPonte<=$D222),\n(SUM($F248:N248)-SUM(IFERROR(OFFSET(INDIRECT($F222 & \"contr\"),0,3+(N$4-UltimoAnnoRTP-$D222),1,(IF(EsistePrev,AnnoPonte-UltimoAnnoRTP,1)-(N$4-UltimoAnnoRTP-$D222))),0))\n)/$D222,\n\n(SUM(OFFSET(N248,0,-$D222+1,1,$D222))\n)/$D222))","v":-1},{"$f":"IF(O$4-UltimoAnnoRTP<=$D222,\n(SUM($F248:O248)-SUM(OFFSET(INDIRECT($F222 & \"contr\"),0,3,1,IF(EsistePrev,AnnoPonte-UltimoAnnoRTP,1)))\n)/$D222,\n\nIF(AND(O$4-UltimoAnnoRTP>$D222,O$4-AnnoPonte<=$D222),\n(SUM($F248:O248)-SUM(IFERROR(OFFSET(INDIRECT($F222 & \"contr\"),0,3+(O$4-UltimoAnnoRTP-$D222),1,(IF(EsistePrev,AnnoPonte-UltimoAnnoRTP,1)-(O$4-UltimoAnnoRTP-$D222))),0))\n)/$D222,\n\n(SUM(OFFSET(O248,0,-$D222+1,1,$D222))\n)/$D222))","v":-1},{"$f":"IF(P$4-UltimoAnnoRTP<=$D222,\n(SUM($F248:P248)-SUM(OFFSET(INDIRECT($F222 & \"contr\"),0,3,1,IF(EsistePrev,AnnoPonte-UltimoAnnoRTP,1)))\n)/$D222,\n\nIF(AND(P$4-UltimoAnnoRTP>$D222,P$4-AnnoPonte<=$D222),\n(SUM($F248:P248)-SUM(IFERROR(OFFSET(INDIRECT($F222 & \"contr\"),0,3+(P$4-UltimoAnnoRTP-$D222),1,(IF(EsistePrev,AnnoPonte-UltimoAnnoRTP,1)-(P$4-UltimoAnnoRTP-$D222))),0))\n)/$D222,\n\n(SUM(OFFSET(P248,0,-$D222+1,1,$D222))\n)/$D222))","v":-1},{"$f":"IF(Q$4-UltimoAnnoRTP<=$D222,\n(SUM($F248:Q248)-SUM(OFFSET(INDIRECT($F222 & \"contr\"),0,3,1,IF(EsistePrev,AnnoPonte-UltimoAnnoRTP,1)))\n)/$D222,\n\nIF(AND(Q$4-UltimoAnnoRTP>$D222,Q$4-AnnoPonte<=$D222),\n(SUM($F248:Q248)-SUM(IFERROR(OFFSET(INDIRECT($F222 & \"contr\"),0,3+(Q$4-UltimoAnnoRTP-$D222),1,(IF(EsistePrev,AnnoPonte-UltimoAnnoRTP,1)-(Q$4-UltimoAnnoRTP-$D222))),0))\n)/$D222,\n\n(SUM(OFFSET(Q248,0,-$D222+1,1,$D222))\n)/$D222))","v":-1},{"$f":"IF(R$4-UltimoAnnoRTP<=$D222,\n(SUM($F248:R248)-SUM(OFFSET(INDIRECT($F222 & \"contr\"),0,3,1,IF(EsistePrev,AnnoPonte-UltimoAnnoRTP,1)))\n)/$D222,\n\nIF(AND(R$4-UltimoAnnoRTP>$D222,R$4-AnnoPonte<=$D222),\n(SUM($F248:R248)-SUM(IFERROR(OFFSET(INDIRECT($F222 & \"contr\"),0,3+(R$4-UltimoAnnoRTP-$D222),1,(IF(EsistePrev,AnnoPonte-UltimoAnnoRTP,1)-(R$4-UltimoAnnoRTP-$D222))),0))\n)/$D222,\n\n(SUM(OFFSET(R248,0,-$D222+1,1,$D222))\n)/$D222))","v":-1}]
[null,null,"CIN contributi eop (amm. a vite utili)",null,null,{"$f":"-OFFSET(INDIRECT($F222 & \"contr\"),2,2+AnnoPonte-UltimoAnnoRTP,1,1)","v":0},{"$f":"G247+G248-G249","v":0},0,-40,-39,-38,-37,-36,-35,-34,-33,-32,-31,-30]
[null,null,"Remunerazione CIN contributi",null,null,null,{"$f":"(G247-F252)*G$17*G$10","v":0},{"$f":"(H247-G252)*H$17*H$10","v":0},{"$f":"(I247-H252)*I$17*I$10","v":0},{"$f":"(J247-I252)*J$17*J$10","v":-0.751},{"$f":"(K247-J252)*K$17*K$10","v":-0.67589999999999995},{"$f":"(L247-K252)*L$17*L$10","v":-0.6008},{"$f":"(M247-L252)*M$17*M$10","v":-0.52570000000000006},{"$f":"(N247-M252)*N$17*N$10","v":-0.4506},{"$f":"(O247-N252)*O$17*O$10","v":-0.3755},{"$f":"(P247-O252)*P$17*P$10","v":-0.3004},{"$f":"(Q247-P252)*Q$17*Q$10","v":-0.2253},{"$f":"(R247-Q252)*R$17*R$10","v":-0.1502},{"$f":"(S247-R252)*S$17*S$10","v":-7.51E-2}]
[null,null,"Valore di subentro contributi - cumulato",null,null,{"$f":"-OFFSET(INDIRECT($F222 & \"contr\"),4,2+AnnoPonte-UltimoAnnoRTP,1,1)","v":0},{"$f":"MIN(0,F252+(G248)/$D222*($D222-(ScadenzaConcessione-G$4)))","v":0},{"$f":"MIN(0,G252+(H248)/$D222*($D222-(ScadenzaConcessione-H$4)))","v":0},{"$f":"MIN(0,H252+(I248)/$D222*($D222-(ScadenzaConcessione-I$4)))","v":-30},{"$f":"MIN(0,I252+(J248)/$D222*($D222-(ScadenzaConcessione-J$4)))","v":-30},{"$f":"MIN(0,J252+(K248)/$D222*($D222-(ScadenzaConcessione-K$4)))","v":-30},{"$f":"MIN(0,K252+(L248)/$D222*($D222-(ScadenzaConcessione-L$4)))","v":-30},{"$f":"MIN(0,L252+(M248)/$D222*($D222-(ScadenzaConcessione-M$4)))","v":-30},{"$f":"MIN(0,M252+(N248)/$D222*($D222-(ScadenzaConcessione-N$4)))","v":-30},{"$f":"MIN(0,N252+(O248)/$D222*($D222-(ScadenzaConcessione-O$4)))","v":-30},{"$f":"MIN(0,O252+(P248)/$D222*($D222-(ScadenzaConcessione-P$4)))","v":-30},{"$f":"MIN(0,P252+(Q248)/$D222*($D222-(ScadenzaConcessione-Q$4)))","v":-30},{"$f":"MIN(0,Q252+(R248)/$D222*($D222-(ScadenzaConcessione-R$4)))","v":-30},{"$f":"MIN(0,R252+(S248)/$D222*($D222-(ScadenzaConcessione-S$4)))","v":-30}]
[null,null,"Remunerazione valore di subentro CIN contributi ",null,null,null,{"$f":"F252*G$19*G$10","v":0},{"$f":"G252*H$19*H$10","v":0},0,-2.2530000000000001,-2.2530000000000001,-2.2530000000000001,-2.2530000000000001,-2.2530000000000001,-2.2530000000000001,-2.2530000000000001,-2.2530000000000001,-2.2530000000000001,-2.2530000000000001]
[]
[null,null,"Check - TIR di progetto"]
[null,null,"Cash out investimenti",null,null,{"$f":"-(F227+F234+F242+F250)","v":0},{"$f":"-(G225+G232-G240+G248)","v":0},{"$f":"-(H225+H232-H240+H248)","v":0},-160,-200,0,0,0,0,0,0,0,0,20]
[null,null,"Cash in valore di subentro",null,null,null,{"$f":"IF(G$4=ScadenzaConcessione,G228+G244+G252,\"\")","v":""},"","","","","","","","","","","",{"$f":"IF(S$4=ScadenzaConcessione,S228+S235+S244+S252,\"\")","v":260}]
[null,null,"Cash in ammortamenti",null,null,null,{"$f":"G241+G249","v":0},0,0,-1,9,9,9,9,9,9,9,9,9]
[null,null,"Cash in remunerazioni (annualizzato)",null,null,null,{"$f":"(G229+G236+G243+G245+G251+G253)/G$10","v":0},{"$f":"(H229+H236+H243+H245+H251+H253)/H$10","v":0},0,8.8559999999999999,27.1111,26.435199999999998,25.759299999999996,25.083399999999997,24.407499999999999,23.7316,23.055699999999998,22.379799999999996,21.703900000000001]
[null,null,"Cash flow",null,null,{"$f":"SUM(F256:F259)","v":0},0,{"$f":"SUM(H256:H259)","v":0},-160,-192.14400000000001,36.1111,35.435199999999995,34.759299999999996,34.083399999999997,33.407499999999999,32.7316,32.055700000000002,31.379799999999996,310.70389999999998]
[null,null,"Tasso interno di rendimento",null,null,{"$f":"IFERROR(IRR(OFFSET(F260,0,0,1,ScadenzaConcessione-AnnoPonte+1)),\"non calc.\")","v":7.3708924368675932E-2}]
[null,null,"VAN",null,{"$f":"WACC","v":7.51E-2},{"$f":"NPV(E262,OFFSET(F260,0,0,1,ScadenzaConcessione-AnnoPonte+1))","v":-2.2001017846709763}]
[]
[null,null,"Barriere",{"$f":"VLOOKUP(C264,'C3 Tk Supporto'!C:E,2,0)","v":25},"vita utile","VU03"]
[]
[null,null,"LIC livello 1 - bop",null,null,null,{"$f":"F269","v":0},{"$f":"G269","v":0},{"$f":"H269","v":0},{"$f":"I269","v":0},{"$f":"J269","v":100},{"$f":"K269","v":0},{"$f":"L269","v":0},{"$f":"M269","v":0},{"$f":"N269","v":0},{"$f":"O269","v":0},{"$f":"P269","v":0},{"$f":"Q269","v":0},{"$f":"R269","v":0}]
[null,null,"Investimenti in corso aggiuntivi",null,null,null,{"$f":"SUMIFS(\n'Z0.6.a ProgInvest_Spesa agg'!Z:Z,\n'Z0.6.a ProgInvest_Spesa agg'!$K:$K,$C264,\n'Z0.6.a ProgInvest_Spesa agg'!$M:$M,$D$145,\n'Z0.6.a ProgInvest_Spesa agg'!$L:$L,\"in corso\",\n'Z0.6.a ProgInvest_Spesa agg'!$O:$O,\"vite utili 1\")","v":0},{"$f":"SUMIFS(\n'Z0.6.a ProgInvest_Spesa agg'!AA:AA,\n'Z0.6.a ProgInvest_Spesa agg'!$K:$K,$C264,\n'Z0.6.a ProgInvest_Spesa agg'!$M:$M,$D$145,\n'Z0.6.a ProgInvest_Spesa agg'!$L:$L,\"in corso\",\n'Z0.6.a ProgInvest_Spesa agg'!$O:$O,\"vite utili 1\")","v":0},{"$f":"SUMIFS(\n'Z0.6.a ProgInvest_Spesa agg'!AB:AB,\n'Z0.6.a ProgInvest_Spesa agg'!$K:$K,$C264,\n'Z0.6.a ProgInvest_Spesa agg'!$M:$M,$D$145,\n'Z0.6.a ProgInvest_Spesa agg'!$L:$L,\"in corso\",\n'Z0.6.a ProgInvest_Spesa agg'!$O:$O,\"vite utili 1\")","v":0},{"$f":"SUMIFS(\n'Z0.6.a ProgInvest_Spesa agg'!AC:AC,\n'Z0.6.a ProgInvest_Spesa agg'!$K:$K,$C264,\n'Z0.6.a ProgInvest_Spesa agg'!$M:$M,$D$145,\n'Z0.6.a ProgInvest_Spesa agg'!$L:$L,\"in corso\",\n'Z0.6.a ProgInvest_Spesa agg'!$O:$O,\"vite utili 1\")","v":100},{"$f":"SUMIFS(\n'Z0.6.a ProgInvest_Spesa agg'!AD:AD,\n'Z0.6.a ProgInvest_Spesa agg'!$K:$K,$C264,\n'Z0.6.a ProgInvest_Spesa agg'!$M:$M,$D$145,\n'Z0.6.a ProgInvest_Spesa agg'!$L:$L,\"in corso\",\n'Z0.6.a ProgInvest_Spesa agg'!$O:$O,\"vite utili 1\")","v":100},{"$f":"SUMIFS(\n'Z0.6.a ProgInvest_Spesa agg'!AE:AE,\n'Z0.6.a ProgInvest_Spesa agg'!$K:$K,$C264,\n'Z0.6.a ProgInvest_Spesa agg'!$M:$M,$D$145,\n'Z0.6.a ProgInvest_Spesa agg'!$L:$L,\"in corso\",\n'Z0.6.a ProgInvest_Spesa agg'!$O:$O,\"vite utili 1\")","v":0},{"$f":"SUMIFS(\n'Z0.6.a ProgInvest_Spesa agg'!AF:AF,\n'Z0.6.a ProgInvest_Spesa agg'!$K:$K,$C264,\n'Z0.6.a ProgInvest_Spesa agg'!$M:$M,$D$145,\n'Z0.6.a ProgInvest_Spesa agg'!$L:$L,\"in corso\",\n'Z0.6.a ProgInvest_Spesa agg'!$O:$O,\"vite utili 1\")","v":0},{"$f":"SUMIFS(\n'Z0.6.a ProgInvest_Spesa agg'!AG:AG,\n'Z0.6.a ProgInvest_Spesa agg'!$K:$K,$C264,\n'Z0.6.a ProgInvest_Spesa agg'!$M:$M,$D$145,\n'Z0.6.a ProgInvest_Spesa agg'!$L:$L,\"in corso\",\n'Z0.6.a ProgInvest_Spesa agg'!$O:$O,\"vite utili 1\")","v":0},{"$f":"SUMIFS(\n'Z0.6.a ProgInvest_Spesa agg'!AH:AH,\n'Z0.6.a ProgInvest_Spesa agg'!$K:$K,$C264,\n'Z0.6.a ProgInvest_Spesa agg'!$M:$M,$D$145,\n'Z0.6.a ProgInvest_Spesa agg'!$L:$L,\"in corso\",\n'Z0.6.a ProgInvest_Spesa agg'!$O:$O,\"vite utili 1\")","v":0},{"$f":"SUMIFS(\n'Z0.6.a ProgInvest_Spesa agg'!AI:AI,\n'Z0.6.a ProgInvest_Spesa agg'!$K:$K,$C264,\n'Z0.6.a ProgInvest_Spesa agg'!$M:$M,$D$145,\n'Z0.6.a ProgInvest_Spesa agg'!$L:$L,\"in corso\",\n'Z0.6.a ProgInvest_Spesa agg'!$O:$O,\"vite utili 1\")","v":0},{"$f":"SUMIFS(\n'Z0.6.a ProgInvest_Spesa agg'!AJ:AJ,\n'Z0.6.a ProgInvest_Spesa agg'!$K:$K,$C264,\n'Z0.6.a ProgInvest_Spesa agg'!$M:$M,$D$145,\n'Z0.6.a ProgInvest_Spesa agg'!$L:$L,\"in corso\",\n'Z0.6.a ProgInvest_Spesa agg'!$O:$O,\"vite utili 1\")","v":0},{"$f":"SUMIFS(\n'Z0.6.a ProgInvest_Spesa agg'!AK:AK,\n'Z0.6.a ProgInvest_Spesa agg'!$K:$K,$C264,\n'Z0.6.a ProgInvest_Spesa agg'!$M:$M,$D$145,\n'Z0.6.a ProgInvest_Spesa agg'!$L:$L,\"in corso\",\n'Z0.6.a ProgInvest_Spesa agg'!$O:$O,\"vite utili 1\")","v":0},{"$f":"SUMIFS(\n'Z0.6.a ProgInvest_Spesa agg'!AL:AL,\n'Z0.6.a ProgInvest_Spesa agg'!$K:$K,$C264,\n'Z0.6.a ProgInvest_Spesa agg'!$M:$M,$D$145,\n'Z0.6.a ProgInvest_Spesa agg'!$L:$L,\"in corso\",\n'Z0.6.a ProgInvest_Spesa agg'!$O:$O,\"vite utili 1\")","v":0}]
[null,null,"Investimenti in corso cessanti (entrata in esercizio)",null,null,null,{"$f":"-SUMIFS(\n'Z0.6.a ProgInvest_Spesa agg'!$S:$S,\n'Z0.6.a ProgInvest_Spesa agg'!$K:$K,$C264,\n'Z0.6.a ProgInvest_Spesa agg'!$M:$M,$D$145,\n'Z0.6.a ProgInvest_Spesa agg'!$L:$L,\"in corso\",\n'Z0.6.a ProgInvest_Spesa agg'!$O:$O,\"vite utili 1\",\n'Z0.6.a ProgInvest_Spesa agg'!$P:$P,G$4)","v":0},{"$f":"-SUMIFS(\n'Z0.6.a ProgInvest_Spesa agg'!$S:$S,\n'Z0.6.a ProgInvest_Spesa agg'!$K:$K,$C264,\n'Z0.6.a ProgInvest_Spesa agg'!$M:$M,$D$145,\n'Z0.6.a ProgInvest_Spesa agg'!$L:$L,\"in corso\",\n'Z0.6.a ProgInvest_Spesa agg'!$O:$O,\"vite utili 1\",\n'Z0.6.a ProgInvest_Spesa agg'!$P:$P,H$4)","v":0},{"$f":"-SUMIFS(\n'Z0.6.a ProgInvest_Spesa agg'!$S:$S,\n'Z0.6.a ProgInvest_Spesa agg'!$K:$K,$C264,\n'Z0.6.a ProgInvest_Spesa agg'!$M:$M,$D$145,\n'Z0.6.a ProgInvest_Spesa agg'!$L:$L,\"in corso\",\n'Z0.6.a ProgInvest_Spesa agg'!$O:$O,\"vite utili 1\",\n'Z0.6.a ProgInvest_Spesa agg'!$P:$P,I$4)","v":0},{"$f":"-SUMIFS(\n'Z0.6.a ProgInvest_Spesa agg'!$S:$S,\n'Z0.6.a ProgInvest_Spesa agg'!$K:$K,$C264,\n'Z0.6.a ProgInvest_Spesa agg'!$M:$M,$D$145,\n'Z0.6.a ProgInvest_Spesa agg'!$L:$L,\"in corso\",\n'Z0.6.a ProgInvest_Spesa agg'!$O:$O,\"vite utili 1\",\n'Z0.6.a ProgInvest_Spesa agg'!$P:$P,J$4)","v":0},{"$f":"-SUMIFS(\n'Z0.6.a ProgInvest_Spesa agg'!$S:$S,\n'Z0.6.a ProgInvest_Spesa agg'!$K:$K,$C264,\n'Z0.6.a ProgInvest_Spesa agg'!$M:$M,$D$145,\n'Z0.6.a ProgInvest_Spesa agg'!$L:$L,\"in corso\",\n'Z0.6.a ProgInvest_Spesa agg'!$O:$O,\"vite utili 1\",\n'Z0.6.a ProgInvest_Spesa agg'!$P:$P,K$4)","v":-200},{"$f":"-SUMIFS(\n'Z0.6.a ProgInvest_Spesa agg'!$S:$S,\n'Z0.6.a ProgInvest_Spesa agg'!$K:$K,$C264,\n'Z0.6.a ProgInvest_Spesa agg'!$M:$M,$D$145,\n'Z0.6.a ProgInvest_Spesa agg'!$L:$L,\"in corso\",\n'Z0.6.a ProgInvest_Spesa agg'!$O:$O,\"vite utili 1\",\n'Z0.6.a ProgInvest_Spesa agg'!$P:$P,L$4)","v":0},{"$f":"-SUMIFS(\n'Z0.6.a ProgInvest_Spesa agg'!$S:$S,\n'Z0.6.a ProgInvest_Spesa agg'!$K:$K,$C264,\n'Z0.6.a ProgInvest_Spesa agg'!$M:$M,$D$145,\n'Z0.6.a ProgInvest_Spesa agg'!$L:$L,\"in corso\",\n'Z0.6.a ProgInvest_Spesa agg'!$O:$O,\"vite utili 1\",\n'Z0.6.a ProgInvest_Spesa agg'!$P:$P,M$4)","v":0},{"$f":"-SUMIFS(\n'Z0.6.a ProgInvest_Spesa agg'!$S:$S,\n'Z0.6.a ProgInvest_Spesa agg'!$K:$K,$C264,\n'Z0.6.a ProgInvest_Spesa agg'!$M:$M,$D$145,\n'Z0.6.a ProgInvest_Spesa agg'!$L:$L,\"in corso\",\n'Z0.6.a ProgInvest_Spesa agg'!$O:$O,\"vite utili 1\",\n'Z0.6.a ProgInvest_Spesa agg'!$P:$P,N$4)","v":0},{"$f":"-SUMIFS(\n'Z0.6.a ProgInvest_Spesa agg'!$S:$S,\n'Z0.6.a ProgInvest_Spesa agg'!$K:$K,$C264,\n'Z0.6.a ProgInvest_Spesa agg'!$M:$M,$D$145,\n'Z0.6.a ProgInvest_Spesa agg'!$L:$L,\"in corso\",\n'Z0.6.a ProgInvest_Spesa agg'!$O:$O,\"vite utili 1\",\n'Z0.6.a ProgInvest_Spesa agg'!$P:$P,O$4)","v":0},{"$f":"-SUMIFS(\n'Z0.6.a ProgInvest_Spesa agg'!$S:$S,\n'Z0.6.a ProgInvest_Spesa agg'!$K:$K,$C264,\n'Z0.6.a ProgInvest_Spesa agg'!$M:$M,$D$145,\n'Z0.6.a ProgInvest_Spesa agg'!$L:$L,\"in corso\",\n'Z0.6.a ProgInvest_Spesa agg'!$O:$O,\"vite utili 1\",\n'Z0.6.a ProgInvest_Spesa agg'!$P:$P,P$4)","v":0},{"$f":"-SUMIFS(\n'Z0.6.a ProgInvest_Spesa agg'!$S:$S,\n'Z0.6.a ProgInvest_Spesa agg'!$K:$K,$C264,\n'Z0.6.a ProgInvest_Spesa agg'!$M:$M,$D$145,\n'Z0.6.a ProgInvest_Spesa agg'!$L:$L,\"in corso\",\n'Z0.6.a ProgInvest_Spesa agg'!$O:$O,\"vite utili 1\",\n'Z0.6.a ProgInvest_Spesa agg'!$P:$P,Q$4)","v":0},{"$f":"-SUMIFS(\n'Z0.6.a ProgInvest_Spesa agg'!$S:$S,\n'Z0.6.a ProgInvest_Spesa agg'!$K:$K,$C264,\n'Z0.6.a ProgInvest_Spesa agg'!$M:$M,$D$145,\n'Z0.6.a ProgInvest_Spesa agg'!$L:$L,\"in corso\",\n'Z0.6.a ProgInvest_Spesa agg'!$O:$O,\"vite utili 1\",\n'Z0.6.a ProgInvest_Spesa agg'!$P:$P,R$4)","v":0},{"$f":"-SUMIFS(\n'Z0.6.a ProgInvest_Spesa agg'!$S:$S,\n'Z0.6.a ProgInvest_Spesa agg'!$K:$K,$C264,\n'Z0.6.a ProgInvest_Spesa agg'!$M:$M,$D$145,\n'Z0.6.a ProgInvest_Spesa agg'!$L:$L,\"in corso\",\n'Z0.6.a ProgInvest_Spesa agg'!$O:$O,\"vite utili 1\",\n'Z0.6.a ProgInvest_Spesa agg'!$P:$P,S$4)","v":0}]
[null,null,"LIC livello 1 - eop",null,null,{"$f":"OFFSET(INDIRECT($F264 & \"inv\"),-10,2+AnnoPonte-UltimoAnnoRTP,1,1)","v":0},{"$f":"G266+G267+G268","v":0},0,0,100,0,0,0,0,0,0,0,0,0]
[null,null,"Valore di subentro LIC",null,null,null,{"$f":"IF(G$4=ScadenzaConcessione,G269,0)","v":0},0,0,0,0,0,0,0,0,0,0,0,0]
[null,null,"Remunerazione LIC",null,null,null,{"$f":"G266*G$17*G$10","v":0},{"$f":"H266*H$17*H$10","v":0},0,0,7.51,0,0,0,0,0,0,0,0]
[]
[null,null,"LIC livello 2 - bop",null,null,null,{"$f":"F276","v":0},{"$f":"G276","v":0},{"$f":"H276","v":0},{"$f":"I276","v":0},{"$f":"J276","v":100},{"$f":"K276","v":0},{"$f":"L276","v":0},{"$f":"M276","v":0},{"$f":"N276","v":0},{"$f":"O276","v":0},{"$f":"P276","v":0},{"$f":"Q276","v":0},{"$f":"R276","v":0}]
[null,null,"Investimenti in corso aggiuntivi",null,null,null,{"$f":"SUMIFS(\n'Z0.6.a ProgInvest_Spesa agg'!Z:Z,\n'Z0.6.a ProgInvest_Spesa agg'!$K:$K,$C264,\n'Z0.6.a ProgInvest_Spesa agg'!$M:$M,$D$145,\n'Z0.6.a ProgInvest_Spesa agg'!$L:$L,\"in corso\",\n'Z0.6.a ProgInvest_Spesa agg'!$O:$O,\"vite utili 2\")","v":0},{"$f":"SUMIFS(\n'Z0.6.a ProgInvest_Spesa agg'!AA:AA,\n'Z0.6.a ProgInvest_Spesa agg'!$K:$K,$C264,\n'Z0.6.a ProgInvest_Spesa agg'!$M:$M,$D$145,\n'Z0.6.a ProgInvest_Spesa agg'!$L:$L,\"in corso\",\n'Z0.6.a ProgInvest_Spesa agg'!$O:$O,\"vite utili 2\")","v":0},{"$f":"SUMIFS(\n'Z0.6.a ProgInvest_Spesa agg'!AB:AB,\n'Z0.6.a ProgInvest_Spesa agg'!$K:$K,$C264,\n'Z0.6.a ProgInvest_Spesa agg'!$M:$M,$D$145,\n'Z0.6.a ProgInvest_Spesa agg'!$L:$L,\"in corso\",\n'Z0.6.a ProgInvest_Spesa agg'!$O:$O,\"vite utili 2\")","v":0},{"$f":"SUMIFS(\n'Z0.6.a ProgInvest_Spesa agg'!AC:AC,\n'Z0.6.a ProgInvest_Spesa agg'!$K:$K,$C264,\n'Z0.6.a ProgInvest_Spesa agg'!$M:$M,$D$145,\n'Z0.6.a ProgInvest_Spesa agg'!$L:$L,\"in corso\",\n'Z0.6.a ProgInvest_Spesa agg'!$O:$O,\"vite utili 2\")","v":100},{"$f":"SUMIFS(\n'Z0.6.a ProgInvest_Spesa agg'!AD:AD,\n'Z0.6.a ProgInvest_Spesa agg'!$K:$K,$C264,\n'Z0.6.a ProgInvest_Spesa agg'!$M:$M,$D$145,\n'Z0.6.a ProgInvest_Spesa agg'!$L:$L,\"in corso\",\n'Z0.6.a ProgInvest_Spesa agg'!$O:$O,\"vite utili 2\")","v":100},{"$f":"SUMIFS(\n'Z0.6.a ProgInvest_Spesa agg'!AE:AE,\n'Z0.6.a ProgInvest_Spesa agg'!$K:$K,$C264,\n'Z0.6.a ProgInvest_Spesa agg'!$M:$M,$D$145,\n'Z0.6.a ProgInvest_Spesa agg'!$L:$L,\"in corso\",\n'Z0.6.a ProgInvest_Spesa agg'!$O:$O,\"vite utili 2\")","v":0},{"$f":"SUMIFS(\n'Z0.6.a ProgInvest_Spesa agg'!AF:AF,\n'Z0.6.a ProgInvest_Spesa agg'!$K:$K,$C264,\n'Z0.6.a ProgInvest_Spesa agg'!$M:$M,$D$145,\n'Z0.6.a ProgInvest_Spesa agg'!$L:$L,\"in corso\",\n'Z0.6.a ProgInvest_Spesa agg'!$O:$O,\"vite utili 2\")","v":0},{"$f":"SUMIFS(\n'Z0.6.a ProgInvest_Spesa agg'!AG:AG,\n'Z0.6.a ProgInvest_Spesa agg'!$K:$K,$C264,\n'Z0.6.a ProgInvest_Spesa agg'!$M:$M,$D$145,\n'Z0.6.a ProgInvest_Spesa agg'!$L:$L,\"in corso\",\n'Z0.6.a ProgInvest_Spesa agg'!$O:$O,\"vite utili 2\")","v":0},{"$f":"SUMIFS(\n'Z0.6.a ProgInvest_Spesa agg'!AH:AH,\n'Z0.6.a ProgInvest_Spesa agg'!$K:$K,$C264,\n'Z0.6.a ProgInvest_Spesa agg'!$M:$M,$D$145,\n'Z0.6.a ProgInvest_Spesa agg'!$L:$L,\"in corso\",\n'Z0.6.a ProgInvest_Spesa agg'!$O:$O,\"vite utili 2\")","v":0},{"$f":"SUMIFS(\n'Z0.6.a ProgInvest_Spesa agg'!AI:AI,\n'Z0.6.a ProgInvest_Spesa agg'!$K:$K,$C264,\n'Z0.6.a ProgInvest_Spesa agg'!$M:$M,$D$145,\n'Z0.6.a ProgInvest_Spesa agg'!$L:$L,\"in corso\",\n'Z0.6.a ProgInvest_Spesa agg'!$O:$O,\"vite utili 2\")","v":0},{"$f":"SUMIFS(\n'Z0.6.a ProgInvest_Spesa agg'!AJ:AJ,\n'Z0.6.a ProgInvest_Spesa agg'!$K:$K,$C264,\n'Z0.6.a ProgInvest_Spesa agg'!$M:$M,$D$145,\n'Z0.6.a ProgInvest_Spesa agg'!$L:$L,\"in corso\",\n'Z0.6.a ProgInvest_Spesa agg'!$O:$O,\"vite utili 2\")","v":0},{"$f":"SUMIFS(\n'Z0.6.a ProgInvest_Spesa agg'!AK:AK,\n'Z0.6.a ProgInvest_Spesa agg'!$K:$K,$C264,\n'Z0.6.a ProgInvest_Spesa agg'!$M:$M,$D$145,\n'Z0.6.a ProgInvest_Spesa agg'!$L:$L,\"in corso\",\n'Z0.6.a ProgInvest_Spesa agg'!$O:$O,\"vite utili 2\")","v":0},{"$f":"SUMIFS(\n'Z0.6.a ProgInvest_Spesa agg'!AL:AL,\n'Z0.6.a ProgInvest_Spesa agg'!$K:$K,$C264,\n'Z0.6.a ProgInvest_Spesa agg'!$M:$M,$D$145,\n'Z0.6.a ProgInvest_Spesa agg'!$L:$L,\"in corso\",\n'Z0.6.a ProgInvest_Spesa agg'!$O:$O,\"vite utili 2\")","v":0}]
[null,null,"Investimenti in corso cessanti (entrata in esercizio)",null,null,null,{"$f":"-SUMIFS(\n'Z0.6.a ProgInvest_Spesa agg'!$S:$S,\n'Z0.6.a ProgInvest_Spesa agg'!$K:$K,$C264,\n'Z0.6.a ProgInvest_Spesa agg'!$M:$M,$D$145,\n'Z0.6.a ProgInvest_Spesa agg'!$L:$L,\"in corso\",\n'Z0.6.a ProgInvest_Spesa agg'!$O:$O,\"vite utili 2\",\n'Z0.6.a ProgInvest_Spesa agg'!$P:$P,G$4)","v":0},{"$f":"-SUMIFS(\n'Z0.6.a ProgInvest_Spesa agg'!$S:$S,\n'Z0.6.a ProgInvest_Spesa agg'!$K:$K,$C264,\n'Z0.6.a ProgInvest_Spesa agg'!$M:$M,$D$145,\n'Z0.6.a ProgInvest_Spesa agg'!$L:$L,\"in corso\",\n'Z0.6.a ProgInvest_Spesa agg'!$O:$O,\"vite utili 2\",\n'Z0.6.a ProgInvest_Spesa agg'!$P:$P,H$4)","v":0},{"$f":"-SUMIFS(\n'Z0.6.a ProgInvest_Spesa agg'!$S:$S,\n'Z0.6.a ProgInvest_Spesa agg'!$K:$K,$C264,\n'Z0.6.a ProgInvest_Spesa agg'!$M:$M,$D$145,\n'Z0.6.a ProgInvest_Spesa agg'!$L:$L,\"in corso\",\n'Z0.6.a ProgInvest_Spesa agg'!$O:$O,\"vite utili 2\",\n'Z0.6.a ProgInvest_Spesa agg'!$P:$P,I$4)","v":0},{"$f":"-SUMIFS(\n'Z0.6.a ProgInvest_Spesa agg'!$S:$S,\n'Z0.6.a ProgInvest_Spesa agg'!$K:$K,$C264,\n'Z0.6.a ProgInvest_Spesa agg'!$M:$M,$D$145,\n'Z0.6.a ProgInvest_Spesa agg'!$L:$L,\"in corso\",\n'Z0.6.a ProgInvest_Spesa agg'!$O:$O,\"vite utili 2\",\n'Z0.6.a ProgInvest_Spesa agg'!$P:$P,J$4)","v":0},{"$f":"-SUMIFS(\n'Z0.6.a ProgInvest_Spesa agg'!$S:$S,\n'Z0.6.a ProgInvest_Spesa agg'!$K:$K,$C264,\n'Z0.6.a ProgInvest_Spesa agg'!$M:$M,$D$145,\n'Z0.6.a ProgInvest_Spesa agg'!$L:$L,\"in corso\",\n'Z0.6.a ProgInvest_Spesa agg'!$O:$O,\"vite utili 2\",\n'Z0.6.a ProgInvest_Spesa agg'!$P:$P,K$4)","v":-200},{"$f":"-SUMIFS(\n'Z0.6.a ProgInvest_Spesa agg'!$S:$S,\n'Z0.6.a ProgInvest_Spesa agg'!$K:$K,$C264,\n'Z0.6.a ProgInvest_Spesa agg'!$M:$M,$D$145,\n'Z0.6.a ProgInvest_Spesa agg'!$L:$L,\"in corso\",\n'Z0.6.a ProgInvest_Spesa agg'!$O:$O,\"vite utili 2\",\n'Z0.6.a ProgInvest_Spesa agg'!$P:$P,L$4)","v":0},{"$f":"-SUMIFS(\n'Z0.6.a ProgInvest_Spesa agg'!$S:$S,\n'Z0.6.a ProgInvest_Spesa agg'!$K:$K,$C264,\n'Z0.6.a ProgInvest_Spesa agg'!$M:$M,$D$145,\n'Z0.6.a ProgInvest_Spesa agg'!$L:$L,\"in corso\",\n'Z0.6.a ProgInvest_Spesa agg'!$O:$O,\"vite utili 2\",\n'Z0.6.a ProgInvest_Spesa agg'!$P:$P,M$4)","v":0},{"$f":"-SUMIFS(\n'Z0.6.a ProgInvest_Spesa agg'!$S:$S,\n'Z0.6.a ProgInvest_Spesa agg'!$K:$K,$C264,\n'Z0.6.a ProgInvest_Spesa agg'!$M:$M,$D$145,\n'Z0.6.a ProgInvest_Spesa agg'!$L:$L,\"in corso\",\n'Z0.6.a ProgInvest_Spesa agg'!$O:$O,\"vite utili 2\",\n'Z0.6.a ProgInvest_Spesa agg'!$P:$P,N$4)","v":0},{"$f":"-SUMIFS(\n'Z0.6.a ProgInvest_Spesa agg'!$S:$S,\n'Z0.6.a ProgInvest_Spesa agg'!$K:$K,$C264,\n'Z0.6.a ProgInvest_Spesa agg'!$M:$M,$D$145,\n'Z0.6.a ProgInvest_Spesa agg'!$L:$L,\"in corso\",\n'Z0.6.a ProgInvest_Spesa agg'!$O:$O,\"vite utili 2\",\n'Z0.6.a ProgInvest_Spesa agg'!$P:$P,O$4)","v":0},{"$f":"-SUMIFS(\n'Z0.6.a ProgInvest_Spesa agg'!$S:$S,\n'Z0.6.a ProgInvest_Spesa agg'!$K:$K,$C264,\n'Z0.6.a ProgInvest_Spesa agg'!$M:$M,$D$145,\n'Z0.6.a ProgInvest_Spesa agg'!$L:$L,\"in corso\",\n'Z0.6.a ProgInvest_Spesa agg'!$O:$O,\"vite utili 2\",\n'Z0.6.a ProgInvest_Spesa agg'!$P:$P,P$4)","v":0},{"$f":"-SUMIFS(\n'Z0.6.a ProgInvest_Spesa agg'!$S:$S,\n'Z0.6.a ProgInvest_Spesa agg'!$K:$K,$C264,\n'Z0.6.a ProgInvest_Spesa agg'!$M:$M,$D$145,\n'Z0.6.a ProgInvest_Spesa agg'!$L:$L,\"in corso\",\n'Z0.6.a ProgInvest_Spesa agg'!$O:$O,\"vite utili 2\",\n'Z0.6.a ProgInvest_Spesa agg'!$P:$P,Q$4)","v":0},{"$f":"-SUMIFS(\n'Z0.6.a ProgInvest_Spesa agg'!$S:$S,\n'Z0.6.a ProgInvest_Spesa agg'!$K:$K,$C264,\n'Z0.6.a ProgInvest_Spesa agg'!$M:$M,$D$145,\n'Z0.6.a ProgInvest_Spesa agg'!$L:$L,\"in corso\",\n'Z0.6.a ProgInvest_Spesa agg'!$O:$O,\"vite utili 2\",\n'Z0.6.a ProgInvest_Spesa agg'!$P:$P,R$4)","v":0},{"$f":"-SUMIFS(\n'Z0.6.a ProgInvest_Spesa agg'!$S:$S,\n'Z0.6.a ProgInvest_Spesa agg'!$K:$K,$C264,\n'Z0.6.a ProgInvest_Spesa agg'!$M:$M,$D$145,\n'Z0.6.a ProgInvest_Spesa agg'!$L:$L,\"in corso\",\n'Z0.6.a ProgInvest_Spesa agg'!$O:$O,\"vite utili 2\",\n'Z0.6.a ProgInvest_Spesa agg'!$P:$P,S$4)","v":0}]
[null,null,"LIC livello 2 - eop",null,null,{"$f":"OFFSET(INDIRECT($F264 & \"inv\"),-4,2+AnnoPonte-UltimoAnnoRTP,1,1)","v":0},{"$f":"G273+G274+G275","v":0},0,0,100,0,0,0,0,0,0,0,0,0]
[null,null,"Valore di subentro LIC",null,null,null,{"$f":"IF(G$4=ScadenzaConcessione,G276,0)","v":0},0,0,0,0,0,0,0,0,0,0,0,0]
[null,null,"Remunerazione LIC",null,null,null,{"$f":"G273*G$20*G$10","v":0},0,0,0,4.3499999999999996,0,0,0,0,0,0,0,0]
[]
[null,null,"CIN investimenti (lordo contributi e subentro, netto dismissioni) bop (amm. a vite utili)",null,"precedenti",null,{"$f":"F284","v":0},{"$f":"G284","v":0},{"$f":"H284","v":0},{"$f":"I284","v":0},{"$f":"J284","v":0},{"$f":"K284","v":400},{"$f":"L284","v":384},{"$f":"M284","v":368},{"$f":"N284","v":352},{"$f":"O284","v":336},{"$f":"P284","v":320},{"$f":"Q284","v":304},{"$f":"R284","v":288}]
[null,null,"Investimenti entrati in esercizio (amm.a vite utili)",null,{"$f":"SUM(OFFSET(INDIRECT($F264 & \"inv\"),0,3,1,IF(EsistePrev,AnnoPonte-UltimoAnnoRTP,1)))","v":0},null,{"$f":"-G268-G275","v":0},{"$f":"-H268-H275","v":0},0,0,400,0,0,0,0,0,0,0,0]
[null,null,"Dismissioni",null,{"$f":"-SUM(OFFSET(INDIRECT($F264&\"dism\"),0,3,1,IF(EsistePrev,AnnoPonte-UltimoAnnoRTP,1)))","v":0},null,{"$f":"SUMIFS(\n'Z0.6.c ProgInvest_Dism agg'!Z:Z,\n'Z0.6.c ProgInvest_Dism agg'!$K:$K,$C264,\n'Z0.6.c ProgInvest_Dism agg'!$M:$M,$D$145,\n'Z0.6.c ProgInvest_Dism agg'!$L:$L,\"in corso\",\n'Z0.6.c ProgInvest_Dism agg'!$O:$O,\"vite utili 1\")\n+SUMIFS(\n'Z0.6.c ProgInvest_Dism agg'!Z:Z,\n'Z0.6.c ProgInvest_Dism agg'!$K:$K,$C264,\n'Z0.6.c ProgInvest_Dism agg'!$M:$M,$D$145,\n'Z0.6.c ProgInvest_Dism agg'!$L:$L,\"in corso\",\n'Z0.6.c ProgInvest_Dism agg'!$O:$O,\"vite utili 2\")","v":0},{"$f":"SUMIFS(\n'Z0.6.c ProgInvest_Dism agg'!AA:AA,\n'Z0.6.c ProgInvest_Dism agg'!$K:$K,$C264,\n'Z0.6.c ProgInvest_Dism agg'!$M:$M,$D$145,\n'Z0.6.c ProgInvest_Dism agg'!$L:$L,\"in corso\",\n'Z0.6.c ProgInvest_Dism agg'!$O:$O,\"vite utili 1\")\n+SUMIFS(\n'Z0.6.c ProgInvest_Dism agg'!AA:AA,\n'Z0.6.c ProgInvest_Dism agg'!$K:$K,$C264,\n'Z0.6.c ProgInvest_Dism agg'!$M:$M,$D$145,\n'Z0.6.c ProgInvest_Dism agg'!$L:$L,\"in corso\",\n'Z0.6.c ProgInvest_Dism agg'!$O:$O,\"vite utili 2\")","v":0},{"$f":"SUMIFS(\n'Z0.6.c ProgInvest_Dism agg'!AB:AB,\n'Z0.6.c ProgInvest_Dism agg'!$K:$K,$C264,\n'Z0.6.c ProgInvest_Dism agg'!$M:$M,$D$145,\n'Z0.6.c ProgInvest_Dism agg'!$L:$L,\"in corso\",\n'Z0.6.c ProgInvest_Dism agg'!$O:$O,\"vite utili 1\")\n+SUMIFS(\n'Z0.6.c ProgInvest_Dism agg'!AB:AB,\n'Z0.6.c ProgInvest_Dism agg'!$K:$K,$C264,\n'Z0.6.c ProgInvest_Dism agg'!$M:$M,$D$145,\n'Z0.6.c ProgInvest_Dism agg'!$L:$L,\"in corso\",\n'Z0.6.c ProgInvest_Dism agg'!$O:$O,\"vite utili 2\")","v":0},{"$f":"SUMIFS(\n'Z0.6.c ProgInvest_Dism agg'!AC:AC,\n'Z0.6.c ProgInvest_Dism agg'!$K:$K,$C264,\n'Z0.6.c ProgInvest_Dism agg'!$M:$M,$D$145,\n'Z0.6.c ProgInvest_Dism agg'!$L:$L,\"in corso\",\n'Z0.6.c ProgInvest_Dism agg'!$O:$O,\"vite utili 1\")\n+SUMIFS(\n'Z0.6.c ProgInvest_Dism agg'!AC:AC,\n'Z0.6.c ProgInvest_Dism agg'!$K:$K,$C264,\n'Z0.6.c ProgInvest_Dism agg'!$M:$M,$D$145,\n'Z0.6.c ProgInvest_Dism agg'!$L:$L,\"in corso\",\n'Z0.6.c ProgInvest_Dism agg'!$O:$O,\"vite utili 2\")","v":0},{"$f":"SUMIFS(\n'Z0.6.c ProgInvest_Dism agg'!AD:AD,\n'Z0.6.c ProgInvest_Dism agg'!$K:$K,$C264,\n'Z0.6.c ProgInvest_Dism agg'!$M:$M,$D$145,\n'Z0.6.c ProgInvest_Dism agg'!$L:$L,\"in corso\",\n'Z0.6.c ProgInvest_Dism agg'!$O:$O,\"vite utili 1\")\n+SUMIFS(\n'Z0.6.c ProgInvest_Dism agg'!AD:AD,\n'Z0.6.c ProgInvest_Dism agg'!$K:$K,$C264,\n'Z0.6.c ProgInvest_Dism agg'!$M:$M,$D$145,\n'Z0.6.c ProgInvest_Dism agg'!$L:$L,\"in corso\",\n'Z0.6.c ProgInvest_Dism agg'!$O:$O,\"vite utili 2\")","v":0},{"$f":"SUMIFS(\n'Z0.6.c ProgInvest_Dism agg'!AE:AE,\n'Z0.6.c ProgInvest_Dism agg'!$K:$K,$C264,\n'Z0.6.c ProgInvest_Dism agg'!$M:$M,$D$145,\n'Z0.6.c ProgInvest_Dism agg'!$L:$L,\"in corso\",\n'Z0.6.c ProgInvest_Dism agg'!$O:$O,\"vite utili 1\")\n+SUMIFS(\n'Z0.6.c ProgInvest_Dism agg'!AE:AE,\n'Z0.6.c ProgInvest_Dism agg'!$K:$K,$C264,\n'Z0.6.c ProgInvest_Dism agg'!$M:$M,$D$145,\n'Z0.6.c ProgInvest_Dism agg'!$L:$L,\"in corso\",\n'Z0.6.c ProgInvest_Dism agg'!$O:$O,\"vite utili 2\")","v":0},{"$f":"SUMIFS(\n'Z0.6.c ProgInvest_Dism agg'!AF:AF,\n'Z0.6.c ProgInvest_Dism agg'!$K:$K,$C264,\n'Z0.6.c ProgInvest_Dism agg'!$M:$M,$D$145,\n'Z0.6.c ProgInvest_Dism agg'!$L:$L,\"in corso\",\n'Z0.6.c ProgInvest_Dism agg'!$O:$O,\"vite utili 1\")\n+SUMIFS(\n'Z0.6.c ProgInvest_Dism agg'!AF:AF,\n'Z0.6.c ProgInvest_Dism agg'!$K:$K,$C264,\n'Z0.6.c ProgInvest_Dism agg'!$M:$M,$D$145,\n'Z0.6.c ProgInvest_Dism agg'!$L:$L,\"in corso\",\n'Z0.6.c ProgInvest_Dism agg'!$O:$O,\"vite utili 2\")","v":0},{"$f":"SUMIFS(\n'Z0.6.c ProgInvest_Dism agg'!AG:AG,\n'Z0.6.c ProgInvest_Dism agg'!$K:$K,$C264,\n'Z0.6.c ProgInvest_Dism agg'!$M:$M,$D$145,\n'Z0.6.c ProgInvest_Dism agg'!$L:$L,\"in corso\",\n'Z0.6.c ProgInvest_Dism agg'!$O:$O,\"vite utili 1\")\n+SUMIFS(\n'Z0.6.c ProgInvest_Dism agg'!AG:AG,\n'Z0.6.c ProgInvest_Dism agg'!$K:$K,$C264,\n'Z0.6.c ProgInvest_Dism agg'!$M:$M,$D$145,\n'Z0.6.c ProgInvest_Dism agg'!$L:$L,\"in corso\",\n'Z0.6.c ProgInvest_Dism agg'!$O:$O,\"vite utili 2\")","v":0},{"$f":"SUMIFS(\n'Z0.6.c ProgInvest_Dism agg'!AH:AH,\n'Z0.6.c ProgInvest_Dism agg'!$K:$K,$C264,\n'Z0.6.c ProgInvest_Dism agg'!$M:$M,$D$145,\n'Z0.6.c ProgInvest_Dism agg'!$L:$L,\"in corso\",\n'Z0.6.c ProgInvest_Dism agg'!$O:$O,\"vite utili 1\")\n+SUMIFS(\n'Z0.6.c ProgInvest_Dism agg'!AH:AH,\n'Z0.6.c ProgInvest_Dism agg'!$K:$K,$C264,\n'Z0.6.c ProgInvest_Dism agg'!$M:$M,$D$145,\n'Z0.6.c ProgInvest_Dism agg'!$L:$L,\"in corso\",\n'Z0.6.c ProgInvest_Dism agg'!$O:$O,\"vite utili 2\")","v":0},{"$f":"SUMIFS(\n'Z0.6.c ProgInvest_Dism agg'!AI:AI,\n'Z0.6.c ProgInvest_Dism agg'!$K:$K,$C264,\n'Z0.6.c ProgInvest_Dism agg'!$M:$M,$D$145,\n'Z0.6.c ProgInvest_Dism agg'!$L:$L,\"in corso\",\n'Z0.6.c ProgInvest_Dism agg'!$O:$O,\"vite utili 1\")\n+SUMIFS(\n'Z0.6.c ProgInvest_Dism agg'!AI:AI,\n'Z0.6.c ProgInvest_Dism agg'!$K:$K,$C264,\n'Z0.6.c ProgInvest_Dism agg'!$M:$M,$D$145,\n'Z0.6.c ProgInvest_Dism agg'!$L:$L,\"in corso\",\n'Z0.6.c ProgInvest_Dism agg'!$O:$O,\"vite utili 2\")","v":0},{"$f":"SUMIFS(\n'Z0.6.c ProgInvest_Dism agg'!AJ:AJ,\n'Z0.6.c ProgInvest_Dism agg'!$K:$K,$C264,\n'Z0.6.c ProgInvest_Dism agg'!$M:$M,$D$145,\n'Z0.6.c ProgInvest_Dism agg'!$L:$L,\"in corso\",\n'Z0.6.c ProgInvest_Dism agg'!$O:$O,\"vite utili 1\")\n+SUMIFS(\n'Z0.6.c ProgInvest_Dism agg'!AJ:AJ,\n'Z0.6.c ProgInvest_Dism agg'!$K:$K,$C264,\n'Z0.6.c ProgInvest_Dism agg'!$M:$M,$D$145,\n'Z0.6.c ProgInvest_Dism agg'!$L:$L,\"in corso\",\n'Z0.6.c ProgInvest_Dism agg'!$O:$O,\"vite utili 2\")","v":0},{"$f":"SUMIFS(\n'Z0.6.c ProgInvest_Dism agg'!AK:AK,\n'Z0.6.c ProgInvest_Dism agg'!$K:$K,$C264,\n'Z0.6.c ProgInvest_Dism agg'!$M:$M,$D$145,\n'Z0.6.c ProgInvest_Dism agg'!$L:$L,\"in corso\",\n'Z0.6.c ProgInvest_Dism agg'!$O:$O,\"vite utili 1\")\n+SUMIFS(\n'Z0.6.c ProgInvest_Dism agg'!AK:AK,\n'Z0.6.c ProgInvest_Dism agg'!$K:$K,$C264,\n'Z0.6.c ProgInvest_Dism agg'!$M:$M,$D$145,\n'Z0.6.c ProgInvest_Dism agg'!$L:$L,\"in corso\",\n'Z0.6.c ProgInvest_Dism agg'!$O:$O,\"vite utili 2\")","v":0},{"$f":"SUMIFS(\n'Z0.6.c ProgInvest_Dism agg'!AL:AL,\n'Z0.6.c ProgInvest_Dism agg'!$K:$K,$C264,\n'Z0.6.c ProgInvest_Dism agg'!$M:$M,$D$145,\n'Z0.6.c ProgInvest_Dism agg'!$L:$L,\"in corso\",\n'Z0.6.c ProgInvest_Dism agg'!$O:$O,\"vite utili 1\")\n+SUMIFS(\n'Z0.6.c ProgInvest_Dism agg'!AL:AL,\n'Z0.6.c ProgInvest_Dism agg'!$K:$K,$C264,\n'Z0.6.c ProgInvest_Dism agg'!$M:$M,$D$145,\n'Z0.6.c ProgInvest_Dism agg'!$L:$L,\"in corso\",\n'Z0.6.c ProgInvest_Dism agg'!$O:$O,\"vite utili 2\")","v":20}]
[null,null,"Ammortamento (a vite utili)",null,{"$f":"SUM(OFFSET(INDIRECT($F264 & \"inv\"),2,3,1,IF(EsistePrev,AnnoPonte-UltimoAnnoRTP,1)))","v":0},null,{"$f":"MIN(G280,IF(F$4-UltimoAnnoRTP<=$D264,\n(SUM($F281:F281)+SUM(OFFSET(INDIRECT($F264 & \"inv\"),0,3,1,IF(EsistePrev,AnnoPonte-UltimoAnnoRTP,1)))\n-SUM($F282:F282)-SUM(OFFSET(INDIRECT($F264 & \"dism\"),0,3,1,IF(EsistePrev,AnnoPonte-UltimoAnnoRTP,1))))/$D264,\n\nIF(AND(F$4-UltimoAnnoRTP>$D264,F$4-AnnoPonte<=$D264),\n(SUM($F281:F281)+SUM(IFERROR(OFFSET(INDIRECT($F264 & \"inv\"),0,3+(F$4-UltimoAnnoRTP-$D264),1,(IF(EsistePrev,AnnoPonte-UltimoAnnoRTP,1)-(F$4-UltimoAnnoRTP-$D264))),0))\n-SUM($F282:F282)-SUM(IFERROR(OFFSET(INDIRECT($F264 & \"dism\"),0,3+(F$4-UltimoAnnoRTP-$D264),1,(IF(EsistePrev,AnnoPonte-UltimoAnnoRTP,1)-(F$4-UltimoAnnoRTP-$D264))),0)))/$D264,\n\n(SUM(OFFSET(F281,0,-$D264+1,1,$D264))\n-SUM(OFFSET(F282,0,-$D264+1,1,$D264)))/$D264)))","v":0},{"$f":"MIN(H280,IF(G$4-UltimoAnnoRTP<=$D264,\n(SUM($F281:G281)+SUM(OFFSET(INDIRECT($F264 & \"inv\"),0,3,1,IF(EsistePrev,AnnoPonte-UltimoAnnoRTP,1)))\n-SUM($F282:G282)-SUM(OFFSET(INDIRECT($F264 & \"dism\"),0,3,1,IF(EsistePrev,AnnoPonte-UltimoAnnoRTP,1))))/$D264,\n\nIF(AND(G$4-UltimoAnnoRTP>$D264,G$4-AnnoPonte<=$D264),\n(SUM($F281:G281)+SUM(IFERROR(OFFSET(INDIRECT($F264 & \"inv\"),0,3+(G$4-UltimoAnnoRTP-$D264),1,(IF(EsistePrev,AnnoPonte-UltimoAnnoRTP,1)-(G$4-UltimoAnnoRTP-$D264))),0))\n-SUM($F282:G282)-SUM(IFERROR(OFFSET(INDIRECT($F264 & \"dism\"),0,3+(G$4-UltimoAnnoRTP-$D264),1,(IF(EsistePrev,AnnoPonte-UltimoAnnoRTP,1)-(G$4-UltimoAnnoRTP-$D264))),0)))/$D264,\n\n(SUM(OFFSET(G281,0,-$D264+1,1,$D264))\n-SUM(OFFSET(G282,0,-$D264+1,1,$D264)))/$D264)))","v":0},{"$f":"MIN(I280,IF(H$4-UltimoAnnoRTP<=$D264,\n(SUM($F281:H281)+SUM(OFFSET(INDIRECT($F264 & \"inv\"),0,3,1,IF(EsistePrev,AnnoPonte-UltimoAnnoRTP,1)))\n-SUM($F282:H282)-SUM(OFFSET(INDIRECT($F264 & \"dism\"),0,3,1,IF(EsistePrev,AnnoPonte-UltimoAnnoRTP,1))))/$D264,\n\nIF(AND(H$4-UltimoAnnoRTP>$D264,H$4-AnnoPonte<=$D264),\n(SUM($F281:H281)+SUM(IFERROR(OFFSET(INDIRECT($F264 & \"inv\"),0,3+(H$4-UltimoAnnoRTP-$D264),1,(IF(EsistePrev,AnnoPonte-UltimoAnnoRTP,1)-(H$4-UltimoAnnoRTP-$D264))),0))\n-SUM($F282:H282)-SUM(IFERROR(OFFSET(INDIRECT($F264 & \"dism\"),0,3+(H$4-UltimoAnnoRTP-$D264),1,(IF(EsistePrev,AnnoPonte-UltimoAnnoRTP,1)-(H$4-UltimoAnnoRTP-$D264))),0)))/$D264,\n\n(SUM(OFFSET(H281,0,-$D264+1,1,$D264))\n-SUM(OFFSET(H282,0,-$D264+1,1,$D264)))/$D264)))","v":0},{"$f":"MIN(J280,IF(I$4-UltimoAnnoRTP<=$D264,\n(SUM($F281:I281)+SUM(OFFSET(INDIRECT($F264 & \"inv\"),0,3,1,IF(EsistePrev,AnnoPonte-UltimoAnnoRTP,1)))\n-SUM($F282:I282)-SUM(OFFSET(INDIRECT($F264 & \"dism\"),0,3,1,IF(EsistePrev,AnnoPonte-UltimoAnnoRTP,1))))/$D264,\n\nIF(AND(I$4-UltimoAnnoRTP>$D264,I$4-AnnoPonte<=$D264),\n(SUM($F281:I281)+SUM(IFERROR(OFFSET(INDIRECT($F264 & \"inv\"),0,3+(I$4-UltimoAnnoRTP-$D264),1,(IF(EsistePrev,AnnoPonte-UltimoAnnoRTP,1)-(I$4-UltimoAnnoRTP-$D264))),0))\n-SUM($F282:I282)-SUM(IFERROR(OFFSET(INDIRECT($F264 & \"dism\"),0,3+(I$4-UltimoAnnoRTP-$D264),1,(IF(EsistePrev,AnnoPonte-UltimoAnnoRTP,1)-(I$4-UltimoAnnoRTP-$D264))),0)))/$D264,\n\n(SUM(OFFSET(I281,0,-$D264+1,1,$D264))\n-SUM(OFFSET(I282,0,-$D264+1,1,$D264)))/$D264)))","v":0},{"$f":"MIN(K280,IF(J$4-UltimoAnnoRTP<=$D264,\n(SUM($F281:J281)+SUM(OFFSET(INDIRECT($F264 & \"inv\"),0,3,1,IF(EsistePrev,AnnoPonte-UltimoAnnoRTP,1)))\n-SUM($F282:J282)-SUM(OFFSET(INDIRECT($F264 & \"dism\"),0,3,1,IF(EsistePrev,AnnoPonte-UltimoAnnoRTP,1))))/$D264,\n\nIF(AND(J$4-UltimoAnnoRTP>$D264,J$4-AnnoPonte<=$D264),\n(SUM($F281:J281)+SUM(IFERROR(OFFSET(INDIRECT($F264 & \"inv\"),0,3+(J$4-UltimoAnnoRTP-$D264),1,(IF(EsistePrev,AnnoPonte-UltimoAnnoRTP,1)-(J$4-UltimoAnnoRTP-$D264))),0))\n-SUM($F282:J282)-SUM(IFERROR(OFFSET(INDIRECT($F264 & \"dism\"),0,3+(J$4-UltimoAnnoRTP-$D264),1,(IF(EsistePrev,AnnoPonte-UltimoAnnoRTP,1)-(J$4-UltimoAnnoRTP-$D264))),0)))/$D264,\n\n(SUM(OFFSET(J281,0,-$D264+1,1,$D264))\n-SUM(OFFSET(J282,0,-$D264+1,1,$D264)))/$D264)))","v":0},{"$f":"MIN(L280,IF(K$4-UltimoAnnoRTP<=$D264,\n(SUM($F281:K281)+SUM(OFFSET(INDIRECT($F264 & \"inv\"),0,3,1,IF(EsistePrev,AnnoPonte-UltimoAnnoRTP,1)))\n-SUM($F282:K282)-SUM(OFFSET(INDIRECT($F264 & \"dism\"),0,3,1,IF(EsistePrev,AnnoPonte-UltimoAnnoRTP,1))))/$D264,\n\nIF(AND(K$4-UltimoAnnoRTP>$D264,K$4-AnnoPonte<=$D264),\n(SUM($F281:K281)+SUM(IFERROR(OFFSET(INDIRECT($F264 & \"inv\"),0,3+(K$4-UltimoAnnoRTP-$D264),1,(IF(EsistePrev,AnnoPonte-UltimoAnnoRTP,1)-(K$4-UltimoAnnoRTP-$D264))),0))\n-SUM($F282:K282)-SUM(IFERROR(OFFSET(INDIRECT($F264 & \"dism\"),0,3+(K$4-UltimoAnnoRTP-$D264),1,(IF(EsistePrev,AnnoPonte-UltimoAnnoRTP,1)-(K$4-UltimoAnnoRTP-$D264))),0)))/$D264,\n\n(SUM(OFFSET(K281,0,-$D264+1,1,$D264))\n-SUM(OFFSET(K282,0,-$D264+1,1,$D264)))/$D264)))","v":16},{"$f":"MIN(M280,IF(L$4-UltimoAnnoRTP<=$D264,\n(SUM($F281:L281)+SUM(OFFSET(INDIRECT($F264 & \"inv\"),0,3,1,IF(EsistePrev,AnnoPonte-UltimoAnnoRTP,1)))\n-SUM($F282:L282)-SUM(OFFSET(INDIRECT($F264 & \"dism\"),0,3,1,IF(EsistePrev,AnnoPonte-UltimoAnnoRTP,1))))/$D264,\n\nIF(AND(L$4-UltimoAnnoRTP>$D264,L$4-AnnoPonte<=$D264),\n(SUM($F281:L281)+SUM(IFERROR(OFFSET(INDIRECT($F264 & \"inv\"),0,3+(L$4-UltimoAnnoRTP-$D264),1,(IF(EsistePrev,AnnoPonte-UltimoAnnoRTP,1)-(L$4-UltimoAnnoRTP-$D264))),0))\n-SUM($F282:L282)-SUM(IFERROR(OFFSET(INDIRECT($F264 & \"dism\"),0,3+(L$4-UltimoAnnoRTP-$D264),1,(IF(EsistePrev,AnnoPonte-UltimoAnnoRTP,1)-(L$4-UltimoAnnoRTP-$D264))),0)))/$D264,\n\n(SUM(OFFSET(L281,0,-$D264+1,1,$D264))\n-SUM(OFFSET(L282,0,-$D264+1,1,$D264)))/$D264)))","v":16},{"$f":"MIN(N280,IF(M$4-UltimoAnnoRTP<=$D264,\n(SUM($F281:M281)+SUM(OFFSET(INDIRECT($F264 & \"inv\"),0,3,1,IF(EsistePrev,AnnoPonte-UltimoAnnoRTP,1)))\n-SUM($F282:M282)-SUM(OFFSET(INDIRECT($F264 & \"dism\"),0,3,1,IF(EsistePrev,AnnoPonte-UltimoAnnoRTP,1))))/$D264,\n\nIF(AND(M$4-UltimoAnnoRTP>$D264,M$4-AnnoPonte<=$D264),\n(SUM($F281:M281)+SUM(IFERROR(OFFSET(INDIRECT($F264 & \"inv\"),0,3+(M$4-UltimoAnnoRTP-$D264),1,(IF(EsistePrev,AnnoPonte-UltimoAnnoRTP,1)-(M$4-UltimoAnnoRTP-$D264))),0))\n-SUM($F282:M282)-SUM(IFERROR(OFFSET(INDIRECT($F264 & \"dism\"),0,3+(M$4-UltimoAnnoRTP-$D264),1,(IF(EsistePrev,AnnoPonte-UltimoAnnoRTP,1)-(M$4-UltimoAnnoRTP-$D264))),0)))/$D264,\n\n(SUM(OFFSET(M281,0,-$D264+1,1,$D264))\n-SUM(OFFSET(M282,0,-$D264+1,1,$D264)))/$D264)))","v":16},{"$f":"MIN(O280,IF(N$4-UltimoAnnoRTP<=$D264,\n(SUM($F281:N281)+SUM(OFFSET(INDIRECT($F264 & \"inv\"),0,3,1,IF(EsistePrev,AnnoPonte-UltimoAnnoRTP,1)))\n-SUM($F282:N282)-SUM(OFFSET(INDIRECT($F264 & \"dism\"),0,3,1,IF(EsistePrev,AnnoPonte-UltimoAnnoRTP,1))))/$D264,\n\nIF(AND(N$4-UltimoAnnoRTP>$D264,N$4-AnnoPonte<=$D264),\n(SUM($F281:N281)+SUM(IFERROR(OFFSET(INDIRECT($F264 & \"inv\"),0,3+(N$4-UltimoAnnoRTP-$D264),1,(IF(EsistePrev,AnnoPonte-UltimoAnnoRTP,1)-(N$4-UltimoAnnoRTP-$D264))),0))\n-SUM($F282:N282)-SUM(IFERROR(OFFSET(INDIRECT($F264 & \"dism\"),0,3+(N$4-UltimoAnnoRTP-$D264),1,(IF(EsistePrev,AnnoPonte-UltimoAnnoRTP,1)-(N$4-UltimoAnnoRTP-$D264))),0)))/$D264,\n\n(SUM(OFFSET(N281,0,-$D264+1,1,$D264))\n-SUM(OFFSET(N282,0,-$D264+1,1,$D264)))/$D264)))","v":16},{"$f":"MIN(P280,IF(O$4-UltimoAnnoRTP<=$D264,\n(SUM($F281:O281)+SUM(OFFSET(INDIRECT($F264 & \"inv\"),0,3,1,IF(EsistePrev,AnnoPonte-UltimoAnnoRTP,1)))\n-SUM($F282:O282)-SUM(OFFSET(INDIRECT($F264 & \"dism\"),0,3,1,IF(EsistePrev,AnnoPonte-UltimoAnnoRTP,1))))/$D264,\n\nIF(AND(O$4-UltimoAnnoRTP>$D264,O$4-AnnoPonte<=$D264),\n(SUM($F281:O281)+SUM(IFERROR(OFFSET(INDIRECT($F264 & \"inv\"),0,3+(O$4-UltimoAnnoRTP-$D264),1,(IF(EsistePrev,AnnoPonte-UltimoAnnoRTP,1)-(O$4-UltimoAnnoRTP-$D264))),0))\n-SUM($F282:O282)-SUM(IFERROR(OFFSET(INDIRECT($F264 & \"dism\"),0,3+(O$4-UltimoAnnoRTP-$D264),1,(IF(EsistePrev,AnnoPonte-UltimoAnnoRTP,1)-(O$4-UltimoAnnoRTP-$D264))),0)))/$D264,\n\n(SUM(OFFSET(O281,0,-$D264+1,1,$D264))\n-SUM(OFFSET(O282,0,-$D264+1,1,$D264)))/$D264)))","v":16},{"$f":"MIN(Q280,IF(P$4-UltimoAnnoRTP<=$D264,\n(SUM($F281:P281)+SUM(OFFSET(INDIRECT($F264 & \"inv\"),0,3,1,IF(EsistePrev,AnnoPonte-UltimoAnnoRTP,1)))\n-SUM($F282:P282)-SUM(OFFSET(INDIRECT($F264 & \"dism\"),0,3,1,IF(EsistePrev,AnnoPonte-UltimoAnnoRTP,1))))/$D264,\n\nIF(AND(P$4-UltimoAnnoRTP>$D264,P$4-AnnoPonte<=$D264),\n(SUM($F281:P281)+SUM(IFERROR(OFFSET(INDIRECT($F264 & \"inv\"),0,3+(P$4-UltimoAnnoRTP-$D264),1,(IF(EsistePrev,AnnoPonte-UltimoAnnoRTP,1)-(P$4-UltimoAnnoRTP-$D264))),0))\n-SUM($F282:P282)-SUM(IFERROR(OFFSET(INDIRECT($F264 & \"dism\"),0,3+(P$4-UltimoAnnoRTP-$D264),1,(IF(EsistePrev,AnnoPonte-UltimoAnnoRTP,1)-(P$4-UltimoAnnoRTP-$D264))),0)))/$D264,\n\n(SUM(OFFSET(P281,0,-$D264+1,1,$D264))\n-SUM(OFFSET(P282,0,-$D264+1,1,$D264)))/$D264)))","v":16},{"$f":"MIN(R280,IF(Q$4-UltimoAnnoRTP<=$D264,\n(SUM($F281:Q281)+SUM(OFFSET(INDIRECT($F264 & \"inv\"),0,3,1,IF(EsistePrev,AnnoPonte-UltimoAnnoRTP,1)))\n-SUM($F282:Q282)-SUM(OFFSET(INDIRECT($F264 & \"dism\"),0,3,1,IF(EsistePrev,AnnoPonte-UltimoAnnoRTP,1))))/$D264,\n\nIF(AND(Q$4-UltimoAnnoRTP>$D264,Q$4-AnnoPonte<=$D264),\n(SUM($F281:Q281)+SUM(IFERROR(OFFSET(INDIRECT($F264 & \"inv\"),0,3+(Q$4-UltimoAnnoRTP-$D264),1,(IF(EsistePrev,AnnoPonte-UltimoAnnoRTP,1)-(Q$4-UltimoAnnoRTP-$D264))),0))\n-SUM($F282:Q282)-SUM(IFERROR(OFFSET(INDIRECT($F264 & \"dism\"),0,3+(Q$4-UltimoAnnoRTP-$D264),1,(IF(EsistePrev,AnnoPonte-UltimoAnnoRTP,1)-(Q$4-UltimoAnnoRTP-$D264))),0)))/$D264,\n\n(SUM(OFFSET(Q281,0,-$D264+1,1,$D264))\n-SUM(OFFSET(Q282,0,-$D264+1,1,$D264)))/$D264)))","v":16},{"$f":"MIN(S280,IF(R$4-UltimoAnnoRTP<=$D264,\n(SUM($F281:R281)+SUM(OFFSET(INDIRECT($F264 & \"inv\"),0,3,1,IF(EsistePrev,AnnoPonte-UltimoAnnoRTP,1)))\n-SUM($F282:R282)-SUM(OFFSET(INDIRECT($F264 & \"dism\"),0,3,1,IF(EsistePrev,AnnoPonte-UltimoAnnoRTP,1))))/$D264,\n\nIF(AND(R$4-UltimoAnnoRTP>$D264,R$4-AnnoPonte<=$D264),\n(SUM($F281:R281)+SUM(IFERROR(OFFSET(INDIRECT($F264 & \"inv\"),0,3+(R$4-UltimoAnnoRTP-$D264),1,(IF(EsistePrev,AnnoPonte-UltimoAnnoRTP,1)-(R$4-UltimoAnnoRTP-$D264))),0))\n-SUM($F282:R282)-SUM(IFERROR(OFFSET(INDIRECT($F264 & \"dism\"),0,3+(R$4-UltimoAnnoRTP-$D264),1,(IF(EsistePrev,AnnoPonte-UltimoAnnoRTP,1)-(R$4-UltimoAnnoRTP-$D264))),0)))/$D264,\n\n(SUM(OFFSET(R281,0,-$D264+1,1,$D264))\n-SUM(OFFSET(R282,0,-$D264+1,1,$D264)))/$D264)))","v":16}]
[null,null,"CIN investimenti (lordo contributi, netto dismissioni) eop (amm. a vite utili)",null,null,{"$f":"OFFSET(INDIRECT($F264 & \"inv\"),3,2+AnnoPonte-UltimoAnnoRTP,1,1)","v":0},{"$f":"G280+G281-G282-G283","v":0},0,0,0,400,384,368,352,336,320,304,288,252]
[null,null,"Remunerazione CIN investimenti",null,null,null,{"$f":"(G280-F286)*G$17*G$10","v":0},{"$f":"(H280-G286)*H$17*H$10","v":0},{"$f":"(I280-H286)*I$17*I$10","v":0},{"$f":"(J280-I286)*J$17*J$10","v":0},{"$f":"(K280-J286)*K$17*K$10","v":0},{"$f":"(L280-K286)*L$17*L$10","v":9.6128},{"$f":"(M280-L286)*M$17*M$10","v":8.4112000000000009},{"$f":"(N280-M286)*N$17*N$10","v":7.2096},{"$f":"(O280-N286)*O$17*O$10","v":6.008},{"$f":"(P280-O286)*P$17*P$10","v":4.8064},{"$f":"(Q280-P286)*Q$17*Q$10","v":3.6048},{"$f":"(R280-Q286)*R$17*R$10","v":2.4032},{"$f":"(S280-R286)*S$17*S$10","v":1.2016}]
[null,null,"Valore di subentro investimenti (lordo contributi) - cumulato",null,null,{"$f":"OFFSET(INDIRECT($F264 & \"inv\"),5,2+AnnoPonte-UltimoAnnoRTP,1,1)","v":0},{"$f":"IF(MAX(-SUM(OFFSET($G282,0,0,1,ScadenzaConcessione-AnnoPonte)),F286+(G281-G282)/$D264*($D264-(ScadenzaConcessione-G$4)))<0,0,MAX(-SUM(OFFSET($G282,0,0,1,ScadenzaConcessione-AnnoPonte)),F286+(G281-G282)/$D264*($D264-(ScadenzaConcessione-G$4))))","v":0},{"$f":"IF(MAX(-SUM(OFFSET($G282,0,0,1,ScadenzaConcessione-AnnoPonte)),G286+(H281-H282)/$D264*($D264-(ScadenzaConcessione-H$4)))<0,0,MAX(-SUM(OFFSET($G282,0,0,1,ScadenzaConcessione-AnnoPonte)),G286+(H281-H282)/$D264*($D264-(ScadenzaConcessione-H$4))))","v":0},{"$f":"IF(MAX(-SUM(OFFSET($G282,0,0,1,ScadenzaConcessione-AnnoPonte)),H286+(I281-I282)/$D264*($D264-(ScadenzaConcessione-I$4)))<0,0,MAX(-SUM(OFFSET($G282,0,0,1,ScadenzaConcessione-AnnoPonte)),H286+(I281-I282)/$D264*($D264-(ScadenzaConcessione-I$4))))","v":0},{"$f":"IF(MAX(-SUM(OFFSET($G282,0,0,1,ScadenzaConcessione-AnnoPonte)),I286+(J281-J282)/$D264*($D264-(ScadenzaConcessione-J$4)))<0,0,MAX(-SUM(OFFSET($G282,0,0,1,ScadenzaConcessione-AnnoPonte)),I286+(J281-J282)/$D264*($D264-(ScadenzaConcessione-J$4))))","v":0},{"$f":"IF(MAX(-SUM(OFFSET($G282,0,0,1,ScadenzaConcessione-AnnoPonte)),J286+(K281-K282)/$D264*($D264-(ScadenzaConcessione-K$4)))<0,0,MAX(-SUM(OFFSET($G282,0,0,1,ScadenzaConcessione-AnnoPonte)),J286+(K281-K282)/$D264*($D264-(ScadenzaConcessione-K$4))))","v":272},{"$f":"IF(MAX(-SUM(OFFSET($G282,0,0,1,ScadenzaConcessione-AnnoPonte)),K286+(L281-L282)/$D264*($D264-(ScadenzaConcessione-L$4)))<0,0,MAX(-SUM(OFFSET($G282,0,0,1,ScadenzaConcessione-AnnoPonte)),K286+(L281-L282)/$D264*($D264-(ScadenzaConcessione-L$4))))","v":272},{"$f":"IF(MAX(-SUM(OFFSET($G282,0,0,1,ScadenzaConcessione-AnnoPonte)),L286+(M281-M282)/$D264*($D264-(ScadenzaConcessione-M$4)))<0,0,MAX(-SUM(OFFSET($G282,0,0,1,ScadenzaConcessione-AnnoPonte)),L286+(M281-M282)/$D264*($D264-(ScadenzaConcessione-M$4))))","v":272},{"$f":"IF(MAX(-SUM(OFFSET($G282,0,0,1,ScadenzaConcessione-AnnoPonte)),M286+(N281-N282)/$D264*($D264-(ScadenzaConcessione-N$4)))<0,0,MAX(-SUM(OFFSET($G282,0,0,1,ScadenzaConcessione-AnnoPonte)),M286+(N281-N282)/$D264*($D264-(ScadenzaConcessione-N$4))))","v":272},{"$f":"IF(MAX(-SUM(OFFSET($G282,0,0,1,ScadenzaConcessione-AnnoPonte)),N286+(O281-O282)/$D264*($D264-(ScadenzaConcessione-O$4)))<0,0,MAX(-SUM(OFFSET($G282,0,0,1,ScadenzaConcessione-AnnoPonte)),N286+(O281-O282)/$D264*($D264-(ScadenzaConcessione-O$4))))","v":272},{"$f":"IF(MAX(-SUM(OFFSET($G282,0,0,1,ScadenzaConcessione-AnnoPonte)),O286+(P281-P282)/$D264*($D264-(ScadenzaConcessione-P$4)))<0,0,MAX(-SUM(OFFSET($G282,0,0,1,ScadenzaConcessione-AnnoPonte)),O286+(P281-P282)/$D264*($D264-(ScadenzaConcessione-P$4))))","v":272},{"$f":"IF(MAX(-SUM(OFFSET($G282,0,0,1,ScadenzaConcessione-AnnoPonte)),P286+(Q281-Q282)/$D264*($D264-(ScadenzaConcessione-Q$4)))<0,0,MAX(-SUM(OFFSET($G282,0,0,1,ScadenzaConcessione-AnnoPonte)),P286+(Q281-Q282)/$D264*($D264-(ScadenzaConcessione-Q$4))))","v":272},{"$f":"IF(MAX(-SUM(OFFSET($G282,0,0,1,ScadenzaConcessione-AnnoPonte)),Q286+(R281-R282)/$D264*($D264-(ScadenzaConcessione-R$4)))<0,0,MAX(-SUM(OFFSET($G282,0,0,1,ScadenzaConcessione-AnnoPonte)),Q286+(R281-R282)/$D264*($D264-(ScadenzaConcessione-R$4))))","v":272},{"$f":"IF(MAX(-SUM(OFFSET($G282,0,0,1,ScadenzaConcessione-AnnoPonte)),R286+(S281-S282)/$D264*($D264-(ScadenzaConcessione-S$4)))<0,0,MAX(-SUM(OFFSET($G282,0,0,1,ScadenzaConcessione-AnnoPonte)),R286+(S281-S282)/$D264*($D264-(ScadenzaConcessione-S$4))))","v":252}]
[null,null,"Remunerazione valore di subentro CIN investimenti",null,null,null,{"$f":"F286*G$19*G$10","v":0},{"$f":"G286*H$19*H$10","v":0},0,0,0,20.427199999999999,20.427199999999999,20.427199999999999,20.427199999999999,20.427199999999999,20.427199999999999,20.427199999999999,20.427199999999999]
[]
[null,null,"CIN contributi bop (amm. a vite utili)",null,"precedenti",null,{"$f":"F292","v":0},{"$f":"G292","v":0},{"$f":"H292","v":0},{"$f":"I292","v":0},{"$f":"J292","v":-40},{"$f":"K292","v":-38.4},{"$f":"L292","v":-36.799999999999997},{"$f":"M292","v":-35.199999999999996},{"$f":"N292","v":-33.599999999999994},{"$f":"O292","v":-31.999999999999993},{"$f":"P292","v":-30.399999999999991},{"$f":"Q292","v":-28.79999999999999},{"$f":"R292","v":-27.199999999999989}]
[null,null,"contributi annui (amm. a vite utili)",null,{"$f":"-SUM(OFFSET(INDIRECT($F264 & \"contr\"),0,3,1,IF(EsistePrev,AnnoPonte-UltimoAnnoRTP,1)))","v":0},null,{"$f":"-SUMIFS(\n'Z0.6.b ProgInvest_Contr agg'!Z:Z,\n'Z0.6.b ProgInvest_Contr agg'!$K:$K,$C264,\n'Z0.6.b ProgInvest_Contr agg'!$M:$M,$D$145,\n'Z0.6.b ProgInvest_Contr agg'!$L:$L,\"in corso\",\n'Z0.6.b ProgInvest_Contr agg'!$O:$O,\"vite utili 1\")\n-SUMIFS(\n'Z0.6.b ProgInvest_Contr agg'!Z:Z,\n'Z0.6.b ProgInvest_Contr agg'!$K:$K,$C264,\n'Z0.6.b ProgInvest_Contr agg'!$M:$M,$D$145,\n'Z0.6.b ProgInvest_Contr agg'!$L:$L,\"in corso\",\n'Z0.6.b ProgInvest_Contr agg'!$O:$O,\"vite utili 2\")","v":0},{"$f":"-SUMIFS(\n'Z0.6.b ProgInvest_Contr agg'!AA:AA,\n'Z0.6.b ProgInvest_Contr agg'!$K:$K,$C264,\n'Z0.6.b ProgInvest_Contr agg'!$M:$M,$D$145,\n'Z0.6.b ProgInvest_Contr agg'!$L:$L,\"in corso\",\n'Z0.6.b ProgInvest_Contr agg'!$O:$O,\"vite utili 1\")\n-SUMIFS(\n'Z0.6.b ProgInvest_Contr agg'!AA:AA,\n'Z0.6.b ProgInvest_Contr agg'!$K:$K,$C264,\n'Z0.6.b ProgInvest_Contr agg'!$M:$M,$D$145,\n'Z0.6.b ProgInvest_Contr agg'!$L:$L,\"in corso\",\n'Z0.6.b ProgInvest_Contr agg'!$O:$O,\"vite utili 2\")","v":0},{"$f":"-SUMIFS(\n'Z0.6.b ProgInvest_Contr agg'!AB:AB,\n'Z0.6.b ProgInvest_Contr agg'!$K:$K,$C264,\n'Z0.6.b ProgInvest_Contr agg'!$M:$M,$D$145,\n'Z0.6.b ProgInvest_Contr agg'!$L:$L,\"in corso\",\n'Z0.6.b ProgInvest_Contr agg'!$O:$O,\"vite utili 1\")\n-SUMIFS(\n'Z0.6.b ProgInvest_Contr agg'!AB:AB,\n'Z0.6.b ProgInvest_Contr agg'!$K:$K,$C264,\n'Z0.6.b ProgInvest_Contr agg'!$M:$M,$D$145,\n'Z0.6.b ProgInvest_Contr agg'!$L:$L,\"in corso\",\n'Z0.6.b ProgInvest_Contr agg'!$O:$O,\"vite utili 2\")","v":0},{"$f":"-SUMIFS(\n'Z0.6.b ProgInvest_Contr agg'!AC:AC,\n'Z0.6.b ProgInvest_Contr agg'!$K:$K,$C264,\n'Z0.6.b ProgInvest_Contr agg'!$M:$M,$D$145,\n'Z0.6.b ProgInvest_Contr agg'!$L:$L,\"in corso\",\n'Z0.6.b ProgInvest_Contr agg'!$O:$O,\"vite utili 1\")\n-SUMIFS(\n'Z0.6.b ProgInvest_Contr agg'!AC:AC,\n'Z0.6.b ProgInvest_Contr agg'!$K:$K,$C264,\n'Z0.6.b ProgInvest_Contr agg'!$M:$M,$D$145,\n'Z0.6.b ProgInvest_Contr agg'!$L:$L,\"in corso\",\n'Z0.6.b ProgInvest_Contr agg'!$O:$O,\"vite utili 2\")","v":-40},{"$f":"-SUMIFS(\n'Z0.6.b ProgInvest_Contr agg'!AD:AD,\n'Z0.6.b ProgInvest_Contr agg'!$K:$K,$C264,\n'Z0.6.b ProgInvest_Contr agg'!$M:$M,$D$145,\n'Z0.6.b ProgInvest_Contr agg'!$L:$L,\"in corso\",\n'Z0.6.b ProgInvest_Contr agg'!$O:$O,\"vite utili 1\")\n-SUMIFS(\n'Z0.6.b ProgInvest_Contr agg'!AD:AD,\n'Z0.6.b ProgInvest_Contr agg'!$K:$K,$C264,\n'Z0.6.b ProgInvest_Contr agg'!$M:$M,$D$145,\n'Z0.6.b ProgInvest_Contr agg'!$L:$L,\"in corso\",\n'Z0.6.b ProgInvest_Contr agg'!$O:$O,\"vite utili 2\")","v":0},{"$f":"-SUMIFS(\n'Z0.6.b ProgInvest_Contr agg'!AE:AE,\n'Z0.6.b ProgInvest_Contr agg'!$K:$K,$C264,\n'Z0.6.b ProgInvest_Contr agg'!$M:$M,$D$145,\n'Z0.6.b ProgInvest_Contr agg'!$L:$L,\"in corso\",\n'Z0.6.b ProgInvest_Contr agg'!$O:$O,\"vite utili 1\")\n-SUMIFS(\n'Z0.6.b ProgInvest_Contr agg'!AE:AE,\n'Z0.6.b ProgInvest_Contr agg'!$K:$K,$C264,\n'Z0.6.b ProgInvest_Contr agg'!$M:$M,$D$145,\n'Z0.6.b ProgInvest_Contr agg'!$L:$L,\"in corso\",\n'Z0.6.b ProgInvest_Contr agg'!$O:$O,\"vite utili 2\")","v":0},{"$f":"-SUMIFS(\n'Z0.6.b ProgInvest_Contr agg'!AF:AF,\n'Z0.6.b ProgInvest_Contr agg'!$K:$K,$C264,\n'Z0.6.b ProgInvest_Contr agg'!$M:$M,$D$145,\n'Z0.6.b ProgInvest_Contr agg'!$L:$L,\"in corso\",\n'Z0.6.b ProgInvest_Contr agg'!$O:$O,\"vite utili 1\")\n-SUMIFS(\n'Z0.6.b ProgInvest_Contr agg'!AF:AF,\n'Z0.6.b ProgInvest_Contr agg'!$K:$K,$C264,\n'Z0.6.b ProgInvest_Contr agg'!$M:$M,$D$145,\n'Z0.6.b ProgInvest_Contr agg'!$L:$L,\"in corso\",\n'Z0.6.b ProgInvest_Contr agg'!$O:$O,\"vite utili 2\")","v":0},{"$f":"-SUMIFS(\n'Z0.6.b ProgInvest_Contr agg'!AG:AG,\n'Z0.6.b ProgInvest_Contr agg'!$K:$K,$C264,\n'Z0.6.b ProgInvest_Contr agg'!$M:$M,$D$145,\n'Z0.6.b ProgInvest_Contr agg'!$L:$L,\"in corso\",\n'Z0.6.b ProgInvest_Contr agg'!$O:$O,\"vite utili 1\")\n-SUMIFS(\n'Z0.6.b ProgInvest_Contr agg'!AG:AG,\n'Z0.6.b ProgInvest_Contr agg'!$K:$K,$C264,\n'Z0.6.b ProgInvest_Contr agg'!$M:$M,$D$145,\n'Z0.6.b ProgInvest_Contr agg'!$L:$L,\"in corso\",\n'Z0.6.b ProgInvest_Contr agg'!$O:$O,\"vite utili 2\")","v":0},{"$f":"-SUMIFS(\n'Z0.6.b ProgInvest_Contr agg'!AH:AH,\n'Z0.6.b ProgInvest_Contr agg'!$K:$K,$C264,\n'Z0.6.b ProgInvest_Contr agg'!$M:$M,$D$145,\n'Z0.6.b ProgInvest_Contr agg'!$L:$L,\"in corso\",\n'Z0.6.b ProgInvest_Contr agg'!$O:$O,\"vite utili 1\")\n-SUMIFS(\n'Z0.6.b ProgInvest_Contr agg'!AH:AH,\n'Z0.6.b ProgInvest_Contr agg'!$K:$K,$C264,\n'Z0.6.b ProgInvest_Contr agg'!$M:$M,$D$145,\n'Z0.6.b ProgInvest_Contr agg'!$L:$L,\"in corso\",\n'Z0.6.b ProgInvest_Contr agg'!$O:$O,\"vite utili 2\")","v":0},{"$f":"-SUMIFS(\n'Z0.6.b ProgInvest_Contr agg'!AI:AI,\n'Z0.6.b ProgInvest_Contr agg'!$K:$K,$C264,\n'Z0.6.b ProgInvest_Contr agg'!$M:$M,$D$145,\n'Z0.6.b ProgInvest_Contr agg'!$L:$L,\"in corso\",\n'Z0.6.b ProgInvest_Contr agg'!$O:$O,\"vite utili 1\")\n-SUMIFS(\n'Z0.6.b ProgInvest_Contr agg'!AI:AI,\n'Z0.6.b ProgInvest_Contr agg'!$K:$K,$C264,\n'Z0.6.b ProgInvest_Contr agg'!$M:$M,$D$145,\n'Z0.6.b ProgInvest_Contr agg'!$L:$L,\"in corso\",\n'Z0.6.b ProgInvest_Contr agg'!$O:$O,\"vite utili 2\")","v":0},{"$f":"-SUMIFS(\n'Z0.6.b ProgInvest_Contr agg'!AJ:AJ,\n'Z0.6.b ProgInvest_Contr agg'!$K:$K,$C264,\n'Z0.6.b ProgInvest_Contr agg'!$M:$M,$D$145,\n'Z0.6.b ProgInvest_Contr agg'!$L:$L,\"in corso\",\n'Z0.6.b ProgInvest_Contr agg'!$O:$O,\"vite utili 1\")\n-SUMIFS(\n'Z0.6.b ProgInvest_Contr agg'!AJ:AJ,\n'Z0.6.b ProgInvest_Contr agg'!$K:$K,$C264,\n'Z0.6.b ProgInvest_Contr agg'!$M:$M,$D$145,\n'Z0.6.b ProgInvest_Contr agg'!$L:$L,\"in corso\",\n'Z0.6.b ProgInvest_Contr agg'!$O:$O,\"vite utili 2\")","v":0},{"$f":"-SUMIFS(\n'Z0.6.b ProgInvest_Contr agg'!AK:AK,\n'Z0.6.b ProgInvest_Contr agg'!$K:$K,$C264,\n'Z0.6.b ProgInvest_Contr agg'!$M:$M,$D$145,\n'Z0.6.b ProgInvest_Contr agg'!$L:$L,\"in corso\",\n'Z0.6.b ProgInvest_Contr agg'!$O:$O,\"vite utili 1\")\n-SUMIFS(\n'Z0.6.b ProgInvest_Contr agg'!AK:AK,\n'Z0.6.b ProgInvest_Contr agg'!$K:$K,$C264,\n'Z0.6.b ProgInvest_Contr agg'!$M:$M,$D$145,\n'Z0.6.b ProgInvest_Contr agg'!$L:$L,\"in corso\",\n'Z0.6.b ProgInvest_Contr agg'!$O:$O,\"vite utili 2\")","v":0},{"$f":"-SUMIFS(\n'Z0.6.b ProgInvest_Contr agg'!AL:AL,\n'Z0.6.b ProgInvest_Contr agg'!$K:$K,$C264,\n'Z0.6.b ProgInvest_Contr agg'!$M:$M,$D$145,\n'Z0.6.b ProgInvest_Contr agg'!$L:$L,\"in corso\",\n'Z0.6.b ProgInvest_Contr agg'!$O:$O,\"vite utili 1\")\n-SUMIFS(\n'Z0.6.b ProgInvest_Contr agg'!AL:AL,\n'Z0.6.b ProgInvest_Contr agg'!$K:$K,$C264,\n'Z0.6.b ProgInvest_Contr agg'!$M:$M,$D$145,\n'Z0.6.b ProgInvest_Contr agg'!$L:$L,\"in corso\",\n'Z0.6.b ProgInvest_Contr agg'!$O:$O,\"vite utili 2\")","v":0}]
[null,null,"Ammortamento contributi (amm. a vite utili)",null,{"$f":"-SUM(OFFSET(INDIRECT($F264 & \"contr\"),1,3,1,IF(EsistePrev,AnnoPonte-UltimoAnnoRTP,1)))","v":0},null,{"$f":"IF(F$4-UltimoAnnoRTP<=$D264,\n(SUM($F290:F290)-SUM(OFFSET(INDIRECT($F264 & \"contr\"),0,3,1,IF(EsistePrev,AnnoPonte-UltimoAnnoRTP,1)))\n)/$D264,\n\nIF(AND(F$4-UltimoAnnoRTP>$D264,F$4-AnnoPonte<=$D264),\n(SUM($F290:F290)-SUM(IFERROR(OFFSET(INDIRECT($F264 & \"contr\"),0,3+(F$4-UltimoAnnoRTP-$D264),1,(IF(EsistePrev,AnnoPonte-UltimoAnnoRTP,1)-(F$4-UltimoAnnoRTP-$D264))),0))\n)/$D264,\n\n(SUM(OFFSET(F290,0,-$D264+1,1,$D264))\n)/$D264))","v":0},{"$f":"IF(G$4-UltimoAnnoRTP<=$D264,\n(SUM($F290:G290)-SUM(OFFSET(INDIRECT($F264 & \"contr\"),0,3,1,IF(EsistePrev,AnnoPonte-UltimoAnnoRTP,1)))\n)/$D264,\n\nIF(AND(G$4-UltimoAnnoRTP>$D264,G$4-AnnoPonte<=$D264),\n(SUM($F290:G290)-SUM(IFERROR(OFFSET(INDIRECT($F264 & \"contr\"),0,3+(G$4-UltimoAnnoRTP-$D264),1,(IF(EsistePrev,AnnoPonte-UltimoAnnoRTP,1)-(G$4-UltimoAnnoRTP-$D264))),0))\n)/$D264,\n\n(SUM(OFFSET(G290,0,-$D264+1,1,$D264))\n)/$D264))","v":0},{"$f":"IF(H$4-UltimoAnnoRTP<=$D264,\n(SUM($F290:H290)-SUM(OFFSET(INDIRECT($F264 & \"contr\"),0,3,1,IF(EsistePrev,AnnoPonte-UltimoAnnoRTP,1)))\n)/$D264,\n\nIF(AND(H$4-UltimoAnnoRTP>$D264,H$4-AnnoPonte<=$D264),\n(SUM($F290:H290)-SUM(IFERROR(OFFSET(INDIRECT($F264 & \"contr\"),0,3+(H$4-UltimoAnnoRTP-$D264),1,(IF(EsistePrev,AnnoPonte-UltimoAnnoRTP,1)-(H$4-UltimoAnnoRTP-$D264))),0))\n)/$D264,\n\n(SUM(OFFSET(H290,0,-$D264+1,1,$D264))\n)/$D264))","v":0},{"$f":"IF(I$4-UltimoAnnoRTP<=$D264,\n(SUM($F290:I290)-SUM(OFFSET(INDIRECT($F264 & \"contr\"),0,3,1,IF(EsistePrev,AnnoPonte-UltimoAnnoRTP,1)))\n)/$D264,\n\nIF(AND(I$4-UltimoAnnoRTP>$D264,I$4-AnnoPonte<=$D264),\n(SUM($F290:I290)-SUM(IFERROR(OFFSET(INDIRECT($F264 & \"contr\"),0,3+(I$4-UltimoAnnoRTP-$D264),1,(IF(EsistePrev,AnnoPonte-UltimoAnnoRTP,1)-(I$4-UltimoAnnoRTP-$D264))),0))\n)/$D264,\n\n(SUM(OFFSET(I290,0,-$D264+1,1,$D264))\n)/$D264))","v":0},{"$f":"IF(J$4-UltimoAnnoRTP<=$D264,\n(SUM($F290:J290)-SUM(OFFSET(INDIRECT($F264 & \"contr\"),0,3,1,IF(EsistePrev,AnnoPonte-UltimoAnnoRTP,1)))\n)/$D264,\n\nIF(AND(J$4-UltimoAnnoRTP>$D264,J$4-AnnoPonte<=$D264),\n(SUM($F290:J290)-SUM(IFERROR(OFFSET(INDIRECT($F264 & \"contr\"),0,3+(J$4-UltimoAnnoRTP-$D264),1,(IF(EsistePrev,AnnoPonte-UltimoAnnoRTP,1)-(J$4-UltimoAnnoRTP-$D264))),0))\n)/$D264,\n\n(SUM(OFFSET(J290,0,-$D264+1,1,$D264))\n)/$D264))","v":-1.6},{"$f":"IF(K$4-UltimoAnnoRTP<=$D264,\n(SUM($F290:K290)-SUM(OFFSET(INDIRECT($F264 & \"contr\"),0,3,1,IF(EsistePrev,AnnoPonte-UltimoAnnoRTP,1)))\n)/$D264,\n\nIF(AND(K$4-UltimoAnnoRTP>$D264,K$4-AnnoPonte<=$D264),\n(SUM($F290:K290)-SUM(IFERROR(OFFSET(INDIRECT($F264 & \"contr\"),0,3+(K$4-UltimoAnnoRTP-$D264),1,(IF(EsistePrev,AnnoPonte-UltimoAnnoRTP,1)-(K$4-UltimoAnnoRTP-$D264))),0))\n)/$D264,\n\n(SUM(OFFSET(K290,0,-$D264+1,1,$D264))\n)/$D264))","v":-1.6},{"$f":"IF(L$4-UltimoAnnoRTP<=$D264,\n(SUM($F290:L290)-SUM(OFFSET(INDIRECT($F264 & \"contr\"),0,3,1,IF(EsistePrev,AnnoPonte-UltimoAnnoRTP,1)))\n)/$D264,\n\nIF(AND(L$4-UltimoAnnoRTP>$D264,L$4-AnnoPonte<=$D264),\n(SUM($F290:L290)-SUM(IFERROR(OFFSET(INDIRECT($F264 & \"contr\"),0,3+(L$4-UltimoAnnoRTP-$D264),1,(IF(EsistePrev,AnnoPonte-UltimoAnnoRTP,1)-(L$4-UltimoAnnoRTP-$D264))),0))\n)/$D264,\n\n(SUM(OFFSET(L290,0,-$D264+1,1,$D264))\n)/$D264))","v":-1.6},{"$f":"IF(M$4-UltimoAnnoRTP<=$D264,\n(SUM($F290:M290)-SUM(OFFSET(INDIRECT($F264 & \"contr\"),0,3,1,IF(EsistePrev,AnnoPonte-UltimoAnnoRTP,1)))\n)/$D264,\n\nIF(AND(M$4-UltimoAnnoRTP>$D264,M$4-AnnoPonte<=$D264),\n(SUM($F290:M290)-SUM(IFERROR(OFFSET(INDIRECT($F264 & \"contr\"),0,3+(M$4-UltimoAnnoRTP-$D264),1,(IF(EsistePrev,AnnoPonte-UltimoAnnoRTP,1)-(M$4-UltimoAnnoRTP-$D264))),0))\n)/$D264,\n\n(SUM(OFFSET(M290,0,-$D264+1,1,$D264))\n)/$D264))","v":-1.6},{"$f":"IF(N$4-UltimoAnnoRTP<=$D264,\n(SUM($F290:N290)-SUM(OFFSET(INDIRECT($F264 & \"contr\"),0,3,1,IF(EsistePrev,AnnoPonte-UltimoAnnoRTP,1)))\n)/$D264,\n\nIF(AND(N$4-UltimoAnnoRTP>$D264,N$4-AnnoPonte<=$D264),\n(SUM($F290:N290)-SUM(IFERROR(OFFSET(INDIRECT($F264 & \"contr\"),0,3+(N$4-UltimoAnnoRTP-$D264),1,(IF(EsistePrev,AnnoPonte-UltimoAnnoRTP,1)-(N$4-UltimoAnnoRTP-$D264))),0))\n)/$D264,\n\n(SUM(OFFSET(N290,0,-$D264+1,1,$D264))\n)/$D264))","v":-1.6},{"$f":"IF(O$4-UltimoAnnoRTP<=$D264,\n(SUM($F290:O290)-SUM(OFFSET(INDIRECT($F264 & \"contr\"),0,3,1,IF(EsistePrev,AnnoPonte-UltimoAnnoRTP,1)))\n)/$D264,\n\nIF(AND(O$4-UltimoAnnoRTP>$D264,O$4-AnnoPonte<=$D264),\n(SUM($F290:O290)-SUM(IFERROR(OFFSET(INDIRECT($F264 & \"contr\"),0,3+(O$4-UltimoAnnoRTP-$D264),1,(IF(EsistePrev,AnnoPonte-UltimoAnnoRTP,1)-(O$4-UltimoAnnoRTP-$D264))),0))\n)/$D264,\n\n(SUM(OFFSET(O290,0,-$D264+1,1,$D264))\n)/$D264))","v":-1.6},{"$f":"IF(P$4-UltimoAnnoRTP<=$D264,\n(SUM($F290:P290)-SUM(OFFSET(INDIRECT($F264 & \"contr\"),0,3,1,IF(EsistePrev,AnnoPonte-UltimoAnnoRTP,1)))\n)/$D264,\n\nIF(AND(P$4-UltimoAnnoRTP>$D264,P$4-AnnoPonte<=$D264),\n(SUM($F290:P290)-SUM(IFERROR(OFFSET(INDIRECT($F264 & \"contr\"),0,3+(P$4-UltimoAnnoRTP-$D264),1,(IF(EsistePrev,AnnoPonte-UltimoAnnoRTP,1)-(P$4-UltimoAnnoRTP-$D264))),0))\n)/$D264,\n\n(SUM(OFFSET(P290,0,-$D264+1,1,$D264))\n)/$D264))","v":-1.6},{"$f":"IF(Q$4-UltimoAnnoRTP<=$D264,\n(SUM($F290:Q290)-SUM(OFFSET(INDIRECT($F264 & \"contr\"),0,3,1,IF(EsistePrev,AnnoPonte-UltimoAnnoRTP,1)))\n)/$D264,\n\nIF(AND(Q$4-UltimoAnnoRTP>$D264,Q$4-AnnoPonte<=$D264),\n(SUM($F290:Q290)-SUM(IFERROR(OFFSET(INDIRECT($F264 & \"contr\"),0,3+(Q$4-UltimoAnnoRTP-$D264),1,(IF(EsistePrev,AnnoPonte-UltimoAnnoRTP,1)-(Q$4-UltimoAnnoRTP-$D264))),0))\n)/$D264,\n\n(SUM(OFFSET(Q290,0,-$D264+1,1,$D264))\n)/$D264))","v":-1.6},{"$f":"IF(R$4-UltimoAnnoRTP<=$D264,\n(SUM($F290:R290)-SUM(OFFSET(INDIRECT($F264 & \"contr\"),0,3,1,IF(EsistePrev,AnnoPonte-UltimoAnnoRTP,1)))\n)/$D264,\n\nIF(AND(R$4-UltimoAnnoRTP>$D264,R$4-AnnoPonte<=$D264),\n(SUM($F290:R290)-SUM(IFERROR(OFFSET(INDIRECT($F264 & \"contr\"),0,3+(R$4-UltimoAnnoRTP-$D264),1,(IF(EsistePrev,AnnoPonte-UltimoAnnoRTP,1)-(R$4-UltimoAnnoRTP-$D264))),0))\n)/$D264,\n\n(SUM(OFFSET(R290,0,-$D264+1,1,$D264))\n)/$D264))","v":-1.6}]
[null,null,"CIN contributi eop (amm. a vite utili)",null,null,{"$f":"-OFFSET(INDIRECT($F264 & \"contr\"),2,2+AnnoPonte-UltimoAnnoRTP,1,1)","v":0},{"$f":"G289+G290-G291","v":0},0,0,-40,-38.4,-36.799999999999997,-35.199999999999996,-33.599999999999994,-31.999999999999993,-30.399999999999991,-28.79999999999999,-27.199999999999989,-25.599999999999987]
[null,null,"Remunerazione CIN contributi",null,null,null,{"$f":"(G289-F294)*G$17*G$10","v":0},{"$f":"(H289-G294)*H$17*H$10","v":0},{"$f":"(I289-H294)*I$17*I$10","v":0},{"$f":"(J289-I294)*J$17*J$10","v":0},{"$f":"(K289-J294)*K$17*K$10","v":-1.08144},{"$f":"(L289-K294)*L$17*L$10","v":-0.9612799999999998},{"$f":"(M289-L294)*M$17*M$10","v":-0.84111999999999965},{"$f":"(N289-M294)*N$17*N$10","v":-0.7209599999999996},{"$f":"(O289-N294)*O$17*O$10","v":-0.60079999999999945},{"$f":"(P289-O294)*P$17*P$10","v":-0.48063999999999935},{"$f":"(Q289-P294)*Q$17*Q$10","v":-0.36047999999999925},{"$f":"(R289-Q294)*R$17*R$10","v":-0.24031999999999915},{"$f":"(S289-R294)*S$17*S$10","v":-0.12015999999999905}]
[null,null,"Valore di subentro contributi - cumulato",null,null,{"$f":"-OFFSET(INDIRECT($F264 & \"contr\"),4,2+AnnoPonte-UltimoAnnoRTP,1,1)","v":0},{"$f":"MIN(0,F294+(G290)/$D264*($D264-(ScadenzaConcessione-G$4)))","v":0},{"$f":"MIN(0,G294+(H290)/$D264*($D264-(ScadenzaConcessione-H$4)))","v":0},{"$f":"MIN(0,H294+(I290)/$D264*($D264-(ScadenzaConcessione-I$4)))","v":0},{"$f":"MIN(0,I294+(J290)/$D264*($D264-(ScadenzaConcessione-J$4)))","v":-25.6},{"$f":"MIN(0,J294+(K290)/$D264*($D264-(ScadenzaConcessione-K$4)))","v":-25.6},{"$f":"MIN(0,K294+(L290)/$D264*($D264-(ScadenzaConcessione-L$4)))","v":-25.6},{"$f":"MIN(0,L294+(M290)/$D264*($D264-(ScadenzaConcessione-M$4)))","v":-25.6},{"$f":"MIN(0,M294+(N290)/$D264*($D264-(ScadenzaConcessione-N$4)))","v":-25.6},{"$f":"MIN(0,N294+(O290)/$D264*($D264-(ScadenzaConcessione-O$4)))","v":-25.6},{"$f":"MIN(0,O294+(P290)/$D264*($D264-(ScadenzaConcessione-P$4)))","v":-25.6},{"$f":"MIN(0,P294+(Q290)/$D264*($D264-(ScadenzaConcessione-Q$4)))","v":-25.6},{"$f":"MIN(0,Q294+(R290)/$D264*($D264-(ScadenzaConcessione-R$4)))","v":-25.6},{"$f":"MIN(0,R294+(S290)/$D264*($D264-(ScadenzaConcessione-S$4)))","v":-25.6}]
[null,null,"Remunerazione valore di subentro CIN contributi ",null,null,null,{"$f":"F294*G$19*G$10","v":0},{"$f":"G294*H$19*H$10","v":0},0,0,-1.92256,-1.92256,-1.92256,-1.92256,-1.92256,-1.92256,-1.92256,-1.92256,-1.92256]
[]
[null,null,"Check - TIR di progetto"]
[null,null,"Cash out investimenti",null,null,{"$f":"-(F269+F276+F284+F292)","v":0},{"$f":"-(G267+G274-G282+G290)","v":0},{"$f":"-(H267+H274-H282+H290)","v":0},0,-160,-200,0,0,0,0,0,0,0,20]
[null,null,"Cash in valore di subentro",null,null,null,{"$f":"IF(G$4=ScadenzaConcessione,G270+G286+G294,\"\")","v":""},"","","","","","","","","","","",{"$f":"IF(S$4=ScadenzaConcessione,S270+S277+S286+S294,\"\")","v":226.4}]
[null,null,"Cash in ammortamenti",null,null,null,{"$f":"G283+G291","v":0},0,0,0,-1.6,14.4,14.4,14.4,14.4,14.4,14.4,14.4,14.4]
[null,null,"Cash in remunerazioni (annualizzato)",null,null,null,{"$f":"(G271+G278+G285+G287+G293+G295)/G$10","v":0},{"$f":"(H271+H278+H285+H287+H293+H295)/H$10","v":0},0,0,8.8559999999999981,27.15616,26.074719999999999,24.993280000000002,23.911839999999998,22.830399999999997,21.74896,20.667519999999996,19.586079999999999]
[null,null,"Cash flow",null,null,{"$f":"SUM(F298:F301)","v":0},0,{"$f":"SUM(H298:H301)","v":0},0,-160,-192.744,41.556159999999998,40.474719999999998,39.393280000000004,38.311839999999997,37.230399999999996,36.148960000000002,35.067519999999995,280.38607999999999]
[null,null,"Tasso interno di rendimento",null,null,{"$f":"IFERROR(IRR(OFFSET(F302,0,0,1,ScadenzaConcessione-AnnoPonte+1)),\"non calc.\")","v":7.3539103134501627E-2}]
[null,null,"VAN",null,{"$f":"WACC","v":7.51E-2},{"$f":"NPV(E304,OFFSET(F302,0,0,1,ScadenzaConcessione-AnnoPonte+1))","v":-2.0464159470477088}]
[]
[null,null,"Corpo autostradale, opere sul territorio",{"$f":"VLOOKUP(C306,'C3 Tk Supporto'!C:E,2,0)","v":30},"vita utile","VU04"]
[]
[null,null,"LIC livello 1 - bop",null,null,null,{"$f":"F311","v":0},{"$f":"G311","v":0},{"$f":"H311","v":0},{"$f":"I311","v":0},{"$f":"J311","v":0},{"$f":"K311","v":100},{"$f":"L311","v":0},{"$f":"M311","v":0},{"$f":"N311","v":0},{"$f":"O311","v":0},{"$f":"P311","v":0},{"$f":"Q311","v":0},{"$f":"R311","v":0}]
[null,null,"Investimenti in corso aggiuntivi",null,null,null,{"$f":"SUMIFS(\n'Z0.6.a ProgInvest_Spesa agg'!Z:Z,\n'Z0.6.a ProgInvest_Spesa agg'!$K:$K,$C306,\n'Z0.6.a ProgInvest_Spesa agg'!$M:$M,$D$145,\n'Z0.6.a ProgInvest_Spesa agg'!$L:$L,\"in corso\",\n'Z0.6.a ProgInvest_Spesa agg'!$O:$O,\"vite utili 1\")","v":0},{"$f":"SUMIFS(\n'Z0.6.a ProgInvest_Spesa agg'!AA:AA,\n'Z0.6.a ProgInvest_Spesa agg'!$K:$K,$C306,\n'Z0.6.a ProgInvest_Spesa agg'!$M:$M,$D$145,\n'Z0.6.a ProgInvest_Spesa agg'!$L:$L,\"in corso\",\n'Z0.6.a ProgInvest_Spesa agg'!$O:$O,\"vite utili 1\")","v":0},{"$f":"SUMIFS(\n'Z0.6.a ProgInvest_Spesa agg'!AB:AB,\n'Z0.6.a ProgInvest_Spesa agg'!$K:$K,$C306,\n'Z0.6.a ProgInvest_Spesa agg'!$M:$M,$D$145,\n'Z0.6.a ProgInvest_Spesa agg'!$L:$L,\"in corso\",\n'Z0.6.a ProgInvest_Spesa agg'!$O:$O,\"vite utili 1\")","v":0},{"$f":"SUMIFS(\n'Z0.6.a ProgInvest_Spesa agg'!AC:AC,\n'Z0.6.a ProgInvest_Spesa agg'!$K:$K,$C306,\n'Z0.6.a ProgInvest_Spesa agg'!$M:$M,$D$145,\n'Z0.6.a ProgInvest_Spesa agg'!$L:$L,\"in corso\",\n'Z0.6.a ProgInvest_Spesa agg'!$O:$O,\"vite utili 1\")","v":0},{"$f":"SUMIFS(\n'Z0.6.a ProgInvest_Spesa agg'!AD:AD,\n'Z0.6.a ProgInvest_Spesa agg'!$K:$K,$C306,\n'Z0.6.a ProgInvest_Spesa agg'!$M:$M,$D$145,\n'Z0.6.a ProgInvest_Spesa agg'!$L:$L,\"in corso\",\n'Z0.6.a ProgInvest_Spesa agg'!$O:$O,\"vite utili 1\")","v":100},{"$f":"SUMIFS(\n'Z0.6.a ProgInvest_Spesa agg'!AE:AE,\n'Z0.6.a ProgInvest_Spesa agg'!$K:$K,$C306,\n'Z0.6.a ProgInvest_Spesa agg'!$M:$M,$D$145,\n'Z0.6.a ProgInvest_Spesa agg'!$L:$L,\"in corso\",\n'Z0.6.a ProgInvest_Spesa agg'!$O:$O,\"vite utili 1\")","v":100},{"$f":"SUMIFS(\n'Z0.6.a ProgInvest_Spesa agg'!AF:AF,\n'Z0.6.a ProgInvest_Spesa agg'!$K:$K,$C306,\n'Z0.6.a ProgInvest_Spesa agg'!$M:$M,$D$145,\n'Z0.6.a ProgInvest_Spesa agg'!$L:$L,\"in corso\",\n'Z0.6.a ProgInvest_Spesa agg'!$O:$O,\"vite utili 1\")","v":0},{"$f":"SUMIFS(\n'Z0.6.a ProgInvest_Spesa agg'!AG:AG,\n'Z0.6.a ProgInvest_Spesa agg'!$K:$K,$C306,\n'Z0.6.a ProgInvest_Spesa agg'!$M:$M,$D$145,\n'Z0.6.a ProgInvest_Spesa agg'!$L:$L,\"in corso\",\n'Z0.6.a ProgInvest_Spesa agg'!$O:$O,\"vite utili 1\")","v":0},{"$f":"SUMIFS(\n'Z0.6.a ProgInvest_Spesa agg'!AH:AH,\n'Z0.6.a ProgInvest_Spesa agg'!$K:$K,$C306,\n'Z0.6.a ProgInvest_Spesa agg'!$M:$M,$D$145,\n'Z0.6.a ProgInvest_Spesa agg'!$L:$L,\"in corso\",\n'Z0.6.a ProgInvest_Spesa agg'!$O:$O,\"vite utili 1\")","v":0},{"$f":"SUMIFS(\n'Z0.6.a ProgInvest_Spesa agg'!AI:AI,\n'Z0.6.a ProgInvest_Spesa agg'!$K:$K,$C306,\n'Z0.6.a ProgInvest_Spesa agg'!$M:$M,$D$145,\n'Z0.6.a ProgInvest_Spesa agg'!$L:$L,\"in corso\",\n'Z0.6.a ProgInvest_Spesa agg'!$O:$O,\"vite utili 1\")","v":0},{"$f":"SUMIFS(\n'Z0.6.a ProgInvest_Spesa agg'!AJ:AJ,\n'Z0.6.a ProgInvest_Spesa agg'!$K:$K,$C306,\n'Z0.6.a ProgInvest_Spesa agg'!$M:$M,$D$145,\n'Z0.6.a ProgInvest_Spesa agg'!$L:$L,\"in corso\",\n'Z0.6.a ProgInvest_Spesa agg'!$O:$O,\"vite utili 1\")","v":0},{"$f":"SUMIFS(\n'Z0.6.a ProgInvest_Spesa agg'!AK:AK,\n'Z0.6.a ProgInvest_Spesa agg'!$K:$K,$C306,\n'Z0.6.a ProgInvest_Spesa agg'!$M:$M,$D$145,\n'Z0.6.a ProgInvest_Spesa agg'!$L:$L,\"in corso\",\n'Z0.6.a ProgInvest_Spesa agg'!$O:$O,\"vite utili 1\")","v":0},{"$f":"SUMIFS(\n'Z0.6.a ProgInvest_Spesa agg'!AL:AL,\n'Z0.6.a ProgInvest_Spesa agg'!$K:$K,$C306,\n'Z0.6.a ProgInvest_Spesa agg'!$M:$M,$D$145,\n'Z0.6.a ProgInvest_Spesa agg'!$L:$L,\"in corso\",\n'Z0.6.a ProgInvest_Spesa agg'!$O:$O,\"vite utili 1\")","v":0}]
[null,null,"Investimenti in corso cessanti (entrata in esercizio)",null,null,null,{"$f":"-SUMIFS(\n'Z0.6.a ProgInvest_Spesa agg'!$S:$S,\n'Z0.6.a ProgInvest_Spesa agg'!$K:$K,$C306,\n'Z0.6.a ProgInvest_Spesa agg'!$M:$M,$D$145,\n'Z0.6.a ProgInvest_Spesa agg'!$L:$L,\"in corso\",\n'Z0.6.a ProgInvest_Spesa agg'!$O:$O,\"vite utili 1\",\n'Z0.6.a ProgInvest_Spesa agg'!$P:$P,G$4)","v":0},{"$f":"-SUMIFS(\n'Z0.6.a ProgInvest_Spesa agg'!$S:$S,\n'Z0.6.a ProgInvest_Spesa agg'!$K:$K,$C306,\n'Z0.6.a ProgInvest_Spesa agg'!$M:$M,$D$145,\n'Z0.6.a ProgInvest_Spesa agg'!$L:$L,\"in corso\",\n'Z0.6.a ProgInvest_Spesa agg'!$O:$O,\"vite utili 1\",\n'Z0.6.a ProgInvest_Spesa agg'!$P:$P,H$4)","v":0},{"$f":"-SUMIFS(\n'Z0.6.a ProgInvest_Spesa agg'!$S:$S,\n'Z0.6.a ProgInvest_Spesa agg'!$K:$K,$C306,\n'Z0.6.a ProgInvest_Spesa agg'!$M:$M,$D$145,\n'Z0.6.a ProgInvest_Spesa agg'!$L:$L,\"in corso\",\n'Z0.6.a ProgInvest_Spesa agg'!$O:$O,\"vite utili 1\",\n'Z0.6.a ProgInvest_Spesa agg'!$P:$P,I$4)","v":0},{"$f":"-SUMIFS(\n'Z0.6.a ProgInvest_Spesa agg'!$S:$S,\n'Z0.6.a ProgInvest_Spesa agg'!$K:$K,$C306,\n'Z0.6.a ProgInvest_Spesa agg'!$M:$M,$D$145,\n'Z0.6.a ProgInvest_Spesa agg'!$L:$L,\"in corso\",\n'Z0.6.a ProgInvest_Spesa agg'!$O:$O,\"vite utili 1\",\n'Z0.6.a ProgInvest_Spesa agg'!$P:$P,J$4)","v":0},{"$f":"-SUMIFS(\n'Z0.6.a ProgInvest_Spesa agg'!$S:$S,\n'Z0.6.a ProgInvest_Spesa agg'!$K:$K,$C306,\n'Z0.6.a ProgInvest_Spesa agg'!$M:$M,$D$145,\n'Z0.6.a ProgInvest_Spesa agg'!$L:$L,\"in corso\",\n'Z0.6.a ProgInvest_Spesa agg'!$O:$O,\"vite utili 1\",\n'Z0.6.a ProgInvest_Spesa agg'!$P:$P,K$4)","v":0},{"$f":"-SUMIFS(\n'Z0.6.a ProgInvest_Spesa agg'!$S:$S,\n'Z0.6.a ProgInvest_Spesa agg'!$K:$K,$C306,\n'Z0.6.a ProgInvest_Spesa agg'!$M:$M,$D$145,\n'Z0.6.a ProgInvest_Spesa agg'!$L:$L,\"in corso\",\n'Z0.6.a ProgInvest_Spesa agg'!$O:$O,\"vite utili 1\",\n'Z0.6.a ProgInvest_Spesa agg'!$P:$P,L$4)","v":-200},{"$f":"-SUMIFS(\n'Z0.6.a ProgInvest_Spesa agg'!$S:$S,\n'Z0.6.a ProgInvest_Spesa agg'!$K:$K,$C306,\n'Z0.6.a ProgInvest_Spesa agg'!$M:$M,$D$145,\n'Z0.6.a ProgInvest_Spesa agg'!$L:$L,\"in corso\",\n'Z0.6.a ProgInvest_Spesa agg'!$O:$O,\"vite utili 1\",\n'Z0.6.a ProgInvest_Spesa agg'!$P:$P,M$4)","v":0},{"$f":"-SUMIFS(\n'Z0.6.a ProgInvest_Spesa agg'!$S:$S,\n'Z0.6.a ProgInvest_Spesa agg'!$K:$K,$C306,\n'Z0.6.a ProgInvest_Spesa agg'!$M:$M,$D$145,\n'Z0.6.a ProgInvest_Spesa agg'!$L:$L,\"in corso\",\n'Z0.6.a ProgInvest_Spesa agg'!$O:$O,\"vite utili 1\",\n'Z0.6.a ProgInvest_Spesa agg'!$P:$P,N$4)","v":0},{"$f":"-SUMIFS(\n'Z0.6.a ProgInvest_Spesa agg'!$S:$S,\n'Z0.6.a ProgInvest_Spesa agg'!$K:$K,$C306,\n'Z0.6.a ProgInvest_Spesa agg'!$M:$M,$D$145,\n'Z0.6.a ProgInvest_Spesa agg'!$L:$L,\"in corso\",\n'Z0.6.a ProgInvest_Spesa agg'!$O:$O,\"vite utili 1\",\n'Z0.6.a ProgInvest_Spesa agg'!$P:$P,O$4)","v":0},{"$f":"-SUMIFS(\n'Z0.6.a ProgInvest_Spesa agg'!$S:$S,\n'Z0.6.a ProgInvest_Spesa agg'!$K:$K,$C306,\n'Z0.6.a ProgInvest_Spesa agg'!$M:$M,$D$145,\n'Z0.6.a ProgInvest_Spesa agg'!$L:$L,\"in corso\",\n'Z0.6.a ProgInvest_Spesa agg'!$O:$O,\"vite utili 1\",\n'Z0.6.a ProgInvest_Spesa agg'!$P:$P,P$4)","v":0},{"$f":"-SUMIFS(\n'Z0.6.a ProgInvest_Spesa agg'!$S:$S,\n'Z0.6.a ProgInvest_Spesa agg'!$K:$K,$C306,\n'Z0.6.a ProgInvest_Spesa agg'!$M:$M,$D$145,\n'Z0.6.a ProgInvest_Spesa agg'!$L:$L,\"in corso\",\n'Z0.6.a ProgInvest_Spesa agg'!$O:$O,\"vite utili 1\",\n'Z0.6.a ProgInvest_Spesa agg'!$P:$P,Q$4)","v":0},{"$f":"-SUMIFS(\n'Z0.6.a ProgInvest_Spesa agg'!$S:$S,\n'Z0.6.a ProgInvest_Spesa agg'!$K:$K,$C306,\n'Z0.6.a ProgInvest_Spesa agg'!$M:$M,$D$145,\n'Z0.6.a ProgInvest_Spesa agg'!$L:$L,\"in corso\",\n'Z0.6.a ProgInvest_Spesa agg'!$O:$O,\"vite utili 1\",\n'Z0.6.a ProgInvest_Spesa agg'!$P:$P,R$4)","v":0},{"$f":"-SUMIFS(\n'Z0.6.a ProgInvest_Spesa agg'!$S:$S,\n'Z0.6.a ProgInvest_Spesa agg'!$K:$K,$C306,\n'Z0.6.a ProgInvest_Spesa agg'!$M:$M,$D$145,\n'Z0.6.a ProgInvest_Spesa agg'!$L:$L,\"in corso\",\n'Z0.6.a ProgInvest_Spesa agg'!$O:$O,\"vite utili 1\",\n'Z0.6.a ProgInvest_Spesa agg'!$P:$P,S$4)","v":0}]
[null,null,"LIC livello 1 - eop",null,null,{"$f":"OFFSET(INDIRECT($F306 & \"inv\"),-10,2+AnnoPonte-UltimoAnnoRTP,1,1)","v":0},{"$f":"G308+G309+G310","v":0},0,0,0,100,0,0,0,0,0,0,0,0]
[null,null,"Valore di subentro LIC",null,null,null,{"$f":"IF(G$4=ScadenzaConcessione,G311,0)","v":0},0,0,0,0,0,0,0,0,0,0,0,0]
[null,null,"Remunerazione LIC",null,null,null,{"$f":"G308*G$17*G$10","v":0},{"$f":"H308*H$17*H$10","v":0},0,0,0,7.51,0,0,0,0,0,0,0]
[]
[null,null,"LIC livello 2 - bop",null,null,null,{"$f":"F318","v":0},{"$f":"G318","v":0},{"$f":"H318","v":0},{"$f":"I318","v":0},{"$f":"J318","v":0},{"$f":"K318","v":100},{"$f":"L318","v":0},{"$f":"M318","v":0},{"$f":"N318","v":0},{"$f":"O318","v":0},{"$f":"P318","v":0},{"$f":"Q318","v":0},{"$f":"R318","v":0}]
[null,null,"Investimenti in corso aggiuntivi",null,null,null,{"$f":"SUMIFS(\n'Z0.6.a ProgInvest_Spesa agg'!Z:Z,\n'Z0.6.a ProgInvest_Spesa agg'!$K:$K,$C306,\n'Z0.6.a ProgInvest_Spesa agg'!$M:$M,$D$145,\n'Z0.6.a ProgInvest_Spesa agg'!$L:$L,\"in corso\",\n'Z0.6.a ProgInvest_Spesa agg'!$O:$O,\"vite utili 2\")","v":0},{"$f":"SUMIFS(\n'Z0.6.a ProgInvest_Spesa agg'!AA:AA,\n'Z0.6.a ProgInvest_Spesa agg'!$K:$K,$C306,\n'Z0.6.a ProgInvest_Spesa agg'!$M:$M,$D$145,\n'Z0.6.a ProgInvest_Spesa agg'!$L:$L,\"in corso\",\n'Z0.6.a ProgInvest_Spesa agg'!$O:$O,\"vite utili 2\")","v":0},{"$f":"SUMIFS(\n'Z0.6.a ProgInvest_Spesa agg'!AB:AB,\n'Z0.6.a ProgInvest_Spesa agg'!$K:$K,$C306,\n'Z0.6.a ProgInvest_Spesa agg'!$M:$M,$D$145,\n'Z0.6.a ProgInvest_Spesa agg'!$L:$L,\"in corso\",\n'Z0.6.a ProgInvest_Spesa agg'!$O:$O,\"vite utili 2\")","v":0},{"$f":"SUMIFS(\n'Z0.6.a ProgInvest_Spesa agg'!AC:AC,\n'Z0.6.a ProgInvest_Spesa agg'!$K:$K,$C306,\n'Z0.6.a ProgInvest_Spesa agg'!$M:$M,$D$145,\n'Z0.6.a ProgInvest_Spesa agg'!$L:$L,\"in corso\",\n'Z0.6.a ProgInvest_Spesa agg'!$O:$O,\"vite utili 2\")","v":0},{"$f":"SUMIFS(\n'Z0.6.a ProgInvest_Spesa agg'!AD:AD,\n'Z0.6.a ProgInvest_Spesa agg'!$K:$K,$C306,\n'Z0.6.a ProgInvest_Spesa agg'!$M:$M,$D$145,\n'Z0.6.a ProgInvest_Spesa agg'!$L:$L,\"in corso\",\n'Z0.6.a ProgInvest_Spesa agg'!$O:$O,\"vite utili 2\")","v":100},{"$f":"SUMIFS(\n'Z0.6.a ProgInvest_Spesa agg'!AE:AE,\n'Z0.6.a ProgInvest_Spesa agg'!$K:$K,$C306,\n'Z0.6.a ProgInvest_Spesa agg'!$M:$M,$D$145,\n'Z0.6.a ProgInvest_Spesa agg'!$L:$L,\"in corso\",\n'Z0.6.a ProgInvest_Spesa agg'!$O:$O,\"vite utili 2\")","v":100},{"$f":"SUMIFS(\n'Z0.6.a ProgInvest_Spesa agg'!AF:AF,\n'Z0.6.a ProgInvest_Spesa agg'!$K:$K,$C306,\n'Z0.6.a ProgInvest_Spesa agg'!$M:$M,$D$145,\n'Z0.6.a ProgInvest_Spesa agg'!$L:$L,\"in corso\",\n'Z0.6.a ProgInvest_Spesa agg'!$O:$O,\"vite utili 2\")","v":0},{"$f":"SUMIFS(\n'Z0.6.a ProgInvest_Spesa agg'!AG:AG,\n'Z0.6.a ProgInvest_Spesa agg'!$K:$K,$C306,\n'Z0.6.a ProgInvest_Spesa agg'!$M:$M,$D$145,\n'Z0.6.a ProgInvest_Spesa agg'!$L:$L,\"in corso\",\n'Z0.6.a ProgInvest_Spesa agg'!$O:$O,\"vite utili 2\")","v":0},{"$f":"SUMIFS(\n'Z0.6.a ProgInvest_Spesa agg'!AH:AH,\n'Z0.6.a ProgInvest_Spesa agg'!$K:$K,$C306,\n'Z0.6.a ProgInvest_Spesa agg'!$M:$M,$D$145,\n'Z0.6.a ProgInvest_Spesa agg'!$L:$L,\"in corso\",\n'Z0.6.a ProgInvest_Spesa agg'!$O:$O,\"vite utili 2\")","v":0},{"$f":"SUMIFS(\n'Z0.6.a ProgInvest_Spesa agg'!AI:AI,\n'Z0.6.a ProgInvest_Spesa agg'!$K:$K,$C306,\n'Z0.6.a ProgInvest_Spesa agg'!$M:$M,$D$145,\n'Z0.6.a ProgInvest_Spesa agg'!$L:$L,\"in corso\",\n'Z0.6.a ProgInvest_Spesa agg'!$O:$O,\"vite utili 2\")","v":0},{"$f":"SUMIFS(\n'Z0.6.a ProgInvest_Spesa agg'!AJ:AJ,\n'Z0.6.a ProgInvest_Spesa agg'!$K:$K,$C306,\n'Z0.6.a ProgInvest_Spesa agg'!$M:$M,$D$145,\n'Z0.6.a ProgInvest_Spesa agg'!$L:$L,\"in corso\",\n'Z0.6.a ProgInvest_Spesa agg'!$O:$O,\"vite utili 2\")","v":0},{"$f":"SUMIFS(\n'Z0.6.a ProgInvest_Spesa agg'!AK:AK,\n'Z0.6.a ProgInvest_Spesa agg'!$K:$K,$C306,\n'Z0.6.a ProgInvest_Spesa agg'!$M:$M,$D$145,\n'Z0.6.a ProgInvest_Spesa agg'!$L:$L,\"in corso\",\n'Z0.6.a ProgInvest_Spesa agg'!$O:$O,\"vite utili 2\")","v":0},{"$f":"SUMIFS(\n'Z0.6.a ProgInvest_Spesa agg'!AL:AL,\n'Z0.6.a ProgInvest_Spesa agg'!$K:$K,$C306,\n'Z0.6.a ProgInvest_Spesa agg'!$M:$M,$D$145,\n'Z0.6.a ProgInvest_Spesa agg'!$L:$L,\"in corso\",\n'Z0.6.a ProgInvest_Spesa agg'!$O:$O,\"vite utili 2\")","v":0}]
[null,null,"Investimenti in corso cessanti (entrata in esercizio)",null,null,null,{"$f":"-SUMIFS(\n'Z0.6.a ProgInvest_Spesa agg'!$S:$S,\n'Z0.6.a ProgInvest_Spesa agg'!$K:$K,$C306,\n'Z0.6.a ProgInvest_Spesa agg'!$M:$M,$D$145,\n'Z0.6.a ProgInvest_Spesa agg'!$L:$L,\"in corso\",\n'Z0.6.a ProgInvest_Spesa agg'!$O:$O,\"vite utili 2\",\n'Z0.6.a ProgInvest_Spesa agg'!$P:$P,G$4)","v":0},{"$f":"-SUMIFS(\n'Z0.6.a ProgInvest_Spesa agg'!$S:$S,\n'Z0.6.a ProgInvest_Spesa agg'!$K:$K,$C306,\n'Z0.6.a ProgInvest_Spesa agg'!$M:$M,$D$145,\n'Z0.6.a ProgInvest_Spesa agg'!$L:$L,\"in corso\",\n'Z0.6.a ProgInvest_Spesa agg'!$O:$O,\"vite utili 2\",\n'Z0.6.a ProgInvest_Spesa agg'!$P:$P,H$4)","v":0},{"$f":"-SUMIFS(\n'Z0.6.a ProgInvest_Spesa agg'!$S:$S,\n'Z0.6.a ProgInvest_Spesa agg'!$K:$K,$C306,\n'Z0.6.a ProgInvest_Spesa agg'!$M:$M,$D$145,\n'Z0.6.a ProgInvest_Spesa agg'!$L:$L,\"in corso\",\n'Z0.6.a ProgInvest_Spesa agg'!$O:$O,\"vite utili 2\",\n'Z0.6.a ProgInvest_Spesa agg'!$P:$P,I$4)","v":0},{"$f":"-SUMIFS(\n'Z0.6.a ProgInvest_Spesa agg'!$S:$S,\n'Z0.6.a ProgInvest_Spesa agg'!$K:$K,$C306,\n'Z0.6.a ProgInvest_Spesa agg'!$M:$M,$D$145,\n'Z0.6.a ProgInvest_Spesa agg'!$L:$L,\"in corso\",\n'Z0.6.a ProgInvest_Spesa agg'!$O:$O,\"vite utili 2\",\n'Z0.6.a ProgInvest_Spesa agg'!$P:$P,J$4)","v":0},{"$f":"-SUMIFS(\n'Z0.6.a ProgInvest_Spesa agg'!$S:$S,\n'Z0.6.a ProgInvest_Spesa agg'!$K:$K,$C306,\n'Z0.6.a ProgInvest_Spesa agg'!$M:$M,$D$145,\n'Z0.6.a ProgInvest_Spesa agg'!$L:$L,\"in corso\",\n'Z0.6.a ProgInvest_Spesa agg'!$O:$O,\"vite utili 2\",\n'Z0.6.a ProgInvest_Spesa agg'!$P:$P,K$4)","v":0},{"$f":"-SUMIFS(\n'Z0.6.a ProgInvest_Spesa agg'!$S:$S,\n'Z0.6.a ProgInvest_Spesa agg'!$K:$K,$C306,\n'Z0.6.a ProgInvest_Spesa agg'!$M:$M,$D$145,\n'Z0.6.a ProgInvest_Spesa agg'!$L:$L,\"in corso\",\n'Z0.6.a ProgInvest_Spesa agg'!$O:$O,\"vite utili 2\",\n'Z0.6.a ProgInvest_Spesa agg'!$P:$P,L$4)","v":-200},{"$f":"-SUMIFS(\n'Z0.6.a ProgInvest_Spesa agg'!$S:$S,\n'Z0.6.a ProgInvest_Spesa agg'!$K:$K,$C306,\n'Z0.6.a ProgInvest_Spesa agg'!$M:$M,$D$145,\n'Z0.6.a ProgInvest_Spesa agg'!$L:$L,\"in corso\",\n'Z0.6.a ProgInvest_Spesa agg'!$O:$O,\"vite utili 2\",\n'Z0.6.a ProgInvest_Spesa agg'!$P:$P,M$4)","v":0},{"$f":"-SUMIFS(\n'Z0.6.a ProgInvest_Spesa agg'!$S:$S,\n'Z0.6.a ProgInvest_Spesa agg'!$K:$K,$C306,\n'Z0.6.a ProgInvest_Spesa agg'!$M:$M,$D$145,\n'Z0.6.a ProgInvest_Spesa agg'!$L:$L,\"in corso\",\n'Z0.6.a ProgInvest_Spesa agg'!$O:$O,\"vite utili 2\",\n'Z0.6.a ProgInvest_Spesa agg'!$P:$P,N$4)","v":0},{"$f":"-SUMIFS(\n'Z0.6.a ProgInvest_Spesa agg'!$S:$S,\n'Z0.6.a ProgInvest_Spesa agg'!$K:$K,$C306,\n'Z0.6.a ProgInvest_Spesa agg'!$M:$M,$D$145,\n'Z0.6.a ProgInvest_Spesa agg'!$L:$L,\"in corso\",\n'Z0.6.a ProgInvest_Spesa agg'!$O:$O,\"vite utili 2\",\n'Z0.6.a ProgInvest_Spesa agg'!$P:$P,O$4)","v":0},{"$f":"-SUMIFS(\n'Z0.6.a ProgInvest_Spesa agg'!$S:$S,\n'Z0.6.a ProgInvest_Spesa agg'!$K:$K,$C306,\n'Z0.6.a ProgInvest_Spesa agg'!$M:$M,$D$145,\n'Z0.6.a ProgInvest_Spesa agg'!$L:$L,\"in corso\",\n'Z0.6.a ProgInvest_Spesa agg'!$O:$O,\"vite utili 2\",\n'Z0.6.a ProgInvest_Spesa agg'!$P:$P,P$4)","v":0},{"$f":"-SUMIFS(\n'Z0.6.a ProgInvest_Spesa agg'!$S:$S,\n'Z0.6.a ProgInvest_Spesa agg'!$K:$K,$C306,\n'Z0.6.a ProgInvest_Spesa agg'!$M:$M,$D$145,\n'Z0.6.a ProgInvest_Spesa agg'!$L:$L,\"in corso\",\n'Z0.6.a ProgInvest_Spesa agg'!$O:$O,\"vite utili 2\",\n'Z0.6.a ProgInvest_Spesa agg'!$P:$P,Q$4)","v":0},{"$f":"-SUMIFS(\n'Z0.6.a ProgInvest_Spesa agg'!$S:$S,\n'Z0.6.a ProgInvest_Spesa agg'!$K:$K,$C306,\n'Z0.6.a ProgInvest_Spesa agg'!$M:$M,$D$145,\n'Z0.6.a ProgInvest_Spesa agg'!$L:$L,\"in corso\",\n'Z0.6.a ProgInvest_Spesa agg'!$O:$O,\"vite utili 2\",\n'Z0.6.a ProgInvest_Spesa agg'!$P:$P,R$4)","v":0},{"$f":"-SUMIFS(\n'Z0.6.a ProgInvest_Spesa agg'!$S:$S,\n'Z0.6.a ProgInvest_Spesa agg'!$K:$K,$C306,\n'Z0.6.a ProgInvest_Spesa agg'!$M:$M,$D$145,\n'Z0.6.a ProgInvest_Spesa agg'!$L:$L,\"in corso\",\n'Z0.6.a ProgInvest_Spesa agg'!$O:$O,\"vite utili 2\",\n'Z0.6.a ProgInvest_Spesa agg'!$P:$P,S$4)","v":0}]
[null,null,"LIC livello 2 - eop",null,null,{"$f":"OFFSET(INDIRECT($F306 & \"inv\"),-4,2+AnnoPonte-UltimoAnnoRTP,1,1)","v":0},{"$f":"G315+G316+G317","v":0},0,0,0,100,0,0,0,0,0,0,0,0]
[null,null,"Valore di subentro LIC",null,null,null,{"$f":"IF(G$4=ScadenzaConcessione,G318,0)","v":0},0,0,0,0,0,0,0,0,0,0,0,0]
[null,null,"Remunerazione LIC",null,null,null,{"$f":"G315*G$20*G$10","v":0},0,0,0,0,4.3499999999999996,0,0,0,0,0,0,0]
[]
[null,null,"CIN investimenti (lordo contributi e subentro, netto dismissioni) bop (amm. a vite utili)",null,"precedenti",null,{"$f":"F326","v":0},{"$f":"G326","v":0},{"$f":"H326","v":0},{"$f":"I326","v":0},{"$f":"J326","v":0},{"$f":"K326","v":0},{"$f":"L326","v":400},{"$f":"M326","v":386.66666666666669},{"$f":"N326","v":373.33333333333337},{"$f":"O326","v":360.00000000000006},{"$f":"P326","v":346.66666666666674},{"$f":"Q326","v":333.33333333333343},{"$f":"R326","v":320.00000000000011}]
[null,null,"Investimenti entrati in esercizio (amm.a vite utili)",null,{"$f":"SUM(OFFSET(INDIRECT($F306 & \"inv\"),0,3,1,IF(EsistePrev,AnnoPonte-UltimoAnnoRTP,1)))","v":0},null,{"$f":"-G310-G317","v":0},{"$f":"-H310-H317","v":0},0,0,0,400,0,0,0,0,0,0,0]
[null,null,"Dismissioni",null,{"$f":"-SUM(OFFSET(INDIRECT($F306&\"dism\"),0,3,1,IF(EsistePrev,AnnoPonte-UltimoAnnoRTP,1)))","v":0},null,{"$f":"SUMIFS(\n'Z0.6.c ProgInvest_Dism agg'!Z:Z,\n'Z0.6.c ProgInvest_Dism agg'!$K:$K,$C306,\n'Z0.6.c ProgInvest_Dism agg'!$M:$M,$D$145,\n'Z0.6.c ProgInvest_Dism agg'!$L:$L,\"in corso\",\n'Z0.6.c ProgInvest_Dism agg'!$O:$O,\"vite utili 1\")\n+SUMIFS(\n'Z0.6.c ProgInvest_Dism agg'!Z:Z,\n'Z0.6.c ProgInvest_Dism agg'!$K:$K,$C306,\n'Z0.6.c ProgInvest_Dism agg'!$M:$M,$D$145,\n'Z0.6.c ProgInvest_Dism agg'!$L:$L,\"in corso\",\n'Z0.6.c ProgInvest_Dism agg'!$O:$O,\"vite utili 2\")","v":0},{"$f":"SUMIFS(\n'Z0.6.c ProgInvest_Dism agg'!AA:AA,\n'Z0.6.c ProgInvest_Dism agg'!$K:$K,$C306,\n'Z0.6.c ProgInvest_Dism agg'!$M:$M,$D$145,\n'Z0.6.c ProgInvest_Dism agg'!$L:$L,\"in corso\",\n'Z0.6.c ProgInvest_Dism agg'!$O:$O,\"vite utili 1\")\n+SUMIFS(\n'Z0.6.c ProgInvest_Dism agg'!AA:AA,\n'Z0.6.c ProgInvest_Dism agg'!$K:$K,$C306,\n'Z0.6.c ProgInvest_Dism agg'!$M:$M,$D$145,\n'Z0.6.c ProgInvest_Dism agg'!$L:$L,\"in corso\",\n'Z0.6.c ProgInvest_Dism agg'!$O:$O,\"vite utili 2\")","v":0},{"$f":"SUMIFS(\n'Z0.6.c ProgInvest_Dism agg'!AB:AB,\n'Z0.6.c ProgInvest_Dism agg'!$K:$K,$C306,\n'Z0.6.c ProgInvest_Dism agg'!$M:$M,$D$145,\n'Z0.6.c ProgInvest_Dism agg'!$L:$L,\"in corso\",\n'Z0.6.c ProgInvest_Dism agg'!$O:$O,\"vite utili 1\")\n+SUMIFS(\n'Z0.6.c ProgInvest_Dism agg'!AB:AB,\n'Z0.6.c ProgInvest_Dism agg'!$K:$K,$C306,\n'Z0.6.c ProgInvest_Dism agg'!$M:$M,$D$145,\n'Z0.6.c ProgInvest_Dism agg'!$L:$L,\"in corso\",\n'Z0.6.c ProgInvest_Dism agg'!$O:$O,\"vite utili 2\")","v":0},{"$f":"SUMIFS(\n'Z0.6.c ProgInvest_Dism agg'!AC:AC,\n'Z0.6.c ProgInvest_Dism agg'!$K:$K,$C306,\n'Z0.6.c ProgInvest_Dism agg'!$M:$M,$D$145,\n'Z0.6.c ProgInvest_Dism agg'!$L:$L,\"in corso\",\n'Z0.6.c ProgInvest_Dism agg'!$O:$O,\"vite utili 1\")\n+SUMIFS(\n'Z0.6.c ProgInvest_Dism agg'!AC:AC,\n'Z0.6.c ProgInvest_Dism agg'!$K:$K,$C306,\n'Z0.6.c ProgInvest_Dism agg'!$M:$M,$D$145,\n'Z0.6.c ProgInvest_Dism agg'!$L:$L,\"in corso\",\n'Z0.6.c ProgInvest_Dism agg'!$O:$O,\"vite utili 2\")","v":0},{"$f":"SUMIFS(\n'Z0.6.c ProgInvest_Dism agg'!AD:AD,\n'Z0.6.c ProgInvest_Dism agg'!$K:$K,$C306,\n'Z0.6.c ProgInvest_Dism agg'!$M:$M,$D$145,\n'Z0.6.c ProgInvest_Dism agg'!$L:$L,\"in corso\",\n'Z0.6.c ProgInvest_Dism agg'!$O:$O,\"vite utili 1\")\n+SUMIFS(\n'Z0.6.c ProgInvest_Dism agg'!AD:AD,\n'Z0.6.c ProgInvest_Dism agg'!$K:$K,$C306,\n'Z0.6.c ProgInvest_Dism agg'!$M:$M,$D$145,\n'Z0.6.c ProgInvest_Dism agg'!$L:$L,\"in corso\",\n'Z0.6.c ProgInvest_Dism agg'!$O:$O,\"vite utili 2\")","v":0},{"$f":"SUMIFS(\n'Z0.6.c ProgInvest_Dism agg'!AE:AE,\n'Z0.6.c ProgInvest_Dism agg'!$K:$K,$C306,\n'Z0.6.c ProgInvest_Dism agg'!$M:$M,$D$145,\n'Z0.6.c ProgInvest_Dism agg'!$L:$L,\"in corso\",\n'Z0.6.c ProgInvest_Dism agg'!$O:$O,\"vite utili 1\")\n+SUMIFS(\n'Z0.6.c ProgInvest_Dism agg'!AE:AE,\n'Z0.6.c ProgInvest_Dism agg'!$K:$K,$C306,\n'Z0.6.c ProgInvest_Dism agg'!$M:$M,$D$145,\n'Z0.6.c ProgInvest_Dism agg'!$L:$L,\"in corso\",\n'Z0.6.c ProgInvest_Dism agg'!$O:$O,\"vite utili 2\")","v":0},{"$f":"SUMIFS(\n'Z0.6.c ProgInvest_Dism agg'!AF:AF,\n'Z0.6.c ProgInvest_Dism agg'!$K:$K,$C306,\n'Z0.6.c ProgInvest_Dism agg'!$M:$M,$D$145,\n'Z0.6.c ProgInvest_Dism agg'!$L:$L,\"in corso\",\n'Z0.6.c ProgInvest_Dism agg'!$O:$O,\"vite utili 1\")\n+SUMIFS(\n'Z0.6.c ProgInvest_Dism agg'!AF:AF,\n'Z0.6.c ProgInvest_Dism agg'!$K:$K,$C306,\n'Z0.6.c ProgInvest_Dism agg'!$M:$M,$D$145,\n'Z0.6.c ProgInvest_Dism agg'!$L:$L,\"in corso\",\n'Z0.6.c ProgInvest_Dism agg'!$O:$O,\"vite utili 2\")","v":0},{"$f":"SUMIFS(\n'Z0.6.c ProgInvest_Dism agg'!AG:AG,\n'Z0.6.c ProgInvest_Dism agg'!$K:$K,$C306,\n'Z0.6.c ProgInvest_Dism agg'!$M:$M,$D$145,\n'Z0.6.c ProgInvest_Dism agg'!$L:$L,\"in corso\",\n'Z0.6.c ProgInvest_Dism agg'!$O:$O,\"vite utili 1\")\n+SUMIFS(\n'Z0.6.c ProgInvest_Dism agg'!AG:AG,\n'Z0.6.c ProgInvest_Dism agg'!$K:$K,$C306,\n'Z0.6.c ProgInvest_Dism agg'!$M:$M,$D$145,\n'Z0.6.c ProgInvest_Dism agg'!$L:$L,\"in corso\",\n'Z0.6.c ProgInvest_Dism agg'!$O:$O,\"vite utili 2\")","v":0},{"$f":"SUMIFS(\n'Z0.6.c ProgInvest_Dism agg'!AH:AH,\n'Z0.6.c ProgInvest_Dism agg'!$K:$K,$C306,\n'Z0.6.c ProgInvest_Dism agg'!$M:$M,$D$145,\n'Z0.6.c ProgInvest_Dism agg'!$L:$L,\"in corso\",\n'Z0.6.c ProgInvest_Dism agg'!$O:$O,\"vite utili 1\")\n+SUMIFS(\n'Z0.6.c ProgInvest_Dism agg'!AH:AH,\n'Z0.6.c ProgInvest_Dism agg'!$K:$K,$C306,\n'Z0.6.c ProgInvest_Dism agg'!$M:$M,$D$145,\n'Z0.6.c ProgInvest_Dism agg'!$L:$L,\"in corso\",\n'Z0.6.c ProgInvest_Dism agg'!$O:$O,\"vite utili 2\")","v":0},{"$f":"SUMIFS(\n'Z0.6.c ProgInvest_Dism agg'!AI:AI,\n'Z0.6.c ProgInvest_Dism agg'!$K:$K,$C306,\n'Z0.6.c ProgInvest_Dism agg'!$M:$M,$D$145,\n'Z0.6.c ProgInvest_Dism agg'!$L:$L,\"in corso\",\n'Z0.6.c ProgInvest_Dism agg'!$O:$O,\"vite utili 1\")\n+SUMIFS(\n'Z0.6.c ProgInvest_Dism agg'!AI:AI,\n'Z0.6.c ProgInvest_Dism agg'!$K:$K,$C306,\n'Z0.6.c ProgInvest_Dism agg'!$M:$M,$D$145,\n'Z0.6.c ProgInvest_Dism agg'!$L:$L,\"in corso\",\n'Z0.6.c ProgInvest_Dism agg'!$O:$O,\"vite utili 2\")","v":0},{"$f":"SUMIFS(\n'Z0.6.c ProgInvest_Dism agg'!AJ:AJ,\n'Z0.6.c ProgInvest_Dism agg'!$K:$K,$C306,\n'Z0.6.c ProgInvest_Dism agg'!$M:$M,$D$145,\n'Z0.6.c ProgInvest_Dism agg'!$L:$L,\"in corso\",\n'Z0.6.c ProgInvest_Dism agg'!$O:$O,\"vite utili 1\")\n+SUMIFS(\n'Z0.6.c ProgInvest_Dism agg'!AJ:AJ,\n'Z0.6.c ProgInvest_Dism agg'!$K:$K,$C306,\n'Z0.6.c ProgInvest_Dism agg'!$M:$M,$D$145,\n'Z0.6.c ProgInvest_Dism agg'!$L:$L,\"in corso\",\n'Z0.6.c ProgInvest_Dism agg'!$O:$O,\"vite utili 2\")","v":0},{"$f":"SUMIFS(\n'Z0.6.c ProgInvest_Dism agg'!AK:AK,\n'Z0.6.c ProgInvest_Dism agg'!$K:$K,$C306,\n'Z0.6.c ProgInvest_Dism agg'!$M:$M,$D$145,\n'Z0.6.c ProgInvest_Dism agg'!$L:$L,\"in corso\",\n'Z0.6.c ProgInvest_Dism agg'!$O:$O,\"vite utili 1\")\n+SUMIFS(\n'Z0.6.c ProgInvest_Dism agg'!AK:AK,\n'Z0.6.c ProgInvest_Dism agg'!$K:$K,$C306,\n'Z0.6.c ProgInvest_Dism agg'!$M:$M,$D$145,\n'Z0.6.c ProgInvest_Dism agg'!$L:$L,\"in corso\",\n'Z0.6.c ProgInvest_Dism agg'!$O:$O,\"vite utili 2\")","v":0},{"$f":"SUMIFS(\n'Z0.6.c ProgInvest_Dism agg'!AL:AL,\n'Z0.6.c ProgInvest_Dism agg'!$K:$K,$C306,\n'Z0.6.c ProgInvest_Dism agg'!$M:$M,$D$145,\n'Z0.6.c ProgInvest_Dism agg'!$L:$L,\"in corso\",\n'Z0.6.c ProgInvest_Dism agg'!$O:$O,\"vite utili 1\")\n+SUMIFS(\n'Z0.6.c ProgInvest_Dism agg'!AL:AL,\n'Z0.6.c ProgInvest_Dism agg'!$K:$K,$C306,\n'Z0.6.c ProgInvest_Dism agg'!$M:$M,$D$145,\n'Z0.6.c ProgInvest_Dism agg'!$L:$L,\"in corso\",\n'Z0.6.c ProgInvest_Dism agg'!$O:$O,\"vite utili 2\")","v":20}]
[null,null,"Ammortamento (a vite utili)",null,{"$f":"SUM(OFFSET(INDIRECT($F306 & \"inv\"),2,3,1,IF(EsistePrev,AnnoPonte-UltimoAnnoRTP,1)))","v":0},null,{"$f":"MIN(G322,IF(F$4-UltimoAnnoRTP<=$D306,\n(SUM($F323:F323)+SUM(OFFSET(INDIRECT($F306 & \"inv\"),0,3,1,IF(EsistePrev,AnnoPonte-UltimoAnnoRTP,1)))\n-SUM($F324:F324)-SUM(OFFSET(INDIRECT($F306 & \"dism\"),0,3,1,IF(EsistePrev,AnnoPonte-UltimoAnnoRTP,1))))/$D306,\n\nIF(AND(F$4-UltimoAnnoRTP>$D306,F$4-AnnoPonte<=$D306),\n(SUM($F323:F323)+SUM(IFERROR(OFFSET(INDIRECT($F306 & \"inv\"),0,3+(F$4-UltimoAnnoRTP-$D306),1,(IF(EsistePrev,AnnoPonte-UltimoAnnoRTP,1)-(F$4-UltimoAnnoRTP-$D306))),0))\n-SUM($F324:F324)-SUM(IFERROR(OFFSET(INDIRECT($F306 & \"dism\"),0,3+(F$4-UltimoAnnoRTP-$D306),1,(IF(EsistePrev,AnnoPonte-UltimoAnnoRTP,1)-(F$4-UltimoAnnoRTP-$D306))),0)))/$D306,\n\n(SUM(OFFSET(F323,0,-$D306+1,1,$D306))\n-SUM(OFFSET(F324,0,-$D306+1,1,$D306)))/$D306)))","v":0},{"$f":"MIN(H322,IF(G$4-UltimoAnnoRTP<=$D306,\n(SUM($F323:G323)+SUM(OFFSET(INDIRECT($F306 & \"inv\"),0,3,1,IF(EsistePrev,AnnoPonte-UltimoAnnoRTP,1)))\n-SUM($F324:G324)-SUM(OFFSET(INDIRECT($F306 & \"dism\"),0,3,1,IF(EsistePrev,AnnoPonte-UltimoAnnoRTP,1))))/$D306,\n\nIF(AND(G$4-UltimoAnnoRTP>$D306,G$4-AnnoPonte<=$D306),\n(SUM($F323:G323)+SUM(IFERROR(OFFSET(INDIRECT($F306 & \"inv\"),0,3+(G$4-UltimoAnnoRTP-$D306),1,(IF(EsistePrev,AnnoPonte-UltimoAnnoRTP,1)-(G$4-UltimoAnnoRTP-$D306))),0))\n-SUM($F324:G324)-SUM(IFERROR(OFFSET(INDIRECT($F306 & \"dism\"),0,3+(G$4-UltimoAnnoRTP-$D306),1,(IF(EsistePrev,AnnoPonte-UltimoAnnoRTP,1)-(G$4-UltimoAnnoRTP-$D306))),0)))/$D306,\n\n(SUM(OFFSET(G323,0,-$D306+1,1,$D306))\n-SUM(OFFSET(G324,0,-$D306+1,1,$D306)))/$D306)))","v":0},{"$f":"MIN(I322,IF(H$4-UltimoAnnoRTP<=$D306,\n(SUM($F323:H323)+SUM(OFFSET(INDIRECT($F306 & \"inv\"),0,3,1,IF(EsistePrev,AnnoPonte-UltimoAnnoRTP,1)))\n-SUM($F324:H324)-SUM(OFFSET(INDIRECT($F306 & \"dism\"),0,3,1,IF(EsistePrev,AnnoPonte-UltimoAnnoRTP,1))))/$D306,\n\nIF(AND(H$4-UltimoAnnoRTP>$D306,H$4-AnnoPonte<=$D306),\n(SUM($F323:H323)+SUM(IFERROR(OFFSET(INDIRECT($F306 & \"inv\"),0,3+(H$4-UltimoAnnoRTP-$D306),1,(IF(EsistePrev,AnnoPonte-UltimoAnnoRTP,1)-(H$4-UltimoAnnoRTP-$D306))),0))\n-SUM($F324:H324)-SUM(IFERROR(OFFSET(INDIRECT($F306 & \"dism\"),0,3+(H$4-UltimoAnnoRTP-$D306),1,(IF(EsistePrev,AnnoPonte-UltimoAnnoRTP,1)-(H$4-UltimoAnnoRTP-$D306))),0)))/$D306,\n\n(SUM(OFFSET(H323,0,-$D306+1,1,$D306))\n-SUM(OFFSET(H324,0,-$D306+1,1,$D306)))/$D306)))","v":0},{"$f":"MIN(J322,IF(I$4-UltimoAnnoRTP<=$D306,\n(SUM($F323:I323)+SUM(OFFSET(INDIRECT($F306 & \"inv\"),0,3,1,IF(EsistePrev,AnnoPonte-UltimoAnnoRTP,1)))\n-SUM($F324:I324)-SUM(OFFSET(INDIRECT($F306 & \"dism\"),0,3,1,IF(EsistePrev,AnnoPonte-UltimoAnnoRTP,1))))/$D306,\n\nIF(AND(I$4-UltimoAnnoRTP>$D306,I$4-AnnoPonte<=$D306),\n(SUM($F323:I323)+SUM(IFERROR(OFFSET(INDIRECT($F306 & \"inv\"),0,3+(I$4-UltimoAnnoRTP-$D306),1,(IF(EsistePrev,AnnoPonte-UltimoAnnoRTP,1)-(I$4-UltimoAnnoRTP-$D306))),0))\n-SUM($F324:I324)-SUM(IFERROR(OFFSET(INDIRECT($F306 & \"dism\"),0,3+(I$4-UltimoAnnoRTP-$D306),1,(IF(EsistePrev,AnnoPonte-UltimoAnnoRTP,1)-(I$4-UltimoAnnoRTP-$D306))),0)))/$D306,\n\n(SUM(OFFSET(I323,0,-$D306+1,1,$D306))\n-SUM(OFFSET(I324,0,-$D306+1,1,$D306)))/$D306)))","v":0},{"$f":"MIN(K322,IF(J$4-UltimoAnnoRTP<=$D306,\n(SUM($F323:J323)+SUM(OFFSET(INDIRECT($F306 & \"inv\"),0,3,1,IF(EsistePrev,AnnoPonte-UltimoAnnoRTP,1)))\n-SUM($F324:J324)-SUM(OFFSET(INDIRECT($F306 & \"dism\"),0,3,1,IF(EsistePrev,AnnoPonte-UltimoAnnoRTP,1))))/$D306,\n\nIF(AND(J$4-UltimoAnnoRTP>$D306,J$4-AnnoPonte<=$D306),\n(SUM($F323:J323)+SUM(IFERROR(OFFSET(INDIRECT($F306 & \"inv\"),0,3+(J$4-UltimoAnnoRTP-$D306),1,(IF(EsistePrev,AnnoPonte-UltimoAnnoRTP,1)-(J$4-UltimoAnnoRTP-$D306))),0))\n-SUM($F324:J324)-SUM(IFERROR(OFFSET(INDIRECT($F306 & \"dism\"),0,3+(J$4-UltimoAnnoRTP-$D306),1,(IF(EsistePrev,AnnoPonte-UltimoAnnoRTP,1)-(J$4-UltimoAnnoRTP-$D306))),0)))/$D306,\n\n(SUM(OFFSET(J323,0,-$D306+1,1,$D306))\n-SUM(OFFSET(J324,0,-$D306+1,1,$D306)))/$D306)))","v":0},{"$f":"MIN(L322,IF(K$4-UltimoAnnoRTP<=$D306,\n(SUM($F323:K323)+SUM(OFFSET(INDIRECT($F306 & \"inv\"),0,3,1,IF(EsistePrev,AnnoPonte-UltimoAnnoRTP,1)))\n-SUM($F324:K324)-SUM(OFFSET(INDIRECT($F306 & \"dism\"),0,3,1,IF(EsistePrev,AnnoPonte-UltimoAnnoRTP,1))))/$D306,\n\nIF(AND(K$4-UltimoAnnoRTP>$D306,K$4-AnnoPonte<=$D306),\n(SUM($F323:K323)+SUM(IFERROR(OFFSET(INDIRECT($F306 & \"inv\"),0,3+(K$4-UltimoAnnoRTP-$D306),1,(IF(EsistePrev,AnnoPonte-UltimoAnnoRTP,1)-(K$4-UltimoAnnoRTP-$D306))),0))\n-SUM($F324:K324)-SUM(IFERROR(OFFSET(INDIRECT($F306 & \"dism\"),0,3+(K$4-UltimoAnnoRTP-$D306),1,(IF(EsistePrev,AnnoPonte-UltimoAnnoRTP,1)-(K$4-UltimoAnnoRTP-$D306))),0)))/$D306,\n\n(SUM(OFFSET(K323,0,-$D306+1,1,$D306))\n-SUM(OFFSET(K324,0,-$D306+1,1,$D306)))/$D306)))","v":0},{"$f":"MIN(M322,IF(L$4-UltimoAnnoRTP<=$D306,\n(SUM($F323:L323)+SUM(OFFSET(INDIRECT($F306 & \"inv\"),0,3,1,IF(EsistePrev,AnnoPonte-UltimoAnnoRTP,1)))\n-SUM($F324:L324)-SUM(OFFSET(INDIRECT($F306 & \"dism\"),0,3,1,IF(EsistePrev,AnnoPonte-UltimoAnnoRTP,1))))/$D306,\n\nIF(AND(L$4-UltimoAnnoRTP>$D306,L$4-AnnoPonte<=$D306),\n(SUM($F323:L323)+SUM(IFERROR(OFFSET(INDIRECT($F306 & \"inv\"),0,3+(L$4-UltimoAnnoRTP-$D306),1,(IF(EsistePrev,AnnoPonte-UltimoAnnoRTP,1)-(L$4-UltimoAnnoRTP-$D306))),0))\n-SUM($F324:L324)-SUM(IFERROR(OFFSET(INDIRECT($F306 & \"dism\"),0,3+(L$4-UltimoAnnoRTP-$D306),1,(IF(EsistePrev,AnnoPonte-UltimoAnnoRTP,1)-(L$4-UltimoAnnoRTP-$D306))),0)))/$D306,\n\n(SUM(OFFSET(L323,0,-$D306+1,1,$D306))\n-SUM(OFFSET(L324,0,-$D306+1,1,$D306)))/$D306)))","v":13.333333333333334},{"$f":"MIN(N322,IF(M$4-UltimoAnnoRTP<=$D306,\n(SUM($F323:M323)+SUM(OFFSET(INDIRECT($F306 & \"inv\"),0,3,1,IF(EsistePrev,AnnoPonte-UltimoAnnoRTP,1)))\n-SUM($F324:M324)-SUM(OFFSET(INDIRECT($F306 & \"dism\"),0,3,1,IF(EsistePrev,AnnoPonte-UltimoAnnoRTP,1))))/$D306,\n\nIF(AND(M$4-UltimoAnnoRTP>$D306,M$4-AnnoPonte<=$D306),\n(SUM($F323:M323)+SUM(IFERROR(OFFSET(INDIRECT($F306 & \"inv\"),0,3+(M$4-UltimoAnnoRTP-$D306),1,(IF(EsistePrev,AnnoPonte-UltimoAnnoRTP,1)-(M$4-UltimoAnnoRTP-$D306))),0))\n-SUM($F324:M324)-SUM(IFERROR(OFFSET(INDIRECT($F306 & \"dism\"),0,3+(M$4-UltimoAnnoRTP-$D306),1,(IF(EsistePrev,AnnoPonte-UltimoAnnoRTP,1)-(M$4-UltimoAnnoRTP-$D306))),0)))/$D306,\n\n(SUM(OFFSET(M323,0,-$D306+1,1,$D306))\n-SUM(OFFSET(M324,0,-$D306+1,1,$D306)))/$D306)))","v":13.333333333333334},{"$f":"MIN(O322,IF(N$4-UltimoAnnoRTP<=$D306,\n(SUM($F323:N323)+SUM(OFFSET(INDIRECT($F306 & \"inv\"),0,3,1,IF(EsistePrev,AnnoPonte-UltimoAnnoRTP,1)))\n-SUM($F324:N324)-SUM(OFFSET(INDIRECT($F306 & \"dism\"),0,3,1,IF(EsistePrev,AnnoPonte-UltimoAnnoRTP,1))))/$D306,\n\nIF(AND(N$4-UltimoAnnoRTP>$D306,N$4-AnnoPonte<=$D306),\n(SUM($F323:N323)+SUM(IFERROR(OFFSET(INDIRECT($F306 & \"inv\"),0,3+(N$4-UltimoAnnoRTP-$D306),1,(IF(EsistePrev,AnnoPonte-UltimoAnnoRTP,1)-(N$4-UltimoAnnoRTP-$D306))),0))\n-SUM($F324:N324)-SUM(IFERROR(OFFSET(INDIRECT($F306 & \"dism\"),0,3+(N$4-UltimoAnnoRTP-$D306),1,(IF(EsistePrev,AnnoPonte-UltimoAnnoRTP,1)-(N$4-UltimoAnnoRTP-$D306))),0)))/$D306,\n\n(SUM(OFFSET(N323,0,-$D306+1,1,$D306))\n-SUM(OFFSET(N324,0,-$D306+1,1,$D306)))/$D306)))","v":13.333333333333334},{"$f":"MIN(P322,IF(O$4-UltimoAnnoRTP<=$D306,\n(SUM($F323:O323)+SUM(OFFSET(INDIRECT($F306 & \"inv\"),0,3,1,IF(EsistePrev,AnnoPonte-UltimoAnnoRTP,1)))\n-SUM($F324:O324)-SUM(OFFSET(INDIRECT($F306 & \"dism\"),0,3,1,IF(EsistePrev,AnnoPonte-UltimoAnnoRTP,1))))/$D306,\n\nIF(AND(O$4-UltimoAnnoRTP>$D306,O$4-AnnoPonte<=$D306),\n(SUM($F323:O323)+SUM(IFERROR(OFFSET(INDIRECT($F306 & \"inv\"),0,3+(O$4-UltimoAnnoRTP-$D306),1,(IF(EsistePrev,AnnoPonte-UltimoAnnoRTP,1)-(O$4-UltimoAnnoRTP-$D306))),0))\n-SUM($F324:O324)-SUM(IFERROR(OFFSET(INDIRECT($F306 & \"dism\"),0,3+(O$4-UltimoAnnoRTP-$D306),1,(IF(EsistePrev,AnnoPonte-UltimoAnnoRTP,1)-(O$4-UltimoAnnoRTP-$D306))),0)))/$D306,\n\n(SUM(OFFSET(O323,0,-$D306+1,1,$D306))\n-SUM(OFFSET(O324,0,-$D306+1,1,$D306)))/$D306)))","v":13.333333333333334},{"$f":"MIN(Q322,IF(P$4-UltimoAnnoRTP<=$D306,\n(SUM($F323:P323)+SUM(OFFSET(INDIRECT($F306 & \"inv\"),0,3,1,IF(EsistePrev,AnnoPonte-UltimoAnnoRTP,1)))\n-SUM($F324:P324)-SUM(OFFSET(INDIRECT($F306 & \"dism\"),0,3,1,IF(EsistePrev,AnnoPonte-UltimoAnnoRTP,1))))/$D306,\n\nIF(AND(P$4-UltimoAnnoRTP>$D306,P$4-AnnoPonte<=$D306),\n(SUM($F323:P323)+SUM(IFERROR(OFFSET(INDIRECT($F306 & \"inv\"),0,3+(P$4-UltimoAnnoRTP-$D306),1,(IF(EsistePrev,AnnoPonte-UltimoAnnoRTP,1)-(P$4-UltimoAnnoRTP-$D306))),0))\n-SUM($F324:P324)-SUM(IFERROR(OFFSET(INDIRECT($F306 & \"dism\"),0,3+(P$4-UltimoAnnoRTP-$D306),1,(IF(EsistePrev,AnnoPonte-UltimoAnnoRTP,1)-(P$4-UltimoAnnoRTP-$D306))),0)))/$D306,\n\n(SUM(OFFSET(P323,0,-$D306+1,1,$D306))\n-SUM(OFFSET(P324,0,-$D306+1,1,$D306)))/$D306)))","v":13.333333333333334},{"$f":"MIN(R322,IF(Q$4-UltimoAnnoRTP<=$D306,\n(SUM($F323:Q323)+SUM(OFFSET(INDIRECT($F306 & \"inv\"),0,3,1,IF(EsistePrev,AnnoPonte-UltimoAnnoRTP,1)))\n-SUM($F324:Q324)-SUM(OFFSET(INDIRECT($F306 & \"dism\"),0,3,1,IF(EsistePrev,AnnoPonte-UltimoAnnoRTP,1))))/$D306,\n\nIF(AND(Q$4-UltimoAnnoRTP>$D306,Q$4-AnnoPonte<=$D306),\n(SUM($F323:Q323)+SUM(IFERROR(OFFSET(INDIRECT($F306 & \"inv\"),0,3+(Q$4-UltimoAnnoRTP-$D306),1,(IF(EsistePrev,AnnoPonte-UltimoAnnoRTP,1)-(Q$4-UltimoAnnoRTP-$D306))),0))\n-SUM($F324:Q324)-SUM(IFERROR(OFFSET(INDIRECT($F306 & \"dism\"),0,3+(Q$4-UltimoAnnoRTP-$D306),1,(IF(EsistePrev,AnnoPonte-UltimoAnnoRTP,1)-(Q$4-UltimoAnnoRTP-$D306))),0)))/$D306,\n\n(SUM(OFFSET(Q323,0,-$D306+1,1,$D306))\n-SUM(OFFSET(Q324,0,-$D306+1,1,$D306)))/$D306)))","v":13.333333333333334},{"$f":"MIN(S322,IF(R$4-UltimoAnnoRTP<=$D306,\n(SUM($F323:R323)+SUM(OFFSET(INDIRECT($F306 & \"inv\"),0,3,1,IF(EsistePrev,AnnoPonte-UltimoAnnoRTP,1)))\n-SUM($F324:R324)-SUM(OFFSET(INDIRECT($F306 & \"dism\"),0,3,1,IF(EsistePrev,AnnoPonte-UltimoAnnoRTP,1))))/$D306,\n\nIF(AND(R$4-UltimoAnnoRTP>$D306,R$4-AnnoPonte<=$D306),\n(SUM($F323:R323)+SUM(IFERROR(OFFSET(INDIRECT($F306 & \"inv\"),0,3+(R$4-UltimoAnnoRTP-$D306),1,(IF(EsistePrev,AnnoPonte-UltimoAnnoRTP,1)-(R$4-UltimoAnnoRTP-$D306))),0))\n-SUM($F324:R324)-SUM(IFERROR(OFFSET(INDIRECT($F306 & \"dism\"),0,3+(R$4-UltimoAnnoRTP-$D306),1,(IF(EsistePrev,AnnoPonte-UltimoAnnoRTP,1)-(R$4-UltimoAnnoRTP-$D306))),0)))/$D306,\n\n(SUM(OFFSET(R323,0,-$D306+1,1,$D306))\n-SUM(OFFSET(R324,0,-$D306+1,1,$D306)))/$D306)))","v":13.333333333333334}]
[null,null,"CIN investimenti (lordo contributi, netto dismissioni) eop (amm. a vite utili)",null,null,{"$f":"OFFSET(INDIRECT($F306 & \"inv\"),3,2+AnnoPonte-UltimoAnnoRTP,1,1)","v":0},{"$f":"G322+G323-G324-G325","v":0},0,0,0,0,400,386.66666666666669,373.33333333333337,360.00000000000006,346.66666666666674,333.33333333333343,320.00000000000011,286.6666666666668]
[null,null,"Remunerazione CIN investimenti",null,null,null,{"$f":"(G322-F328)*G$17*G$10","v":0},{"$f":"(H322-G328)*H$17*H$10","v":0},{"$f":"(I322-H328)*I$17*I$10","v":0},{"$f":"(J322-I328)*J$17*J$10","v":0},{"$f":"(K322-J328)*K$17*K$10","v":0},{"$f":"(L322-K328)*L$17*L$10","v":0},{"$f":"(M322-L328)*M$17*M$10","v":7.0093333333333323},{"$f":"(N322-M328)*N$17*N$10","v":6.008},{"$f":"(O322-N328)*O$17*O$10","v":5.0066666666666677},{"$f":"(P322-O328)*P$17*P$10","v":4.0053333333333363},{"$f":"(Q322-P328)*Q$17*Q$10","v":3.0040000000000044},{"$f":"(R322-Q328)*R$17*R$10","v":2.0026666666666721},{"$f":"(S322-R328)*S$17*S$10","v":1.0013333333333405}]
[null,null,"Valore di subentro investimenti (lordo contributi) - cumulato",null,null,{"$f":"OFFSET(INDIRECT($F306 & \"inv\"),5,2+AnnoPonte-UltimoAnnoRTP,1,1)","v":0},{"$f":"IF(MAX(-SUM(OFFSET($G324,0,0,1,ScadenzaConcessione-AnnoPonte)),F328+(G323-G324)/$D306*($D306-(ScadenzaConcessione-G$4)))<0,0,MAX(-SUM(OFFSET($G324,0,0,1,ScadenzaConcessione-AnnoPonte)),F328+(G323-G324)/$D306*($D306-(ScadenzaConcessione-G$4))))","v":0},{"$f":"IF(MAX(-SUM(OFFSET($G324,0,0,1,ScadenzaConcessione-AnnoPonte)),G328+(H323-H324)/$D306*($D306-(ScadenzaConcessione-H$4)))<0,0,MAX(-SUM(OFFSET($G324,0,0,1,ScadenzaConcessione-AnnoPonte)),G328+(H323-H324)/$D306*($D306-(ScadenzaConcessione-H$4))))","v":0},{"$f":"IF(MAX(-SUM(OFFSET($G324,0,0,1,ScadenzaConcessione-AnnoPonte)),H328+(I323-I324)/$D306*($D306-(ScadenzaConcessione-I$4)))<0,0,MAX(-SUM(OFFSET($G324,0,0,1,ScadenzaConcessione-AnnoPonte)),H328+(I323-I324)/$D306*($D306-(ScadenzaConcessione-I$4))))","v":0},{"$f":"IF(MAX(-SUM(OFFSET($G324,0,0,1,ScadenzaConcessione-AnnoPonte)),I328+(J323-J324)/$D306*($D306-(ScadenzaConcessione-J$4)))<0,0,MAX(-SUM(OFFSET($G324,0,0,1,ScadenzaConcessione-AnnoPonte)),I328+(J323-J324)/$D306*($D306-(ScadenzaConcessione-J$4))))","v":0},{"$f":"IF(MAX(-SUM(OFFSET($G324,0,0,1,ScadenzaConcessione-AnnoPonte)),J328+(K323-K324)/$D306*($D306-(ScadenzaConcessione-K$4)))<0,0,MAX(-SUM(OFFSET($G324,0,0,1,ScadenzaConcessione-AnnoPonte)),J328+(K323-K324)/$D306*($D306-(ScadenzaConcessione-K$4))))","v":0},{"$f":"IF(MAX(-SUM(OFFSET($G324,0,0,1,ScadenzaConcessione-AnnoPonte)),K328+(L323-L324)/$D306*($D306-(ScadenzaConcessione-L$4)))<0,0,MAX(-SUM(OFFSET($G324,0,0,1,ScadenzaConcessione-AnnoPonte)),K328+(L323-L324)/$D306*($D306-(ScadenzaConcessione-L$4))))","v":306.66666666666669},{"$f":"IF(MAX(-SUM(OFFSET($G324,0,0,1,ScadenzaConcessione-AnnoPonte)),L328+(M323-M324)/$D306*($D306-(ScadenzaConcessione-M$4)))<0,0,MAX(-SUM(OFFSET($G324,0,0,1,ScadenzaConcessione-AnnoPonte)),L328+(M323-M324)/$D306*($D306-(ScadenzaConcessione-M$4))))","v":306.66666666666669},{"$f":"IF(MAX(-SUM(OFFSET($G324,0,0,1,ScadenzaConcessione-AnnoPonte)),M328+(N323-N324)/$D306*($D306-(ScadenzaConcessione-N$4)))<0,0,MAX(-SUM(OFFSET($G324,0,0,1,ScadenzaConcessione-AnnoPonte)),M328+(N323-N324)/$D306*($D306-(ScadenzaConcessione-N$4))))","v":306.66666666666669},{"$f":"IF(MAX(-SUM(OFFSET($G324,0,0,1,ScadenzaConcessione-AnnoPonte)),N328+(O323-O324)/$D306*($D306-(ScadenzaConcessione-O$4)))<0,0,MAX(-SUM(OFFSET($G324,0,0,1,ScadenzaConcessione-AnnoPonte)),N328+(O323-O324)/$D306*($D306-(ScadenzaConcessione-O$4))))","v":306.66666666666669},{"$f":"IF(MAX(-SUM(OFFSET($G324,0,0,1,ScadenzaConcessione-AnnoPonte)),O328+(P323-P324)/$D306*($D306-(ScadenzaConcessione-P$4)))<0,0,MAX(-SUM(OFFSET($G324,0,0,1,ScadenzaConcessione-AnnoPonte)),O328+(P323-P324)/$D306*($D306-(ScadenzaConcessione-P$4))))","v":306.66666666666669},{"$f":"IF(MAX(-SUM(OFFSET($G324,0,0,1,ScadenzaConcessione-AnnoPonte)),P328+(Q323-Q324)/$D306*($D306-(ScadenzaConcessione-Q$4)))<0,0,MAX(-SUM(OFFSET($G324,0,0,1,ScadenzaConcessione-AnnoPonte)),P328+(Q323-Q324)/$D306*($D306-(ScadenzaConcessione-Q$4))))","v":306.66666666666669},{"$f":"IF(MAX(-SUM(OFFSET($G324,0,0,1,ScadenzaConcessione-AnnoPonte)),Q328+(R323-R324)/$D306*($D306-(ScadenzaConcessione-R$4)))<0,0,MAX(-SUM(OFFSET($G324,0,0,1,ScadenzaConcessione-AnnoPonte)),Q328+(R323-R324)/$D306*($D306-(ScadenzaConcessione-R$4))))","v":306.66666666666669},{"$f":"IF(MAX(-SUM(OFFSET($G324,0,0,1,ScadenzaConcessione-AnnoPonte)),R328+(S323-S324)/$D306*($D306-(ScadenzaConcessione-S$4)))<0,0,MAX(-SUM(OFFSET($G324,0,0,1,ScadenzaConcessione-AnnoPonte)),R328+(S323-S324)/$D306*($D306-(ScadenzaConcessione-S$4))))","v":286.66666666666669}]
[null,null,"Remunerazione valore di subentro CIN investimenti",null,null,null,{"$f":"F328*G$19*G$10","v":0},{"$f":"G328*H$19*H$10","v":0},0,0,0,0,23.030666666666669,23.030666666666669,23.030666666666669,23.030666666666669,23.030666666666669,23.030666666666669,23.030666666666669]
[]
[null,null,"CIN contributi bop (amm. a vite utili)",null,"precedenti",null,{"$f":"F334","v":0},{"$f":"G334","v":0},{"$f":"H334","v":0},{"$f":"I334","v":0},{"$f":"J334","v":0},{"$f":"K334","v":-40},{"$f":"L334","v":-38.666666666666664},{"$f":"M334","v":-37.333333333333329},{"$f":"N334","v":-35.999999999999993},{"$f":"O334","v":-34.666666666666657},{"$f":"P334","v":-33.333333333333321},{"$f":"Q334","v":-31.999999999999989},{"$f":"R334","v":-30.666666666666657}]
[null,null,"contributi annui (amm. a vite utili)",null,{"$f":"-SUM(OFFSET(INDIRECT($F306 & \"contr\"),0,3,1,IF(EsistePrev,AnnoPonte-UltimoAnnoRTP,1)))","v":0},null,{"$f":"-SUMIFS(\n'Z0.6.b ProgInvest_Contr agg'!Z:Z,\n'Z0.6.b ProgInvest_Contr agg'!$K:$K,$C306,\n'Z0.6.b ProgInvest_Contr agg'!$M:$M,$D$145,\n'Z0.6.b ProgInvest_Contr agg'!$L:$L,\"in corso\",\n'Z0.6.b ProgInvest_Contr agg'!$O:$O,\"vite utili 1\")\n-SUMIFS(\n'Z0.6.b ProgInvest_Contr agg'!Z:Z,\n'Z0.6.b ProgInvest_Contr agg'!$K:$K,$C306,\n'Z0.6.b ProgInvest_Contr agg'!$M:$M,$D$145,\n'Z0.6.b ProgInvest_Contr agg'!$L:$L,\"in corso\",\n'Z0.6.b ProgInvest_Contr agg'!$O:$O,\"vite utili 2\")","v":0},{"$f":"-SUMIFS(\n'Z0.6.b ProgInvest_Contr agg'!AA:AA,\n'Z0.6.b ProgInvest_Contr agg'!$K:$K,$C306,\n'Z0.6.b ProgInvest_Contr agg'!$M:$M,$D$145,\n'Z0.6.b ProgInvest_Contr agg'!$L:$L,\"in corso\",\n'Z0.6.b ProgInvest_Contr agg'!$O:$O,\"vite utili 1\")\n-SUMIFS(\n'Z0.6.b ProgInvest_Contr agg'!AA:AA,\n'Z0.6.b ProgInvest_Contr agg'!$K:$K,$C306,\n'Z0.6.b ProgInvest_Contr agg'!$M:$M,$D$145,\n'Z0.6.b ProgInvest_Contr agg'!$L:$L,\"in corso\",\n'Z0.6.b ProgInvest_Contr agg'!$O:$O,\"vite utili 2\")","v":0},{"$f":"-SUMIFS(\n'Z0.6.b ProgInvest_Contr agg'!AB:AB,\n'Z0.6.b ProgInvest_Contr agg'!$K:$K,$C306,\n'Z0.6.b ProgInvest_Contr agg'!$M:$M,$D$145,\n'Z0.6.b ProgInvest_Contr agg'!$L:$L,\"in corso\",\n'Z0.6.b ProgInvest_Contr agg'!$O:$O,\"vite utili 1\")\n-SUMIFS(\n'Z0.6.b ProgInvest_Contr agg'!AB:AB,\n'Z0.6.b ProgInvest_Contr agg'!$K:$K,$C306,\n'Z0.6.b ProgInvest_Contr agg'!$M:$M,$D$145,\n'Z0.6.b ProgInvest_Contr agg'!$L:$L,\"in corso\",\n'Z0.6.b ProgInvest_Contr agg'!$O:$O,\"vite utili 2\")","v":0},{"$f":"-SUMIFS(\n'Z0.6.b ProgInvest_Contr agg'!AC:AC,\n'Z0.6.b ProgInvest_Contr agg'!$K:$K,$C306,\n'Z0.6.b ProgInvest_Contr agg'!$M:$M,$D$145,\n'Z0.6.b ProgInvest_Contr agg'!$L:$L,\"in corso\",\n'Z0.6.b ProgInvest_Contr agg'!$O:$O,\"vite utili 1\")\n-SUMIFS(\n'Z0.6.b ProgInvest_Contr agg'!AC:AC,\n'Z0.6.b ProgInvest_Contr agg'!$K:$K,$C306,\n'Z0.6.b ProgInvest_Contr agg'!$M:$M,$D$145,\n'Z0.6.b ProgInvest_Contr agg'!$L:$L,\"in corso\",\n'Z0.6.b ProgInvest_Contr agg'!$O:$O,\"vite utili 2\")","v":0},{"$f":"-SUMIFS(\n'Z0.6.b ProgInvest_Contr agg'!AD:AD,\n'Z0.6.b ProgInvest_Contr agg'!$K:$K,$C306,\n'Z0.6.b ProgInvest_Contr agg'!$M:$M,$D$145,\n'Z0.6.b ProgInvest_Contr agg'!$L:$L,\"in corso\",\n'Z0.6.b ProgInvest_Contr agg'!$O:$O,\"vite utili 1\")\n-SUMIFS(\n'Z0.6.b ProgInvest_Contr agg'!AD:AD,\n'Z0.6.b ProgInvest_Contr agg'!$K:$K,$C306,\n'Z0.6.b ProgInvest_Contr agg'!$M:$M,$D$145,\n'Z0.6.b ProgInvest_Contr agg'!$L:$L,\"in corso\",\n'Z0.6.b ProgInvest_Contr agg'!$O:$O,\"vite utili 2\")","v":-40},{"$f":"-SUMIFS(\n'Z0.6.b ProgInvest_Contr agg'!AE:AE,\n'Z0.6.b ProgInvest_Contr agg'!$K:$K,$C306,\n'Z0.6.b ProgInvest_Contr agg'!$M:$M,$D$145,\n'Z0.6.b ProgInvest_Contr agg'!$L:$L,\"in corso\",\n'Z0.6.b ProgInvest_Contr agg'!$O:$O,\"vite utili 1\")\n-SUMIFS(\n'Z0.6.b ProgInvest_Contr agg'!AE:AE,\n'Z0.6.b ProgInvest_Contr agg'!$K:$K,$C306,\n'Z0.6.b ProgInvest_Contr agg'!$M:$M,$D$145,\n'Z0.6.b ProgInvest_Contr agg'!$L:$L,\"in corso\",\n'Z0.6.b ProgInvest_Contr agg'!$O:$O,\"vite utili 2\")","v":0},{"$f":"-SUMIFS(\n'Z0.6.b ProgInvest_Contr agg'!AF:AF,\n'Z0.6.b ProgInvest_Contr agg'!$K:$K,$C306,\n'Z0.6.b ProgInvest_Contr agg'!$M:$M,$D$145,\n'Z0.6.b ProgInvest_Contr agg'!$L:$L,\"in corso\",\n'Z0.6.b ProgInvest_Contr agg'!$O:$O,\"vite utili 1\")\n-SUMIFS(\n'Z0.6.b ProgInvest_Contr agg'!AF:AF,\n'Z0.6.b ProgInvest_Contr agg'!$K:$K,$C306,\n'Z0.6.b ProgInvest_Contr agg'!$M:$M,$D$145,\n'Z0.6.b ProgInvest_Contr agg'!$L:$L,\"in corso\",\n'Z0.6.b ProgInvest_Contr agg'!$O:$O,\"vite utili 2\")","v":0},{"$f":"-SUMIFS(\n'Z0.6.b ProgInvest_Contr agg'!AG:AG,\n'Z0.6.b ProgInvest_Contr agg'!$K:$K,$C306,\n'Z0.6.b ProgInvest_Contr agg'!$M:$M,$D$145,\n'Z0.6.b ProgInvest_Contr agg'!$L:$L,\"in corso\",\n'Z0.6.b ProgInvest_Contr agg'!$O:$O,\"vite utili 1\")\n-SUMIFS(\n'Z0.6.b ProgInvest_Contr agg'!AG:AG,\n'Z0.6.b ProgInvest_Contr agg'!$K:$K,$C306,\n'Z0.6.b ProgInvest_Contr agg'!$M:$M,$D$145,\n'Z0.6.b ProgInvest_Contr agg'!$L:$L,\"in corso\",\n'Z0.6.b ProgInvest_Contr agg'!$O:$O,\"vite utili 2\")","v":0},{"$f":"-SUMIFS(\n'Z0.6.b ProgInvest_Contr agg'!AH:AH,\n'Z0.6.b ProgInvest_Contr agg'!$K:$K,$C306,\n'Z0.6.b ProgInvest_Contr agg'!$M:$M,$D$145,\n'Z0.6.b ProgInvest_Contr agg'!$L:$L,\"in corso\",\n'Z0.6.b ProgInvest_Contr agg'!$O:$O,\"vite utili 1\")\n-SUMIFS(\n'Z0.6.b ProgInvest_Contr agg'!AH:AH,\n'Z0.6.b ProgInvest_Contr agg'!$K:$K,$C306,\n'Z0.6.b ProgInvest_Contr agg'!$M:$M,$D$145,\n'Z0.6.b ProgInvest_Contr agg'!$L:$L,\"in corso\",\n'Z0.6.b ProgInvest_Contr agg'!$O:$O,\"vite utili 2\")","v":0},{"$f":"-SUMIFS(\n'Z0.6.b ProgInvest_Contr agg'!AI:AI,\n'Z0.6.b ProgInvest_Contr agg'!$K:$K,$C306,\n'Z0.6.b ProgInvest_Contr agg'!$M:$M,$D$145,\n'Z0.6.b ProgInvest_Contr agg'!$L:$L,\"in corso\",\n'Z0.6.b ProgInvest_Contr agg'!$O:$O,\"vite utili 1\")\n-SUMIFS(\n'Z0.6.b ProgInvest_Contr agg'!AI:AI,\n'Z0.6.b ProgInvest_Contr agg'!$K:$K,$C306,\n'Z0.6.b ProgInvest_Contr agg'!$M:$M,$D$145,\n'Z0.6.b ProgInvest_Contr agg'!$L:$L,\"in corso\",\n'Z0.6.b ProgInvest_Contr agg'!$O:$O,\"vite utili 2\")","v":0},{"$f":"-SUMIFS(\n'Z0.6.b ProgInvest_Contr agg'!AJ:AJ,\n'Z0.6.b ProgInvest_Contr agg'!$K:$K,$C306,\n'Z0.6.b ProgInvest_Contr agg'!$M:$M,$D$145,\n'Z0.6.b ProgInvest_Contr agg'!$L:$L,\"in corso\",\n'Z0.6.b ProgInvest_Contr agg'!$O:$O,\"vite utili 1\")\n-SUMIFS(\n'Z0.6.b ProgInvest_Contr agg'!AJ:AJ,\n'Z0.6.b ProgInvest_Contr agg'!$K:$K,$C306,\n'Z0.6.b ProgInvest_Contr agg'!$M:$M,$D$145,\n'Z0.6.b ProgInvest_Contr agg'!$L:$L,\"in corso\",\n'Z0.6.b ProgInvest_Contr agg'!$O:$O,\"vite utili 2\")","v":0},{"$f":"-SUMIFS(\n'Z0.6.b ProgInvest_Contr agg'!AK:AK,\n'Z0.6.b ProgInvest_Contr agg'!$K:$K,$C306,\n'Z0.6.b ProgInvest_Contr agg'!$M:$M,$D$145,\n'Z0.6.b ProgInvest_Contr agg'!$L:$L,\"in corso\",\n'Z0.6.b ProgInvest_Contr agg'!$O:$O,\"vite utili 1\")\n-SUMIFS(\n'Z0.6.b ProgInvest_Contr agg'!AK:AK,\n'Z0.6.b ProgInvest_Contr agg'!$K:$K,$C306,\n'Z0.6.b ProgInvest_Contr agg'!$M:$M,$D$145,\n'Z0.6.b ProgInvest_Contr agg'!$L:$L,\"in corso\",\n'Z0.6.b ProgInvest_Contr agg'!$O:$O,\"vite utili 2\")","v":0},{"$f":"-SUMIFS(\n'Z0.6.b ProgInvest_Contr agg'!AL:AL,\n'Z0.6.b ProgInvest_Contr agg'!$K:$K,$C306,\n'Z0.6.b ProgInvest_Contr agg'!$M:$M,$D$145,\n'Z0.6.b ProgInvest_Contr agg'!$L:$L,\"in corso\",\n'Z0.6.b ProgInvest_Contr agg'!$O:$O,\"vite utili 1\")\n-SUMIFS(\n'Z0.6.b ProgInvest_Contr agg'!AL:AL,\n'Z0.6.b ProgInvest_Contr agg'!$K:$K,$C306,\n'Z0.6.b ProgInvest_Contr agg'!$M:$M,$D$145,\n'Z0.6.b ProgInvest_Contr agg'!$L:$L,\"in corso\",\n'Z0.6.b ProgInvest_Contr agg'!$O:$O,\"vite utili 2\")","v":0}]
[null,null,"Ammortamento contributi (amm. a vite utili)",null,{"$f":"-SUM(OFFSET(INDIRECT($F306 & \"contr\"),1,3,1,IF(EsistePrev,AnnoPonte-UltimoAnnoRTP,1)))","v":0},null,{"$f":"IF(F$4-UltimoAnnoRTP<=$D306,\n(SUM($F332:F332)-SUM(OFFSET(INDIRECT($F306 & \"contr\"),0,3,1,IF(EsistePrev,AnnoPonte-UltimoAnnoRTP,1)))\n)/$D306,\n\nIF(AND(F$4-UltimoAnnoRTP>$D306,F$4-AnnoPonte<=$D306),\n(SUM($F332:F332)-SUM(IFERROR(OFFSET(INDIRECT($F306 & \"contr\"),0,3+(F$4-UltimoAnnoRTP-$D306),1,(IF(EsistePrev,AnnoPonte-UltimoAnnoRTP,1)-(F$4-UltimoAnnoRTP-$D306))),0))\n)/$D306,\n\n(SUM(OFFSET(F332,0,-$D306+1,1,$D306))\n)/$D306))","v":0},{"$f":"IF(G$4-UltimoAnnoRTP<=$D306,\n(SUM($F332:G332)-SUM(OFFSET(INDIRECT($F306 & \"contr\"),0,3,1,IF(EsistePrev,AnnoPonte-UltimoAnnoRTP,1)))\n)/$D306,\n\nIF(AND(G$4-UltimoAnnoRTP>$D306,G$4-AnnoPonte<=$D306),\n(SUM($F332:G332)-SUM(IFERROR(OFFSET(INDIRECT($F306 & \"contr\"),0,3+(G$4-UltimoAnnoRTP-$D306),1,(IF(EsistePrev,AnnoPonte-UltimoAnnoRTP,1)-(G$4-UltimoAnnoRTP-$D306))),0))\n)/$D306,\n\n(SUM(OFFSET(G332,0,-$D306+1,1,$D306))\n)/$D306))","v":0},{"$f":"IF(H$4-UltimoAnnoRTP<=$D306,\n(SUM($F332:H332)-SUM(OFFSET(INDIRECT($F306 & \"contr\"),0,3,1,IF(EsistePrev,AnnoPonte-UltimoAnnoRTP,1)))\n)/$D306,\n\nIF(AND(H$4-UltimoAnnoRTP>$D306,H$4-AnnoPonte<=$D306),\n(SUM($F332:H332)-SUM(IFERROR(OFFSET(INDIRECT($F306 & \"contr\"),0,3+(H$4-UltimoAnnoRTP-$D306),1,(IF(EsistePrev,AnnoPonte-UltimoAnnoRTP,1)-(H$4-UltimoAnnoRTP-$D306))),0))\n)/$D306,\n\n(SUM(OFFSET(H332,0,-$D306+1,1,$D306))\n)/$D306))","v":0},{"$f":"IF(I$4-UltimoAnnoRTP<=$D306,\n(SUM($F332:I332)-SUM(OFFSET(INDIRECT($F306 & \"contr\"),0,3,1,IF(EsistePrev,AnnoPonte-UltimoAnnoRTP,1)))\n)/$D306,\n\nIF(AND(I$4-UltimoAnnoRTP>$D306,I$4-AnnoPonte<=$D306),\n(SUM($F332:I332)-SUM(IFERROR(OFFSET(INDIRECT($F306 & \"contr\"),0,3+(I$4-UltimoAnnoRTP-$D306),1,(IF(EsistePrev,AnnoPonte-UltimoAnnoRTP,1)-(I$4-UltimoAnnoRTP-$D306))),0))\n)/$D306,\n\n(SUM(OFFSET(I332,0,-$D306+1,1,$D306))\n)/$D306))","v":0},{"$f":"IF(J$4-UltimoAnnoRTP<=$D306,\n(SUM($F332:J332)-SUM(OFFSET(INDIRECT($F306 & \"contr\"),0,3,1,IF(EsistePrev,AnnoPonte-UltimoAnnoRTP,1)))\n)/$D306,\n\nIF(AND(J$4-UltimoAnnoRTP>$D306,J$4-AnnoPonte<=$D306),\n(SUM($F332:J332)-SUM(IFERROR(OFFSET(INDIRECT($F306 & \"contr\"),0,3+(J$4-UltimoAnnoRTP-$D306),1,(IF(EsistePrev,AnnoPonte-UltimoAnnoRTP,1)-(J$4-UltimoAnnoRTP-$D306))),0))\n)/$D306,\n\n(SUM(OFFSET(J332,0,-$D306+1,1,$D306))\n)/$D306))","v":0},{"$f":"IF(K$4-UltimoAnnoRTP<=$D306,\n(SUM($F332:K332)-SUM(OFFSET(INDIRECT($F306 & \"contr\"),0,3,1,IF(EsistePrev,AnnoPonte-UltimoAnnoRTP,1)))\n)/$D306,\n\nIF(AND(K$4-UltimoAnnoRTP>$D306,K$4-AnnoPonte<=$D306),\n(SUM($F332:K332)-SUM(IFERROR(OFFSET(INDIRECT($F306 & \"contr\"),0,3+(K$4-UltimoAnnoRTP-$D306),1,(IF(EsistePrev,AnnoPonte-UltimoAnnoRTP,1)-(K$4-UltimoAnnoRTP-$D306))),0))\n)/$D306,\n\n(SUM(OFFSET(K332,0,-$D306+1,1,$D306))\n)/$D306))","v":-1.3333333333333333},{"$f":"IF(L$4-UltimoAnnoRTP<=$D306,\n(SUM($F332:L332)-SUM(OFFSET(INDIRECT($F306 & \"contr\"),0,3,1,IF(EsistePrev,AnnoPonte-UltimoAnnoRTP,1)))\n)/$D306,\n\nIF(AND(L$4-UltimoAnnoRTP>$D306,L$4-AnnoPonte<=$D306),\n(SUM($F332:L332)-SUM(IFERROR(OFFSET(INDIRECT($F306 & \"contr\"),0,3+(L$4-UltimoAnnoRTP-$D306),1,(IF(EsistePrev,AnnoPonte-UltimoAnnoRTP,1)-(L$4-UltimoAnnoRTP-$D306))),0))\n)/$D306,\n\n(SUM(OFFSET(L332,0,-$D306+1,1,$D306))\n)/$D306))","v":-1.3333333333333333},{"$f":"IF(M$4-UltimoAnnoRTP<=$D306,\n(SUM($F332:M332)-SUM(OFFSET(INDIRECT($F306 & \"contr\"),0,3,1,IF(EsistePrev,AnnoPonte-UltimoAnnoRTP,1)))\n)/$D306,\n\nIF(AND(M$4-UltimoAnnoRTP>$D306,M$4-AnnoPonte<=$D306),\n(SUM($F332:M332)-SUM(IFERROR(OFFSET(INDIRECT($F306 & \"contr\"),0,3+(M$4-UltimoAnnoRTP-$D306),1,(IF(EsistePrev,AnnoPonte-UltimoAnnoRTP,1)-(M$4-UltimoAnnoRTP-$D306))),0))\n)/$D306,\n\n(SUM(OFFSET(M332,0,-$D306+1,1,$D306))\n)/$D306))","v":-1.3333333333333333},{"$f":"IF(N$4-UltimoAnnoRTP<=$D306,\n(SUM($F332:N332)-SUM(OFFSET(INDIRECT($F306 & \"contr\"),0,3,1,IF(EsistePrev,AnnoPonte-UltimoAnnoRTP,1)))\n)/$D306,\n\nIF(AND(N$4-UltimoAnnoRTP>$D306,N$4-AnnoPonte<=$D306),\n(SUM($F332:N332)-SUM(IFERROR(OFFSET(INDIRECT($F306 & \"contr\"),0,3+(N$4-UltimoAnnoRTP-$D306),1,(IF(EsistePrev,AnnoPonte-UltimoAnnoRTP,1)-(N$4-UltimoAnnoRTP-$D306))),0))\n)/$D306,\n\n(SUM(OFFSET(N332,0,-$D306+1,1,$D306))\n)/$D306))","v":-1.3333333333333333},{"$f":"IF(O$4-UltimoAnnoRTP<=$D306,\n(SUM($F332:O332)-SUM(OFFSET(INDIRECT($F306 & \"contr\"),0,3,1,IF(EsistePrev,AnnoPonte-UltimoAnnoRTP,1)))\n)/$D306,\n\nIF(AND(O$4-UltimoAnnoRTP>$D306,O$4-AnnoPonte<=$D306),\n(SUM($F332:O332)-SUM(IFERROR(OFFSET(INDIRECT($F306 & \"contr\"),0,3+(O$4-UltimoAnnoRTP-$D306),1,(IF(EsistePrev,AnnoPonte-UltimoAnnoRTP,1)-(O$4-UltimoAnnoRTP-$D306))),0))\n)/$D306,\n\n(SUM(OFFSET(O332,0,-$D306+1,1,$D306))\n)/$D306))","v":-1.3333333333333333},{"$f":"IF(P$4-UltimoAnnoRTP<=$D306,\n(SUM($F332:P332)-SUM(OFFSET(INDIRECT($F306 & \"contr\"),0,3,1,IF(EsistePrev,AnnoPonte-UltimoAnnoRTP,1)))\n)/$D306,\n\nIF(AND(P$4-UltimoAnnoRTP>$D306,P$4-AnnoPonte<=$D306),\n(SUM($F332:P332)-SUM(IFERROR(OFFSET(INDIRECT($F306 & \"contr\"),0,3+(P$4-UltimoAnnoRTP-$D306),1,(IF(EsistePrev,AnnoPonte-UltimoAnnoRTP,1)-(P$4-UltimoAnnoRTP-$D306))),0))\n)/$D306,\n\n(SUM(OFFSET(P332,0,-$D306+1,1,$D306))\n)/$D306))","v":-1.3333333333333333},{"$f":"IF(Q$4-UltimoAnnoRTP<=$D306,\n(SUM($F332:Q332)-SUM(OFFSET(INDIRECT($F306 & \"contr\"),0,3,1,IF(EsistePrev,AnnoPonte-UltimoAnnoRTP,1)))\n)/$D306,\n\nIF(AND(Q$4-UltimoAnnoRTP>$D306,Q$4-AnnoPonte<=$D306),\n(SUM($F332:Q332)-SUM(IFERROR(OFFSET(INDIRECT($F306 & \"contr\"),0,3+(Q$4-UltimoAnnoRTP-$D306),1,(IF(EsistePrev,AnnoPonte-UltimoAnnoRTP,1)-(Q$4-UltimoAnnoRTP-$D306))),0))\n)/$D306,\n\n(SUM(OFFSET(Q332,0,-$D306+1,1,$D306))\n)/$D306))","v":-1.3333333333333333},{"$f":"IF(R$4-UltimoAnnoRTP<=$D306,\n(SUM($F332:R332)-SUM(OFFSET(INDIRECT($F306 & \"contr\"),0,3,1,IF(EsistePrev,AnnoPonte-UltimoAnnoRTP,1)))\n)/$D306,\n\nIF(AND(R$4-UltimoAnnoRTP>$D306,R$4-AnnoPonte<=$D306),\n(SUM($F332:R332)-SUM(IFERROR(OFFSET(INDIRECT($F306 & \"contr\"),0,3+(R$4-UltimoAnnoRTP-$D306),1,(IF(EsistePrev,AnnoPonte-UltimoAnnoRTP,1)-(R$4-UltimoAnnoRTP-$D306))),0))\n)/$D306,\n\n(SUM(OFFSET(R332,0,-$D306+1,1,$D306))\n)/$D306))","v":-1.3333333333333333}]
[null,null,"CIN contributi eop (amm. a vite utili)",null,null,{"$f":"-OFFSET(INDIRECT($F306 & \"contr\"),2,2+AnnoPonte-UltimoAnnoRTP,1,1)","v":0},{"$f":"G331+G332-G333","v":0},0,0,0,-40,-38.666666666666664,-37.333333333333329,-35.999999999999993,-34.666666666666657,-33.333333333333321,-31.999999999999989,-30.666666666666657,-29.333333333333325]
[null,null,"Remunerazione CIN contributi",null,null,null,{"$f":"(G331-F336)*G$17*G$10","v":0},{"$f":"(H331-G336)*H$17*H$10","v":0},{"$f":"(I331-H336)*I$17*I$10","v":0},{"$f":"(J331-I336)*J$17*J$10","v":0},{"$f":"(K331-J336)*K$17*K$10","v":0},{"$f":"(L331-K336)*L$17*L$10","v":-0.8010666666666667},{"$f":"(M331-L336)*M$17*M$10","v":-0.7009333333333333},{"$f":"(N331-M336)*N$17*N$10","v":-0.60079999999999978},{"$f":"(O331-N336)*O$17*O$10","v":-0.50066666666666626},{"$f":"(P331-O336)*P$17*P$10","v":-0.40053333333333269},{"$f":"(Q331-P336)*Q$17*Q$10","v":-0.30039999999999922},{"$f":"(R331-Q336)*R$17*R$10","v":-0.20026666666666595},{"$f":"(S331-R336)*S$17*S$10","v":-0.10013333333333271}]
[null,null,"Valore di subentro contributi - cumulato",null,null,{"$f":"-OFFSET(INDIRECT($F306 & \"contr\"),4,2+AnnoPonte-UltimoAnnoRTP,1,1)","v":0},{"$f":"MIN(0,F336+(G332)/$D306*($D306-(ScadenzaConcessione-G$4)))","v":0},{"$f":"MIN(0,G336+(H332)/$D306*($D306-(ScadenzaConcessione-H$4)))","v":0},{"$f":"MIN(0,H336+(I332)/$D306*($D306-(ScadenzaConcessione-I$4)))","v":0},{"$f":"MIN(0,I336+(J332)/$D306*($D306-(ScadenzaConcessione-J$4)))","v":0},{"$f":"MIN(0,J336+(K332)/$D306*($D306-(ScadenzaConcessione-K$4)))","v":-29.333333333333332},{"$f":"MIN(0,K336+(L332)/$D306*($D306-(ScadenzaConcessione-L$4)))","v":-29.333333333333332},{"$f":"MIN(0,L336+(M332)/$D306*($D306-(ScadenzaConcessione-M$4)))","v":-29.333333333333332},{"$f":"MIN(0,M336+(N332)/$D306*($D306-(ScadenzaConcessione-N$4)))","v":-29.333333333333332},{"$f":"MIN(0,N336+(O332)/$D306*($D306-(ScadenzaConcessione-O$4)))","v":-29.333333333333332},{"$f":"MIN(0,O336+(P332)/$D306*($D306-(ScadenzaConcessione-P$4)))","v":-29.333333333333332},{"$f":"MIN(0,P336+(Q332)/$D306*($D306-(ScadenzaConcessione-Q$4)))","v":-29.333333333333332},{"$f":"MIN(0,Q336+(R332)/$D306*($D306-(ScadenzaConcessione-R$4)))","v":-29.333333333333332},{"$f":"MIN(0,R336+(S332)/$D306*($D306-(ScadenzaConcessione-S$4)))","v":-29.333333333333332}]
[null,null,"Remunerazione valore di subentro CIN contributi ",null,null,null,{"$f":"F336*G$19*G$10","v":0},{"$f":"G336*H$19*H$10","v":0},0,0,0,-2.2029333333333332,-2.2029333333333332,-2.2029333333333332,-2.2029333333333332,-2.2029333333333332,-2.2029333333333332,-2.2029333333333332,-2.2029333333333332]
[]
[null,null,"Check - TIR di progetto"]
[null,null,"Cash out investimenti",null,null,{"$f":"-(F311+F318+F326+F334)","v":0},{"$f":"-(G309+G316-G324+G332)","v":0},{"$f":"-(H309+H316-H324+H332)","v":0},0,0,-160,-200,0,0,0,0,0,0,20]
[null,null,"Cash in valore di subentro",null,null,null,{"$f":"IF(G$4=ScadenzaConcessione,G312+G328+G336,\"\")","v":""},"","","","","","","","","","","",{"$f":"IF(S$4=ScadenzaConcessione,S312+S319+S328+S336,\"\")","v":257.33333333333337}]
[null,null,"Cash in ammortamenti",null,null,null,{"$f":"G325+G333","v":0},0,0,0,0,-1.3333333333333333,12,12,12,12,12,12,12]
[null,null,"Cash in remunerazioni (annualizzato)",null,null,null,{"$f":"(G313+G320+G327+G329+G335+G337)/G$10","v":0},{"$f":"(H313+H320+H327+H329+H335+H337)/H$10","v":0},0,0,0,8.8559999999999981,27.136133333333333,26.234933333333334,25.333733333333335,24.432533333333339,23.53133333333334,22.63013333333334,21.728933333333345]
[null,null,"Cash flow",null,null,{"$f":"SUM(F340:F343)","v":0},0,{"$f":"SUM(H340:H343)","v":0},0,0,-160,-192.47733333333335,39.136133333333333,38.234933333333331,37.333733333333335,36.432533333333339,35.531333333333336,34.63013333333334,311.06226666666669]
[null,null,"Tasso interno di rendimento",null,null,{"$f":"IFERROR(IRR(OFFSET(F344,0,0,1,ScadenzaConcessione-AnnoPonte+1)),\"non calc.\")","v":7.3445971270823085E-2}]
[null,null,"VAN",null,{"$f":"WACC","v":7.51E-2},{"$f":"NPV(E346,OFFSET(F344,0,0,1,ScadenzaConcessione-AnnoPonte+1))","v":-1.9034656748652938}]
[]
[null,null,"Reti recinzione",{"$f":"VLOOKUP(C348,'C3 Tk Supporto'!C:E,2,0)","v":20},null,"VU05"]
[]
[null,null,"LIC livello 1 - bop",null,null,null,{"$f":"F353","v":0},{"$f":"G353","v":0},{"$f":"H353","v":0},{"$f":"I353","v":0},{"$f":"J353","v":0},{"$f":"K353","v":0},{"$f":"L353","v":100},{"$f":"M353","v":0},{"$f":"N353","v":0},{"$f":"O353","v":0},{"$f":"P353","v":0},{"$f":"Q353","v":0},{"$f":"R353","v":0}]
[null,null,"Investimenti in corso aggiuntivi",null,null,null,{"$f":"SUMIFS(\n'Z0.6.a ProgInvest_Spesa agg'!Z:Z,\n'Z0.6.a ProgInvest_Spesa agg'!$K:$K,$C348,\n'Z0.6.a ProgInvest_Spesa agg'!$M:$M,$D$145,\n'Z0.6.a ProgInvest_Spesa agg'!$L:$L,\"in corso\",\n'Z0.6.a ProgInvest_Spesa agg'!$O:$O,\"vite utili 1\")","v":0},{"$f":"SUMIFS(\n'Z0.6.a ProgInvest_Spesa agg'!AA:AA,\n'Z0.6.a ProgInvest_Spesa agg'!$K:$K,$C348,\n'Z0.6.a ProgInvest_Spesa agg'!$M:$M,$D$145,\n'Z0.6.a ProgInvest_Spesa agg'!$L:$L,\"in corso\",\n'Z0.6.a ProgInvest_Spesa agg'!$O:$O,\"vite utili 1\")","v":0},{"$f":"SUMIFS(\n'Z0.6.a ProgInvest_Spesa agg'!AB:AB,\n'Z0.6.a ProgInvest_Spesa agg'!$K:$K,$C348,\n'Z0.6.a ProgInvest_Spesa agg'!$M:$M,$D$145,\n'Z0.6.a ProgInvest_Spesa agg'!$L:$L,\"in corso\",\n'Z0.6.a ProgInvest_Spesa agg'!$O:$O,\"vite utili 1\")","v":0},{"$f":"SUMIFS(\n'Z0.6.a ProgInvest_Spesa agg'!AC:AC,\n'Z0.6.a ProgInvest_Spesa agg'!$K:$K,$C348,\n'Z0.6.a ProgInvest_Spesa agg'!$M:$M,$D$145,\n'Z0.6.a ProgInvest_Spesa agg'!$L:$L,\"in corso\",\n'Z0.6.a ProgInvest_Spesa agg'!$O:$O,\"vite utili 1\")","v":0},{"$f":"SUMIFS(\n'Z0.6.a ProgInvest_Spesa agg'!AD:AD,\n'Z0.6.a ProgInvest_Spesa agg'!$K:$K,$C348,\n'Z0.6.a ProgInvest_Spesa agg'!$M:$M,$D$145,\n'Z0.6.a ProgInvest_Spesa agg'!$L:$L,\"in corso\",\n'Z0.6.a ProgInvest_Spesa agg'!$O:$O,\"vite utili 1\")","v":0},{"$f":"SUMIFS(\n'Z0.6.a ProgInvest_Spesa agg'!AE:AE,\n'Z0.6.a ProgInvest_Spesa agg'!$K:$K,$C348,\n'Z0.6.a ProgInvest_Spesa agg'!$M:$M,$D$145,\n'Z0.6.a ProgInvest_Spesa agg'!$L:$L,\"in corso\",\n'Z0.6.a ProgInvest_Spesa agg'!$O:$O,\"vite utili 1\")","v":100},{"$f":"SUMIFS(\n'Z0.6.a ProgInvest_Spesa agg'!AF:AF,\n'Z0.6.a ProgInvest_Spesa agg'!$K:$K,$C348,\n'Z0.6.a ProgInvest_Spesa agg'!$M:$M,$D$145,\n'Z0.6.a ProgInvest_Spesa agg'!$L:$L,\"in corso\",\n'Z0.6.a ProgInvest_Spesa agg'!$O:$O,\"vite utili 1\")","v":100},{"$f":"SUMIFS(\n'Z0.6.a ProgInvest_Spesa agg'!AG:AG,\n'Z0.6.a ProgInvest_Spesa agg'!$K:$K,$C348,\n'Z0.6.a ProgInvest_Spesa agg'!$M:$M,$D$145,\n'Z0.6.a ProgInvest_Spesa agg'!$L:$L,\"in corso\",\n'Z0.6.a ProgInvest_Spesa agg'!$O:$O,\"vite utili 1\")","v":0},{"$f":"SUMIFS(\n'Z0.6.a ProgInvest_Spesa agg'!AH:AH,\n'Z0.6.a ProgInvest_Spesa agg'!$K:$K,$C348,\n'Z0.6.a ProgInvest_Spesa agg'!$M:$M,$D$145,\n'Z0.6.a ProgInvest_Spesa agg'!$L:$L,\"in corso\",\n'Z0.6.a ProgInvest_Spesa agg'!$O:$O,\"vite utili 1\")","v":0},{"$f":"SUMIFS(\n'Z0.6.a ProgInvest_Spesa agg'!AI:AI,\n'Z0.6.a ProgInvest_Spesa agg'!$K:$K,$C348,\n'Z0.6.a ProgInvest_Spesa agg'!$M:$M,$D$145,\n'Z0.6.a ProgInvest_Spesa agg'!$L:$L,\"in corso\",\n'Z0.6.a ProgInvest_Spesa agg'!$O:$O,\"vite utili 1\")","v":0},{"$f":"SUMIFS(\n'Z0.6.a ProgInvest_Spesa agg'!AJ:AJ,\n'Z0.6.a ProgInvest_Spesa agg'!$K:$K,$C348,\n'Z0.6.a ProgInvest_Spesa agg'!$M:$M,$D$145,\n'Z0.6.a ProgInvest_Spesa agg'!$L:$L,\"in corso\",\n'Z0.6.a ProgInvest_Spesa agg'!$O:$O,\"vite utili 1\")","v":0},{"$f":"SUMIFS(\n'Z0.6.a ProgInvest_Spesa agg'!AK:AK,\n'Z0.6.a ProgInvest_Spesa agg'!$K:$K,$C348,\n'Z0.6.a ProgInvest_Spesa agg'!$M:$M,$D$145,\n'Z0.6.a ProgInvest_Spesa agg'!$L:$L,\"in corso\",\n'Z0.6.a ProgInvest_Spesa agg'!$O:$O,\"vite utili 1\")","v":0},{"$f":"SUMIFS(\n'Z0.6.a ProgInvest_Spesa agg'!AL:AL,\n'Z0.6.a ProgInvest_Spesa agg'!$K:$K,$C348,\n'Z0.6.a ProgInvest_Spesa agg'!$M:$M,$D$145,\n'Z0.6.a ProgInvest_Spesa agg'!$L:$L,\"in corso\",\n'Z0.6.a ProgInvest_Spesa agg'!$O:$O,\"vite utili 1\")","v":0}]
[null,null,"Investimenti in corso cessanti (entrata in esercizio)",null,null,null,{"$f":"-SUMIFS(\n'Z0.6.a ProgInvest_Spesa agg'!$S:$S,\n'Z0.6.a ProgInvest_Spesa agg'!$K:$K,$C348,\n'Z0.6.a ProgInvest_Spesa agg'!$M:$M,$D$145,\n'Z0.6.a ProgInvest_Spesa agg'!$L:$L,\"in corso\",\n'Z0.6.a ProgInvest_Spesa agg'!$O:$O,\"vite utili 1\",\n'Z0.6.a ProgInvest_Spesa agg'!$P:$P,G$4)","v":0},{"$f":"-SUMIFS(\n'Z0.6.a ProgInvest_Spesa agg'!$S:$S,\n'Z0.6.a ProgInvest_Spesa agg'!$K:$K,$C348,\n'Z0.6.a ProgInvest_Spesa agg'!$M:$M,$D$145,\n'Z0.6.a ProgInvest_Spesa agg'!$L:$L,\"in corso\",\n'Z0.6.a ProgInvest_Spesa agg'!$O:$O,\"vite utili 1\",\n'Z0.6.a ProgInvest_Spesa agg'!$P:$P,H$4)","v":0},{"$f":"-SUMIFS(\n'Z0.6.a ProgInvest_Spesa agg'!$S:$S,\n'Z0.6.a ProgInvest_Spesa agg'!$K:$K,$C348,\n'Z0.6.a ProgInvest_Spesa agg'!$M:$M,$D$145,\n'Z0.6.a ProgInvest_Spesa agg'!$L:$L,\"in corso\",\n'Z0.6.a ProgInvest_Spesa agg'!$O:$O,\"vite utili 1\",\n'Z0.6.a ProgInvest_Spesa agg'!$P:$P,I$4)","v":0},{"$f":"-SUMIFS(\n'Z0.6.a ProgInvest_Spesa agg'!$S:$S,\n'Z0.6.a ProgInvest_Spesa agg'!$K:$K,$C348,\n'Z0.6.a ProgInvest_Spesa agg'!$M:$M,$D$145,\n'Z0.6.a ProgInvest_Spesa agg'!$L:$L,\"in corso\",\n'Z0.6.a ProgInvest_Spesa agg'!$O:$O,\"vite utili 1\",\n'Z0.6.a ProgInvest_Spesa agg'!$P:$P,J$4)","v":0},{"$f":"-SUMIFS(\n'Z0.6.a ProgInvest_Spesa agg'!$S:$S,\n'Z0.6.a ProgInvest_Spesa agg'!$K:$K,$C348,\n'Z0.6.a ProgInvest_Spesa agg'!$M:$M,$D$145,\n'Z0.6.a ProgInvest_Spesa agg'!$L:$L,\"in corso\",\n'Z0.6.a ProgInvest_Spesa agg'!$O:$O,\"vite utili 1\",\n'Z0.6.a ProgInvest_Spesa agg'!$P:$P,K$4)","v":0},{"$f":"-SUMIFS(\n'Z0.6.a ProgInvest_Spesa agg'!$S:$S,\n'Z0.6.a ProgInvest_Spesa agg'!$K:$K,$C348,\n'Z0.6.a ProgInvest_Spesa agg'!$M:$M,$D$145,\n'Z0.6.a ProgInvest_Spesa agg'!$L:$L,\"in corso\",\n'Z0.6.a ProgInvest_Spesa agg'!$O:$O,\"vite utili 1\",\n'Z0.6.a ProgInvest_Spesa agg'!$P:$P,L$4)","v":0},{"$f":"-SUMIFS(\n'Z0.6.a ProgInvest_Spesa agg'!$S:$S,\n'Z0.6.a ProgInvest_Spesa agg'!$K:$K,$C348,\n'Z0.6.a ProgInvest_Spesa agg'!$M:$M,$D$145,\n'Z0.6.a ProgInvest_Spesa agg'!$L:$L,\"in corso\",\n'Z0.6.a ProgInvest_Spesa agg'!$O:$O,\"vite utili 1\",\n'Z0.6.a ProgInvest_Spesa agg'!$P:$P,M$4)","v":-200},{"$f":"-SUMIFS(\n'Z0.6.a ProgInvest_Spesa agg'!$S:$S,\n'Z0.6.a ProgInvest_Spesa agg'!$K:$K,$C348,\n'Z0.6.a ProgInvest_Spesa agg'!$M:$M,$D$145,\n'Z0.6.a ProgInvest_Spesa agg'!$L:$L,\"in corso\",\n'Z0.6.a ProgInvest_Spesa agg'!$O:$O,\"vite utili 1\",\n'Z0.6.a ProgInvest_Spesa agg'!$P:$P,N$4)","v":0},{"$f":"-SUMIFS(\n'Z0.6.a ProgInvest_Spesa agg'!$S:$S,\n'Z0.6.a ProgInvest_Spesa agg'!$K:$K,$C348,\n'Z0.6.a ProgInvest_Spesa agg'!$M:$M,$D$145,\n'Z0.6.a ProgInvest_Spesa agg'!$L:$L,\"in corso\",\n'Z0.6.a ProgInvest_Spesa agg'!$O:$O,\"vite utili 1\",\n'Z0.6.a ProgInvest_Spesa agg'!$P:$P,O$4)","v":0},{"$f":"-SUMIFS(\n'Z0.6.a ProgInvest_Spesa agg'!$S:$S,\n'Z0.6.a ProgInvest_Spesa agg'!$K:$K,$C348,\n'Z0.6.a ProgInvest_Spesa agg'!$M:$M,$D$145,\n'Z0.6.a ProgInvest_Spesa agg'!$L:$L,\"in corso\",\n'Z0.6.a ProgInvest_Spesa agg'!$O:$O,\"vite utili 1\",\n'Z0.6.a ProgInvest_Spesa agg'!$P:$P,P$4)","v":0},{"$f":"-SUMIFS(\n'Z0.6.a ProgInvest_Spesa agg'!$S:$S,\n'Z0.6.a ProgInvest_Spesa agg'!$K:$K,$C348,\n'Z0.6.a ProgInvest_Spesa agg'!$M:$M,$D$145,\n'Z0.6.a ProgInvest_Spesa agg'!$L:$L,\"in corso\",\n'Z0.6.a ProgInvest_Spesa agg'!$O:$O,\"vite utili 1\",\n'Z0.6.a ProgInvest_Spesa agg'!$P:$P,Q$4)","v":0},{"$f":"-SUMIFS(\n'Z0.6.a ProgInvest_Spesa agg'!$S:$S,\n'Z0.6.a ProgInvest_Spesa agg'!$K:$K,$C348,\n'Z0.6.a ProgInvest_Spesa agg'!$M:$M,$D$145,\n'Z0.6.a ProgInvest_Spesa agg'!$L:$L,\"in corso\",\n'Z0.6.a ProgInvest_Spesa agg'!$O:$O,\"vite utili 1\",\n'Z0.6.a ProgInvest_Spesa agg'!$P:$P,R$4)","v":0},{"$f":"-SUMIFS(\n'Z0.6.a ProgInvest_Spesa agg'!$S:$S,\n'Z0.6.a ProgInvest_Spesa agg'!$K:$K,$C348,\n'Z0.6.a ProgInvest_Spesa agg'!$M:$M,$D$145,\n'Z0.6.a ProgInvest_Spesa agg'!$L:$L,\"in corso\",\n'Z0.6.a ProgInvest_Spesa agg'!$O:$O,\"vite utili 1\",\n'Z0.6.a ProgInvest_Spesa agg'!$P:$P,S$4)","v":0}]
[null,null,"LIC livello 1 - eop",null,null,{"$f":"OFFSET(INDIRECT($F348 & \"inv\"),-10,2+AnnoPonte-UltimoAnnoRTP,1,1)","v":0},{"$f":"G350+G351+G352","v":0},0,0,0,0,100,0,0,0,0,0,0,0]
[null,null,"Valore di subentro LIC",null,null,null,{"$f":"IF(G$4=ScadenzaConcessione,G353,0)","v":0},0,0,0,0,0,0,0,0,0,0,0,0]
[null,null,"Remunerazione LIC",null,null,null,{"$f":"G350*G$17*G$10","v":0},{"$f":"H350*H$17*H$10","v":0},0,0,0,0,7.51,0,0,0,0,0,0]
[]
[null,null,"LIC livello 2 - bop",null,null,null,{"$f":"F360","v":0},{"$f":"G360","v":0},{"$f":"H360","v":0},{"$f":"I360","v":0},{"$f":"J360","v":0},{"$f":"K360","v":0},{"$f":"L360","v":100},{"$f":"M360","v":0},{"$f":"N360","v":0},{"$f":"O360","v":0},{"$f":"P360","v":0},{"$f":"Q360","v":0},{"$f":"R360","v":0}]
[null,null,"Investimenti in corso aggiuntivi",null,null,null,{"$f":"SUMIFS(\n'Z0.6.a ProgInvest_Spesa agg'!Z:Z,\n'Z0.6.a ProgInvest_Spesa agg'!$K:$K,$C348,\n'Z0.6.a ProgInvest_Spesa agg'!$M:$M,$D$145,\n'Z0.6.a ProgInvest_Spesa agg'!$L:$L,\"in corso\",\n'Z0.6.a ProgInvest_Spesa agg'!$O:$O,\"vite utili 2\")","v":0},{"$f":"SUMIFS(\n'Z0.6.a ProgInvest_Spesa agg'!AA:AA,\n'Z0.6.a ProgInvest_Spesa agg'!$K:$K,$C348,\n'Z0.6.a ProgInvest_Spesa agg'!$M:$M,$D$145,\n'Z0.6.a ProgInvest_Spesa agg'!$L:$L,\"in corso\",\n'Z0.6.a ProgInvest_Spesa agg'!$O:$O,\"vite utili 2\")","v":0},{"$f":"SUMIFS(\n'Z0.6.a ProgInvest_Spesa agg'!AB:AB,\n'Z0.6.a ProgInvest_Spesa agg'!$K:$K,$C348,\n'Z0.6.a ProgInvest_Spesa agg'!$M:$M,$D$145,\n'Z0.6.a ProgInvest_Spesa agg'!$L:$L,\"in corso\",\n'Z0.6.a ProgInvest_Spesa agg'!$O:$O,\"vite utili 2\")","v":0},{"$f":"SUMIFS(\n'Z0.6.a ProgInvest_Spesa agg'!AC:AC,\n'Z0.6.a ProgInvest_Spesa agg'!$K:$K,$C348,\n'Z0.6.a ProgInvest_Spesa agg'!$M:$M,$D$145,\n'Z0.6.a ProgInvest_Spesa agg'!$L:$L,\"in corso\",\n'Z0.6.a ProgInvest_Spesa agg'!$O:$O,\"vite utili 2\")","v":0},{"$f":"SUMIFS(\n'Z0.6.a ProgInvest_Spesa agg'!AD:AD,\n'Z0.6.a ProgInvest_Spesa agg'!$K:$K,$C348,\n'Z0.6.a ProgInvest_Spesa agg'!$M:$M,$D$145,\n'Z0.6.a ProgInvest_Spesa agg'!$L:$L,\"in corso\",\n'Z0.6.a ProgInvest_Spesa agg'!$O:$O,\"vite utili 2\")","v":0},{"$f":"SUMIFS(\n'Z0.6.a ProgInvest_Spesa agg'!AE:AE,\n'Z0.6.a ProgInvest_Spesa agg'!$K:$K,$C348,\n'Z0.6.a ProgInvest_Spesa agg'!$M:$M,$D$145,\n'Z0.6.a ProgInvest_Spesa agg'!$L:$L,\"in corso\",\n'Z0.6.a ProgInvest_Spesa agg'!$O:$O,\"vite utili 2\")","v":100},{"$f":"SUMIFS(\n'Z0.6.a ProgInvest_Spesa agg'!AF:AF,\n'Z0.6.a ProgInvest_Spesa agg'!$K:$K,$C348,\n'Z0.6.a ProgInvest_Spesa agg'!$M:$M,$D$145,\n'Z0.6.a ProgInvest_Spesa agg'!$L:$L,\"in corso\",\n'Z0.6.a ProgInvest_Spesa agg'!$O:$O,\"vite utili 2\")","v":100},{"$f":"SUMIFS(\n'Z0.6.a ProgInvest_Spesa agg'!AG:AG,\n'Z0.6.a ProgInvest_Spesa agg'!$K:$K,$C348,\n'Z0.6.a ProgInvest_Spesa agg'!$M:$M,$D$145,\n'Z0.6.a ProgInvest_Spesa agg'!$L:$L,\"in corso\",\n'Z0.6.a ProgInvest_Spesa agg'!$O:$O,\"vite utili 2\")","v":0},{"$f":"SUMIFS(\n'Z0.6.a ProgInvest_Spesa agg'!AH:AH,\n'Z0.6.a ProgInvest_Spesa agg'!$K:$K,$C348,\n'Z0.6.a ProgInvest_Spesa agg'!$M:$M,$D$145,\n'Z0.6.a ProgInvest_Spesa agg'!$L:$L,\"in corso\",\n'Z0.6.a ProgInvest_Spesa agg'!$O:$O,\"vite utili 2\")","v":0},{"$f":"SUMIFS(\n'Z0.6.a ProgInvest_Spesa agg'!AI:AI,\n'Z0.6.a ProgInvest_Spesa agg'!$K:$K,$C348,\n'Z0.6.a ProgInvest_Spesa agg'!$M:$M,$D$145,\n'Z0.6.a ProgInvest_Spesa agg'!$L:$L,\"in corso\",\n'Z0.6.a ProgInvest_Spesa agg'!$O:$O,\"vite utili 2\")","v":0},{"$f":"SUMIFS(\n'Z0.6.a ProgInvest_Spesa agg'!AJ:AJ,\n'Z0.6.a ProgInvest_Spesa agg'!$K:$K,$C348,\n'Z0.6.a ProgInvest_Spesa agg'!$M:$M,$D$145,\n'Z0.6.a ProgInvest_Spesa agg'!$L:$L,\"in corso\",\n'Z0.6.a ProgInvest_Spesa agg'!$O:$O,\"vite utili 2\")","v":0},{"$f":"SUMIFS(\n'Z0.6.a ProgInvest_Spesa agg'!AK:AK,\n'Z0.6.a ProgInvest_Spesa agg'!$K:$K,$C348,\n'Z0.6.a ProgInvest_Spesa agg'!$M:$M,$D$145,\n'Z0.6.a ProgInvest_Spesa agg'!$L:$L,\"in corso\",\n'Z0.6.a ProgInvest_Spesa agg'!$O:$O,\"vite utili 2\")","v":0},{"$f":"SUMIFS(\n'Z0.6.a ProgInvest_Spesa agg'!AL:AL,\n'Z0.6.a ProgInvest_Spesa agg'!$K:$K,$C348,\n'Z0.6.a ProgInvest_Spesa agg'!$M:$M,$D$145,\n'Z0.6.a ProgInvest_Spesa agg'!$L:$L,\"in corso\",\n'Z0.6.a ProgInvest_Spesa agg'!$O:$O,\"vite utili 2\")","v":0}]
[null,null,"Investimenti in corso cessanti (entrata in esercizio)",null,null,null,{"$f":"-SUMIFS(\n'Z0.6.a ProgInvest_Spesa agg'!$S:$S,\n'Z0.6.a ProgInvest_Spesa agg'!$K:$K,$C348,\n'Z0.6.a ProgInvest_Spesa agg'!$M:$M,$D$145,\n'Z0.6.a ProgInvest_Spesa agg'!$L:$L,\"in corso\",\n'Z0.6.a ProgInvest_Spesa agg'!$O:$O,\"vite utili 2\",\n'Z0.6.a ProgInvest_Spesa agg'!$P:$P,G$4)","v":0},{"$f":"-SUMIFS(\n'Z0.6.a ProgInvest_Spesa agg'!$S:$S,\n'Z0.6.a ProgInvest_Spesa agg'!$K:$K,$C348,\n'Z0.6.a ProgInvest_Spesa agg'!$M:$M,$D$145,\n'Z0.6.a ProgInvest_Spesa agg'!$L:$L,\"in corso\",\n'Z0.6.a ProgInvest_Spesa agg'!$O:$O,\"vite utili 2\",\n'Z0.6.a ProgInvest_Spesa agg'!$P:$P,H$4)","v":0},{"$f":"-SUMIFS(\n'Z0.6.a ProgInvest_Spesa agg'!$S:$S,\n'Z0.6.a ProgInvest_Spesa agg'!$K:$K,$C348,\n'Z0.6.a ProgInvest_Spesa agg'!$M:$M,$D$145,\n'Z0.6.a ProgInvest_Spesa agg'!$L:$L,\"in corso\",\n'Z0.6.a ProgInvest_Spesa agg'!$O:$O,\"vite utili 2\",\n'Z0.6.a ProgInvest_Spesa agg'!$P:$P,I$4)","v":0},{"$f":"-SUMIFS(\n'Z0.6.a ProgInvest_Spesa agg'!$S:$S,\n'Z0.6.a ProgInvest_Spesa agg'!$K:$K,$C348,\n'Z0.6.a ProgInvest_Spesa agg'!$M:$M,$D$145,\n'Z0.6.a ProgInvest_Spesa agg'!$L:$L,\"in corso\",\n'Z0.6.a ProgInvest_Spesa agg'!$O:$O,\"vite utili 2\",\n'Z0.6.a ProgInvest_Spesa agg'!$P:$P,J$4)","v":0},{"$f":"-SUMIFS(\n'Z0.6.a ProgInvest_Spesa agg'!$S:$S,\n'Z0.6.a ProgInvest_Spesa agg'!$K:$K,$C348,\n'Z0.6.a ProgInvest_Spesa agg'!$M:$M,$D$145,\n'Z0.6.a ProgInvest_Spesa agg'!$L:$L,\"in corso\",\n'Z0.6.a ProgInvest_Spesa agg'!$O:$O,\"vite utili 2\",\n'Z0.6.a ProgInvest_Spesa agg'!$P:$P,K$4)","v":0},{"$f":"-SUMIFS(\n'Z0.6.a ProgInvest_Spesa agg'!$S:$S,\n'Z0.6.a ProgInvest_Spesa agg'!$K:$K,$C348,\n'Z0.6.a ProgInvest_Spesa agg'!$M:$M,$D$145,\n'Z0.6.a ProgInvest_Spesa agg'!$L:$L,\"in corso\",\n'Z0.6.a ProgInvest_Spesa agg'!$O:$O,\"vite utili 2\",\n'Z0.6.a ProgInvest_Spesa agg'!$P:$P,L$4)","v":0},{"$f":"-SUMIFS(\n'Z0.6.a ProgInvest_Spesa agg'!$S:$S,\n'Z0.6.a ProgInvest_Spesa agg'!$K:$K,$C348,\n'Z0.6.a ProgInvest_Spesa agg'!$M:$M,$D$145,\n'Z0.6.a ProgInvest_Spesa agg'!$L:$L,\"in corso\",\n'Z0.6.a ProgInvest_Spesa agg'!$O:$O,\"vite utili 2\",\n'Z0.6.a ProgInvest_Spesa agg'!$P:$P,M$4)","v":-200},{"$f":"-SUMIFS(\n'Z0.6.a ProgInvest_Spesa agg'!$S:$S,\n'Z0.6.a ProgInvest_Spesa agg'!$K:$K,$C348,\n'Z0.6.a ProgInvest_Spesa agg'!$M:$M,$D$145,\n'Z0.6.a ProgInvest_Spesa agg'!$L:$L,\"in corso\",\n'Z0.6.a ProgInvest_Spesa agg'!$O:$O,\"vite utili 2\",\n'Z0.6.a ProgInvest_Spesa agg'!$P:$P,N$4)","v":0},{"$f":"-SUMIFS(\n'Z0.6.a ProgInvest_Spesa agg'!$S:$S,\n'Z0.6.a ProgInvest_Spesa agg'!$K:$K,$C348,\n'Z0.6.a ProgInvest_Spesa agg'!$M:$M,$D$145,\n'Z0.6.a ProgInvest_Spesa agg'!$L:$L,\"in corso\",\n'Z0.6.a ProgInvest_Spesa agg'!$O:$O,\"vite utili 2\",\n'Z0.6.a ProgInvest_Spesa agg'!$P:$P,O$4)","v":0},{"$f":"-SUMIFS(\n'Z0.6.a ProgInvest_Spesa agg'!$S:$S,\n'Z0.6.a ProgInvest_Spesa agg'!$K:$K,$C348,\n'Z0.6.a ProgInvest_Spesa agg'!$M:$M,$D$145,\n'Z0.6.a ProgInvest_Spesa agg'!$L:$L,\"in corso\",\n'Z0.6.a ProgInvest_Spesa agg'!$O:$O,\"vite utili 2\",\n'Z0.6.a ProgInvest_Spesa agg'!$P:$P,P$4)","v":0},{"$f":"-SUMIFS(\n'Z0.6.a ProgInvest_Spesa agg'!$S:$S,\n'Z0.6.a ProgInvest_Spesa agg'!$K:$K,$C348,\n'Z0.6.a ProgInvest_Spesa agg'!$M:$M,$D$145,\n'Z0.6.a ProgInvest_Spesa agg'!$L:$L,\"in corso\",\n'Z0.6.a ProgInvest_Spesa agg'!$O:$O,\"vite utili 2\",\n'Z0.6.a ProgInvest_Spesa agg'!$P:$P,Q$4)","v":0},{"$f":"-SUMIFS(\n'Z0.6.a ProgInvest_Spesa agg'!$S:$S,\n'Z0.6.a ProgInvest_Spesa agg'!$K:$K,$C348,\n'Z0.6.a ProgInvest_Spesa agg'!$M:$M,$D$145,\n'Z0.6.a ProgInvest_Spesa agg'!$L:$L,\"in corso\",\n'Z0.6.a ProgInvest_Spesa agg'!$O:$O,\"vite utili 2\",\n'Z0.6.a ProgInvest_Spesa agg'!$P:$P,R$4)","v":0},{"$f":"-SUMIFS(\n'Z0.6.a ProgInvest_Spesa agg'!$S:$S,\n'Z0.6.a ProgInvest_Spesa agg'!$K:$K,$C348,\n'Z0.6.a ProgInvest_Spesa agg'!$M:$M,$D$145,\n'Z0.6.a ProgInvest_Spesa agg'!$L:$L,\"in corso\",\n'Z0.6.a ProgInvest_Spesa agg'!$O:$O,\"vite utili 2\",\n'Z0.6.a ProgInvest_Spesa agg'!$P:$P,S$4)","v":0}]
[null,null,"LIC livello 2 - eop",null,null,{"$f":"OFFSET(INDIRECT($F348 & \"inv\"),-4,2+AnnoPonte-UltimoAnnoRTP,1,1)","v":0},{"$f":"G357+G358+G359","v":0},0,0,0,0,100,0,0,0,0,0,0,0]
[null,null,"Valore di subentro LIC",null,null,null,{"$f":"IF(G$4=ScadenzaConcessione,G360,0)","v":0},0,0,0,0,0,0,0,0,0,0,0,0]
[null,null,"Remunerazione LIC",null,null,null,{"$f":"G357*G$20*G$10","v":0},0,0,0,0,0,4.3499999999999996,0,0,0,0,0,0]
[]
[null,null,"CIN investimenti (lordo contributi e subentro, netto dismissioni) bop (amm. a vite utili)",null,"precedenti",null,{"$f":"F368","v":0},{"$f":"G368","v":0},{"$f":"H368","v":0},{"$f":"I368","v":0},{"$f":"J368","v":0},{"$f":"K368","v":0},{"$f":"L368","v":0},{"$f":"M368","v":400},{"$f":"N368","v":380},{"$f":"O368","v":360},{"$f":"P368","v":340},{"$f":"Q368","v":320},{"$f":"R368","v":300}]
[null,null,"Investimenti entrati in esercizio (amm.a vite utili)",null,{"$f":"SUM(OFFSET(INDIRECT($F348 & \"inv\"),0,3,1,IF(EsistePrev,AnnoPonte-UltimoAnnoRTP,1)))","v":0},null,{"$f":"-G352-G359","v":0},{"$f":"-H352-H359","v":0},0,0,0,0,400,0,0,0,0,0,0]
[null,null,"Dismissioni",null,{"$f":"-SUM(OFFSET(INDIRECT($F348&\"dism\"),0,3,1,IF(EsistePrev,AnnoPonte-UltimoAnnoRTP,1)))","v":0},null,{"$f":"SUMIFS(\n'Z0.6.c ProgInvest_Dism agg'!Z:Z,\n'Z0.6.c ProgInvest_Dism agg'!$K:$K,$C348,\n'Z0.6.c ProgInvest_Dism agg'!$M:$M,$D$145,\n'Z0.6.c ProgInvest_Dism agg'!$L:$L,\"in corso\",\n'Z0.6.c ProgInvest_Dism agg'!$O:$O,\"vite utili 1\")\n+SUMIFS(\n'Z0.6.c ProgInvest_Dism agg'!Z:Z,\n'Z0.6.c ProgInvest_Dism agg'!$K:$K,$C348,\n'Z0.6.c ProgInvest_Dism agg'!$M:$M,$D$145,\n'Z0.6.c ProgInvest_Dism agg'!$L:$L,\"in corso\",\n'Z0.6.c ProgInvest_Dism agg'!$O:$O,\"vite utili 2\")","v":0},{"$f":"SUMIFS(\n'Z0.6.c ProgInvest_Dism agg'!AA:AA,\n'Z0.6.c ProgInvest_Dism agg'!$K:$K,$C348,\n'Z0.6.c ProgInvest_Dism agg'!$M:$M,$D$145,\n'Z0.6.c ProgInvest_Dism agg'!$L:$L,\"in corso\",\n'Z0.6.c ProgInvest_Dism agg'!$O:$O,\"vite utili 1\")\n+SUMIFS(\n'Z0.6.c ProgInvest_Dism agg'!AA:AA,\n'Z0.6.c ProgInvest_Dism agg'!$K:$K,$C348,\n'Z0.6.c ProgInvest_Dism agg'!$M:$M,$D$145,\n'Z0.6.c ProgInvest_Dism agg'!$L:$L,\"in corso\",\n'Z0.6.c ProgInvest_Dism agg'!$O:$O,\"vite utili 2\")","v":0},{"$f":"SUMIFS(\n'Z0.6.c ProgInvest_Dism agg'!AB:AB,\n'Z0.6.c ProgInvest_Dism agg'!$K:$K,$C348,\n'Z0.6.c ProgInvest_Dism agg'!$M:$M,$D$145,\n'Z0.6.c ProgInvest_Dism agg'!$L:$L,\"in corso\",\n'Z0.6.c ProgInvest_Dism agg'!$O:$O,\"vite utili 1\")\n+SUMIFS(\n'Z0.6.c ProgInvest_Dism agg'!AB:AB,\n'Z0.6.c ProgInvest_Dism agg'!$K:$K,$C348,\n'Z0.6.c ProgInvest_Dism agg'!$M:$M,$D$145,\n'Z0.6.c ProgInvest_Dism agg'!$L:$L,\"in corso\",\n'Z0.6.c ProgInvest_Dism agg'!$O:$O,\"vite utili 2\")","v":0},{"$f":"SUMIFS(\n'Z0.6.c ProgInvest_Dism agg'!AC:AC,\n'Z0.6.c ProgInvest_Dism agg'!$K:$K,$C348,\n'Z0.6.c ProgInvest_Dism agg'!$M:$M,$D$145,\n'Z0.6.c ProgInvest_Dism agg'!$L:$L,\"in corso\",\n'Z0.6.c ProgInvest_Dism agg'!$O:$O,\"vite utili 1\")\n+SUMIFS(\n'Z0.6.c ProgInvest_Dism agg'!AC:AC,\n'Z0.6.c ProgInvest_Dism agg'!$K:$K,$C348,\n'Z0.6.c ProgInvest_Dism agg'!$M:$M,$D$145,\n'Z0.6.c ProgInvest_Dism agg'!$L:$L,\"in corso\",\n'Z0.6.c ProgInvest_Dism agg'!$O:$O,\"vite utili 2\")","v":0},{"$f":"SUMIFS(\n'Z0.6.c ProgInvest_Dism agg'!AD:AD,\n'Z0.6.c ProgInvest_Dism agg'!$K:$K,$C348,\n'Z0.6.c ProgInvest_Dism agg'!$M:$M,$D$145,\n'Z0.6.c ProgInvest_Dism agg'!$L:$L,\"in corso\",\n'Z0.6.c ProgInvest_Dism agg'!$O:$O,\"vite utili 1\")\n+SUMIFS(\n'Z0.6.c ProgInvest_Dism agg'!AD:AD,\n'Z0.6.c ProgInvest_Dism agg'!$K:$K,$C348,\n'Z0.6.c ProgInvest_Dism agg'!$M:$M,$D$145,\n'Z0.6.c ProgInvest_Dism agg'!$L:$L,\"in corso\",\n'Z0.6.c ProgInvest_Dism agg'!$O:$O,\"vite utili 2\")","v":0},{"$f":"SUMIFS(\n'Z0.6.c ProgInvest_Dism agg'!AE:AE,\n'Z0.6.c ProgInvest_Dism agg'!$K:$K,$C348,\n'Z0.6.c ProgInvest_Dism agg'!$M:$M,$D$145,\n'Z0.6.c ProgInvest_Dism agg'!$L:$L,\"in corso\",\n'Z0.6.c ProgInvest_Dism agg'!$O:$O,\"vite utili 1\")\n+SUMIFS(\n'Z0.6.c ProgInvest_Dism agg'!AE:AE,\n'Z0.6.c ProgInvest_Dism agg'!$K:$K,$C348,\n'Z0.6.c ProgInvest_Dism agg'!$M:$M,$D$145,\n'Z0.6.c ProgInvest_Dism agg'!$L:$L,\"in corso\",\n'Z0.6.c ProgInvest_Dism agg'!$O:$O,\"vite utili 2\")","v":0},{"$f":"SUMIFS(\n'Z0.6.c ProgInvest_Dism agg'!AF:AF,\n'Z0.6.c ProgInvest_Dism agg'!$K:$K,$C348,\n'Z0.6.c ProgInvest_Dism agg'!$M:$M,$D$145,\n'Z0.6.c ProgInvest_Dism agg'!$L:$L,\"in corso\",\n'Z0.6.c ProgInvest_Dism agg'!$O:$O,\"vite utili 1\")\n+SUMIFS(\n'Z0.6.c ProgInvest_Dism agg'!AF:AF,\n'Z0.6.c ProgInvest_Dism agg'!$K:$K,$C348,\n'Z0.6.c ProgInvest_Dism agg'!$M:$M,$D$145,\n'Z0.6.c ProgInvest_Dism agg'!$L:$L,\"in corso\",\n'Z0.6.c ProgInvest_Dism agg'!$O:$O,\"vite utili 2\")","v":0},{"$f":"SUMIFS(\n'Z0.6.c ProgInvest_Dism agg'!AG:AG,\n'Z0.6.c ProgInvest_Dism agg'!$K:$K,$C348,\n'Z0.6.c ProgInvest_Dism agg'!$M:$M,$D$145,\n'Z0.6.c ProgInvest_Dism agg'!$L:$L,\"in corso\",\n'Z0.6.c ProgInvest_Dism agg'!$O:$O,\"vite utili 1\")\n+SUMIFS(\n'Z0.6.c ProgInvest_Dism agg'!AG:AG,\n'Z0.6.c ProgInvest_Dism agg'!$K:$K,$C348,\n'Z0.6.c ProgInvest_Dism agg'!$M:$M,$D$145,\n'Z0.6.c ProgInvest_Dism agg'!$L:$L,\"in corso\",\n'Z0.6.c ProgInvest_Dism agg'!$O:$O,\"vite utili 2\")","v":0},{"$f":"SUMIFS(\n'Z0.6.c ProgInvest_Dism agg'!AH:AH,\n'Z0.6.c ProgInvest_Dism agg'!$K:$K,$C348,\n'Z0.6.c ProgInvest_Dism agg'!$M:$M,$D$145,\n'Z0.6.c ProgInvest_Dism agg'!$L:$L,\"in corso\",\n'Z0.6.c ProgInvest_Dism agg'!$O:$O,\"vite utili 1\")\n+SUMIFS(\n'Z0.6.c ProgInvest_Dism agg'!AH:AH,\n'Z0.6.c ProgInvest_Dism agg'!$K:$K,$C348,\n'Z0.6.c ProgInvest_Dism agg'!$M:$M,$D$145,\n'Z0.6.c ProgInvest_Dism agg'!$L:$L,\"in corso\",\n'Z0.6.c ProgInvest_Dism agg'!$O:$O,\"vite utili 2\")","v":0},{"$f":"SUMIFS(\n'Z0.6.c ProgInvest_Dism agg'!AI:AI,\n'Z0.6.c ProgInvest_Dism agg'!$K:$K,$C348,\n'Z0.6.c ProgInvest_Dism agg'!$M:$M,$D$145,\n'Z0.6.c ProgInvest_Dism agg'!$L:$L,\"in corso\",\n'Z0.6.c ProgInvest_Dism agg'!$O:$O,\"vite utili 1\")\n+SUMIFS(\n'Z0.6.c ProgInvest_Dism agg'!AI:AI,\n'Z0.6.c ProgInvest_Dism agg'!$K:$K,$C348,\n'Z0.6.c ProgInvest_Dism agg'!$M:$M,$D$145,\n'Z0.6.c ProgInvest_Dism agg'!$L:$L,\"in corso\",\n'Z0.6.c ProgInvest_Dism agg'!$O:$O,\"vite utili 2\")","v":0},{"$f":"SUMIFS(\n'Z0.6.c ProgInvest_Dism agg'!AJ:AJ,\n'Z0.6.c ProgInvest_Dism agg'!$K:$K,$C348,\n'Z0.6.c ProgInvest_Dism agg'!$M:$M,$D$145,\n'Z0.6.c ProgInvest_Dism agg'!$L:$L,\"in corso\",\n'Z0.6.c ProgInvest_Dism agg'!$O:$O,\"vite utili 1\")\n+SUMIFS(\n'Z0.6.c ProgInvest_Dism agg'!AJ:AJ,\n'Z0.6.c ProgInvest_Dism agg'!$K:$K,$C348,\n'Z0.6.c ProgInvest_Dism agg'!$M:$M,$D$145,\n'Z0.6.c ProgInvest_Dism agg'!$L:$L,\"in corso\",\n'Z0.6.c ProgInvest_Dism agg'!$O:$O,\"vite utili 2\")","v":0},{"$f":"SUMIFS(\n'Z0.6.c ProgInvest_Dism agg'!AK:AK,\n'Z0.6.c ProgInvest_Dism agg'!$K:$K,$C348,\n'Z0.6.c ProgInvest_Dism agg'!$M:$M,$D$145,\n'Z0.6.c ProgInvest_Dism agg'!$L:$L,\"in corso\",\n'Z0.6.c ProgInvest_Dism agg'!$O:$O,\"vite utili 1\")\n+SUMIFS(\n'Z0.6.c ProgInvest_Dism agg'!AK:AK,\n'Z0.6.c ProgInvest_Dism agg'!$K:$K,$C348,\n'Z0.6.c ProgInvest_Dism agg'!$M:$M,$D$145,\n'Z0.6.c ProgInvest_Dism agg'!$L:$L,\"in corso\",\n'Z0.6.c ProgInvest_Dism agg'!$O:$O,\"vite utili 2\")","v":0},{"$f":"SUMIFS(\n'Z0.6.c ProgInvest_Dism agg'!AL:AL,\n'Z0.6.c ProgInvest_Dism agg'!$K:$K,$C348,\n'Z0.6.c ProgInvest_Dism agg'!$M:$M,$D$145,\n'Z0.6.c ProgInvest_Dism agg'!$L:$L,\"in corso\",\n'Z0.6.c ProgInvest_Dism agg'!$O:$O,\"vite utili 1\")\n+SUMIFS(\n'Z0.6.c ProgInvest_Dism agg'!AL:AL,\n'Z0.6.c ProgInvest_Dism agg'!$K:$K,$C348,\n'Z0.6.c ProgInvest_Dism agg'!$M:$M,$D$145,\n'Z0.6.c ProgInvest_Dism agg'!$L:$L,\"in corso\",\n'Z0.6.c ProgInvest_Dism agg'!$O:$O,\"vite utili 2\")","v":20}]
[null,null,"Ammortamento (a vite utili)",null,{"$f":"SUM(OFFSET(INDIRECT($F348 & \"inv\"),2,3,1,IF(EsistePrev,AnnoPonte-UltimoAnnoRTP,1)))","v":0},null,{"$f":"MIN(G364,IF(F$4-UltimoAnnoRTP<=$D348,\n(SUM($F365:F365)+SUM(OFFSET(INDIRECT($F348 & \"inv\"),0,3,1,IF(EsistePrev,AnnoPonte-UltimoAnnoRTP,1)))\n-SUM($F366:F366)-SUM(OFFSET(INDIRECT($F348 & \"dism\"),0,3,1,IF(EsistePrev,AnnoPonte-UltimoAnnoRTP,1))))/$D348,\n\nIF(AND(F$4-UltimoAnnoRTP>$D348,F$4-AnnoPonte<=$D348),\n(SUM($F365:F365)+SUM(IFERROR(OFFSET(INDIRECT($F348 & \"inv\"),0,3+(F$4-UltimoAnnoRTP-$D348),1,(IF(EsistePrev,AnnoPonte-UltimoAnnoRTP,1)-(F$4-UltimoAnnoRTP-$D348))),0))\n-SUM($F366:F366)-SUM(IFERROR(OFFSET(INDIRECT($F348 & \"dism\"),0,3+(F$4-UltimoAnnoRTP-$D348),1,(IF(EsistePrev,AnnoPonte-UltimoAnnoRTP,1)-(F$4-UltimoAnnoRTP-$D348))),0)))/$D348,\n\n(SUM(OFFSET(F365,0,-$D348+1,1,$D348))\n-SUM(OFFSET(F366,0,-$D348+1,1,$D348)))/$D348)))","v":0},{"$f":"MIN(H364,IF(G$4-UltimoAnnoRTP<=$D348,\n(SUM($F365:G365)+SUM(OFFSET(INDIRECT($F348 & \"inv\"),0,3,1,IF(EsistePrev,AnnoPonte-UltimoAnnoRTP,1)))\n-SUM($F366:G366)-SUM(OFFSET(INDIRECT($F348 & \"dism\"),0,3,1,IF(EsistePrev,AnnoPonte-UltimoAnnoRTP,1))))/$D348,\n\nIF(AND(G$4-UltimoAnnoRTP>$D348,G$4-AnnoPonte<=$D348),\n(SUM($F365:G365)+SUM(IFERROR(OFFSET(INDIRECT($F348 & \"inv\"),0,3+(G$4-UltimoAnnoRTP-$D348),1,(IF(EsistePrev,AnnoPonte-UltimoAnnoRTP,1)-(G$4-UltimoAnnoRTP-$D348))),0))\n-SUM($F366:G366)-SUM(IFERROR(OFFSET(INDIRECT($F348 & \"dism\"),0,3+(G$4-UltimoAnnoRTP-$D348),1,(IF(EsistePrev,AnnoPonte-UltimoAnnoRTP,1)-(G$4-UltimoAnnoRTP-$D348))),0)))/$D348,\n\n(SUM(OFFSET(G365,0,-$D348+1,1,$D348))\n-SUM(OFFSET(G366,0,-$D348+1,1,$D348)))/$D348)))","v":0},{"$f":"MIN(I364,IF(H$4-UltimoAnnoRTP<=$D348,\n(SUM($F365:H365)+SUM(OFFSET(INDIRECT($F348 & \"inv\"),0,3,1,IF(EsistePrev,AnnoPonte-UltimoAnnoRTP,1)))\n-SUM($F366:H366)-SUM(OFFSET(INDIRECT($F348 & \"dism\"),0,3,1,IF(EsistePrev,AnnoPonte-UltimoAnnoRTP,1))))/$D348,\n\nIF(AND(H$4-UltimoAnnoRTP>$D348,H$4-AnnoPonte<=$D348),\n(SUM($F365:H365)+SUM(IFERROR(OFFSET(INDIRECT($F348 & \"inv\"),0,3+(H$4-UltimoAnnoRTP-$D348),1,(IF(EsistePrev,AnnoPonte-UltimoAnnoRTP,1)-(H$4-UltimoAnnoRTP-$D348))),0))\n-SUM($F366:H366)-SUM(IFERROR(OFFSET(INDIRECT($F348 & \"dism\"),0,3+(H$4-UltimoAnnoRTP-$D348),1,(IF(EsistePrev,AnnoPonte-UltimoAnnoRTP,1)-(H$4-UltimoAnnoRTP-$D348))),0)))/$D348,\n\n(SUM(OFFSET(H365,0,-$D348+1,1,$D348))\n-SUM(OFFSET(H366,0,-$D348+1,1,$D348)))/$D348)))","v":0},{"$f":"MIN(J364,IF(I$4-UltimoAnnoRTP<=$D348,\n(SUM($F365:I365)+SUM(OFFSET(INDIRECT($F348 & \"inv\"),0,3,1,IF(EsistePrev,AnnoPonte-UltimoAnnoRTP,1)))\n-SUM($F366:I366)-SUM(OFFSET(INDIRECT($F348 & \"dism\"),0,3,1,IF(EsistePrev,AnnoPonte-UltimoAnnoRTP,1))))/$D348,\n\nIF(AND(I$4-UltimoAnnoRTP>$D348,I$4-AnnoPonte<=$D348),\n(SUM($F365:I365)+SUM(IFERROR(OFFSET(INDIRECT($F348 & \"inv\"),0,3+(I$4-UltimoAnnoRTP-$D348),1,(IF(EsistePrev,AnnoPonte-UltimoAnnoRTP,1)-(I$4-UltimoAnnoRTP-$D348))),0))\n-SUM($F366:I366)-SUM(IFERROR(OFFSET(INDIRECT($F348 & \"dism\"),0,3+(I$4-UltimoAnnoRTP-$D348),1,(IF(EsistePrev,AnnoPonte-UltimoAnnoRTP,1)-(I$4-UltimoAnnoRTP-$D348))),0)))/$D348,\n\n(SUM(OFFSET(I365,0,-$D348+1,1,$D348))\n-SUM(OFFSET(I366,0,-$D348+1,1,$D348)))/$D348)))","v":0},{"$f":"MIN(K364,IF(J$4-UltimoAnnoRTP<=$D348,\n(SUM($F365:J365)+SUM(OFFSET(INDIRECT($F348 & \"inv\"),0,3,1,IF(EsistePrev,AnnoPonte-UltimoAnnoRTP,1)))\n-SUM($F366:J366)-SUM(OFFSET(INDIRECT($F348 & \"dism\"),0,3,1,IF(EsistePrev,AnnoPonte-UltimoAnnoRTP,1))))/$D348,\n\nIF(AND(J$4-UltimoAnnoRTP>$D348,J$4-AnnoPonte<=$D348),\n(SUM($F365:J365)+SUM(IFERROR(OFFSET(INDIRECT($F348 & \"inv\"),0,3+(J$4-UltimoAnnoRTP-$D348),1,(IF(EsistePrev,AnnoPonte-UltimoAnnoRTP,1)-(J$4-UltimoAnnoRTP-$D348))),0))\n-SUM($F366:J366)-SUM(IFERROR(OFFSET(INDIRECT($F348 & \"dism\"),0,3+(J$4-UltimoAnnoRTP-$D348),1,(IF(EsistePrev,AnnoPonte-UltimoAnnoRTP,1)-(J$4-UltimoAnnoRTP-$D348))),0)))/$D348,\n\n(SUM(OFFSET(J365,0,-$D348+1,1,$D348))\n-SUM(OFFSET(J366,0,-$D348+1,1,$D348)))/$D348)))","v":0},{"$f":"MIN(L364,IF(K$4-UltimoAnnoRTP<=$D348,\n(SUM($F365:K365)+SUM(OFFSET(INDIRECT($F348 & \"inv\"),0,3,1,IF(EsistePrev,AnnoPonte-UltimoAnnoRTP,1)))\n-SUM($F366:K366)-SUM(OFFSET(INDIRECT($F348 & \"dism\"),0,3,1,IF(EsistePrev,AnnoPonte-UltimoAnnoRTP,1))))/$D348,\n\nIF(AND(K$4-UltimoAnnoRTP>$D348,K$4-AnnoPonte<=$D348),\n(SUM($F365:K365)+SUM(IFERROR(OFFSET(INDIRECT($F348 & \"inv\"),0,3+(K$4-UltimoAnnoRTP-$D348),1,(IF(EsistePrev,AnnoPonte-UltimoAnnoRTP,1)-(K$4-UltimoAnnoRTP-$D348))),0))\n-SUM($F366:K366)-SUM(IFERROR(OFFSET(INDIRECT($F348 & \"dism\"),0,3+(K$4-UltimoAnnoRTP-$D348),1,(IF(EsistePrev,AnnoPonte-UltimoAnnoRTP,1)-(K$4-UltimoAnnoRTP-$D348))),0)))/$D348,\n\n(SUM(OFFSET(K365,0,-$D348+1,1,$D348))\n-SUM(OFFSET(K366,0,-$D348+1,1,$D348)))/$D348)))","v":0},{"$f":"MIN(M364,IF(L$4-UltimoAnnoRTP<=$D348,\n(SUM($F365:L365)+SUM(OFFSET(INDIRECT($F348 & \"inv\"),0,3,1,IF(EsistePrev,AnnoPonte-UltimoAnnoRTP,1)))\n-SUM($F366:L366)-SUM(OFFSET(INDIRECT($F348 & \"dism\"),0,3,1,IF(EsistePrev,AnnoPonte-UltimoAnnoRTP,1))))/$D348,\n\nIF(AND(L$4-UltimoAnnoRTP>$D348,L$4-AnnoPonte<=$D348),\n(SUM($F365:L365)+SUM(IFERROR(OFFSET(INDIRECT($F348 & \"inv\"),0,3+(L$4-UltimoAnnoRTP-$D348),1,(IF(EsistePrev,AnnoPonte-UltimoAnnoRTP,1)-(L$4-UltimoAnnoRTP-$D348))),0))\n-SUM($F366:L366)-SUM(IFERROR(OFFSET(INDIRECT($F348 & \"dism\"),0,3+(L$4-UltimoAnnoRTP-$D348),1,(IF(EsistePrev,AnnoPonte-UltimoAnnoRTP,1)-(L$4-UltimoAnnoRTP-$D348))),0)))/$D348,\n\n(SUM(OFFSET(L365,0,-$D348+1,1,$D348))\n-SUM(OFFSET(L366,0,-$D348+1,1,$D348)))/$D348)))","v":0},{"$f":"MIN(N364,IF(M$4-UltimoAnnoRTP<=$D348,\n(SUM($F365:M365)+SUM(OFFSET(INDIRECT($F348 & \"inv\"),0,3,1,IF(EsistePrev,AnnoPonte-UltimoAnnoRTP,1)))\n-SUM($F366:M366)-SUM(OFFSET(INDIRECT($F348 & \"dism\"),0,3,1,IF(EsistePrev,AnnoPonte-UltimoAnnoRTP,1))))/$D348,\n\nIF(AND(M$4-UltimoAnnoRTP>$D348,M$4-AnnoPonte<=$D348),\n(SUM($F365:M365)+SUM(IFERROR(OFFSET(INDIRECT($F348 & \"inv\"),0,3+(M$4-UltimoAnnoRTP-$D348),1,(IF(EsistePrev,AnnoPonte-UltimoAnnoRTP,1)-(M$4-UltimoAnnoRTP-$D348))),0))\n-SUM($F366:M366)-SUM(IFERROR(OFFSET(INDIRECT($F348 & \"dism\"),0,3+(M$4-UltimoAnnoRTP-$D348),1,(IF(EsistePrev,AnnoPonte-UltimoAnnoRTP,1)-(M$4-UltimoAnnoRTP-$D348))),0)))/$D348,\n\n(SUM(OFFSET(M365,0,-$D348+1,1,$D348))\n-SUM(OFFSET(M366,0,-$D348+1,1,$D348)))/$D348)))","v":20},{"$f":"MIN(O364,IF(N$4-UltimoAnnoRTP<=$D348,\n(SUM($F365:N365)+SUM(OFFSET(INDIRECT($F348 & \"inv\"),0,3,1,IF(EsistePrev,AnnoPonte-UltimoAnnoRTP,1)))\n-SUM($F366:N366)-SUM(OFFSET(INDIRECT($F348 & \"dism\"),0,3,1,IF(EsistePrev,AnnoPonte-UltimoAnnoRTP,1))))/$D348,\n\nIF(AND(N$4-UltimoAnnoRTP>$D348,N$4-AnnoPonte<=$D348),\n(SUM($F365:N365)+SUM(IFERROR(OFFSET(INDIRECT($F348 & \"inv\"),0,3+(N$4-UltimoAnnoRTP-$D348),1,(IF(EsistePrev,AnnoPonte-UltimoAnnoRTP,1)-(N$4-UltimoAnnoRTP-$D348))),0))\n-SUM($F366:N366)-SUM(IFERROR(OFFSET(INDIRECT($F348 & \"dism\"),0,3+(N$4-UltimoAnnoRTP-$D348),1,(IF(EsistePrev,AnnoPonte-UltimoAnnoRTP,1)-(N$4-UltimoAnnoRTP-$D348))),0)))/$D348,\n\n(SUM(OFFSET(N365,0,-$D348+1,1,$D348))\n-SUM(OFFSET(N366,0,-$D348+1,1,$D348)))/$D348)))","v":20},{"$f":"MIN(P364,IF(O$4-UltimoAnnoRTP<=$D348,\n(SUM($F365:O365)+SUM(OFFSET(INDIRECT($F348 & \"inv\"),0,3,1,IF(EsistePrev,AnnoPonte-UltimoAnnoRTP,1)))\n-SUM($F366:O366)-SUM(OFFSET(INDIRECT($F348 & \"dism\"),0,3,1,IF(EsistePrev,AnnoPonte-UltimoAnnoRTP,1))))/$D348,\n\nIF(AND(O$4-UltimoAnnoRTP>$D348,O$4-AnnoPonte<=$D348),\n(SUM($F365:O365)+SUM(IFERROR(OFFSET(INDIRECT($F348 & \"inv\"),0,3+(O$4-UltimoAnnoRTP-$D348),1,(IF(EsistePrev,AnnoPonte-UltimoAnnoRTP,1)-(O$4-UltimoAnnoRTP-$D348))),0))\n-SUM($F366:O366)-SUM(IFERROR(OFFSET(INDIRECT($F348 & \"dism\"),0,3+(O$4-UltimoAnnoRTP-$D348),1,(IF(EsistePrev,AnnoPonte-UltimoAnnoRTP,1)-(O$4-UltimoAnnoRTP-$D348))),0)))/$D348,\n\n(SUM(OFFSET(O365,0,-$D348+1,1,$D348))\n-SUM(OFFSET(O366,0,-$D348+1,1,$D348)))/$D348)))","v":20},{"$f":"MIN(Q364,IF(P$4-UltimoAnnoRTP<=$D348,\n(SUM($F365:P365)+SUM(OFFSET(INDIRECT($F348 & \"inv\"),0,3,1,IF(EsistePrev,AnnoPonte-UltimoAnnoRTP,1)))\n-SUM($F366:P366)-SUM(OFFSET(INDIRECT($F348 & \"dism\"),0,3,1,IF(EsistePrev,AnnoPonte-UltimoAnnoRTP,1))))/$D348,\n\nIF(AND(P$4-UltimoAnnoRTP>$D348,P$4-AnnoPonte<=$D348),\n(SUM($F365:P365)+SUM(IFERROR(OFFSET(INDIRECT($F348 & \"inv\"),0,3+(P$4-UltimoAnnoRTP-$D348),1,(IF(EsistePrev,AnnoPonte-UltimoAnnoRTP,1)-(P$4-UltimoAnnoRTP-$D348))),0))\n-SUM($F366:P366)-SUM(IFERROR(OFFSET(INDIRECT($F348 & \"dism\"),0,3+(P$4-UltimoAnnoRTP-$D348),1,(IF(EsistePrev,AnnoPonte-UltimoAnnoRTP,1)-(P$4-UltimoAnnoRTP-$D348))),0)))/$D348,\n\n(SUM(OFFSET(P365,0,-$D348+1,1,$D348))\n-SUM(OFFSET(P366,0,-$D348+1,1,$D348)))/$D348)))","v":20},{"$f":"MIN(R364,IF(Q$4-UltimoAnnoRTP<=$D348,\n(SUM($F365:Q365)+SUM(OFFSET(INDIRECT($F348 & \"inv\"),0,3,1,IF(EsistePrev,AnnoPonte-UltimoAnnoRTP,1)))\n-SUM($F366:Q366)-SUM(OFFSET(INDIRECT($F348 & \"dism\"),0,3,1,IF(EsistePrev,AnnoPonte-UltimoAnnoRTP,1))))/$D348,\n\nIF(AND(Q$4-UltimoAnnoRTP>$D348,Q$4-AnnoPonte<=$D348),\n(SUM($F365:Q365)+SUM(IFERROR(OFFSET(INDIRECT($F348 & \"inv\"),0,3+(Q$4-UltimoAnnoRTP-$D348),1,(IF(EsistePrev,AnnoPonte-UltimoAnnoRTP,1)-(Q$4-UltimoAnnoRTP-$D348))),0))\n-SUM($F366:Q366)-SUM(IFERROR(OFFSET(INDIRECT($F348 & \"dism\"),0,3+(Q$4-UltimoAnnoRTP-$D348),1,(IF(EsistePrev,AnnoPonte-UltimoAnnoRTP,1)-(Q$4-UltimoAnnoRTP-$D348))),0)))/$D348,\n\n(SUM(OFFSET(Q365,0,-$D348+1,1,$D348))\n-SUM(OFFSET(Q366,0,-$D348+1,1,$D348)))/$D348)))","v":20},{"$f":"MIN(S364,IF(R$4-UltimoAnnoRTP<=$D348,\n(SUM($F365:R365)+SUM(OFFSET(INDIRECT($F348 & \"inv\"),0,3,1,IF(EsistePrev,AnnoPonte-UltimoAnnoRTP,1)))\n-SUM($F366:R366)-SUM(OFFSET(INDIRECT($F348 & \"dism\"),0,3,1,IF(EsistePrev,AnnoPonte-UltimoAnnoRTP,1))))/$D348,\n\nIF(AND(R$4-UltimoAnnoRTP>$D348,R$4-AnnoPonte<=$D348),\n(SUM($F365:R365)+SUM(IFERROR(OFFSET(INDIRECT($F348 & \"inv\"),0,3+(R$4-UltimoAnnoRTP-$D348),1,(IF(EsistePrev,AnnoPonte-UltimoAnnoRTP,1)-(R$4-UltimoAnnoRTP-$D348))),0))\n-SUM($F366:R366)-SUM(IFERROR(OFFSET(INDIRECT($F348 & \"dism\"),0,3+(R$4-UltimoAnnoRTP-$D348),1,(IF(EsistePrev,AnnoPonte-UltimoAnnoRTP,1)-(R$4-UltimoAnnoRTP-$D348))),0)))/$D348,\n\n(SUM(OFFSET(R365,0,-$D348+1,1,$D348))\n-SUM(OFFSET(R366,0,-$D348+1,1,$D348)))/$D348)))","v":20}]
[null,null,"CIN investimenti (lordo contributi, netto dismissioni) eop (amm. a vite utili)",null,null,{"$f":"OFFSET(INDIRECT($F348 & \"inv\"),3,2+AnnoPonte-UltimoAnnoRTP,1,1)","v":0},{"$f":"G364+G365-G366-G367","v":0},0,0,0,0,0,400,380,360,340,320,300,260]
[null,null,"Remunerazione CIN investimenti",null,null,null,{"$f":"(G364-F370)*G$17*G$10","v":0},{"$f":"(H364-G370)*H$17*H$10","v":0},{"$f":"(I364-H370)*I$17*I$10","v":0},{"$f":"(J364-I370)*J$17*J$10","v":0},{"$f":"(K364-J370)*K$17*K$10","v":0},{"$f":"(L364-K370)*L$17*L$10","v":0},{"$f":"(M364-L370)*M$17*M$10","v":0},{"$f":"(N364-M370)*N$17*N$10","v":9.0120000000000005},{"$f":"(O364-N370)*O$17*O$10","v":7.51},{"$f":"(P364-O370)*P$17*P$10","v":6.008},{"$f":"(Q364-P370)*Q$17*Q$10","v":4.5060000000000002},{"$f":"(R364-Q370)*R$17*R$10","v":3.004},{"$f":"(S364-R370)*S$17*S$10","v":1.502}]
[null,null,"Valore di subentro investimenti (lordo contributi) - cumulato",null,null,{"$f":"OFFSET(INDIRECT($F348 & \"inv\"),5,2+AnnoPonte-UltimoAnnoRTP,1,1)","v":0},{"$f":"IF(MAX(-SUM(OFFSET($G366,0,0,1,ScadenzaConcessione-AnnoPonte)),F370+(G365-G366)/$D348*($D348-(ScadenzaConcessione-G$4)))<0,0,MAX(-SUM(OFFSET($G366,0,0,1,ScadenzaConcessione-AnnoPonte)),F370+(G365-G366)/$D348*($D348-(ScadenzaConcessione-G$4))))","v":0},{"$f":"IF(MAX(-SUM(OFFSET($G366,0,0,1,ScadenzaConcessione-AnnoPonte)),G370+(H365-H366)/$D348*($D348-(ScadenzaConcessione-H$4)))<0,0,MAX(-SUM(OFFSET($G366,0,0,1,ScadenzaConcessione-AnnoPonte)),G370+(H365-H366)/$D348*($D348-(ScadenzaConcessione-H$4))))","v":0},{"$f":"IF(MAX(-SUM(OFFSET($G366,0,0,1,ScadenzaConcessione-AnnoPonte)),H370+(I365-I366)/$D348*($D348-(ScadenzaConcessione-I$4)))<0,0,MAX(-SUM(OFFSET($G366,0,0,1,ScadenzaConcessione-AnnoPonte)),H370+(I365-I366)/$D348*($D348-(ScadenzaConcessione-I$4))))","v":0},{"$f":"IF(MAX(-SUM(OFFSET($G366,0,0,1,ScadenzaConcessione-AnnoPonte)),I370+(J365-J366)/$D348*($D348-(ScadenzaConcessione-J$4)))<0,0,MAX(-SUM(OFFSET($G366,0,0,1,ScadenzaConcessione-AnnoPonte)),I370+(J365-J366)/$D348*($D348-(ScadenzaConcessione-J$4))))","v":0},{"$f":"IF(MAX(-SUM(OFFSET($G366,0,0,1,ScadenzaConcessione-AnnoPonte)),J370+(K365-K366)/$D348*($D348-(ScadenzaConcessione-K$4)))<0,0,MAX(-SUM(OFFSET($G366,0,0,1,ScadenzaConcessione-AnnoPonte)),J370+(K365-K366)/$D348*($D348-(ScadenzaConcessione-K$4))))","v":0},{"$f":"IF(MAX(-SUM(OFFSET($G366,0,0,1,ScadenzaConcessione-AnnoPonte)),K370+(L365-L366)/$D348*($D348-(ScadenzaConcessione-L$4)))<0,0,MAX(-SUM(OFFSET($G366,0,0,1,ScadenzaConcessione-AnnoPonte)),K370+(L365-L366)/$D348*($D348-(ScadenzaConcessione-L$4))))","v":0},{"$f":"IF(MAX(-SUM(OFFSET($G366,0,0,1,ScadenzaConcessione-AnnoPonte)),L370+(M365-M366)/$D348*($D348-(ScadenzaConcessione-M$4)))<0,0,MAX(-SUM(OFFSET($G366,0,0,1,ScadenzaConcessione-AnnoPonte)),L370+(M365-M366)/$D348*($D348-(ScadenzaConcessione-M$4))))","v":280},{"$f":"IF(MAX(-SUM(OFFSET($G366,0,0,1,ScadenzaConcessione-AnnoPonte)),M370+(N365-N366)/$D348*($D348-(ScadenzaConcessione-N$4)))<0,0,MAX(-SUM(OFFSET($G366,0,0,1,ScadenzaConcessione-AnnoPonte)),M370+(N365-N366)/$D348*($D348-(ScadenzaConcessione-N$4))))","v":280},{"$f":"IF(MAX(-SUM(OFFSET($G366,0,0,1,ScadenzaConcessione-AnnoPonte)),N370+(O365-O366)/$D348*($D348-(ScadenzaConcessione-O$4)))<0,0,MAX(-SUM(OFFSET($G366,0,0,1,ScadenzaConcessione-AnnoPonte)),N370+(O365-O366)/$D348*($D348-(ScadenzaConcessione-O$4))))","v":280},{"$f":"IF(MAX(-SUM(OFFSET($G366,0,0,1,ScadenzaConcessione-AnnoPonte)),O370+(P365-P366)/$D348*($D348-(ScadenzaConcessione-P$4)))<0,0,MAX(-SUM(OFFSET($G366,0,0,1,ScadenzaConcessione-AnnoPonte)),O370+(P365-P366)/$D348*($D348-(ScadenzaConcessione-P$4))))","v":280},{"$f":"IF(MAX(-SUM(OFFSET($G366,0,0,1,ScadenzaConcessione-AnnoPonte)),P370+(Q365-Q366)/$D348*($D348-(ScadenzaConcessione-Q$4)))<0,0,MAX(-SUM(OFFSET($G366,0,0,1,ScadenzaConcessione-AnnoPonte)),P370+(Q365-Q366)/$D348*($D348-(ScadenzaConcessione-Q$4))))","v":280},{"$f":"IF(MAX(-SUM(OFFSET($G366,0,0,1,ScadenzaConcessione-AnnoPonte)),Q370+(R365-R366)/$D348*($D348-(ScadenzaConcessione-R$4)))<0,0,MAX(-SUM(OFFSET($G366,0,0,1,ScadenzaConcessione-AnnoPonte)),Q370+(R365-R366)/$D348*($D348-(ScadenzaConcessione-R$4))))","v":280},{"$f":"IF(MAX(-SUM(OFFSET($G366,0,0,1,ScadenzaConcessione-AnnoPonte)),R370+(S365-S366)/$D348*($D348-(ScadenzaConcessione-S$4)))<0,0,MAX(-SUM(OFFSET($G366,0,0,1,ScadenzaConcessione-AnnoPonte)),R370+(S365-S366)/$D348*($D348-(ScadenzaConcessione-S$4))))","v":260}]
[null,null,"Remunerazione valore di subentro CIN investimenti",null,null,null,{"$f":"F370*G$19*G$10","v":0},{"$f":"G370*H$19*H$10","v":0},0,0,0,0,0,21.027999999999999,21.027999999999999,21.027999999999999,21.027999999999999,21.027999999999999,21.027999999999999]
[]
[null,null,"CIN contributi bop (amm. a vite utili)",null,"precedenti",null,{"$f":"F376","v":0},{"$f":"G376","v":0},{"$f":"H376","v":0},{"$f":"I376","v":0},{"$f":"J376","v":0},{"$f":"K376","v":0},{"$f":"L376","v":-40},{"$f":"M376","v":-38},{"$f":"N376","v":-36},{"$f":"O376","v":-34},{"$f":"P376","v":-32},{"$f":"Q376","v":-30},{"$f":"R376","v":-28}]
[null,null,"contributi annui (amm. a vite utili)",null,{"$f":"-SUM(OFFSET(INDIRECT($F348 & \"contr\"),0,3,1,IF(EsistePrev,AnnoPonte-UltimoAnnoRTP,1)))","v":0},null,{"$f":"-SUMIFS(\n'Z0.6.b ProgInvest_Contr agg'!Z:Z,\n'Z0.6.b ProgInvest_Contr agg'!$K:$K,$C348,\n'Z0.6.b ProgInvest_Contr agg'!$M:$M,$D$145,\n'Z0.6.b ProgInvest_Contr agg'!$L:$L,\"in corso\",\n'Z0.6.b ProgInvest_Contr agg'!$O:$O,\"vite utili 1\")\n-SUMIFS(\n'Z0.6.b ProgInvest_Contr agg'!Z:Z,\n'Z0.6.b ProgInvest_Contr agg'!$K:$K,$C348,\n'Z0.6.b ProgInvest_Contr agg'!$M:$M,$D$145,\n'Z0.6.b ProgInvest_Contr agg'!$L:$L,\"in corso\",\n'Z0.6.b ProgInvest_Contr agg'!$O:$O,\"vite utili 2\")","v":0},{"$f":"-SUMIFS(\n'Z0.6.b ProgInvest_Contr agg'!AA:AA,\n'Z0.6.b ProgInvest_Contr agg'!$K:$K,$C348,\n'Z0.6.b ProgInvest_Contr agg'!$M:$M,$D$145,\n'Z0.6.b ProgInvest_Contr agg'!$L:$L,\"in corso\",\n'Z0.6.b ProgInvest_Contr agg'!$O:$O,\"vite utili 1\")\n-SUMIFS(\n'Z0.6.b ProgInvest_Contr agg'!AA:AA,\n'Z0.6.b ProgInvest_Contr agg'!$K:$K,$C348,\n'Z0.6.b ProgInvest_Contr agg'!$M:$M,$D$145,\n'Z0.6.b ProgInvest_Contr agg'!$L:$L,\"in corso\",\n'Z0.6.b ProgInvest_Contr agg'!$O:$O,\"vite utili 2\")","v":0},{"$f":"-SUMIFS(\n'Z0.6.b ProgInvest_Contr agg'!AB:AB,\n'Z0.6.b ProgInvest_Contr agg'!$K:$K,$C348,\n'Z0.6.b ProgInvest_Contr agg'!$M:$M,$D$145,\n'Z0.6.b ProgInvest_Contr agg'!$L:$L,\"in corso\",\n'Z0.6.b ProgInvest_Contr agg'!$O:$O,\"vite utili 1\")\n-SUMIFS(\n'Z0.6.b ProgInvest_Contr agg'!AB:AB,\n'Z0.6.b ProgInvest_Contr agg'!$K:$K,$C348,\n'Z0.6.b ProgInvest_Contr agg'!$M:$M,$D$145,\n'Z0.6.b ProgInvest_Contr agg'!$L:$L,\"in corso\",\n'Z0.6.b ProgInvest_Contr agg'!$O:$O,\"vite utili 2\")","v":0},{"$f":"-SUMIFS(\n'Z0.6.b ProgInvest_Contr agg'!AC:AC,\n'Z0.6.b ProgInvest_Contr agg'!$K:$K,$C348,\n'Z0.6.b ProgInvest_Contr agg'!$M:$M,$D$145,\n'Z0.6.b ProgInvest_Contr agg'!$L:$L,\"in corso\",\n'Z0.6.b ProgInvest_Contr agg'!$O:$O,\"vite utili 1\")\n-SUMIFS(\n'Z0.6.b ProgInvest_Contr agg'!AC:AC,\n'Z0.6.b ProgInvest_Contr agg'!$K:$K,$C348,\n'Z0.6.b ProgInvest_Contr agg'!$M:$M,$D$145,\n'Z0.6.b ProgInvest_Contr agg'!$L:$L,\"in corso\",\n'Z0.6.b ProgInvest_Contr agg'!$O:$O,\"vite utili 2\")","v":0},{"$f":"-SUMIFS(\n'Z0.6.b ProgInvest_Contr agg'!AD:AD,\n'Z0.6.b ProgInvest_Contr agg'!$K:$K,$C348,\n'Z0.6.b ProgInvest_Contr agg'!$M:$M,$D$145,\n'Z0.6.b ProgInvest_Contr agg'!$L:$L,\"in corso\",\n'Z0.6.b ProgInvest_Contr agg'!$O:$O,\"vite utili 1\")\n-SUMIFS(\n'Z0.6.b ProgInvest_Contr agg'!AD:AD,\n'Z0.6.b ProgInvest_Contr agg'!$K:$K,$C348,\n'Z0.6.b ProgInvest_Contr agg'!$M:$M,$D$145,\n'Z0.6.b ProgInvest_Contr agg'!$L:$L,\"in corso\",\n'Z0.6.b ProgInvest_Contr agg'!$O:$O,\"vite utili 2\")","v":0},{"$f":"-SUMIFS(\n'Z0.6.b ProgInvest_Contr agg'!AE:AE,\n'Z0.6.b ProgInvest_Contr agg'!$K:$K,$C348,\n'Z0.6.b ProgInvest_Contr agg'!$M:$M,$D$145,\n'Z0.6.b ProgInvest_Contr agg'!$L:$L,\"in corso\",\n'Z0.6.b ProgInvest_Contr agg'!$O:$O,\"vite utili 1\")\n-SUMIFS(\n'Z0.6.b ProgInvest_Contr agg'!AE:AE,\n'Z0.6.b ProgInvest_Contr agg'!$K:$K,$C348,\n'Z0.6.b ProgInvest_Contr agg'!$M:$M,$D$145,\n'Z0.6.b ProgInvest_Contr agg'!$L:$L,\"in corso\",\n'Z0.6.b ProgInvest_Contr agg'!$O:$O,\"vite utili 2\")","v":-40},{"$f":"-SUMIFS(\n'Z0.6.b ProgInvest_Contr agg'!AF:AF,\n'Z0.6.b ProgInvest_Contr agg'!$K:$K,$C348,\n'Z0.6.b ProgInvest_Contr agg'!$M:$M,$D$145,\n'Z0.6.b ProgInvest_Contr agg'!$L:$L,\"in corso\",\n'Z0.6.b ProgInvest_Contr agg'!$O:$O,\"vite utili 1\")\n-SUMIFS(\n'Z0.6.b ProgInvest_Contr agg'!AF:AF,\n'Z0.6.b ProgInvest_Contr agg'!$K:$K,$C348,\n'Z0.6.b ProgInvest_Contr agg'!$M:$M,$D$145,\n'Z0.6.b ProgInvest_Contr agg'!$L:$L,\"in corso\",\n'Z0.6.b ProgInvest_Contr agg'!$O:$O,\"vite utili 2\")","v":0},{"$f":"-SUMIFS(\n'Z0.6.b ProgInvest_Contr agg'!AG:AG,\n'Z0.6.b ProgInvest_Contr agg'!$K:$K,$C348,\n'Z0.6.b ProgInvest_Contr agg'!$M:$M,$D$145,\n'Z0.6.b ProgInvest_Contr agg'!$L:$L,\"in corso\",\n'Z0.6.b ProgInvest_Contr agg'!$O:$O,\"vite utili 1\")\n-SUMIFS(\n'Z0.6.b ProgInvest_Contr agg'!AG:AG,\n'Z0.6.b ProgInvest_Contr agg'!$K:$K,$C348,\n'Z0.6.b ProgInvest_Contr agg'!$M:$M,$D$145,\n'Z0.6.b ProgInvest_Contr agg'!$L:$L,\"in corso\",\n'Z0.6.b ProgInvest_Contr agg'!$O:$O,\"vite utili 2\")","v":0},{"$f":"-SUMIFS(\n'Z0.6.b ProgInvest_Contr agg'!AH:AH,\n'Z0.6.b ProgInvest_Contr agg'!$K:$K,$C348,\n'Z0.6.b ProgInvest_Contr agg'!$M:$M,$D$145,\n'Z0.6.b ProgInvest_Contr agg'!$L:$L,\"in corso\",\n'Z0.6.b ProgInvest_Contr agg'!$O:$O,\"vite utili 1\")\n-SUMIFS(\n'Z0.6.b ProgInvest_Contr agg'!AH:AH,\n'Z0.6.b ProgInvest_Contr agg'!$K:$K,$C348,\n'Z0.6.b ProgInvest_Contr agg'!$M:$M,$D$145,\n'Z0.6.b ProgInvest_Contr agg'!$L:$L,\"in corso\",\n'Z0.6.b ProgInvest_Contr agg'!$O:$O,\"vite utili 2\")","v":0},{"$f":"-SUMIFS(\n'Z0.6.b ProgInvest_Contr agg'!AI:AI,\n'Z0.6.b ProgInvest_Contr agg'!$K:$K,$C348,\n'Z0.6.b ProgInvest_Contr agg'!$M:$M,$D$145,\n'Z0.6.b ProgInvest_Contr agg'!$L:$L,\"in corso\",\n'Z0.6.b ProgInvest_Contr agg'!$O:$O,\"vite utili 1\")\n-SUMIFS(\n'Z0.6.b ProgInvest_Contr agg'!AI:AI,\n'Z0.6.b ProgInvest_Contr agg'!$K:$K,$C348,\n'Z0.6.b ProgInvest_Contr agg'!$M:$M,$D$145,\n'Z0.6.b ProgInvest_Contr agg'!$L:$L,\"in corso\",\n'Z0.6.b ProgInvest_Contr agg'!$O:$O,\"vite utili 2\")","v":0},{"$f":"-SUMIFS(\n'Z0.6.b ProgInvest_Contr agg'!AJ:AJ,\n'Z0.6.b ProgInvest_Contr agg'!$K:$K,$C348,\n'Z0.6.b ProgInvest_Contr agg'!$M:$M,$D$145,\n'Z0.6.b ProgInvest_Contr agg'!$L:$L,\"in corso\",\n'Z0.6.b ProgInvest_Contr agg'!$O:$O,\"vite utili 1\")\n-SUMIFS(\n'Z0.6.b ProgInvest_Contr agg'!AJ:AJ,\n'Z0.6.b ProgInvest_Contr agg'!$K:$K,$C348,\n'Z0.6.b ProgInvest_Contr agg'!$M:$M,$D$145,\n'Z0.6.b ProgInvest_Contr agg'!$L:$L,\"in corso\",\n'Z0.6.b ProgInvest_Contr agg'!$O:$O,\"vite utili 2\")","v":0},{"$f":"-SUMIFS(\n'Z0.6.b ProgInvest_Contr agg'!AK:AK,\n'Z0.6.b ProgInvest_Contr agg'!$K:$K,$C348,\n'Z0.6.b ProgInvest_Contr agg'!$M:$M,$D$145,\n'Z0.6.b ProgInvest_Contr agg'!$L:$L,\"in corso\",\n'Z0.6.b ProgInvest_Contr agg'!$O:$O,\"vite utili 1\")\n-SUMIFS(\n'Z0.6.b ProgInvest_Contr agg'!AK:AK,\n'Z0.6.b ProgInvest_Contr agg'!$K:$K,$C348,\n'Z0.6.b ProgInvest_Contr agg'!$M:$M,$D$145,\n'Z0.6.b ProgInvest_Contr agg'!$L:$L,\"in corso\",\n'Z0.6.b ProgInvest_Contr agg'!$O:$O,\"vite utili 2\")","v":0},{"$f":"-SUMIFS(\n'Z0.6.b ProgInvest_Contr agg'!AL:AL,\n'Z0.6.b ProgInvest_Contr agg'!$K:$K,$C348,\n'Z0.6.b ProgInvest_Contr agg'!$M:$M,$D$145,\n'Z0.6.b ProgInvest_Contr agg'!$L:$L,\"in corso\",\n'Z0.6.b ProgInvest_Contr agg'!$O:$O,\"vite utili 1\")\n-SUMIFS(\n'Z0.6.b ProgInvest_Contr agg'!AL:AL,\n'Z0.6.b ProgInvest_Contr agg'!$K:$K,$C348,\n'Z0.6.b ProgInvest_Contr agg'!$M:$M,$D$145,\n'Z0.6.b ProgInvest_Contr agg'!$L:$L,\"in corso\",\n'Z0.6.b ProgInvest_Contr agg'!$O:$O,\"vite utili 2\")","v":0}]
[null,null,"Ammortamento contributi (amm. a vite utili)",null,{"$f":"-SUM(OFFSET(INDIRECT($F348 & \"contr\"),1,3,1,IF(EsistePrev,AnnoPonte-UltimoAnnoRTP,1)))","v":0},null,{"$f":"IF(F$4-UltimoAnnoRTP<=$D348,\n(SUM($F374:F374)-SUM(OFFSET(INDIRECT($F348 & \"contr\"),0,3,1,IF(EsistePrev,AnnoPonte-UltimoAnnoRTP,1)))\n)/$D348,\n\nIF(AND(F$4-UltimoAnnoRTP>$D348,F$4-AnnoPonte<=$D348),\n(SUM($F374:F374)-SUM(IFERROR(OFFSET(INDIRECT($F348 & \"contr\"),0,3+(F$4-UltimoAnnoRTP-$D348),1,(IF(EsistePrev,AnnoPonte-UltimoAnnoRTP,1)-(F$4-UltimoAnnoRTP-$D348))),0))\n)/$D348,\n\n(SUM(OFFSET(F374,0,-$D348+1,1,$D348))\n)/$D348))","v":0},{"$f":"IF(G$4-UltimoAnnoRTP<=$D348,\n(SUM($F374:G374)-SUM(OFFSET(INDIRECT($F348 & \"contr\"),0,3,1,IF(EsistePrev,AnnoPonte-UltimoAnnoRTP,1)))\n)/$D348,\n\nIF(AND(G$4-UltimoAnnoRTP>$D348,G$4-AnnoPonte<=$D348),\n(SUM($F374:G374)-SUM(IFERROR(OFFSET(INDIRECT($F348 & \"contr\"),0,3+(G$4-UltimoAnnoRTP-$D348),1,(IF(EsistePrev,AnnoPonte-UltimoAnnoRTP,1)-(G$4-UltimoAnnoRTP-$D348))),0))\n)/$D348,\n\n(SUM(OFFSET(G374,0,-$D348+1,1,$D348))\n)/$D348))","v":0},{"$f":"IF(H$4-UltimoAnnoRTP<=$D348,\n(SUM($F374:H374)-SUM(OFFSET(INDIRECT($F348 & \"contr\"),0,3,1,IF(EsistePrev,AnnoPonte-UltimoAnnoRTP,1)))\n)/$D348,\n\nIF(AND(H$4-UltimoAnnoRTP>$D348,H$4-AnnoPonte<=$D348),\n(SUM($F374:H374)-SUM(IFERROR(OFFSET(INDIRECT($F348 & \"contr\"),0,3+(H$4-UltimoAnnoRTP-$D348),1,(IF(EsistePrev,AnnoPonte-UltimoAnnoRTP,1)-(H$4-UltimoAnnoRTP-$D348))),0))\n)/$D348,\n\n(SUM(OFFSET(H374,0,-$D348+1,1,$D348))\n)/$D348))","v":0},{"$f":"IF(I$4-UltimoAnnoRTP<=$D348,\n(SUM($F374:I374)-SUM(OFFSET(INDIRECT($F348 & \"contr\"),0,3,1,IF(EsistePrev,AnnoPonte-UltimoAnnoRTP,1)))\n)/$D348,\n\nIF(AND(I$4-UltimoAnnoRTP>$D348,I$4-AnnoPonte<=$D348),\n(SUM($F374:I374)-SUM(IFERROR(OFFSET(INDIRECT($F348 & \"contr\"),0,3+(I$4-UltimoAnnoRTP-$D348),1,(IF(EsistePrev,AnnoPonte-UltimoAnnoRTP,1)-(I$4-UltimoAnnoRTP-$D348))),0))\n)/$D348,\n\n(SUM(OFFSET(I374,0,-$D348+1,1,$D348))\n)/$D348))","v":0},{"$f":"IF(J$4-UltimoAnnoRTP<=$D348,\n(SUM($F374:J374)-SUM(OFFSET(INDIRECT($F348 & \"contr\"),0,3,1,IF(EsistePrev,AnnoPonte-UltimoAnnoRTP,1)))\n)/$D348,\n\nIF(AND(J$4-UltimoAnnoRTP>$D348,J$4-AnnoPonte<=$D348),\n(SUM($F374:J374)-SUM(IFERROR(OFFSET(INDIRECT($F348 & \"contr\"),0,3+(J$4-UltimoAnnoRTP-$D348),1,(IF(EsistePrev,AnnoPonte-UltimoAnnoRTP,1)-(J$4-UltimoAnnoRTP-$D348))),0))\n)/$D348,\n\n(SUM(OFFSET(J374,0,-$D348+1,1,$D348))\n)/$D348))","v":0},{"$f":"IF(K$4-UltimoAnnoRTP<=$D348,\n(SUM($F374:K374)-SUM(OFFSET(INDIRECT($F348 & \"contr\"),0,3,1,IF(EsistePrev,AnnoPonte-UltimoAnnoRTP,1)))\n)/$D348,\n\nIF(AND(K$4-UltimoAnnoRTP>$D348,K$4-AnnoPonte<=$D348),\n(SUM($F374:K374)-SUM(IFERROR(OFFSET(INDIRECT($F348 & \"contr\"),0,3+(K$4-UltimoAnnoRTP-$D348),1,(IF(EsistePrev,AnnoPonte-UltimoAnnoRTP,1)-(K$4-UltimoAnnoRTP-$D348))),0))\n)/$D348,\n\n(SUM(OFFSET(K374,0,-$D348+1,1,$D348))\n)/$D348))","v":0},{"$f":"IF(L$4-UltimoAnnoRTP<=$D348,\n(SUM($F374:L374)-SUM(OFFSET(INDIRECT($F348 & \"contr\"),0,3,1,IF(EsistePrev,AnnoPonte-UltimoAnnoRTP,1)))\n)/$D348,\n\nIF(AND(L$4-UltimoAnnoRTP>$D348,L$4-AnnoPonte<=$D348),\n(SUM($F374:L374)-SUM(IFERROR(OFFSET(INDIRECT($F348 & \"contr\"),0,3+(L$4-UltimoAnnoRTP-$D348),1,(IF(EsistePrev,AnnoPonte-UltimoAnnoRTP,1)-(L$4-UltimoAnnoRTP-$D348))),0))\n)/$D348,\n\n(SUM(OFFSET(L374,0,-$D348+1,1,$D348))\n)/$D348))","v":-2},{"$f":"IF(M$4-UltimoAnnoRTP<=$D348,\n(SUM($F374:M374)-SUM(OFFSET(INDIRECT($F348 & \"contr\"),0,3,1,IF(EsistePrev,AnnoPonte-UltimoAnnoRTP,1)))\n)/$D348,\n\nIF(AND(M$4-UltimoAnnoRTP>$D348,M$4-AnnoPonte<=$D348),\n(SUM($F374:M374)-SUM(IFERROR(OFFSET(INDIRECT($F348 & \"contr\"),0,3+(M$4-UltimoAnnoRTP-$D348),1,(IF(EsistePrev,AnnoPonte-UltimoAnnoRTP,1)-(M$4-UltimoAnnoRTP-$D348))),0))\n)/$D348,\n\n(SUM(OFFSET(M374,0,-$D348+1,1,$D348))\n)/$D348))","v":-2},{"$f":"IF(N$4-UltimoAnnoRTP<=$D348,\n(SUM($F374:N374)-SUM(OFFSET(INDIRECT($F348 & \"contr\"),0,3,1,IF(EsistePrev,AnnoPonte-UltimoAnnoRTP,1)))\n)/$D348,\n\nIF(AND(N$4-UltimoAnnoRTP>$D348,N$4-AnnoPonte<=$D348),\n(SUM($F374:N374)-SUM(IFERROR(OFFSET(INDIRECT($F348 & \"contr\"),0,3+(N$4-UltimoAnnoRTP-$D348),1,(IF(EsistePrev,AnnoPonte-UltimoAnnoRTP,1)-(N$4-UltimoAnnoRTP-$D348))),0))\n)/$D348,\n\n(SUM(OFFSET(N374,0,-$D348+1,1,$D348))\n)/$D348))","v":-2},{"$f":"IF(O$4-UltimoAnnoRTP<=$D348,\n(SUM($F374:O374)-SUM(OFFSET(INDIRECT($F348 & \"contr\"),0,3,1,IF(EsistePrev,AnnoPonte-UltimoAnnoRTP,1)))\n)/$D348,\n\nIF(AND(O$4-UltimoAnnoRTP>$D348,O$4-AnnoPonte<=$D348),\n(SUM($F374:O374)-SUM(IFERROR(OFFSET(INDIRECT($F348 & \"contr\"),0,3+(O$4-UltimoAnnoRTP-$D348),1,(IF(EsistePrev,AnnoPonte-UltimoAnnoRTP,1)-(O$4-UltimoAnnoRTP-$D348))),0))\n)/$D348,\n\n(SUM(OFFSET(O374,0,-$D348+1,1,$D348))\n)/$D348))","v":-2},{"$f":"IF(P$4-UltimoAnnoRTP<=$D348,\n(SUM($F374:P374)-SUM(OFFSET(INDIRECT($F348 & \"contr\"),0,3,1,IF(EsistePrev,AnnoPonte-UltimoAnnoRTP,1)))\n)/$D348,\n\nIF(AND(P$4-UltimoAnnoRTP>$D348,P$4-AnnoPonte<=$D348),\n(SUM($F374:P374)-SUM(IFERROR(OFFSET(INDIRECT($F348 & \"contr\"),0,3+(P$4-UltimoAnnoRTP-$D348),1,(IF(EsistePrev,AnnoPonte-UltimoAnnoRTP,1)-(P$4-UltimoAnnoRTP-$D348))),0))\n)/$D348,\n\n(SUM(OFFSET(P374,0,-$D348+1,1,$D348))\n)/$D348))","v":-2},{"$f":"IF(Q$4-UltimoAnnoRTP<=$D348,\n(SUM($F374:Q374)-SUM(OFFSET(INDIRECT($F348 & \"contr\"),0,3,1,IF(EsistePrev,AnnoPonte-UltimoAnnoRTP,1)))\n)/$D348,\n\nIF(AND(Q$4-UltimoAnnoRTP>$D348,Q$4-AnnoPonte<=$D348),\n(SUM($F374:Q374)-SUM(IFERROR(OFFSET(INDIRECT($F348 & \"contr\"),0,3+(Q$4-UltimoAnnoRTP-$D348),1,(IF(EsistePrev,AnnoPonte-UltimoAnnoRTP,1)-(Q$4-UltimoAnnoRTP-$D348))),0))\n)/$D348,\n\n(SUM(OFFSET(Q374,0,-$D348+1,1,$D348))\n)/$D348))","v":-2},{"$f":"IF(R$4-UltimoAnnoRTP<=$D348,\n(SUM($F374:R374)-SUM(OFFSET(INDIRECT($F348 & \"contr\"),0,3,1,IF(EsistePrev,AnnoPonte-UltimoAnnoRTP,1)))\n)/$D348,\n\nIF(AND(R$4-UltimoAnnoRTP>$D348,R$4-AnnoPonte<=$D348),\n(SUM($F374:R374)-SUM(IFERROR(OFFSET(INDIRECT($F348 & \"contr\"),0,3+(R$4-UltimoAnnoRTP-$D348),1,(IF(EsistePrev,AnnoPonte-UltimoAnnoRTP,1)-(R$4-UltimoAnnoRTP-$D348))),0))\n)/$D348,\n\n(SUM(OFFSET(R374,0,-$D348+1,1,$D348))\n)/$D348))","v":-2}]
[null,null,"CIN contributi eop (amm. a vite utili)",null,null,{"$f":"-OFFSET(INDIRECT($F348 & \"contr\"),2,2+AnnoPonte-UltimoAnnoRTP,1,1)","v":0},{"$f":"G373+G374-G375","v":0},0,0,0,0,-40,-38,-36,-34,-32,-30,-28,-26]
[null,null,"Remunerazione CIN contributi",null,null,null,{"$f":"(G373-F378)*G$17*G$10","v":0},{"$f":"(H373-G378)*H$17*H$10","v":0},{"$f":"(I373-H378)*I$17*I$10","v":0},{"$f":"(J373-I378)*J$17*J$10","v":0},{"$f":"(K373-J378)*K$17*K$10","v":0},{"$f":"(L373-K378)*L$17*L$10","v":0},{"$f":"(M373-L378)*M$17*M$10","v":-1.0514000000000001},{"$f":"(N373-M378)*N$17*N$10","v":-0.9012},{"$f":"(O373-N378)*O$17*O$10","v":-0.751},{"$f":"(P373-O378)*P$17*P$10","v":-0.6008},{"$f":"(Q373-P378)*Q$17*Q$10","v":-0.4506},{"$f":"(R373-Q378)*R$17*R$10","v":-0.3004},{"$f":"(S373-R378)*S$17*S$10","v":-0.1502}]
[null,null,"Valore di subentro contributi - cumulato",null,null,{"$f":"-OFFSET(INDIRECT($F348 & \"contr\"),4,2+AnnoPonte-UltimoAnnoRTP,1,1)","v":0},{"$f":"MIN(0,F378+(G374)/$D348*($D348-(ScadenzaConcessione-G$4)))","v":0},{"$f":"MIN(0,G378+(H374)/$D348*($D348-(ScadenzaConcessione-H$4)))","v":0},{"$f":"MIN(0,H378+(I374)/$D348*($D348-(ScadenzaConcessione-I$4)))","v":0},{"$f":"MIN(0,I378+(J374)/$D348*($D348-(ScadenzaConcessione-J$4)))","v":0},{"$f":"MIN(0,J378+(K374)/$D348*($D348-(ScadenzaConcessione-K$4)))","v":0},{"$f":"MIN(0,K378+(L374)/$D348*($D348-(ScadenzaConcessione-L$4)))","v":-26},{"$f":"MIN(0,L378+(M374)/$D348*($D348-(ScadenzaConcessione-M$4)))","v":-26},{"$f":"MIN(0,M378+(N374)/$D348*($D348-(ScadenzaConcessione-N$4)))","v":-26},{"$f":"MIN(0,N378+(O374)/$D348*($D348-(ScadenzaConcessione-O$4)))","v":-26},{"$f":"MIN(0,O378+(P374)/$D348*($D348-(ScadenzaConcessione-P$4)))","v":-26},{"$f":"MIN(0,P378+(Q374)/$D348*($D348-(ScadenzaConcessione-Q$4)))","v":-26},{"$f":"MIN(0,Q378+(R374)/$D348*($D348-(ScadenzaConcessione-R$4)))","v":-26},{"$f":"MIN(0,R378+(S374)/$D348*($D348-(ScadenzaConcessione-S$4)))","v":-26}]
[null,null,"Remunerazione valore di subentro CIN contributi ",null,null,null,{"$f":"F378*G$19*G$10","v":0},{"$f":"G378*H$19*H$10","v":0},0,0,0,0,-1.9525999999999999,-1.9525999999999999,-1.9525999999999999,-1.9525999999999999,-1.9525999999999999,-1.9525999999999999,-1.9525999999999999]
[]
[null,null,"Check - TIR di progetto"]
[null,null,"Cash out investimenti",null,null,{"$f":"-(F353+F360+F368+F376)","v":0},{"$f":"-(G351+G358-G366+G374)","v":0},{"$f":"-(H351+H358-H366+H374)","v":0},0,0,0,-160,-200,0,0,0,0,0,20]
[null,null,"Cash in valore di subentro",null,null,null,{"$f":"IF(G$4=ScadenzaConcessione,G354+G370+G378,\"\")","v":""},"","","","","","","","","","","",{"$f":"IF(S$4=ScadenzaConcessione,S354+S361+S370+S378,\"\")","v":234}]
[null,null,"Cash in ammortamenti",null,null,null,{"$f":"G367+G375","v":0},0,0,0,0,0,-2,18,18,18,18,18,18]
[null,null,"Cash in remunerazioni (annualizzato)",null,null,null,{"$f":"(G355+G362+G369+G371+G377+G379)/G$10","v":0},{"$f":"(H355+H362+H369+H371+H377+H379)/H$10","v":0},0,0,0,0,8.8559999999999981,27.186199999999999,25.834399999999995,24.482599999999998,23.130799999999997,21.779,20.427199999999996]
[null,null,"Cash flow",null,null,{"$f":"SUM(F382:F385)","v":0},0,{"$f":"SUM(H382:H385)","v":0},0,0,0,-160,-193.14400000000001,45.186199999999999,43.834399999999995,42.482599999999998,41.130799999999994,39.778999999999996,292.42719999999997]
[null,null,"Tasso interno di rendimento",null,null,{"$f":"IFERROR(IRR(OFFSET(F386,0,0,1,ScadenzaConcessione-AnnoPonte+1)),\"non calc.\")","v":7.3211832483094597E-2}]
[null,null,"VAN",null,{"$f":"WACC","v":7.51E-2},{"$f":"NPV(E388,OFFSET(F386,0,0,1,ScadenzaConcessione-AnnoPonte+1))","v":-1.770501046289038}]
[]
[null,null,"Portali e segnaletica",{"$f":"VLOOKUP(C390,'C3 Tk Supporto'!C:E,2,0)","v":20},"vita utile","VU06"]
[]
[null,null,"LIC livello 1 - bop",null,null,null,{"$f":"F395","v":0},{"$f":"G395","v":0},{"$f":"H395","v":0},{"$f":"I395","v":0},{"$f":"J395","v":0},{"$f":"K395","v":0},{"$f":"L395","v":0},{"$f":"M395","v":100},{"$f":"N395","v":0},{"$f":"O395","v":0},{"$f":"P395","v":0},{"$f":"Q395","v":0},{"$f":"R395","v":0}]
[null,null,"Investimenti in corso aggiuntivi",null,null,null,{"$f":"SUMIFS(\n'Z0.6.a ProgInvest_Spesa agg'!Z:Z,\n'Z0.6.a ProgInvest_Spesa agg'!$K:$K,$C390,\n'Z0.6.a ProgInvest_Spesa agg'!$M:$M,$D$145,\n'Z0.6.a ProgInvest_Spesa agg'!$L:$L,\"in corso\",\n'Z0.6.a ProgInvest_Spesa agg'!$O:$O,\"vite utili 1\")","v":0},{"$f":"SUMIFS(\n'Z0.6.a ProgInvest_Spesa agg'!AA:AA,\n'Z0.6.a ProgInvest_Spesa agg'!$K:$K,$C390,\n'Z0.6.a ProgInvest_Spesa agg'!$M:$M,$D$145,\n'Z0.6.a ProgInvest_Spesa agg'!$L:$L,\"in corso\",\n'Z0.6.a ProgInvest_Spesa agg'!$O:$O,\"vite utili 1\")","v":0},{"$f":"SUMIFS(\n'Z0.6.a ProgInvest_Spesa agg'!AB:AB,\n'Z0.6.a ProgInvest_Spesa agg'!$K:$K,$C390,\n'Z0.6.a ProgInvest_Spesa agg'!$M:$M,$D$145,\n'Z0.6.a ProgInvest_Spesa agg'!$L:$L,\"in corso\",\n'Z0.6.a ProgInvest_Spesa agg'!$O:$O,\"vite utili 1\")","v":0},{"$f":"SUMIFS(\n'Z0.6.a ProgInvest_Spesa agg'!AC:AC,\n'Z0.6.a ProgInvest_Spesa agg'!$K:$K,$C390,\n'Z0.6.a ProgInvest_Spesa agg'!$M:$M,$D$145,\n'Z0.6.a ProgInvest_Spesa agg'!$L:$L,\"in corso\",\n'Z0.6.a ProgInvest_Spesa agg'!$O:$O,\"vite utili 1\")","v":0},{"$f":"SUMIFS(\n'Z0.6.a ProgInvest_Spesa agg'!AD:AD,\n'Z0.6.a ProgInvest_Spesa agg'!$K:$K,$C390,\n'Z0.6.a ProgInvest_Spesa agg'!$M:$M,$D$145,\n'Z0.6.a ProgInvest_Spesa agg'!$L:$L,\"in corso\",\n'Z0.6.a ProgInvest_Spesa agg'!$O:$O,\"vite utili 1\")","v":0},{"$f":"SUMIFS(\n'Z0.6.a ProgInvest_Spesa agg'!AE:AE,\n'Z0.6.a ProgInvest_Spesa agg'!$K:$K,$C390,\n'Z0.6.a ProgInvest_Spesa agg'!$M:$M,$D$145,\n'Z0.6.a ProgInvest_Spesa agg'!$L:$L,\"in corso\",\n'Z0.6.a ProgInvest_Spesa agg'!$O:$O,\"vite utili 1\")","v":0},{"$f":"SUMIFS(\n'Z0.6.a ProgInvest_Spesa agg'!AF:AF,\n'Z0.6.a ProgInvest_Spesa agg'!$K:$K,$C390,\n'Z0.6.a ProgInvest_Spesa agg'!$M:$M,$D$145,\n'Z0.6.a ProgInvest_Spesa agg'!$L:$L,\"in corso\",\n'Z0.6.a ProgInvest_Spesa agg'!$O:$O,\"vite utili 1\")","v":100},{"$f":"SUMIFS(\n'Z0.6.a ProgInvest_Spesa agg'!AG:AG,\n'Z0.6.a ProgInvest_Spesa agg'!$K:$K,$C390,\n'Z0.6.a ProgInvest_Spesa agg'!$M:$M,$D$145,\n'Z0.6.a ProgInvest_Spesa agg'!$L:$L,\"in corso\",\n'Z0.6.a ProgInvest_Spesa agg'!$O:$O,\"vite utili 1\")","v":100},{"$f":"SUMIFS(\n'Z0.6.a ProgInvest_Spesa agg'!AH:AH,\n'Z0.6.a ProgInvest_Spesa agg'!$K:$K,$C390,\n'Z0.6.a ProgInvest_Spesa agg'!$M:$M,$D$145,\n'Z0.6.a ProgInvest_Spesa agg'!$L:$L,\"in corso\",\n'Z0.6.a ProgInvest_Spesa agg'!$O:$O,\"vite utili 1\")","v":0},{"$f":"SUMIFS(\n'Z0.6.a ProgInvest_Spesa agg'!AI:AI,\n'Z0.6.a ProgInvest_Spesa agg'!$K:$K,$C390,\n'Z0.6.a ProgInvest_Spesa agg'!$M:$M,$D$145,\n'Z0.6.a ProgInvest_Spesa agg'!$L:$L,\"in corso\",\n'Z0.6.a ProgInvest_Spesa agg'!$O:$O,\"vite utili 1\")","v":0},{"$f":"SUMIFS(\n'Z0.6.a ProgInvest_Spesa agg'!AJ:AJ,\n'Z0.6.a ProgInvest_Spesa agg'!$K:$K,$C390,\n'Z0.6.a ProgInvest_Spesa agg'!$M:$M,$D$145,\n'Z0.6.a ProgInvest_Spesa agg'!$L:$L,\"in corso\",\n'Z0.6.a ProgInvest_Spesa agg'!$O:$O,\"vite utili 1\")","v":0},{"$f":"SUMIFS(\n'Z0.6.a ProgInvest_Spesa agg'!AK:AK,\n'Z0.6.a ProgInvest_Spesa agg'!$K:$K,$C390,\n'Z0.6.a ProgInvest_Spesa agg'!$M:$M,$D$145,\n'Z0.6.a ProgInvest_Spesa agg'!$L:$L,\"in corso\",\n'Z0.6.a ProgInvest_Spesa agg'!$O:$O,\"vite utili 1\")","v":0},{"$f":"SUMIFS(\n'Z0.6.a ProgInvest_Spesa agg'!AL:AL,\n'Z0.6.a ProgInvest_Spesa agg'!$K:$K,$C390,\n'Z0.6.a ProgInvest_Spesa agg'!$M:$M,$D$145,\n'Z0.6.a ProgInvest_Spesa agg'!$L:$L,\"in corso\",\n'Z0.6.a ProgInvest_Spesa agg'!$O:$O,\"vite utili 1\")","v":0}]
[null,null,"Investimenti in corso cessanti (entrata in esercizio)",null,null,null,{"$f":"-SUMIFS(\n'Z0.6.a ProgInvest_Spesa agg'!$S:$S,\n'Z0.6.a ProgInvest_Spesa agg'!$K:$K,$C390,\n'Z0.6.a ProgInvest_Spesa agg'!$M:$M,$D$145,\n'Z0.6.a ProgInvest_Spesa agg'!$L:$L,\"in corso\",\n'Z0.6.a ProgInvest_Spesa agg'!$O:$O,\"vite utili 1\",\n'Z0.6.a ProgInvest_Spesa agg'!$P:$P,G$4)","v":0},{"$f":"-SUMIFS(\n'Z0.6.a ProgInvest_Spesa agg'!$S:$S,\n'Z0.6.a ProgInvest_Spesa agg'!$K:$K,$C390,\n'Z0.6.a ProgInvest_Spesa agg'!$M:$M,$D$145,\n'Z0.6.a ProgInvest_Spesa agg'!$L:$L,\"in corso\",\n'Z0.6.a ProgInvest_Spesa agg'!$O:$O,\"vite utili 1\",\n'Z0.6.a ProgInvest_Spesa agg'!$P:$P,H$4)","v":0},{"$f":"-SUMIFS(\n'Z0.6.a ProgInvest_Spesa agg'!$S:$S,\n'Z0.6.a ProgInvest_Spesa agg'!$K:$K,$C390,\n'Z0.6.a ProgInvest_Spesa agg'!$M:$M,$D$145,\n'Z0.6.a ProgInvest_Spesa agg'!$L:$L,\"in corso\",\n'Z0.6.a ProgInvest_Spesa agg'!$O:$O,\"vite utili 1\",\n'Z0.6.a ProgInvest_Spesa agg'!$P:$P,I$4)","v":0},{"$f":"-SUMIFS(\n'Z0.6.a ProgInvest_Spesa agg'!$S:$S,\n'Z0.6.a ProgInvest_Spesa agg'!$K:$K,$C390,\n'Z0.6.a ProgInvest_Spesa agg'!$M:$M,$D$145,\n'Z0.6.a ProgInvest_Spesa agg'!$L:$L,\"in corso\",\n'Z0.6.a ProgInvest_Spesa agg'!$O:$O,\"vite utili 1\",\n'Z0.6.a ProgInvest_Spesa agg'!$P:$P,J$4)","v":0},{"$f":"-SUMIFS(\n'Z0.6.a ProgInvest_Spesa agg'!$S:$S,\n'Z0.6.a ProgInvest_Spesa agg'!$K:$K,$C390,\n'Z0.6.a ProgInvest_Spesa agg'!$M:$M,$D$145,\n'Z0.6.a ProgInvest_Spesa agg'!$L:$L,\"in corso\",\n'Z0.6.a ProgInvest_Spesa agg'!$O:$O,\"vite utili 1\",\n'Z0.6.a ProgInvest_Spesa agg'!$P:$P,K$4)","v":0},{"$f":"-SUMIFS(\n'Z0.6.a ProgInvest_Spesa agg'!$S:$S,\n'Z0.6.a ProgInvest_Spesa agg'!$K:$K,$C390,\n'Z0.6.a ProgInvest_Spesa agg'!$M:$M,$D$145,\n'Z0.6.a ProgInvest_Spesa agg'!$L:$L,\"in corso\",\n'Z0.6.a ProgInvest_Spesa agg'!$O:$O,\"vite utili 1\",\n'Z0.6.a ProgInvest_Spesa agg'!$P:$P,L$4)","v":0},{"$f":"-SUMIFS(\n'Z0.6.a ProgInvest_Spesa agg'!$S:$S,\n'Z0.6.a ProgInvest_Spesa agg'!$K:$K,$C390,\n'Z0.6.a ProgInvest_Spesa agg'!$M:$M,$D$145,\n'Z0.6.a ProgInvest_Spesa agg'!$L:$L,\"in corso\",\n'Z0.6.a ProgInvest_Spesa agg'!$O:$O,\"vite utili 1\",\n'Z0.6.a ProgInvest_Spesa agg'!$P:$P,M$4)","v":0},{"$f":"-SUMIFS(\n'Z0.6.a ProgInvest_Spesa agg'!$S:$S,\n'Z0.6.a ProgInvest_Spesa agg'!$K:$K,$C390,\n'Z0.6.a ProgInvest_Spesa agg'!$M:$M,$D$145,\n'Z0.6.a ProgInvest_Spesa agg'!$L:$L,\"in corso\",\n'Z0.6.a ProgInvest_Spesa agg'!$O:$O,\"vite utili 1\",\n'Z0.6.a ProgInvest_Spesa agg'!$P:$P,N$4)","v":-200},{"$f":"-SUMIFS(\n'Z0.6.a ProgInvest_Spesa agg'!$S:$S,\n'Z0.6.a ProgInvest_Spesa agg'!$K:$K,$C390,\n'Z0.6.a ProgInvest_Spesa agg'!$M:$M,$D$145,\n'Z0.6.a ProgInvest_Spesa agg'!$L:$L,\"in corso\",\n'Z0.6.a ProgInvest_Spesa agg'!$O:$O,\"vite utili 1\",\n'Z0.6.a ProgInvest_Spesa agg'!$P:$P,O$4)","v":0},{"$f":"-SUMIFS(\n'Z0.6.a ProgInvest_Spesa agg'!$S:$S,\n'Z0.6.a ProgInvest_Spesa agg'!$K:$K,$C390,\n'Z0.6.a ProgInvest_Spesa agg'!$M:$M,$D$145,\n'Z0.6.a ProgInvest_Spesa agg'!$L:$L,\"in corso\",\n'Z0.6.a ProgInvest_Spesa agg'!$O:$O,\"vite utili 1\",\n'Z0.6.a ProgInvest_Spesa agg'!$P:$P,P$4)","v":0},{"$f":"-SUMIFS(\n'Z0.6.a ProgInvest_Spesa agg'!$S:$S,\n'Z0.6.a ProgInvest_Spesa agg'!$K:$K,$C390,\n'Z0.6.a ProgInvest_Spesa agg'!$M:$M,$D$145,\n'Z0.6.a ProgInvest_Spesa agg'!$L:$L,\"in corso\",\n'Z0.6.a ProgInvest_Spesa agg'!$O:$O,\"vite utili 1\",\n'Z0.6.a ProgInvest_Spesa agg'!$P:$P,Q$4)","v":0},{"$f":"-SUMIFS(\n'Z0.6.a ProgInvest_Spesa agg'!$S:$S,\n'Z0.6.a ProgInvest_Spesa agg'!$K:$K,$C390,\n'Z0.6.a ProgInvest_Spesa agg'!$M:$M,$D$145,\n'Z0.6.a ProgInvest_Spesa agg'!$L:$L,\"in corso\",\n'Z0.6.a ProgInvest_Spesa agg'!$O:$O,\"vite utili 1\",\n'Z0.6.a ProgInvest_Spesa agg'!$P:$P,R$4)","v":0},{"$f":"-SUMIFS(\n'Z0.6.a ProgInvest_Spesa agg'!$S:$S,\n'Z0.6.a ProgInvest_Spesa agg'!$K:$K,$C390,\n'Z0.6.a ProgInvest_Spesa agg'!$M:$M,$D$145,\n'Z0.6.a ProgInvest_Spesa agg'!$L:$L,\"in corso\",\n'Z0.6.a ProgInvest_Spesa agg'!$O:$O,\"vite utili 1\",\n'Z0.6.a ProgInvest_Spesa agg'!$P:$P,S$4)","v":0}]
[null,null,"LIC livello 1 - eop",null,null,{"$f":"OFFSET(INDIRECT($F390 & \"inv\"),-10,2+AnnoPonte-UltimoAnnoRTP,1,1)","v":0},{"$f":"G392+G393+G394","v":0},0,0,0,0,0,100,0,0,0,0,0,0]
[null,null,"Valore di subentro LIC",null,null,null,{"$f":"IF(G$4=ScadenzaConcessione,G395,0)","v":0},0,0,0,0,0,0,0,0,0,0,0,0]
[null,null,"Remunerazione LIC",null,null,null,{"$f":"G392*G$17*G$10","v":0},{"$f":"H392*H$17*H$10","v":0},0,0,0,0,0,7.51,0,0,0,0,0]
[]
[null,null,"LIC livello 2 - bop",null,null,null,{"$f":"F402","v":0},{"$f":"G402","v":0},{"$f":"H402","v":0},{"$f":"I402","v":0},{"$f":"J402","v":0},{"$f":"K402","v":0},{"$f":"L402","v":0},{"$f":"M402","v":100},{"$f":"N402","v":0},{"$f":"O402","v":0},{"$f":"P402","v":0},{"$f":"Q402","v":0},{"$f":"R402","v":0}]
[null,null,"Investimenti in corso aggiuntivi",null,null,null,{"$f":"SUMIFS(\n'Z0.6.a ProgInvest_Spesa agg'!Z:Z,\n'Z0.6.a ProgInvest_Spesa agg'!$K:$K,$C390,\n'Z0.6.a ProgInvest_Spesa agg'!$M:$M,$D$145,\n'Z0.6.a ProgInvest_Spesa agg'!$L:$L,\"in corso\",\n'Z0.6.a ProgInvest_Spesa agg'!$O:$O,\"vite utili 2\")","v":0},{"$f":"SUMIFS(\n'Z0.6.a ProgInvest_Spesa agg'!AA:AA,\n'Z0.6.a ProgInvest_Spesa agg'!$K:$K,$C390,\n'Z0.6.a ProgInvest_Spesa agg'!$M:$M,$D$145,\n'Z0.6.a ProgInvest_Spesa agg'!$L:$L,\"in corso\",\n'Z0.6.a ProgInvest_Spesa agg'!$O:$O,\"vite utili 2\")","v":0},{"$f":"SUMIFS(\n'Z0.6.a ProgInvest_Spesa agg'!AB:AB,\n'Z0.6.a ProgInvest_Spesa agg'!$K:$K,$C390,\n'Z0.6.a ProgInvest_Spesa agg'!$M:$M,$D$145,\n'Z0.6.a ProgInvest_Spesa agg'!$L:$L,\"in corso\",\n'Z0.6.a ProgInvest_Spesa agg'!$O:$O,\"vite utili 2\")","v":0},{"$f":"SUMIFS(\n'Z0.6.a ProgInvest_Spesa agg'!AC:AC,\n'Z0.6.a ProgInvest_Spesa agg'!$K:$K,$C390,\n'Z0.6.a ProgInvest_Spesa agg'!$M:$M,$D$145,\n'Z0.6.a ProgInvest_Spesa agg'!$L:$L,\"in corso\",\n'Z0.6.a ProgInvest_Spesa agg'!$O:$O,\"vite utili 2\")","v":0},{"$f":"SUMIFS(\n'Z0.6.a ProgInvest_Spesa agg'!AD:AD,\n'Z0.6.a ProgInvest_Spesa agg'!$K:$K,$C390,\n'Z0.6.a ProgInvest_Spesa agg'!$M:$M,$D$145,\n'Z0.6.a ProgInvest_Spesa agg'!$L:$L,\"in corso\",\n'Z0.6.a ProgInvest_Spesa agg'!$O:$O,\"vite utili 2\")","v":0},{"$f":"SUMIFS(\n'Z0.6.a ProgInvest_Spesa agg'!AE:AE,\n'Z0.6.a ProgInvest_Spesa agg'!$K:$K,$C390,\n'Z0.6.a ProgInvest_Spesa agg'!$M:$M,$D$145,\n'Z0.6.a ProgInvest_Spesa agg'!$L:$L,\"in corso\",\n'Z0.6.a ProgInvest_Spesa agg'!$O:$O,\"vite utili 2\")","v":0},{"$f":"SUMIFS(\n'Z0.6.a ProgInvest_Spesa agg'!AF:AF,\n'Z0.6.a ProgInvest_Spesa agg'!$K:$K,$C390,\n'Z0.6.a ProgInvest_Spesa agg'!$M:$M,$D$145,\n'Z0.6.a ProgInvest_Spesa agg'!$L:$L,\"in corso\",\n'Z0.6.a ProgInvest_Spesa agg'!$O:$O,\"vite utili 2\")","v":100},{"$f":"SUMIFS(\n'Z0.6.a ProgInvest_Spesa agg'!AG:AG,\n'Z0.6.a ProgInvest_Spesa agg'!$K:$K,$C390,\n'Z0.6.a ProgInvest_Spesa agg'!$M:$M,$D$145,\n'Z0.6.a ProgInvest_Spesa agg'!$L:$L,\"in corso\",\n'Z0.6.a ProgInvest_Spesa agg'!$O:$O,\"vite utili 2\")","v":100},{"$f":"SUMIFS(\n'Z0.6.a ProgInvest_Spesa agg'!AH:AH,\n'Z0.6.a ProgInvest_Spesa agg'!$K:$K,$C390,\n'Z0.6.a ProgInvest_Spesa agg'!$M:$M,$D$145,\n'Z0.6.a ProgInvest_Spesa agg'!$L:$L,\"in corso\",\n'Z0.6.a ProgInvest_Spesa agg'!$O:$O,\"vite utili 2\")","v":0},{"$f":"SUMIFS(\n'Z0.6.a ProgInvest_Spesa agg'!AI:AI,\n'Z0.6.a ProgInvest_Spesa agg'!$K:$K,$C390,\n'Z0.6.a ProgInvest_Spesa agg'!$M:$M,$D$145,\n'Z0.6.a ProgInvest_Spesa agg'!$L:$L,\"in corso\",\n'Z0.6.a ProgInvest_Spesa agg'!$O:$O,\"vite utili 2\")","v":0},{"$f":"SUMIFS(\n'Z0.6.a ProgInvest_Spesa agg'!AJ:AJ,\n'Z0.6.a ProgInvest_Spesa agg'!$K:$K,$C390,\n'Z0.6.a ProgInvest_Spesa agg'!$M:$M,$D$145,\n'Z0.6.a ProgInvest_Spesa agg'!$L:$L,\"in corso\",\n'Z0.6.a ProgInvest_Spesa agg'!$O:$O,\"vite utili 2\")","v":0},{"$f":"SUMIFS(\n'Z0.6.a ProgInvest_Spesa agg'!AK:AK,\n'Z0.6.a ProgInvest_Spesa agg'!$K:$K,$C390,\n'Z0.6.a ProgInvest_Spesa agg'!$M:$M,$D$145,\n'Z0.6.a ProgInvest_Spesa agg'!$L:$L,\"in corso\",\n'Z0.6.a ProgInvest_Spesa agg'!$O:$O,\"vite utili 2\")","v":0},{"$f":"SUMIFS(\n'Z0.6.a ProgInvest_Spesa agg'!AL:AL,\n'Z0.6.a ProgInvest_Spesa agg'!$K:$K,$C390,\n'Z0.6.a ProgInvest_Spesa agg'!$M:$M,$D$145,\n'Z0.6.a ProgInvest_Spesa agg'!$L:$L,\"in corso\",\n'Z0.6.a ProgInvest_Spesa agg'!$O:$O,\"vite utili 2\")","v":0}]
[null,null,"Investimenti in corso cessanti (entrata in esercizio)",null,null,null,{"$f":"-SUMIFS(\n'Z0.6.a ProgInvest_Spesa agg'!$S:$S,\n'Z0.6.a ProgInvest_Spesa agg'!$K:$K,$C390,\n'Z0.6.a ProgInvest_Spesa agg'!$M:$M,$D$145,\n'Z0.6.a ProgInvest_Spesa agg'!$L:$L,\"in corso\",\n'Z0.6.a ProgInvest_Spesa agg'!$O:$O,\"vite utili 2\",\n'Z0.6.a ProgInvest_Spesa agg'!$P:$P,G$4)","v":0},{"$f":"-SUMIFS(\n'Z0.6.a ProgInvest_Spesa agg'!$S:$S,\n'Z0.6.a ProgInvest_Spesa agg'!$K:$K,$C390,\n'Z0.6.a ProgInvest_Spesa agg'!$M:$M,$D$145,\n'Z0.6.a ProgInvest_Spesa agg'!$L:$L,\"in corso\",\n'Z0.6.a ProgInvest_Spesa agg'!$O:$O,\"vite utili 2\",\n'Z0.6.a ProgInvest_Spesa agg'!$P:$P,H$4)","v":0},{"$f":"-SUMIFS(\n'Z0.6.a ProgInvest_Spesa agg'!$S:$S,\n'Z0.6.a ProgInvest_Spesa agg'!$K:$K,$C390,\n'Z0.6.a ProgInvest_Spesa agg'!$M:$M,$D$145,\n'Z0.6.a ProgInvest_Spesa agg'!$L:$L,\"in corso\",\n'Z0.6.a ProgInvest_Spesa agg'!$O:$O,\"vite utili 2\",\n'Z0.6.a ProgInvest_Spesa agg'!$P:$P,I$4)","v":0},{"$f":"-SUMIFS(\n'Z0.6.a ProgInvest_Spesa agg'!$S:$S,\n'Z0.6.a ProgInvest_Spesa agg'!$K:$K,$C390,\n'Z0.6.a ProgInvest_Spesa agg'!$M:$M,$D$145,\n'Z0.6.a ProgInvest_Spesa agg'!$L:$L,\"in corso\",\n'Z0.6.a ProgInvest_Spesa agg'!$O:$O,\"vite utili 2\",\n'Z0.6.a ProgInvest_Spesa agg'!$P:$P,J$4)","v":0},{"$f":"-SUMIFS(\n'Z0.6.a ProgInvest_Spesa agg'!$S:$S,\n'Z0.6.a ProgInvest_Spesa agg'!$K:$K,$C390,\n'Z0.6.a ProgInvest_Spesa agg'!$M:$M,$D$145,\n'Z0.6.a ProgInvest_Spesa agg'!$L:$L,\"in corso\",\n'Z0.6.a ProgInvest_Spesa agg'!$O:$O,\"vite utili 2\",\n'Z0.6.a ProgInvest_Spesa agg'!$P:$P,K$4)","v":0},{"$f":"-SUMIFS(\n'Z0.6.a ProgInvest_Spesa agg'!$S:$S,\n'Z0.6.a ProgInvest_Spesa agg'!$K:$K,$C390,\n'Z0.6.a ProgInvest_Spesa agg'!$M:$M,$D$145,\n'Z0.6.a ProgInvest_Spesa agg'!$L:$L,\"in corso\",\n'Z0.6.a ProgInvest_Spesa agg'!$O:$O,\"vite utili 2\",\n'Z0.6.a ProgInvest_Spesa agg'!$P:$P,L$4)","v":0},{"$f":"-SUMIFS(\n'Z0.6.a ProgInvest_Spesa agg'!$S:$S,\n'Z0.6.a ProgInvest_Spesa agg'!$K:$K,$C390,\n'Z0.6.a ProgInvest_Spesa agg'!$M:$M,$D$145,\n'Z0.6.a ProgInvest_Spesa agg'!$L:$L,\"in corso\",\n'Z0.6.a ProgInvest_Spesa agg'!$O:$O,\"vite utili 2\",\n'Z0.6.a ProgInvest_Spesa agg'!$P:$P,M$4)","v":0},{"$f":"-SUMIFS(\n'Z0.6.a ProgInvest_Spesa agg'!$S:$S,\n'Z0.6.a ProgInvest_Spesa agg'!$K:$K,$C390,\n'Z0.6.a ProgInvest_Spesa agg'!$M:$M,$D$145,\n'Z0.6.a ProgInvest_Spesa agg'!$L:$L,\"in corso\",\n'Z0.6.a ProgInvest_Spesa agg'!$O:$O,\"vite utili 2\",\n'Z0.6.a ProgInvest_Spesa agg'!$P:$P,N$4)","v":-200},{"$f":"-SUMIFS(\n'Z0.6.a ProgInvest_Spesa agg'!$S:$S,\n'Z0.6.a ProgInvest_Spesa agg'!$K:$K,$C390,\n'Z0.6.a ProgInvest_Spesa agg'!$M:$M,$D$145,\n'Z0.6.a ProgInvest_Spesa agg'!$L:$L,\"in corso\",\n'Z0.6.a ProgInvest_Spesa agg'!$O:$O,\"vite utili 2\",\n'Z0.6.a ProgInvest_Spesa agg'!$P:$P,O$4)","v":0},{"$f":"-SUMIFS(\n'Z0.6.a ProgInvest_Spesa agg'!$S:$S,\n'Z0.6.a ProgInvest_Spesa agg'!$K:$K,$C390,\n'Z0.6.a ProgInvest_Spesa agg'!$M:$M,$D$145,\n'Z0.6.a ProgInvest_Spesa agg'!$L:$L,\"in corso\",\n'Z0.6.a ProgInvest_Spesa agg'!$O:$O,\"vite utili 2\",\n'Z0.6.a ProgInvest_Spesa agg'!$P:$P,P$4)","v":0},{"$f":"-SUMIFS(\n'Z0.6.a ProgInvest_Spesa agg'!$S:$S,\n'Z0.6.a ProgInvest_Spesa agg'!$K:$K,$C390,\n'Z0.6.a ProgInvest_Spesa agg'!$M:$M,$D$145,\n'Z0.6.a ProgInvest_Spesa agg'!$L:$L,\"in corso\",\n'Z0.6.a ProgInvest_Spesa agg'!$O:$O,\"vite utili 2\",\n'Z0.6.a ProgInvest_Spesa agg'!$P:$P,Q$4)","v":0},{"$f":"-SUMIFS(\n'Z0.6.a ProgInvest_Spesa agg'!$S:$S,\n'Z0.6.a ProgInvest_Spesa agg'!$K:$K,$C390,\n'Z0.6.a ProgInvest_Spesa agg'!$M:$M,$D$145,\n'Z0.6.a ProgInvest_Spesa agg'!$L:$L,\"in corso\",\n'Z0.6.a ProgInvest_Spesa agg'!$O:$O,\"vite utili 2\",\n'Z0.6.a ProgInvest_Spesa agg'!$P:$P,R$4)","v":0},{"$f":"-SUMIFS(\n'Z0.6.a ProgInvest_Spesa agg'!$S:$S,\n'Z0.6.a ProgInvest_Spesa agg'!$K:$K,$C390,\n'Z0.6.a ProgInvest_Spesa agg'!$M:$M,$D$145,\n'Z0.6.a ProgInvest_Spesa agg'!$L:$L,\"in corso\",\n'Z0.6.a ProgInvest_Spesa agg'!$O:$O,\"vite utili 2\",\n'Z0.6.a ProgInvest_Spesa agg'!$P:$P,S$4)","v":0}]
[null,null,"LIC livello 2 - eop",null,null,{"$f":"OFFSET(INDIRECT($F390 & \"inv\"),-4,2+AnnoPonte-UltimoAnnoRTP,1,1)","v":0},{"$f":"G399+G400+G401","v":0},0,0,0,0,0,100,0,0,0,0,0,0]
[null,null,"Valore di subentro LIC",null,null,null,{"$f":"IF(G$4=ScadenzaConcessione,G402,0)","v":0},0,0,0,0,0,0,0,0,0,0,0,0]
[null,null,"Remunerazione LIC",null,null,null,{"$f":"G399*G$20*G$10","v":0},0,0,0,0,0,0,4.3499999999999996,0,0,0,0,0]
[]
[null,null,"CIN investimenti (lordo contributi e subentro, netto dismissioni) bop (amm. a vite utili)",null,"precedenti",null,{"$f":"F410","v":0},{"$f":"G410","v":0},{"$f":"H410","v":0},{"$f":"I410","v":0},{"$f":"J410","v":0},{"$f":"K410","v":0},{"$f":"L410","v":0},{"$f":"M410","v":0},{"$f":"N410","v":400},{"$f":"O410","v":380},{"$f":"P410","v":360},{"$f":"Q410","v":340},{"$f":"R410","v":320}]
[null,null,"Investimenti entrati in esercizio (amm.a vite utili)",null,{"$f":"SUM(OFFSET(INDIRECT($F390 & \"inv\"),0,3,1,IF(EsistePrev,AnnoPonte-UltimoAnnoRTP,1)))","v":0},null,{"$f":"-G394-G401","v":0},{"$f":"-H394-H401","v":0},0,0,0,0,0,400,0,0,0,0,0]
[null,null,"Dismissioni",null,{"$f":"-SUM(OFFSET(INDIRECT($F390&\"dism\"),0,3,1,IF(EsistePrev,AnnoPonte-UltimoAnnoRTP,1)))","v":0},null,{"$f":"SUMIFS(\n'Z0.6.c ProgInvest_Dism agg'!Z:Z,\n'Z0.6.c ProgInvest_Dism agg'!$K:$K,$C390,\n'Z0.6.c ProgInvest_Dism agg'!$M:$M,$D$145,\n'Z0.6.c ProgInvest_Dism agg'!$L:$L,\"in corso\",\n'Z0.6.c ProgInvest_Dism agg'!$O:$O,\"vite utili 1\")\n+SUMIFS(\n'Z0.6.c ProgInvest_Dism agg'!Z:Z,\n'Z0.6.c ProgInvest_Dism agg'!$K:$K,$C390,\n'Z0.6.c ProgInvest_Dism agg'!$M:$M,$D$145,\n'Z0.6.c ProgInvest_Dism agg'!$L:$L,\"in corso\",\n'Z0.6.c ProgInvest_Dism agg'!$O:$O,\"vite utili 2\")","v":0},{"$f":"SUMIFS(\n'Z0.6.c ProgInvest_Dism agg'!AA:AA,\n'Z0.6.c ProgInvest_Dism agg'!$K:$K,$C390,\n'Z0.6.c ProgInvest_Dism agg'!$M:$M,$D$145,\n'Z0.6.c ProgInvest_Dism agg'!$L:$L,\"in corso\",\n'Z0.6.c ProgInvest_Dism agg'!$O:$O,\"vite utili 1\")\n+SUMIFS(\n'Z0.6.c ProgInvest_Dism agg'!AA:AA,\n'Z0.6.c ProgInvest_Dism agg'!$K:$K,$C390,\n'Z0.6.c ProgInvest_Dism agg'!$M:$M,$D$145,\n'Z0.6.c ProgInvest_Dism agg'!$L:$L,\"in corso\",\n'Z0.6.c ProgInvest_Dism agg'!$O:$O,\"vite utili 2\")","v":0},{"$f":"SUMIFS(\n'Z0.6.c ProgInvest_Dism agg'!AB:AB,\n'Z0.6.c ProgInvest_Dism agg'!$K:$K,$C390,\n'Z0.6.c ProgInvest_Dism agg'!$M:$M,$D$145,\n'Z0.6.c ProgInvest_Dism agg'!$L:$L,\"in corso\",\n'Z0.6.c ProgInvest_Dism agg'!$O:$O,\"vite utili 1\")\n+SUMIFS(\n'Z0.6.c ProgInvest_Dism agg'!AB:AB,\n'Z0.6.c ProgInvest_Dism agg'!$K:$K,$C390,\n'Z0.6.c ProgInvest_Dism agg'!$M:$M,$D$145,\n'Z0.6.c ProgInvest_Dism agg'!$L:$L,\"in corso\",\n'Z0.6.c ProgInvest_Dism agg'!$O:$O,\"vite utili 2\")","v":0},{"$f":"SUMIFS(\n'Z0.6.c ProgInvest_Dism agg'!AC:AC,\n'Z0.6.c ProgInvest_Dism agg'!$K:$K,$C390,\n'Z0.6.c ProgInvest_Dism agg'!$M:$M,$D$145,\n'Z0.6.c ProgInvest_Dism agg'!$L:$L,\"in corso\",\n'Z0.6.c ProgInvest_Dism agg'!$O:$O,\"vite utili 1\")\n+SUMIFS(\n'Z0.6.c ProgInvest_Dism agg'!AC:AC,\n'Z0.6.c ProgInvest_Dism agg'!$K:$K,$C390,\n'Z0.6.c ProgInvest_Dism agg'!$M:$M,$D$145,\n'Z0.6.c ProgInvest_Dism agg'!$L:$L,\"in corso\",\n'Z0.6.c ProgInvest_Dism agg'!$O:$O,\"vite utili 2\")","v":0},{"$f":"SUMIFS(\n'Z0.6.c ProgInvest_Dism agg'!AD:AD,\n'Z0.6.c ProgInvest_Dism agg'!$K:$K,$C390,\n'Z0.6.c ProgInvest_Dism agg'!$M:$M,$D$145,\n'Z0.6.c ProgInvest_Dism agg'!$L:$L,\"in corso\",\n'Z0.6.c ProgInvest_Dism agg'!$O:$O,\"vite utili 1\")\n+SUMIFS(\n'Z0.6.c ProgInvest_Dism agg'!AD:AD,\n'Z0.6.c ProgInvest_Dism agg'!$K:$K,$C390,\n'Z0.6.c ProgInvest_Dism agg'!$M:$M,$D$145,\n'Z0.6.c ProgInvest_Dism agg'!$L:$L,\"in corso\",\n'Z0.6.c ProgInvest_Dism agg'!$O:$O,\"vite utili 2\")","v":0},{"$f":"SUMIFS(\n'Z0.6.c ProgInvest_Dism agg'!AE:AE,\n'Z0.6.c ProgInvest_Dism agg'!$K:$K,$C390,\n'Z0.6.c ProgInvest_Dism agg'!$M:$M,$D$145,\n'Z0.6.c ProgInvest_Dism agg'!$L:$L,\"in corso\",\n'Z0.6.c ProgInvest_Dism agg'!$O:$O,\"vite utili 1\")\n+SUMIFS(\n'Z0.6.c ProgInvest_Dism agg'!AE:AE,\n'Z0.6.c ProgInvest_Dism agg'!$K:$K,$C390,\n'Z0.6.c ProgInvest_Dism agg'!$M:$M,$D$145,\n'Z0.6.c ProgInvest_Dism agg'!$L:$L,\"in corso\",\n'Z0.6.c ProgInvest_Dism agg'!$O:$O,\"vite utili 2\")","v":0},{"$f":"SUMIFS(\n'Z0.6.c ProgInvest_Dism agg'!AF:AF,\n'Z0.6.c ProgInvest_Dism agg'!$K:$K,$C390,\n'Z0.6.c ProgInvest_Dism agg'!$M:$M,$D$145,\n'Z0.6.c ProgInvest_Dism agg'!$L:$L,\"in corso\",\n'Z0.6.c ProgInvest_Dism agg'!$O:$O,\"vite utili 1\")\n+SUMIFS(\n'Z0.6.c ProgInvest_Dism agg'!AF:AF,\n'Z0.6.c ProgInvest_Dism agg'!$K:$K,$C390,\n'Z0.6.c ProgInvest_Dism agg'!$M:$M,$D$145,\n'Z0.6.c ProgInvest_Dism agg'!$L:$L,\"in corso\",\n'Z0.6.c ProgInvest_Dism agg'!$O:$O,\"vite utili 2\")","v":0},{"$f":"SUMIFS(\n'Z0.6.c ProgInvest_Dism agg'!AG:AG,\n'Z0.6.c ProgInvest_Dism agg'!$K:$K,$C390,\n'Z0.6.c ProgInvest_Dism agg'!$M:$M,$D$145,\n'Z0.6.c ProgInvest_Dism agg'!$L:$L,\"in corso\",\n'Z0.6.c ProgInvest_Dism agg'!$O:$O,\"vite utili 1\")\n+SUMIFS(\n'Z0.6.c ProgInvest_Dism agg'!AG:AG,\n'Z0.6.c ProgInvest_Dism agg'!$K:$K,$C390,\n'Z0.6.c ProgInvest_Dism agg'!$M:$M,$D$145,\n'Z0.6.c ProgInvest_Dism agg'!$L:$L,\"in corso\",\n'Z0.6.c ProgInvest_Dism agg'!$O:$O,\"vite utili 2\")","v":0},{"$f":"SUMIFS(\n'Z0.6.c ProgInvest_Dism agg'!AH:AH,\n'Z0.6.c ProgInvest_Dism agg'!$K:$K,$C390,\n'Z0.6.c ProgInvest_Dism agg'!$M:$M,$D$145,\n'Z0.6.c ProgInvest_Dism agg'!$L:$L,\"in corso\",\n'Z0.6.c ProgInvest_Dism agg'!$O:$O,\"vite utili 1\")\n+SUMIFS(\n'Z0.6.c ProgInvest_Dism agg'!AH:AH,\n'Z0.6.c ProgInvest_Dism agg'!$K:$K,$C390,\n'Z0.6.c ProgInvest_Dism agg'!$M:$M,$D$145,\n'Z0.6.c ProgInvest_Dism agg'!$L:$L,\"in corso\",\n'Z0.6.c ProgInvest_Dism agg'!$O:$O,\"vite utili 2\")","v":0},{"$f":"SUMIFS(\n'Z0.6.c ProgInvest_Dism agg'!AI:AI,\n'Z0.6.c ProgInvest_Dism agg'!$K:$K,$C390,\n'Z0.6.c ProgInvest_Dism agg'!$M:$M,$D$145,\n'Z0.6.c ProgInvest_Dism agg'!$L:$L,\"in corso\",\n'Z0.6.c ProgInvest_Dism agg'!$O:$O,\"vite utili 1\")\n+SUMIFS(\n'Z0.6.c ProgInvest_Dism agg'!AI:AI,\n'Z0.6.c ProgInvest_Dism agg'!$K:$K,$C390,\n'Z0.6.c ProgInvest_Dism agg'!$M:$M,$D$145,\n'Z0.6.c ProgInvest_Dism agg'!$L:$L,\"in corso\",\n'Z0.6.c ProgInvest_Dism agg'!$O:$O,\"vite utili 2\")","v":0},{"$f":"SUMIFS(\n'Z0.6.c ProgInvest_Dism agg'!AJ:AJ,\n'Z0.6.c ProgInvest_Dism agg'!$K:$K,$C390,\n'Z0.6.c ProgInvest_Dism agg'!$M:$M,$D$145,\n'Z0.6.c ProgInvest_Dism agg'!$L:$L,\"in corso\",\n'Z0.6.c ProgInvest_Dism agg'!$O:$O,\"vite utili 1\")\n+SUMIFS(\n'Z0.6.c ProgInvest_Dism agg'!AJ:AJ,\n'Z0.6.c ProgInvest_Dism agg'!$K:$K,$C390,\n'Z0.6.c ProgInvest_Dism agg'!$M:$M,$D$145,\n'Z0.6.c ProgInvest_Dism agg'!$L:$L,\"in corso\",\n'Z0.6.c ProgInvest_Dism agg'!$O:$O,\"vite utili 2\")","v":0},{"$f":"SUMIFS(\n'Z0.6.c ProgInvest_Dism agg'!AK:AK,\n'Z0.6.c ProgInvest_Dism agg'!$K:$K,$C390,\n'Z0.6.c ProgInvest_Dism agg'!$M:$M,$D$145,\n'Z0.6.c ProgInvest_Dism agg'!$L:$L,\"in corso\",\n'Z0.6.c ProgInvest_Dism agg'!$O:$O,\"vite utili 1\")\n+SUMIFS(\n'Z0.6.c ProgInvest_Dism agg'!AK:AK,\n'Z0.6.c ProgInvest_Dism agg'!$K:$K,$C390,\n'Z0.6.c ProgInvest_Dism agg'!$M:$M,$D$145,\n'Z0.6.c ProgInvest_Dism agg'!$L:$L,\"in corso\",\n'Z0.6.c ProgInvest_Dism agg'!$O:$O,\"vite utili 2\")","v":0},{"$f":"SUMIFS(\n'Z0.6.c ProgInvest_Dism agg'!AL:AL,\n'Z0.6.c ProgInvest_Dism agg'!$K:$K,$C390,\n'Z0.6.c ProgInvest_Dism agg'!$M:$M,$D$145,\n'Z0.6.c ProgInvest_Dism agg'!$L:$L,\"in corso\",\n'Z0.6.c ProgInvest_Dism agg'!$O:$O,\"vite utili 1\")\n+SUMIFS(\n'Z0.6.c ProgInvest_Dism agg'!AL:AL,\n'Z0.6.c ProgInvest_Dism agg'!$K:$K,$C390,\n'Z0.6.c ProgInvest_Dism agg'!$M:$M,$D$145,\n'Z0.6.c ProgInvest_Dism agg'!$L:$L,\"in corso\",\n'Z0.6.c ProgInvest_Dism agg'!$O:$O,\"vite utili 2\")","v":20}]
[null,null,"Ammortamento (a vite utili)",null,{"$f":"SUM(OFFSET(INDIRECT($F390 & \"inv\"),2,3,1,IF(EsistePrev,AnnoPonte-UltimoAnnoRTP,1)))","v":0},null,{"$f":"MIN(G406,IF(F$4-UltimoAnnoRTP<=$D390,\n(SUM($F407:F407)+SUM(OFFSET(INDIRECT($F390 & \"inv\"),0,3,1,IF(EsistePrev,AnnoPonte-UltimoAnnoRTP,1)))\n-SUM($F408:F408)-SUM(OFFSET(INDIRECT($F390 & \"dism\"),0,3,1,IF(EsistePrev,AnnoPonte-UltimoAnnoRTP,1))))/$D390,\n\nIF(AND(F$4-UltimoAnnoRTP>$D390,F$4-AnnoPonte<=$D390),\n(SUM($F407:F407)+SUM(IFERROR(OFFSET(INDIRECT($F390 & \"inv\"),0,3+(F$4-UltimoAnnoRTP-$D390),1,(IF(EsistePrev,AnnoPonte-UltimoAnnoRTP,1)-(F$4-UltimoAnnoRTP-$D390))),0))\n-SUM($F408:F408)-SUM(IFERROR(OFFSET(INDIRECT($F390 & \"dism\"),0,3+(F$4-UltimoAnnoRTP-$D390),1,(IF(EsistePrev,AnnoPonte-UltimoAnnoRTP,1)-(F$4-UltimoAnnoRTP-$D390))),0)))/$D390,\n\n(SUM(OFFSET(F407,0,-$D390+1,1,$D390))\n-SUM(OFFSET(F408,0,-$D390+1,1,$D390)))/$D390)))","v":0},{"$f":"MIN(H406,IF(G$4-UltimoAnnoRTP<=$D390,\n(SUM($F407:G407)+SUM(OFFSET(INDIRECT($F390 & \"inv\"),0,3,1,IF(EsistePrev,AnnoPonte-UltimoAnnoRTP,1)))\n-SUM($F408:G408)-SUM(OFFSET(INDIRECT($F390 & \"dism\"),0,3,1,IF(EsistePrev,AnnoPonte-UltimoAnnoRTP,1))))/$D390,\n\nIF(AND(G$4-UltimoAnnoRTP>$D390,G$4-AnnoPonte<=$D390),\n(SUM($F407:G407)+SUM(IFERROR(OFFSET(INDIRECT($F390 & \"inv\"),0,3+(G$4-UltimoAnnoRTP-$D390),1,(IF(EsistePrev,AnnoPonte-UltimoAnnoRTP,1)-(G$4-UltimoAnnoRTP-$D390))),0))\n-SUM($F408:G408)-SUM(IFERROR(OFFSET(INDIRECT($F390 & \"dism\"),0,3+(G$4-UltimoAnnoRTP-$D390),1,(IF(EsistePrev,AnnoPonte-UltimoAnnoRTP,1)-(G$4-UltimoAnnoRTP-$D390))),0)))/$D390,\n\n(SUM(OFFSET(G407,0,-$D390+1,1,$D390))\n-SUM(OFFSET(G408,0,-$D390+1,1,$D390)))/$D390)))","v":0},{"$f":"MIN(I406,IF(H$4-UltimoAnnoRTP<=$D390,\n(SUM($F407:H407)+SUM(OFFSET(INDIRECT($F390 & \"inv\"),0,3,1,IF(EsistePrev,AnnoPonte-UltimoAnnoRTP,1)))\n-SUM($F408:H408)-SUM(OFFSET(INDIRECT($F390 & \"dism\"),0,3,1,IF(EsistePrev,AnnoPonte-UltimoAnnoRTP,1))))/$D390,\n\nIF(AND(H$4-UltimoAnnoRTP>$D390,H$4-AnnoPonte<=$D390),\n(SUM($F407:H407)+SUM(IFERROR(OFFSET(INDIRECT($F390 & \"inv\"),0,3+(H$4-UltimoAnnoRTP-$D390),1,(IF(EsistePrev,AnnoPonte-UltimoAnnoRTP,1)-(H$4-UltimoAnnoRTP-$D390))),0))\n-SUM($F408:H408)-SUM(IFERROR(OFFSET(INDIRECT($F390 & \"dism\"),0,3+(H$4-UltimoAnnoRTP-$D390),1,(IF(EsistePrev,AnnoPonte-UltimoAnnoRTP,1)-(H$4-UltimoAnnoRTP-$D390))),0)))/$D390,\n\n(SUM(OFFSET(H407,0,-$D390+1,1,$D390))\n-SUM(OFFSET(H408,0,-$D390+1,1,$D390)))/$D390)))","v":0},{"$f":"MIN(J406,IF(I$4-UltimoAnnoRTP<=$D390,\n(SUM($F407:I407)+SUM(OFFSET(INDIRECT($F390 & \"inv\"),0,3,1,IF(EsistePrev,AnnoPonte-UltimoAnnoRTP,1)))\n-SUM($F408:I408)-SUM(OFFSET(INDIRECT($F390 & \"dism\"),0,3,1,IF(EsistePrev,AnnoPonte-UltimoAnnoRTP,1))))/$D390,\n\nIF(AND(I$4-UltimoAnnoRTP>$D390,I$4-AnnoPonte<=$D390),\n(SUM($F407:I407)+SUM(IFERROR(OFFSET(INDIRECT($F390 & \"inv\"),0,3+(I$4-UltimoAnnoRTP-$D390),1,(IF(EsistePrev,AnnoPonte-UltimoAnnoRTP,1)-(I$4-UltimoAnnoRTP-$D390))),0))\n-SUM($F408:I408)-SUM(IFERROR(OFFSET(INDIRECT($F390 & \"dism\"),0,3+(I$4-UltimoAnnoRTP-$D390),1,(IF(EsistePrev,AnnoPonte-UltimoAnnoRTP,1)-(I$4-UltimoAnnoRTP-$D390))),0)))/$D390,\n\n(SUM(OFFSET(I407,0,-$D390+1,1,$D390))\n-SUM(OFFSET(I408,0,-$D390+1,1,$D390)))/$D390)))","v":0},{"$f":"MIN(K406,IF(J$4-UltimoAnnoRTP<=$D390,\n(SUM($F407:J407)+SUM(OFFSET(INDIRECT($F390 & \"inv\"),0,3,1,IF(EsistePrev,AnnoPonte-UltimoAnnoRTP,1)))\n-SUM($F408:J408)-SUM(OFFSET(INDIRECT($F390 & \"dism\"),0,3,1,IF(EsistePrev,AnnoPonte-UltimoAnnoRTP,1))))/$D390,\n\nIF(AND(J$4-UltimoAnnoRTP>$D390,J$4-AnnoPonte<=$D390),\n(SUM($F407:J407)+SUM(IFERROR(OFFSET(INDIRECT($F390 & \"inv\"),0,3+(J$4-UltimoAnnoRTP-$D390),1,(IF(EsistePrev,AnnoPonte-UltimoAnnoRTP,1)-(J$4-UltimoAnnoRTP-$D390))),0))\n-SUM($F408:J408)-SUM(IFERROR(OFFSET(INDIRECT($F390 & \"dism\"),0,3+(J$4-UltimoAnnoRTP-$D390),1,(IF(EsistePrev,AnnoPonte-UltimoAnnoRTP,1)-(J$4-UltimoAnnoRTP-$D390))),0)))/$D390,\n\n(SUM(OFFSET(J407,0,-$D390+1,1,$D390))\n-SUM(OFFSET(J408,0,-$D390+1,1,$D390)))/$D390)))","v":0},{"$f":"MIN(L406,IF(K$4-UltimoAnnoRTP<=$D390,\n(SUM($F407:K407)+SUM(OFFSET(INDIRECT($F390 & \"inv\"),0,3,1,IF(EsistePrev,AnnoPonte-UltimoAnnoRTP,1)))\n-SUM($F408:K408)-SUM(OFFSET(INDIRECT($F390 & \"dism\"),0,3,1,IF(EsistePrev,AnnoPonte-UltimoAnnoRTP,1))))/$D390,\n\nIF(AND(K$4-UltimoAnnoRTP>$D390,K$4-AnnoPonte<=$D390),\n(SUM($F407:K407)+SUM(IFERROR(OFFSET(INDIRECT($F390 & \"inv\"),0,3+(K$4-UltimoAnnoRTP-$D390),1,(IF(EsistePrev,AnnoPonte-UltimoAnnoRTP,1)-(K$4-UltimoAnnoRTP-$D390))),0))\n-SUM($F408:K408)-SUM(IFERROR(OFFSET(INDIRECT($F390 & \"dism\"),0,3+(K$4-UltimoAnnoRTP-$D390),1,(IF(EsistePrev,AnnoPonte-UltimoAnnoRTP,1)-(K$4-UltimoAnnoRTP-$D390))),0)))/$D390,\n\n(SUM(OFFSET(K407,0,-$D390+1,1,$D390))\n-SUM(OFFSET(K408,0,-$D390+1,1,$D390)))/$D390)))","v":0},{"$f":"MIN(M406,IF(L$4-UltimoAnnoRTP<=$D390,\n(SUM($F407:L407)+SUM(OFFSET(INDIRECT($F390 & \"inv\"),0,3,1,IF(EsistePrev,AnnoPonte-UltimoAnnoRTP,1)))\n-SUM($F408:L408)-SUM(OFFSET(INDIRECT($F390 & \"dism\"),0,3,1,IF(EsistePrev,AnnoPonte-UltimoAnnoRTP,1))))/$D390,\n\nIF(AND(L$4-UltimoAnnoRTP>$D390,L$4-AnnoPonte<=$D390),\n(SUM($F407:L407)+SUM(IFERROR(OFFSET(INDIRECT($F390 & \"inv\"),0,3+(L$4-UltimoAnnoRTP-$D390),1,(IF(EsistePrev,AnnoPonte-UltimoAnnoRTP,1)-(L$4-UltimoAnnoRTP-$D390))),0))\n-SUM($F408:L408)-SUM(IFERROR(OFFSET(INDIRECT($F390 & \"dism\"),0,3+(L$4-UltimoAnnoRTP-$D390),1,(IF(EsistePrev,AnnoPonte-UltimoAnnoRTP,1)-(L$4-UltimoAnnoRTP-$D390))),0)))/$D390,\n\n(SUM(OFFSET(L407,0,-$D390+1,1,$D390))\n-SUM(OFFSET(L408,0,-$D390+1,1,$D390)))/$D390)))","v":0},{"$f":"MIN(N406,IF(M$4-UltimoAnnoRTP<=$D390,\n(SUM($F407:M407)+SUM(OFFSET(INDIRECT($F390 & \"inv\"),0,3,1,IF(EsistePrev,AnnoPonte-UltimoAnnoRTP,1)))\n-SUM($F408:M408)-SUM(OFFSET(INDIRECT($F390 & \"dism\"),0,3,1,IF(EsistePrev,AnnoPonte-UltimoAnnoRTP,1))))/$D390,\n\nIF(AND(M$4-UltimoAnnoRTP>$D390,M$4-AnnoPonte<=$D390),\n(SUM($F407:M407)+SUM(IFERROR(OFFSET(INDIRECT($F390 & \"inv\"),0,3+(M$4-UltimoAnnoRTP-$D390),1,(IF(EsistePrev,AnnoPonte-UltimoAnnoRTP,1)-(M$4-UltimoAnnoRTP-$D390))),0))\n-SUM($F408:M408)-SUM(IFERROR(OFFSET(INDIRECT($F390 & \"dism\"),0,3+(M$4-UltimoAnnoRTP-$D390),1,(IF(EsistePrev,AnnoPonte-UltimoAnnoRTP,1)-(M$4-UltimoAnnoRTP-$D390))),0)))/$D390,\n\n(SUM(OFFSET(M407,0,-$D390+1,1,$D390))\n-SUM(OFFSET(M408,0,-$D390+1,1,$D390)))/$D390)))","v":0},{"$f":"MIN(O406,IF(N$4-UltimoAnnoRTP<=$D390,\n(SUM($F407:N407)+SUM(OFFSET(INDIRECT($F390 & \"inv\"),0,3,1,IF(EsistePrev,AnnoPonte-UltimoAnnoRTP,1)))\n-SUM($F408:N408)-SUM(OFFSET(INDIRECT($F390 & \"dism\"),0,3,1,IF(EsistePrev,AnnoPonte-UltimoAnnoRTP,1))))/$D390,\n\nIF(AND(N$4-UltimoAnnoRTP>$D390,N$4-AnnoPonte<=$D390),\n(SUM($F407:N407)+SUM(IFERROR(OFFSET(INDIRECT($F390 & \"inv\"),0,3+(N$4-UltimoAnnoRTP-$D390),1,(IF(EsistePrev,AnnoPonte-UltimoAnnoRTP,1)-(N$4-UltimoAnnoRTP-$D390))),0))\n-SUM($F408:N408)-SUM(IFERROR(OFFSET(INDIRECT($F390 & \"dism\"),0,3+(N$4-UltimoAnnoRTP-$D390),1,(IF(EsistePrev,AnnoPonte-UltimoAnnoRTP,1)-(N$4-UltimoAnnoRTP-$D390))),0)))/$D390,\n\n(SUM(OFFSET(N407,0,-$D390+1,1,$D390))\n-SUM(OFFSET(N408,0,-$D390+1,1,$D390)))/$D390)))","v":20},{"$f":"MIN(P406,IF(O$4-UltimoAnnoRTP<=$D390,\n(SUM($F407:O407)+SUM(OFFSET(INDIRECT($F390 & \"inv\"),0,3,1,IF(EsistePrev,AnnoPonte-UltimoAnnoRTP,1)))\n-SUM($F408:O408)-SUM(OFFSET(INDIRECT($F390 & \"dism\"),0,3,1,IF(EsistePrev,AnnoPonte-UltimoAnnoRTP,1))))/$D390,\n\nIF(AND(O$4-UltimoAnnoRTP>$D390,O$4-AnnoPonte<=$D390),\n(SUM($F407:O407)+SUM(IFERROR(OFFSET(INDIRECT($F390 & \"inv\"),0,3+(O$4-UltimoAnnoRTP-$D390),1,(IF(EsistePrev,AnnoPonte-UltimoAnnoRTP,1)-(O$4-UltimoAnnoRTP-$D390))),0))\n-SUM($F408:O408)-SUM(IFERROR(OFFSET(INDIRECT($F390 & \"dism\"),0,3+(O$4-UltimoAnnoRTP-$D390),1,(IF(EsistePrev,AnnoPonte-UltimoAnnoRTP,1)-(O$4-UltimoAnnoRTP-$D390))),0)))/$D390,\n\n(SUM(OFFSET(O407,0,-$D390+1,1,$D390))\n-SUM(OFFSET(O408,0,-$D390+1,1,$D390)))/$D390)))","v":20},{"$f":"MIN(Q406,IF(P$4-UltimoAnnoRTP<=$D390,\n(SUM($F407:P407)+SUM(OFFSET(INDIRECT($F390 & \"inv\"),0,3,1,IF(EsistePrev,AnnoPonte-UltimoAnnoRTP,1)))\n-SUM($F408:P408)-SUM(OFFSET(INDIRECT($F390 & \"dism\"),0,3,1,IF(EsistePrev,AnnoPonte-UltimoAnnoRTP,1))))/$D390,\n\nIF(AND(P$4-UltimoAnnoRTP>$D390,P$4-AnnoPonte<=$D390),\n(SUM($F407:P407)+SUM(IFERROR(OFFSET(INDIRECT($F390 & \"inv\"),0,3+(P$4-UltimoAnnoRTP-$D390),1,(IF(EsistePrev,AnnoPonte-UltimoAnnoRTP,1)-(P$4-UltimoAnnoRTP-$D390))),0))\n-SUM($F408:P408)-SUM(IFERROR(OFFSET(INDIRECT($F390 & \"dism\"),0,3+(P$4-UltimoAnnoRTP-$D390),1,(IF(EsistePrev,AnnoPonte-UltimoAnnoRTP,1)-(P$4-UltimoAnnoRTP-$D390))),0)))/$D390,\n\n(SUM(OFFSET(P407,0,-$D390+1,1,$D390))\n-SUM(OFFSET(P408,0,-$D390+1,1,$D390)))/$D390)))","v":20},{"$f":"MIN(R406,IF(Q$4-UltimoAnnoRTP<=$D390,\n(SUM($F407:Q407)+SUM(OFFSET(INDIRECT($F390 & \"inv\"),0,3,1,IF(EsistePrev,AnnoPonte-UltimoAnnoRTP,1)))\n-SUM($F408:Q408)-SUM(OFFSET(INDIRECT($F390 & \"dism\"),0,3,1,IF(EsistePrev,AnnoPonte-UltimoAnnoRTP,1))))/$D390,\n\nIF(AND(Q$4-UltimoAnnoRTP>$D390,Q$4-AnnoPonte<=$D390),\n(SUM($F407:Q407)+SUM(IFERROR(OFFSET(INDIRECT($F390 & \"inv\"),0,3+(Q$4-UltimoAnnoRTP-$D390),1,(IF(EsistePrev,AnnoPonte-UltimoAnnoRTP,1)-(Q$4-UltimoAnnoRTP-$D390))),0))\n-SUM($F408:Q408)-SUM(IFERROR(OFFSET(INDIRECT($F390 & \"dism\"),0,3+(Q$4-UltimoAnnoRTP-$D390),1,(IF(EsistePrev,AnnoPonte-UltimoAnnoRTP,1)-(Q$4-UltimoAnnoRTP-$D390))),0)))/$D390,\n\n(SUM(OFFSET(Q407,0,-$D390+1,1,$D390))\n-SUM(OFFSET(Q408,0,-$D390+1,1,$D390)))/$D390)))","v":20},{"$f":"MIN(S406,IF(R$4-UltimoAnnoRTP<=$D390,\n(SUM($F407:R407)+SUM(OFFSET(INDIRECT($F390 & \"inv\"),0,3,1,IF(EsistePrev,AnnoPonte-UltimoAnnoRTP,1)))\n-SUM($F408:R408)-SUM(OFFSET(INDIRECT($F390 & \"dism\"),0,3,1,IF(EsistePrev,AnnoPonte-UltimoAnnoRTP,1))))/$D390,\n\nIF(AND(R$4-UltimoAnnoRTP>$D390,R$4-AnnoPonte<=$D390),\n(SUM($F407:R407)+SUM(IFERROR(OFFSET(INDIRECT($F390 & \"inv\"),0,3+(R$4-UltimoAnnoRTP-$D390),1,(IF(EsistePrev,AnnoPonte-UltimoAnnoRTP,1)-(R$4-UltimoAnnoRTP-$D390))),0))\n-SUM($F408:R408)-SUM(IFERROR(OFFSET(INDIRECT($F390 & \"dism\"),0,3+(R$4-UltimoAnnoRTP-$D390),1,(IF(EsistePrev,AnnoPonte-UltimoAnnoRTP,1)-(R$4-UltimoAnnoRTP-$D390))),0)))/$D390,\n\n(SUM(OFFSET(R407,0,-$D390+1,1,$D390))\n-SUM(OFFSET(R408,0,-$D390+1,1,$D390)))/$D390)))","v":20}]
[null,null,"CIN investimenti (lordo contributi, netto dismissioni) eop (amm. a vite utili)",null,null,{"$f":"OFFSET(INDIRECT($F390 & \"inv\"),3,2+AnnoPonte-UltimoAnnoRTP,1,1)","v":0},{"$f":"G406+G407-G408-G409","v":0},0,0,0,0,0,0,400,380,360,340,320,280]
[null,null,"Remunerazione CIN investimenti",null,null,null,{"$f":"(G406-F412)*G$17*G$10","v":0},{"$f":"(H406-G412)*H$17*H$10","v":0},{"$f":"(I406-H412)*I$17*I$10","v":0},{"$f":"(J406-I412)*J$17*J$10","v":0},{"$f":"(K406-J412)*K$17*K$10","v":0},{"$f":"(L406-K412)*L$17*L$10","v":0},{"$f":"(M406-L412)*M$17*M$10","v":0},{"$f":"(N406-M412)*N$17*N$10","v":0},{"$f":"(O406-N412)*O$17*O$10","v":7.51},{"$f":"(P406-O412)*P$17*P$10","v":6.008},{"$f":"(Q406-P412)*Q$17*Q$10","v":4.5060000000000002},{"$f":"(R406-Q412)*R$17*R$10","v":3.004},{"$f":"(S406-R412)*S$17*S$10","v":1.502}]
[null,null,"Valore di subentro investimenti (lordo contributi) - cumulato",null,null,{"$f":"OFFSET(INDIRECT($F390 & \"inv\"),5,2+AnnoPonte-UltimoAnnoRTP,1,1)","v":0},{"$f":"IF(MAX(-SUM(OFFSET($G408,0,0,1,ScadenzaConcessione-AnnoPonte)),F412+(G407-G408)/$D390*($D390-(ScadenzaConcessione-G$4)))<0,0,MAX(-SUM(OFFSET($G408,0,0,1,ScadenzaConcessione-AnnoPonte)),F412+(G407-G408)/$D390*($D390-(ScadenzaConcessione-G$4))))","v":0},{"$f":"IF(MAX(-SUM(OFFSET($G408,0,0,1,ScadenzaConcessione-AnnoPonte)),G412+(H407-H408)/$D390*($D390-(ScadenzaConcessione-H$4)))<0,0,MAX(-SUM(OFFSET($G408,0,0,1,ScadenzaConcessione-AnnoPonte)),G412+(H407-H408)/$D390*($D390-(ScadenzaConcessione-H$4))))","v":0},{"$f":"IF(MAX(-SUM(OFFSET($G408,0,0,1,ScadenzaConcessione-AnnoPonte)),H412+(I407-I408)/$D390*($D390-(ScadenzaConcessione-I$4)))<0,0,MAX(-SUM(OFFSET($G408,0,0,1,ScadenzaConcessione-AnnoPonte)),H412+(I407-I408)/$D390*($D390-(ScadenzaConcessione-I$4))))","v":0},{"$f":"IF(MAX(-SUM(OFFSET($G408,0,0,1,ScadenzaConcessione-AnnoPonte)),I412+(J407-J408)/$D390*($D390-(ScadenzaConcessione-J$4)))<0,0,MAX(-SUM(OFFSET($G408,0,0,1,ScadenzaConcessione-AnnoPonte)),I412+(J407-J408)/$D390*($D390-(ScadenzaConcessione-J$4))))","v":0},{"$f":"IF(MAX(-SUM(OFFSET($G408,0,0,1,ScadenzaConcessione-AnnoPonte)),J412+(K407-K408)/$D390*($D390-(ScadenzaConcessione-K$4)))<0,0,MAX(-SUM(OFFSET($G408,0,0,1,ScadenzaConcessione-AnnoPonte)),J412+(K407-K408)/$D390*($D390-(ScadenzaConcessione-K$4))))","v":0},{"$f":"IF(MAX(-SUM(OFFSET($G408,0,0,1,ScadenzaConcessione-AnnoPonte)),K412+(L407-L408)/$D390*($D390-(ScadenzaConcessione-L$4)))<0,0,MAX(-SUM(OFFSET($G408,0,0,1,ScadenzaConcessione-AnnoPonte)),K412+(L407-L408)/$D390*($D390-(ScadenzaConcessione-L$4))))","v":0},{"$f":"IF(MAX(-SUM(OFFSET($G408,0,0,1,ScadenzaConcessione-AnnoPonte)),L412+(M407-M408)/$D390*($D390-(ScadenzaConcessione-M$4)))<0,0,MAX(-SUM(OFFSET($G408,0,0,1,ScadenzaConcessione-AnnoPonte)),L412+(M407-M408)/$D390*($D390-(ScadenzaConcessione-M$4))))","v":0},{"$f":"IF(MAX(-SUM(OFFSET($G408,0,0,1,ScadenzaConcessione-AnnoPonte)),M412+(N407-N408)/$D390*($D390-(ScadenzaConcessione-N$4)))<0,0,MAX(-SUM(OFFSET($G408,0,0,1,ScadenzaConcessione-AnnoPonte)),M412+(N407-N408)/$D390*($D390-(ScadenzaConcessione-N$4))))","v":300},{"$f":"IF(MAX(-SUM(OFFSET($G408,0,0,1,ScadenzaConcessione-AnnoPonte)),N412+(O407-O408)/$D390*($D390-(ScadenzaConcessione-O$4)))<0,0,MAX(-SUM(OFFSET($G408,0,0,1,ScadenzaConcessione-AnnoPonte)),N412+(O407-O408)/$D390*($D390-(ScadenzaConcessione-O$4))))","v":300},{"$f":"IF(MAX(-SUM(OFFSET($G408,0,0,1,ScadenzaConcessione-AnnoPonte)),O412+(P407-P408)/$D390*($D390-(ScadenzaConcessione-P$4)))<0,0,MAX(-SUM(OFFSET($G408,0,0,1,ScadenzaConcessione-AnnoPonte)),O412+(P407-P408)/$D390*($D390-(ScadenzaConcessione-P$4))))","v":300},{"$f":"IF(MAX(-SUM(OFFSET($G408,0,0,1,ScadenzaConcessione-AnnoPonte)),P412+(Q407-Q408)/$D390*($D390-(ScadenzaConcessione-Q$4)))<0,0,MAX(-SUM(OFFSET($G408,0,0,1,ScadenzaConcessione-AnnoPonte)),P412+(Q407-Q408)/$D390*($D390-(ScadenzaConcessione-Q$4))))","v":300},{"$f":"IF(MAX(-SUM(OFFSET($G408,0,0,1,ScadenzaConcessione-AnnoPonte)),Q412+(R407-R408)/$D390*($D390-(ScadenzaConcessione-R$4)))<0,0,MAX(-SUM(OFFSET($G408,0,0,1,ScadenzaConcessione-AnnoPonte)),Q412+(R407-R408)/$D390*($D390-(ScadenzaConcessione-R$4))))","v":300},{"$f":"IF(MAX(-SUM(OFFSET($G408,0,0,1,ScadenzaConcessione-AnnoPonte)),R412+(S407-S408)/$D390*($D390-(ScadenzaConcessione-S$4)))<0,0,MAX(-SUM(OFFSET($G408,0,0,1,ScadenzaConcessione-AnnoPonte)),R412+(S407-S408)/$D390*($D390-(ScadenzaConcessione-S$4))))","v":280}]
[null,null,"Remunerazione valore di subentro CIN investimenti",null,null,null,{"$f":"F412*G$19*G$10","v":0},{"$f":"G412*H$19*H$10","v":0},0,0,0,0,0,0,22.53,22.53,22.53,22.53,22.53]
[]
[null,null,"CIN contributi bop (amm. a vite utili)",null,"precedenti",null,{"$f":"F418","v":0},{"$f":"G418","v":0},{"$f":"H418","v":0},{"$f":"I418","v":0},{"$f":"J418","v":0},{"$f":"K418","v":0},{"$f":"L418","v":0},{"$f":"M418","v":-40},{"$f":"N418","v":-38},{"$f":"O418","v":-36},{"$f":"P418","v":-34},{"$f":"Q418","v":-32},{"$f":"R418","v":-30}]
[null,null,"contributi annui (amm. a vite utili)",null,{"$f":"-SUM(OFFSET(INDIRECT($F390 & \"contr\"),0,3,1,IF(EsistePrev,AnnoPonte-UltimoAnnoRTP,1)))","v":0},null,{"$f":"-SUMIFS(\n'Z0.6.b ProgInvest_Contr agg'!Z:Z,\n'Z0.6.b ProgInvest_Contr agg'!$K:$K,$C390,\n'Z0.6.b ProgInvest_Contr agg'!$M:$M,$D$145,\n'Z0.6.b ProgInvest_Contr agg'!$L:$L,\"in corso\",\n'Z0.6.b ProgInvest_Contr agg'!$O:$O,\"vite utili 1\")\n-SUMIFS(\n'Z0.6.b ProgInvest_Contr agg'!Z:Z,\n'Z0.6.b ProgInvest_Contr agg'!$K:$K,$C390,\n'Z0.6.b ProgInvest_Contr agg'!$M:$M,$D$145,\n'Z0.6.b ProgInvest_Contr agg'!$L:$L,\"in corso\",\n'Z0.6.b ProgInvest_Contr agg'!$O:$O,\"vite utili 2\")","v":0},{"$f":"-SUMIFS(\n'Z0.6.b ProgInvest_Contr agg'!AA:AA,\n'Z0.6.b ProgInvest_Contr agg'!$K:$K,$C390,\n'Z0.6.b ProgInvest_Contr agg'!$M:$M,$D$145,\n'Z0.6.b ProgInvest_Contr agg'!$L:$L,\"in corso\",\n'Z0.6.b ProgInvest_Contr agg'!$O:$O,\"vite utili 1\")\n-SUMIFS(\n'Z0.6.b ProgInvest_Contr agg'!AA:AA,\n'Z0.6.b ProgInvest_Contr agg'!$K:$K,$C390,\n'Z0.6.b ProgInvest_Contr agg'!$M:$M,$D$145,\n'Z0.6.b ProgInvest_Contr agg'!$L:$L,\"in corso\",\n'Z0.6.b ProgInvest_Contr agg'!$O:$O,\"vite utili 2\")","v":0},{"$f":"-SUMIFS(\n'Z0.6.b ProgInvest_Contr agg'!AB:AB,\n'Z0.6.b ProgInvest_Contr agg'!$K:$K,$C390,\n'Z0.6.b ProgInvest_Contr agg'!$M:$M,$D$145,\n'Z0.6.b ProgInvest_Contr agg'!$L:$L,\"in corso\",\n'Z0.6.b ProgInvest_Contr agg'!$O:$O,\"vite utili 1\")\n-SUMIFS(\n'Z0.6.b ProgInvest_Contr agg'!AB:AB,\n'Z0.6.b ProgInvest_Contr agg'!$K:$K,$C390,\n'Z0.6.b ProgInvest_Contr agg'!$M:$M,$D$145,\n'Z0.6.b ProgInvest_Contr agg'!$L:$L,\"in corso\",\n'Z0.6.b ProgInvest_Contr agg'!$O:$O,\"vite utili 2\")","v":0},{"$f":"-SUMIFS(\n'Z0.6.b ProgInvest_Contr agg'!AC:AC,\n'Z0.6.b ProgInvest_Contr agg'!$K:$K,$C390,\n'Z0.6.b ProgInvest_Contr agg'!$M:$M,$D$145,\n'Z0.6.b ProgInvest_Contr agg'!$L:$L,\"in corso\",\n'Z0.6.b ProgInvest_Contr agg'!$O:$O,\"vite utili 1\")\n-SUMIFS(\n'Z0.6.b ProgInvest_Contr agg'!AC:AC,\n'Z0.6.b ProgInvest_Contr agg'!$K:$K,$C390,\n'Z0.6.b ProgInvest_Contr agg'!$M:$M,$D$145,\n'Z0.6.b ProgInvest_Contr agg'!$L:$L,\"in corso\",\n'Z0.6.b ProgInvest_Contr agg'!$O:$O,\"vite utili 2\")","v":0},{"$f":"-SUMIFS(\n'Z0.6.b ProgInvest_Contr agg'!AD:AD,\n'Z0.6.b ProgInvest_Contr agg'!$K:$K,$C390,\n'Z0.6.b ProgInvest_Contr agg'!$M:$M,$D$145,\n'Z0.6.b ProgInvest_Contr agg'!$L:$L,\"in corso\",\n'Z0.6.b ProgInvest_Contr agg'!$O:$O,\"vite utili 1\")\n-SUMIFS(\n'Z0.6.b ProgInvest_Contr agg'!AD:AD,\n'Z0.6.b ProgInvest_Contr agg'!$K:$K,$C390,\n'Z0.6.b ProgInvest_Contr agg'!$M:$M,$D$145,\n'Z0.6.b ProgInvest_Contr agg'!$L:$L,\"in corso\",\n'Z0.6.b ProgInvest_Contr agg'!$O:$O,\"vite utili 2\")","v":0},{"$f":"-SUMIFS(\n'Z0.6.b ProgInvest_Contr agg'!AE:AE,\n'Z0.6.b ProgInvest_Contr agg'!$K:$K,$C390,\n'Z0.6.b ProgInvest_Contr agg'!$M:$M,$D$145,\n'Z0.6.b ProgInvest_Contr agg'!$L:$L,\"in corso\",\n'Z0.6.b ProgInvest_Contr agg'!$O:$O,\"vite utili 1\")\n-SUMIFS(\n'Z0.6.b ProgInvest_Contr agg'!AE:AE,\n'Z0.6.b ProgInvest_Contr agg'!$K:$K,$C390,\n'Z0.6.b ProgInvest_Contr agg'!$M:$M,$D$145,\n'Z0.6.b ProgInvest_Contr agg'!$L:$L,\"in corso\",\n'Z0.6.b ProgInvest_Contr agg'!$O:$O,\"vite utili 2\")","v":0},{"$f":"-SUMIFS(\n'Z0.6.b ProgInvest_Contr agg'!AF:AF,\n'Z0.6.b ProgInvest_Contr agg'!$K:$K,$C390,\n'Z0.6.b ProgInvest_Contr agg'!$M:$M,$D$145,\n'Z0.6.b ProgInvest_Contr agg'!$L:$L,\"in corso\",\n'Z0.6.b ProgInvest_Contr agg'!$O:$O,\"vite utili 1\")\n-SUMIFS(\n'Z0.6.b ProgInvest_Contr agg'!AF:AF,\n'Z0.6.b ProgInvest_Contr agg'!$K:$K,$C390,\n'Z0.6.b ProgInvest_Contr agg'!$M:$M,$D$145,\n'Z0.6.b ProgInvest_Contr agg'!$L:$L,\"in corso\",\n'Z0.6.b ProgInvest_Contr agg'!$O:$O,\"vite utili 2\")","v":-40},{"$f":"-SUMIFS(\n'Z0.6.b ProgInvest_Contr agg'!AG:AG,\n'Z0.6.b ProgInvest_Contr agg'!$K:$K,$C390,\n'Z0.6.b ProgInvest_Contr agg'!$M:$M,$D$145,\n'Z0.6.b ProgInvest_Contr agg'!$L:$L,\"in corso\",\n'Z0.6.b ProgInvest_Contr agg'!$O:$O,\"vite utili 1\")\n-SUMIFS(\n'Z0.6.b ProgInvest_Contr agg'!AG:AG,\n'Z0.6.b ProgInvest_Contr agg'!$K:$K,$C390,\n'Z0.6.b ProgInvest_Contr agg'!$M:$M,$D$145,\n'Z0.6.b ProgInvest_Contr agg'!$L:$L,\"in corso\",\n'Z0.6.b ProgInvest_Contr agg'!$O:$O,\"vite utili 2\")","v":0},{"$f":"-SUMIFS(\n'Z0.6.b ProgInvest_Contr agg'!AH:AH,\n'Z0.6.b ProgInvest_Contr agg'!$K:$K,$C390,\n'Z0.6.b ProgInvest_Contr agg'!$M:$M,$D$145,\n'Z0.6.b ProgInvest_Contr agg'!$L:$L,\"in corso\",\n'Z0.6.b ProgInvest_Contr agg'!$O:$O,\"vite utili 1\")\n-SUMIFS(\n'Z0.6.b ProgInvest_Contr agg'!AH:AH,\n'Z0.6.b ProgInvest_Contr agg'!$K:$K,$C390,\n'Z0.6.b ProgInvest_Contr agg'!$M:$M,$D$145,\n'Z0.6.b ProgInvest_Contr agg'!$L:$L,\"in corso\",\n'Z0.6.b ProgInvest_Contr agg'!$O:$O,\"vite utili 2\")","v":0},{"$f":"-SUMIFS(\n'Z0.6.b ProgInvest_Contr agg'!AI:AI,\n'Z0.6.b ProgInvest_Contr agg'!$K:$K,$C390,\n'Z0.6.b ProgInvest_Contr agg'!$M:$M,$D$145,\n'Z0.6.b ProgInvest_Contr agg'!$L:$L,\"in corso\",\n'Z0.6.b ProgInvest_Contr agg'!$O:$O,\"vite utili 1\")\n-SUMIFS(\n'Z0.6.b ProgInvest_Contr agg'!AI:AI,\n'Z0.6.b ProgInvest_Contr agg'!$K:$K,$C390,\n'Z0.6.b ProgInvest_Contr agg'!$M:$M,$D$145,\n'Z0.6.b ProgInvest_Contr agg'!$L:$L,\"in corso\",\n'Z0.6.b ProgInvest_Contr agg'!$O:$O,\"vite utili 2\")","v":0},{"$f":"-SUMIFS(\n'Z0.6.b ProgInvest_Contr agg'!AJ:AJ,\n'Z0.6.b ProgInvest_Contr agg'!$K:$K,$C390,\n'Z0.6.b ProgInvest_Contr agg'!$M:$M,$D$145,\n'Z0.6.b ProgInvest_Contr agg'!$L:$L,\"in corso\",\n'Z0.6.b ProgInvest_Contr agg'!$O:$O,\"vite utili 1\")\n-SUMIFS(\n'Z0.6.b ProgInvest_Contr agg'!AJ:AJ,\n'Z0.6.b ProgInvest_Contr agg'!$K:$K,$C390,\n'Z0.6.b ProgInvest_Contr agg'!$M:$M,$D$145,\n'Z0.6.b ProgInvest_Contr agg'!$L:$L,\"in corso\",\n'Z0.6.b ProgInvest_Contr agg'!$O:$O,\"vite utili 2\")","v":0},{"$f":"-SUMIFS(\n'Z0.6.b ProgInvest_Contr agg'!AK:AK,\n'Z0.6.b ProgInvest_Contr agg'!$K:$K,$C390,\n'Z0.6.b ProgInvest_Contr agg'!$M:$M,$D$145,\n'Z0.6.b ProgInvest_Contr agg'!$L:$L,\"in corso\",\n'Z0.6.b ProgInvest_Contr agg'!$O:$O,\"vite utili 1\")\n-SUMIFS(\n'Z0.6.b ProgInvest_Contr agg'!AK:AK,\n'Z0.6.b ProgInvest_Contr agg'!$K:$K,$C390,\n'Z0.6.b ProgInvest_Contr agg'!$M:$M,$D$145,\n'Z0.6.b ProgInvest_Contr agg'!$L:$L,\"in corso\",\n'Z0.6.b ProgInvest_Contr agg'!$O:$O,\"vite utili 2\")","v":0},{"$f":"-SUMIFS(\n'Z0.6.b ProgInvest_Contr agg'!AL:AL,\n'Z0.6.b ProgInvest_Contr agg'!$K:$K,$C390,\n'Z0.6.b ProgInvest_Contr agg'!$M:$M,$D$145,\n'Z0.6.b ProgInvest_Contr agg'!$L:$L,\"in corso\",\n'Z0.6.b ProgInvest_Contr agg'!$O:$O,\"vite utili 1\")\n-SUMIFS(\n'Z0.6.b ProgInvest_Contr agg'!AL:AL,\n'Z0.6.b ProgInvest_Contr agg'!$K:$K,$C390,\n'Z0.6.b ProgInvest_Contr agg'!$M:$M,$D$145,\n'Z0.6.b ProgInvest_Contr agg'!$L:$L,\"in corso\",\n'Z0.6.b ProgInvest_Contr agg'!$O:$O,\"vite utili 2\")","v":0}]
[null,null,"Ammortamento contributi (amm. a vite utili)",null,{"$f":"-SUM(OFFSET(INDIRECT($F390 & \"contr\"),1,3,1,IF(EsistePrev,AnnoPonte-UltimoAnnoRTP,1)))","v":0},null,{"$f":"IF(F$4-UltimoAnnoRTP<=$D390,\n(SUM($F416:F416)-SUM(OFFSET(INDIRECT($F390 & \"contr\"),0,3,1,IF(EsistePrev,AnnoPonte-UltimoAnnoRTP,1)))\n)/$D390,\n\nIF(AND(F$4-UltimoAnnoRTP>$D390,F$4-AnnoPonte<=$D390),\n(SUM($F416:F416)-SUM(IFERROR(OFFSET(INDIRECT($F390 & \"contr\"),0,3+(F$4-UltimoAnnoRTP-$D390),1,(IF(EsistePrev,AnnoPonte-UltimoAnnoRTP,1)-(F$4-UltimoAnnoRTP-$D390))),0))\n)/$D390,\n\n(SUM(OFFSET(F416,0,-$D390+1,1,$D390))\n)/$D390))","v":0},{"$f":"IF(G$4-UltimoAnnoRTP<=$D390,\n(SUM($F416:G416)-SUM(OFFSET(INDIRECT($F390 & \"contr\"),0,3,1,IF(EsistePrev,AnnoPonte-UltimoAnnoRTP,1)))\n)/$D390,\n\nIF(AND(G$4-UltimoAnnoRTP>$D390,G$4-AnnoPonte<=$D390),\n(SUM($F416:G416)-SUM(IFERROR(OFFSET(INDIRECT($F390 & \"contr\"),0,3+(G$4-UltimoAnnoRTP-$D390),1,(IF(EsistePrev,AnnoPonte-UltimoAnnoRTP,1)-(G$4-UltimoAnnoRTP-$D390))),0))\n)/$D390,\n\n(SUM(OFFSET(G416,0,-$D390+1,1,$D390))\n)/$D390))","v":0},{"$f":"IF(H$4-UltimoAnnoRTP<=$D390,\n(SUM($F416:H416)-SUM(OFFSET(INDIRECT($F390 & \"contr\"),0,3,1,IF(EsistePrev,AnnoPonte-UltimoAnnoRTP,1)))\n)/$D390,\n\nIF(AND(H$4-UltimoAnnoRTP>$D390,H$4-AnnoPonte<=$D390),\n(SUM($F416:H416)-SUM(IFERROR(OFFSET(INDIRECT($F390 & \"contr\"),0,3+(H$4-UltimoAnnoRTP-$D390),1,(IF(EsistePrev,AnnoPonte-UltimoAnnoRTP,1)-(H$4-UltimoAnnoRTP-$D390))),0))\n)/$D390,\n\n(SUM(OFFSET(H416,0,-$D390+1,1,$D390))\n)/$D390))","v":0},{"$f":"IF(I$4-UltimoAnnoRTP<=$D390,\n(SUM($F416:I416)-SUM(OFFSET(INDIRECT($F390 & \"contr\"),0,3,1,IF(EsistePrev,AnnoPonte-UltimoAnnoRTP,1)))\n)/$D390,\n\nIF(AND(I$4-UltimoAnnoRTP>$D390,I$4-AnnoPonte<=$D390),\n(SUM($F416:I416)-SUM(IFERROR(OFFSET(INDIRECT($F390 & \"contr\"),0,3+(I$4-UltimoAnnoRTP-$D390),1,(IF(EsistePrev,AnnoPonte-UltimoAnnoRTP,1)-(I$4-UltimoAnnoRTP-$D390))),0))\n)/$D390,\n\n(SUM(OFFSET(I416,0,-$D390+1,1,$D390))\n)/$D390))","v":0},{"$f":"IF(J$4-UltimoAnnoRTP<=$D390,\n(SUM($F416:J416)-SUM(OFFSET(INDIRECT($F390 & \"contr\"),0,3,1,IF(EsistePrev,AnnoPonte-UltimoAnnoRTP,1)))\n)/$D390,\n\nIF(AND(J$4-UltimoAnnoRTP>$D390,J$4-AnnoPonte<=$D390),\n(SUM($F416:J416)-SUM(IFERROR(OFFSET(INDIRECT($F390 & \"contr\"),0,3+(J$4-UltimoAnnoRTP-$D390),1,(IF(EsistePrev,AnnoPonte-UltimoAnnoRTP,1)-(J$4-UltimoAnnoRTP-$D390))),0))\n)/$D390,\n\n(SUM(OFFSET(J416,0,-$D390+1,1,$D390))\n)/$D390))","v":0},{"$f":"IF(K$4-UltimoAnnoRTP<=$D390,\n(SUM($F416:K416)-SUM(OFFSET(INDIRECT($F390 & \"contr\"),0,3,1,IF(EsistePrev,AnnoPonte-UltimoAnnoRTP,1)))\n)/$D390,\n\nIF(AND(K$4-UltimoAnnoRTP>$D390,K$4-AnnoPonte<=$D390),\n(SUM($F416:K416)-SUM(IFERROR(OFFSET(INDIRECT($F390 & \"contr\"),0,3+(K$4-UltimoAnnoRTP-$D390),1,(IF(EsistePrev,AnnoPonte-UltimoAnnoRTP,1)-(K$4-UltimoAnnoRTP-$D390))),0))\n)/$D390,\n\n(SUM(OFFSET(K416,0,-$D390+1,1,$D390))\n)/$D390))","v":0},{"$f":"IF(L$4-UltimoAnnoRTP<=$D390,\n(SUM($F416:L416)-SUM(OFFSET(INDIRECT($F390 & \"contr\"),0,3,1,IF(EsistePrev,AnnoPonte-UltimoAnnoRTP,1)))\n)/$D390,\n\nIF(AND(L$4-UltimoAnnoRTP>$D390,L$4-AnnoPonte<=$D390),\n(SUM($F416:L416)-SUM(IFERROR(OFFSET(INDIRECT($F390 & \"contr\"),0,3+(L$4-UltimoAnnoRTP-$D390),1,(IF(EsistePrev,AnnoPonte-UltimoAnnoRTP,1)-(L$4-UltimoAnnoRTP-$D390))),0))\n)/$D390,\n\n(SUM(OFFSET(L416,0,-$D390+1,1,$D390))\n)/$D390))","v":0},{"$f":"IF(M$4-UltimoAnnoRTP<=$D390,\n(SUM($F416:M416)-SUM(OFFSET(INDIRECT($F390 & \"contr\"),0,3,1,IF(EsistePrev,AnnoPonte-UltimoAnnoRTP,1)))\n)/$D390,\n\nIF(AND(M$4-UltimoAnnoRTP>$D390,M$4-AnnoPonte<=$D390),\n(SUM($F416:M416)-SUM(IFERROR(OFFSET(INDIRECT($F390 & \"contr\"),0,3+(M$4-UltimoAnnoRTP-$D390),1,(IF(EsistePrev,AnnoPonte-UltimoAnnoRTP,1)-(M$4-UltimoAnnoRTP-$D390))),0))\n)/$D390,\n\n(SUM(OFFSET(M416,0,-$D390+1,1,$D390))\n)/$D390))","v":-2},{"$f":"IF(N$4-UltimoAnnoRTP<=$D390,\n(SUM($F416:N416)-SUM(OFFSET(INDIRECT($F390 & \"contr\"),0,3,1,IF(EsistePrev,AnnoPonte-UltimoAnnoRTP,1)))\n)/$D390,\n\nIF(AND(N$4-UltimoAnnoRTP>$D390,N$4-AnnoPonte<=$D390),\n(SUM($F416:N416)-SUM(IFERROR(OFFSET(INDIRECT($F390 & \"contr\"),0,3+(N$4-UltimoAnnoRTP-$D390),1,(IF(EsistePrev,AnnoPonte-UltimoAnnoRTP,1)-(N$4-UltimoAnnoRTP-$D390))),0))\n)/$D390,\n\n(SUM(OFFSET(N416,0,-$D390+1,1,$D390))\n)/$D390))","v":-2},{"$f":"IF(O$4-UltimoAnnoRTP<=$D390,\n(SUM($F416:O416)-SUM(OFFSET(INDIRECT($F390 & \"contr\"),0,3,1,IF(EsistePrev,AnnoPonte-UltimoAnnoRTP,1)))\n)/$D390,\n\nIF(AND(O$4-UltimoAnnoRTP>$D390,O$4-AnnoPonte<=$D390),\n(SUM($F416:O416)-SUM(IFERROR(OFFSET(INDIRECT($F390 & \"contr\"),0,3+(O$4-UltimoAnnoRTP-$D390),1,(IF(EsistePrev,AnnoPonte-UltimoAnnoRTP,1)-(O$4-UltimoAnnoRTP-$D390))),0))\n)/$D390,\n\n(SUM(OFFSET(O416,0,-$D390+1,1,$D390))\n)/$D390))","v":-2},{"$f":"IF(P$4-UltimoAnnoRTP<=$D390,\n(SUM($F416:P416)-SUM(OFFSET(INDIRECT($F390 & \"contr\"),0,3,1,IF(EsistePrev,AnnoPonte-UltimoAnnoRTP,1)))\n)/$D390,\n\nIF(AND(P$4-UltimoAnnoRTP>$D390,P$4-AnnoPonte<=$D390),\n(SUM($F416:P416)-SUM(IFERROR(OFFSET(INDIRECT($F390 & \"contr\"),0,3+(P$4-UltimoAnnoRTP-$D390),1,(IF(EsistePrev,AnnoPonte-UltimoAnnoRTP,1)-(P$4-UltimoAnnoRTP-$D390))),0))\n)/$D390,\n\n(SUM(OFFSET(P416,0,-$D390+1,1,$D390))\n)/$D390))","v":-2},{"$f":"IF(Q$4-UltimoAnnoRTP<=$D390,\n(SUM($F416:Q416)-SUM(OFFSET(INDIRECT($F390 & \"contr\"),0,3,1,IF(EsistePrev,AnnoPonte-UltimoAnnoRTP,1)))\n)/$D390,\n\nIF(AND(Q$4-UltimoAnnoRTP>$D390,Q$4-AnnoPonte<=$D390),\n(SUM($F416:Q416)-SUM(IFERROR(OFFSET(INDIRECT($F390 & \"contr\"),0,3+(Q$4-UltimoAnnoRTP-$D390),1,(IF(EsistePrev,AnnoPonte-UltimoAnnoRTP,1)-(Q$4-UltimoAnnoRTP-$D390))),0))\n)/$D390,\n\n(SUM(OFFSET(Q416,0,-$D390+1,1,$D390))\n)/$D390))","v":-2},{"$f":"IF(R$4-UltimoAnnoRTP<=$D390,\n(SUM($F416:R416)-SUM(OFFSET(INDIRECT($F390 & \"contr\"),0,3,1,IF(EsistePrev,AnnoPonte-UltimoAnnoRTP,1)))\n)/$D390,\n\nIF(AND(R$4-UltimoAnnoRTP>$D390,R$4-AnnoPonte<=$D390),\n(SUM($F416:R416)-SUM(IFERROR(OFFSET(INDIRECT($F390 & \"contr\"),0,3+(R$4-UltimoAnnoRTP-$D390),1,(IF(EsistePrev,AnnoPonte-UltimoAnnoRTP,1)-(R$4-UltimoAnnoRTP-$D390))),0))\n)/$D390,\n\n(SUM(OFFSET(R416,0,-$D390+1,1,$D390))\n)/$D390))","v":-2}]
[null,null,"CIN contributi eop (amm. a vite utili)",null,null,{"$f":"-OFFSET(INDIRECT($F390 & \"contr\"),2,2+AnnoPonte-UltimoAnnoRTP,1,1)","v":0},{"$f":"G415+G416-G417","v":0},0,0,0,0,0,-40,-38,-36,-34,-32,-30,-28]
[null,null,"Remunerazione CIN contributi",null,null,null,{"$f":"(G415-F420)*G$17*G$10","v":0},{"$f":"(H415-G420)*H$17*H$10","v":0},{"$f":"(I415-H420)*I$17*I$10","v":0},{"$f":"(J415-I420)*J$17*J$10","v":0},{"$f":"(K415-J420)*K$17*K$10","v":0},{"$f":"(L415-K420)*L$17*L$10","v":0},{"$f":"(M415-L420)*M$17*M$10","v":0},{"$f":"(N415-M420)*N$17*N$10","v":-0.9012},{"$f":"(O415-N420)*O$17*O$10","v":-0.751},{"$f":"(P415-O420)*P$17*P$10","v":-0.6008},{"$f":"(Q415-P420)*Q$17*Q$10","v":-0.4506},{"$f":"(R415-Q420)*R$17*R$10","v":-0.3004},{"$f":"(S415-R420)*S$17*S$10","v":-0.1502}]
[null,null,"Valore di subentro contributi - cumulato",null,null,{"$f":"-OFFSET(INDIRECT($F390 & \"contr\"),4,2+AnnoPonte-UltimoAnnoRTP,1,1)","v":0},{"$f":"MIN(0,F420+(G416)/$D390*($D390-(ScadenzaConcessione-G$4)))","v":0},{"$f":"MIN(0,G420+(H416)/$D390*($D390-(ScadenzaConcessione-H$4)))","v":0},{"$f":"MIN(0,H420+(I416)/$D390*($D390-(ScadenzaConcessione-I$4)))","v":0},{"$f":"MIN(0,I420+(J416)/$D390*($D390-(ScadenzaConcessione-J$4)))","v":0},{"$f":"MIN(0,J420+(K416)/$D390*($D390-(ScadenzaConcessione-K$4)))","v":0},{"$f":"MIN(0,K420+(L416)/$D390*($D390-(ScadenzaConcessione-L$4)))","v":0},{"$f":"MIN(0,L420+(M416)/$D390*($D390-(ScadenzaConcessione-M$4)))","v":-28},{"$f":"MIN(0,M420+(N416)/$D390*($D390-(ScadenzaConcessione-N$4)))","v":-28},{"$f":"MIN(0,N420+(O416)/$D390*($D390-(ScadenzaConcessione-O$4)))","v":-28},{"$f":"MIN(0,O420+(P416)/$D390*($D390-(ScadenzaConcessione-P$4)))","v":-28},{"$f":"MIN(0,P420+(Q416)/$D390*($D390-(ScadenzaConcessione-Q$4)))","v":-28},{"$f":"MIN(0,Q420+(R416)/$D390*($D390-(ScadenzaConcessione-R$4)))","v":-28},{"$f":"MIN(0,R420+(S416)/$D390*($D390-(ScadenzaConcessione-S$4)))","v":-28}]
[null,null,"Remunerazione valore di subentro CIN contributi ",null,null,null,{"$f":"F420*G$19*G$10","v":0},{"$f":"G420*H$19*H$10","v":0},0,0,0,0,0,-2.1028000000000002,-2.1028000000000002,-2.1028000000000002,-2.1028000000000002,-2.1028000000000002,-2.1028000000000002]
[]
[null,null,"Check - TIR di progetto"]
[null,null,"Cash out investimenti",null,null,{"$f":"-(F395+F402+F410+F418)","v":0},{"$f":"-(G393+G400-G408+G416)","v":0},{"$f":"-(H393+H400-H408+H416)","v":0},0,0,0,0,-160,-200,0,0,0,0,20]
[null,null,"Cash in valore di subentro",null,null,null,{"$f":"IF(G$4=ScadenzaConcessione,G396+G412+G420,\"\")","v":""},"","","","","","","","","","","",{"$f":"IF(S$4=ScadenzaConcessione,S396+S403+S412+S420,\"\")","v":252}]
[null,null,"Cash in ammortamenti",null,null,null,{"$f":"G409+G417","v":0},0,0,0,0,0,0,-2,18,18,18,18,18]
[null,null,"Cash in remunerazioni (annualizzato)",null,null,null,{"$f":"(G397+G404+G411+G413+G419+G421)/G$10","v":0},{"$f":"(H397+H404+H411+H413+H419+H421)/H$10","v":0},0,0,0,0,0,8.8559999999999999,27.186199999999999,25.834400000000002,24.482599999999998,23.130800000000001,21.778999999999996]
[null,null,"Cash flow",null,null,{"$f":"SUM(F424:F427)","v":0},0,{"$f":"SUM(H424:H427)","v":0},0,0,0,0,-160,-193.14400000000001,45.186199999999999,43.834400000000002,42.482599999999998,41.130800000000001,311.779]
[null,null,"Tasso interno di rendimento",null,null,{"$f":"IFERROR(IRR(OFFSET(F428,0,0,1,ScadenzaConcessione-AnnoPonte+1)),\"non calc.\")","v":7.298816823714338E-2}]
[null,null,"VAN",null,{"$f":"WACC","v":7.51E-2},{"$f":"NPV(E430,OFFSET(F428,0,0,1,ScadenzaConcessione-AnnoPonte+1))","v":-1.6468245244991417}]
[]
[null,null,"Pavimentazioni",{"$f":"VLOOKUP(C432,'C3 Tk Supporto'!C:E,2,0)","v":20},"vita utile","VU07"]
[]
[null,null,"LIC livello 1 - bop",null,null,null,{"$f":"F437","v":0},{"$f":"G437","v":0},{"$f":"H437","v":0},{"$f":"I437","v":0},{"$f":"J437","v":0},{"$f":"K437","v":0},{"$f":"L437","v":0},{"$f":"M437","v":0},{"$f":"N437","v":100},{"$f":"O437","v":0},{"$f":"P437","v":0},{"$f":"Q437","v":0},{"$f":"R437","v":0}]
[null,null,"Investimenti in corso aggiuntivi",null,null,null,{"$f":"SUMIFS(\n'Z0.6.a ProgInvest_Spesa agg'!Z:Z,\n'Z0.6.a ProgInvest_Spesa agg'!$K:$K,$C432,\n'Z0.6.a ProgInvest_Spesa agg'!$M:$M,$D$145,\n'Z0.6.a ProgInvest_Spesa agg'!$L:$L,\"in corso\",\n'Z0.6.a ProgInvest_Spesa agg'!$O:$O,\"vite utili 1\")","v":0},{"$f":"SUMIFS(\n'Z0.6.a ProgInvest_Spesa agg'!AA:AA,\n'Z0.6.a ProgInvest_Spesa agg'!$K:$K,$C432,\n'Z0.6.a ProgInvest_Spesa agg'!$M:$M,$D$145,\n'Z0.6.a ProgInvest_Spesa agg'!$L:$L,\"in corso\",\n'Z0.6.a ProgInvest_Spesa agg'!$O:$O,\"vite utili 1\")","v":0},{"$f":"SUMIFS(\n'Z0.6.a ProgInvest_Spesa agg'!AB:AB,\n'Z0.6.a ProgInvest_Spesa agg'!$K:$K,$C432,\n'Z0.6.a ProgInvest_Spesa agg'!$M:$M,$D$145,\n'Z0.6.a ProgInvest_Spesa agg'!$L:$L,\"in corso\",\n'Z0.6.a ProgInvest_Spesa agg'!$O:$O,\"vite utili 1\")","v":0},{"$f":"SUMIFS(\n'Z0.6.a ProgInvest_Spesa agg'!AC:AC,\n'Z0.6.a ProgInvest_Spesa agg'!$K:$K,$C432,\n'Z0.6.a ProgInvest_Spesa agg'!$M:$M,$D$145,\n'Z0.6.a ProgInvest_Spesa agg'!$L:$L,\"in corso\",\n'Z0.6.a ProgInvest_Spesa agg'!$O:$O,\"vite utili 1\")","v":0},{"$f":"SUMIFS(\n'Z0.6.a ProgInvest_Spesa agg'!AD:AD,\n'Z0.6.a ProgInvest_Spesa agg'!$K:$K,$C432,\n'Z0.6.a ProgInvest_Spesa agg'!$M:$M,$D$145,\n'Z0.6.a ProgInvest_Spesa agg'!$L:$L,\"in corso\",\n'Z0.6.a ProgInvest_Spesa agg'!$O:$O,\"vite utili 1\")","v":0},{"$f":"SUMIFS(\n'Z0.6.a ProgInvest_Spesa agg'!AE:AE,\n'Z0.6.a ProgInvest_Spesa agg'!$K:$K,$C432,\n'Z0.6.a ProgInvest_Spesa agg'!$M:$M,$D$145,\n'Z0.6.a ProgInvest_Spesa agg'!$L:$L,\"in corso\",\n'Z0.6.a ProgInvest_Spesa agg'!$O:$O,\"vite utili 1\")","v":0},{"$f":"SUMIFS(\n'Z0.6.a ProgInvest_Spesa agg'!AF:AF,\n'Z0.6.a ProgInvest_Spesa agg'!$K:$K,$C432,\n'Z0.6.a ProgInvest_Spesa agg'!$M:$M,$D$145,\n'Z0.6.a ProgInvest_Spesa agg'!$L:$L,\"in corso\",\n'Z0.6.a ProgInvest_Spesa agg'!$O:$O,\"vite utili 1\")","v":0},{"$f":"SUMIFS(\n'Z0.6.a ProgInvest_Spesa agg'!AG:AG,\n'Z0.6.a ProgInvest_Spesa agg'!$K:$K,$C432,\n'Z0.6.a ProgInvest_Spesa agg'!$M:$M,$D$145,\n'Z0.6.a ProgInvest_Spesa agg'!$L:$L,\"in corso\",\n'Z0.6.a ProgInvest_Spesa agg'!$O:$O,\"vite utili 1\")","v":100},{"$f":"SUMIFS(\n'Z0.6.a ProgInvest_Spesa agg'!AH:AH,\n'Z0.6.a ProgInvest_Spesa agg'!$K:$K,$C432,\n'Z0.6.a ProgInvest_Spesa agg'!$M:$M,$D$145,\n'Z0.6.a ProgInvest_Spesa agg'!$L:$L,\"in corso\",\n'Z0.6.a ProgInvest_Spesa agg'!$O:$O,\"vite utili 1\")","v":100},{"$f":"SUMIFS(\n'Z0.6.a ProgInvest_Spesa agg'!AI:AI,\n'Z0.6.a ProgInvest_Spesa agg'!$K:$K,$C432,\n'Z0.6.a ProgInvest_Spesa agg'!$M:$M,$D$145,\n'Z0.6.a ProgInvest_Spesa agg'!$L:$L,\"in corso\",\n'Z0.6.a ProgInvest_Spesa agg'!$O:$O,\"vite utili 1\")","v":0},{"$f":"SUMIFS(\n'Z0.6.a ProgInvest_Spesa agg'!AJ:AJ,\n'Z0.6.a ProgInvest_Spesa agg'!$K:$K,$C432,\n'Z0.6.a ProgInvest_Spesa agg'!$M:$M,$D$145,\n'Z0.6.a ProgInvest_Spesa agg'!$L:$L,\"in corso\",\n'Z0.6.a ProgInvest_Spesa agg'!$O:$O,\"vite utili 1\")","v":0},{"$f":"SUMIFS(\n'Z0.6.a ProgInvest_Spesa agg'!AK:AK,\n'Z0.6.a ProgInvest_Spesa agg'!$K:$K,$C432,\n'Z0.6.a ProgInvest_Spesa agg'!$M:$M,$D$145,\n'Z0.6.a ProgInvest_Spesa agg'!$L:$L,\"in corso\",\n'Z0.6.a ProgInvest_Spesa agg'!$O:$O,\"vite utili 1\")","v":0},{"$f":"SUMIFS(\n'Z0.6.a ProgInvest_Spesa agg'!AL:AL,\n'Z0.6.a ProgInvest_Spesa agg'!$K:$K,$C432,\n'Z0.6.a ProgInvest_Spesa agg'!$M:$M,$D$145,\n'Z0.6.a ProgInvest_Spesa agg'!$L:$L,\"in corso\",\n'Z0.6.a ProgInvest_Spesa agg'!$O:$O,\"vite utili 1\")","v":0}]
[null,null,"Investimenti in corso cessanti (entrata in esercizio)",null,null,null,{"$f":"-SUMIFS(\n'Z0.6.a ProgInvest_Spesa agg'!$S:$S,\n'Z0.6.a ProgInvest_Spesa agg'!$K:$K,$C432,\n'Z0.6.a ProgInvest_Spesa agg'!$M:$M,$D$145,\n'Z0.6.a ProgInvest_Spesa agg'!$L:$L,\"in corso\",\n'Z0.6.a ProgInvest_Spesa agg'!$O:$O,\"vite utili 1\",\n'Z0.6.a ProgInvest_Spesa agg'!$P:$P,G$4)","v":0},{"$f":"-SUMIFS(\n'Z0.6.a ProgInvest_Spesa agg'!$S:$S,\n'Z0.6.a ProgInvest_Spesa agg'!$K:$K,$C432,\n'Z0.6.a ProgInvest_Spesa agg'!$M:$M,$D$145,\n'Z0.6.a ProgInvest_Spesa agg'!$L:$L,\"in corso\",\n'Z0.6.a ProgInvest_Spesa agg'!$O:$O,\"vite utili 1\",\n'Z0.6.a ProgInvest_Spesa agg'!$P:$P,H$4)","v":0},{"$f":"-SUMIFS(\n'Z0.6.a ProgInvest_Spesa agg'!$S:$S,\n'Z0.6.a ProgInvest_Spesa agg'!$K:$K,$C432,\n'Z0.6.a ProgInvest_Spesa agg'!$M:$M,$D$145,\n'Z0.6.a ProgInvest_Spesa agg'!$L:$L,\"in corso\",\n'Z0.6.a ProgInvest_Spesa agg'!$O:$O,\"vite utili 1\",\n'Z0.6.a ProgInvest_Spesa agg'!$P:$P,I$4)","v":0},{"$f":"-SUMIFS(\n'Z0.6.a ProgInvest_Spesa agg'!$S:$S,\n'Z0.6.a ProgInvest_Spesa agg'!$K:$K,$C432,\n'Z0.6.a ProgInvest_Spesa agg'!$M:$M,$D$145,\n'Z0.6.a ProgInvest_Spesa agg'!$L:$L,\"in corso\",\n'Z0.6.a ProgInvest_Spesa agg'!$O:$O,\"vite utili 1\",\n'Z0.6.a ProgInvest_Spesa agg'!$P:$P,J$4)","v":0},{"$f":"-SUMIFS(\n'Z0.6.a ProgInvest_Spesa agg'!$S:$S,\n'Z0.6.a ProgInvest_Spesa agg'!$K:$K,$C432,\n'Z0.6.a ProgInvest_Spesa agg'!$M:$M,$D$145,\n'Z0.6.a ProgInvest_Spesa agg'!$L:$L,\"in corso\",\n'Z0.6.a ProgInvest_Spesa agg'!$O:$O,\"vite utili 1\",\n'Z0.6.a ProgInvest_Spesa agg'!$P:$P,K$4)","v":0},{"$f":"-SUMIFS(\n'Z0.6.a ProgInvest_Spesa agg'!$S:$S,\n'Z0.6.a ProgInvest_Spesa agg'!$K:$K,$C432,\n'Z0.6.a ProgInvest_Spesa agg'!$M:$M,$D$145,\n'Z0.6.a ProgInvest_Spesa agg'!$L:$L,\"in corso\",\n'Z0.6.a ProgInvest_Spesa agg'!$O:$O,\"vite utili 1\",\n'Z0.6.a ProgInvest_Spesa agg'!$P:$P,L$4)","v":0},{"$f":"-SUMIFS(\n'Z0.6.a ProgInvest_Spesa agg'!$S:$S,\n'Z0.6.a ProgInvest_Spesa agg'!$K:$K,$C432,\n'Z0.6.a ProgInvest_Spesa agg'!$M:$M,$D$145,\n'Z0.6.a ProgInvest_Spesa agg'!$L:$L,\"in corso\",\n'Z0.6.a ProgInvest_Spesa agg'!$O:$O,\"vite utili 1\",\n'Z0.6.a ProgInvest_Spesa agg'!$P:$P,M$4)","v":0},{"$f":"-SUMIFS(\n'Z0.6.a ProgInvest_Spesa agg'!$S:$S,\n'Z0.6.a ProgInvest_Spesa agg'!$K:$K,$C432,\n'Z0.6.a ProgInvest_Spesa agg'!$M:$M,$D$145,\n'Z0.6.a ProgInvest_Spesa agg'!$L:$L,\"in corso\",\n'Z0.6.a ProgInvest_Spesa agg'!$O:$O,\"vite utili 1\",\n'Z0.6.a ProgInvest_Spesa agg'!$P:$P,N$4)","v":0},{"$f":"-SUMIFS(\n'Z0.6.a ProgInvest_Spesa agg'!$S:$S,\n'Z0.6.a ProgInvest_Spesa agg'!$K:$K,$C432,\n'Z0.6.a ProgInvest_Spesa agg'!$M:$M,$D$145,\n'Z0.6.a ProgInvest_Spesa agg'!$L:$L,\"in corso\",\n'Z0.6.a ProgInvest_Spesa agg'!$O:$O,\"vite utili 1\",\n'Z0.6.a ProgInvest_Spesa agg'!$P:$P,O$4)","v":-200},{"$f":"-SUMIFS(\n'Z0.6.a ProgInvest_Spesa agg'!$S:$S,\n'Z0.6.a ProgInvest_Spesa agg'!$K:$K,$C432,\n'Z0.6.a ProgInvest_Spesa agg'!$M:$M,$D$145,\n'Z0.6.a ProgInvest_Spesa agg'!$L:$L,\"in corso\",\n'Z0.6.a ProgInvest_Spesa agg'!$O:$O,\"vite utili 1\",\n'Z0.6.a ProgInvest_Spesa agg'!$P:$P,P$4)","v":0},{"$f":"-SUMIFS(\n'Z0.6.a ProgInvest_Spesa agg'!$S:$S,\n'Z0.6.a ProgInvest_Spesa agg'!$K:$K,$C432,\n'Z0.6.a ProgInvest_Spesa agg'!$M:$M,$D$145,\n'Z0.6.a ProgInvest_Spesa agg'!$L:$L,\"in corso\",\n'Z0.6.a ProgInvest_Spesa agg'!$O:$O,\"vite utili 1\",\n'Z0.6.a ProgInvest_Spesa agg'!$P:$P,Q$4)","v":0},{"$f":"-SUMIFS(\n'Z0.6.a ProgInvest_Spesa agg'!$S:$S,\n'Z0.6.a ProgInvest_Spesa agg'!$K:$K,$C432,\n'Z0.6.a ProgInvest_Spesa agg'!$M:$M,$D$145,\n'Z0.6.a ProgInvest_Spesa agg'!$L:$L,\"in corso\",\n'Z0.6.a ProgInvest_Spesa agg'!$O:$O,\"vite utili 1\",\n'Z0.6.a ProgInvest_Spesa agg'!$P:$P,R$4)","v":0},{"$f":"-SUMIFS(\n'Z0.6.a ProgInvest_Spesa agg'!$S:$S,\n'Z0.6.a ProgInvest_Spesa agg'!$K:$K,$C432,\n'Z0.6.a ProgInvest_Spesa agg'!$M:$M,$D$145,\n'Z0.6.a ProgInvest_Spesa agg'!$L:$L,\"in corso\",\n'Z0.6.a ProgInvest_Spesa agg'!$O:$O,\"vite utili 1\",\n'Z0.6.a ProgInvest_Spesa agg'!$P:$P,S$4)","v":0}]
[null,null,"LIC livello 1 - eop",null,null,{"$f":"OFFSET(INDIRECT($F432 & \"inv\"),-10,2+AnnoPonte-UltimoAnnoRTP,1,1)","v":0},{"$f":"G434+G435+G436","v":0},0,0,0,0,0,0,100,0,0,0,0,0]
[null,null,"Valore di subentro LIC",null,null,null,{"$f":"IF(G$4=ScadenzaConcessione,G437,0)","v":0},0,0,0,0,0,0,0,0,0,0,0,0]
[null,null,"Remunerazione LIC",null,null,null,{"$f":"G434*G$17*G$10","v":0},{"$f":"H434*H$17*H$10","v":0},0,0,0,0,0,0,7.51,0,0,0,0]
[]
[null,null,"LIC livello 2 - bop",null,null,null,{"$f":"F444","v":0},{"$f":"G444","v":0},{"$f":"H444","v":0},{"$f":"I444","v":0},{"$f":"J444","v":0},{"$f":"K444","v":0},{"$f":"L444","v":0},{"$f":"M444","v":0},{"$f":"N444","v":100},{"$f":"O444","v":0},{"$f":"P444","v":0},{"$f":"Q444","v":0},{"$f":"R444","v":0}]
[null,null,"Investimenti in corso aggiuntivi",null,null,null,{"$f":"SUMIFS(\n'Z0.6.a ProgInvest_Spesa agg'!Z:Z,\n'Z0.6.a ProgInvest_Spesa agg'!$K:$K,$C432,\n'Z0.6.a ProgInvest_Spesa agg'!$M:$M,$D$145,\n'Z0.6.a ProgInvest_Spesa agg'!$L:$L,\"in corso\",\n'Z0.6.a ProgInvest_Spesa agg'!$O:$O,\"vite utili 2\")","v":0},{"$f":"SUMIFS(\n'Z0.6.a ProgInvest_Spesa agg'!AA:AA,\n'Z0.6.a ProgInvest_Spesa agg'!$K:$K,$C432,\n'Z0.6.a ProgInvest_Spesa agg'!$M:$M,$D$145,\n'Z0.6.a ProgInvest_Spesa agg'!$L:$L,\"in corso\",\n'Z0.6.a ProgInvest_Spesa agg'!$O:$O,\"vite utili 2\")","v":0},{"$f":"SUMIFS(\n'Z0.6.a ProgInvest_Spesa agg'!AB:AB,\n'Z0.6.a ProgInvest_Spesa agg'!$K:$K,$C432,\n'Z0.6.a ProgInvest_Spesa agg'!$M:$M,$D$145,\n'Z0.6.a ProgInvest_Spesa agg'!$L:$L,\"in corso\",\n'Z0.6.a ProgInvest_Spesa agg'!$O:$O,\"vite utili 2\")","v":0},{"$f":"SUMIFS(\n'Z0.6.a ProgInvest_Spesa agg'!AC:AC,\n'Z0.6.a ProgInvest_Spesa agg'!$K:$K,$C432,\n'Z0.6.a ProgInvest_Spesa agg'!$M:$M,$D$145,\n'Z0.6.a ProgInvest_Spesa agg'!$L:$L,\"in corso\",\n'Z0.6.a ProgInvest_Spesa agg'!$O:$O,\"vite utili 2\")","v":0},{"$f":"SUMIFS(\n'Z0.6.a ProgInvest_Spesa agg'!AD:AD,\n'Z0.6.a ProgInvest_Spesa agg'!$K:$K,$C432,\n'Z0.6.a ProgInvest_Spesa agg'!$M:$M,$D$145,\n'Z0.6.a ProgInvest_Spesa agg'!$L:$L,\"in corso\",\n'Z0.6.a ProgInvest_Spesa agg'!$O:$O,\"vite utili 2\")","v":0},{"$f":"SUMIFS(\n'Z0.6.a ProgInvest_Spesa agg'!AE:AE,\n'Z0.6.a ProgInvest_Spesa agg'!$K:$K,$C432,\n'Z0.6.a ProgInvest_Spesa agg'!$M:$M,$D$145,\n'Z0.6.a ProgInvest_Spesa agg'!$L:$L,\"in corso\",\n'Z0.6.a ProgInvest_Spesa agg'!$O:$O,\"vite utili 2\")","v":0},{"$f":"SUMIFS(\n'Z0.6.a ProgInvest_Spesa agg'!AF:AF,\n'Z0.6.a ProgInvest_Spesa agg'!$K:$K,$C432,\n'Z0.6.a ProgInvest_Spesa agg'!$M:$M,$D$145,\n'Z0.6.a ProgInvest_Spesa agg'!$L:$L,\"in corso\",\n'Z0.6.a ProgInvest_Spesa agg'!$O:$O,\"vite utili 2\")","v":0},{"$f":"SUMIFS(\n'Z0.6.a ProgInvest_Spesa agg'!AG:AG,\n'Z0.6.a ProgInvest_Spesa agg'!$K:$K,$C432,\n'Z0.6.a ProgInvest_Spesa agg'!$M:$M,$D$145,\n'Z0.6.a ProgInvest_Spesa agg'!$L:$L,\"in corso\",\n'Z0.6.a ProgInvest_Spesa agg'!$O:$O,\"vite utili 2\")","v":100},{"$f":"SUMIFS(\n'Z0.6.a ProgInvest_Spesa agg'!AH:AH,\n'Z0.6.a ProgInvest_Spesa agg'!$K:$K,$C432,\n'Z0.6.a ProgInvest_Spesa agg'!$M:$M,$D$145,\n'Z0.6.a ProgInvest_Spesa agg'!$L:$L,\"in corso\",\n'Z0.6.a ProgInvest_Spesa agg'!$O:$O,\"vite utili 2\")","v":100},{"$f":"SUMIFS(\n'Z0.6.a ProgInvest_Spesa agg'!AI:AI,\n'Z0.6.a ProgInvest_Spesa agg'!$K:$K,$C432,\n'Z0.6.a ProgInvest_Spesa agg'!$M:$M,$D$145,\n'Z0.6.a ProgInvest_Spesa agg'!$L:$L,\"in corso\",\n'Z0.6.a ProgInvest_Spesa agg'!$O:$O,\"vite utili 2\")","v":0},{"$f":"SUMIFS(\n'Z0.6.a ProgInvest_Spesa agg'!AJ:AJ,\n'Z0.6.a ProgInvest_Spesa agg'!$K:$K,$C432,\n'Z0.6.a ProgInvest_Spesa agg'!$M:$M,$D$145,\n'Z0.6.a ProgInvest_Spesa agg'!$L:$L,\"in corso\",\n'Z0.6.a ProgInvest_Spesa agg'!$O:$O,\"vite utili 2\")","v":0},{"$f":"SUMIFS(\n'Z0.6.a ProgInvest_Spesa agg'!AK:AK,\n'Z0.6.a ProgInvest_Spesa agg'!$K:$K,$C432,\n'Z0.6.a ProgInvest_Spesa agg'!$M:$M,$D$145,\n'Z0.6.a ProgInvest_Spesa agg'!$L:$L,\"in corso\",\n'Z0.6.a ProgInvest_Spesa agg'!$O:$O,\"vite utili 2\")","v":0},{"$f":"SUMIFS(\n'Z0.6.a ProgInvest_Spesa agg'!AL:AL,\n'Z0.6.a ProgInvest_Spesa agg'!$K:$K,$C432,\n'Z0.6.a ProgInvest_Spesa agg'!$M:$M,$D$145,\n'Z0.6.a ProgInvest_Spesa agg'!$L:$L,\"in corso\",\n'Z0.6.a ProgInvest_Spesa agg'!$O:$O,\"vite utili 2\")","v":0}]
[null,null,"Investimenti in corso cessanti (entrata in esercizio)",null,null,null,{"$f":"-SUMIFS(\n'Z0.6.a ProgInvest_Spesa agg'!$S:$S,\n'Z0.6.a ProgInvest_Spesa agg'!$K:$K,$C432,\n'Z0.6.a ProgInvest_Spesa agg'!$M:$M,$D$145,\n'Z0.6.a ProgInvest_Spesa agg'!$L:$L,\"in corso\",\n'Z0.6.a ProgInvest_Spesa agg'!$O:$O,\"vite utili 2\",\n'Z0.6.a ProgInvest_Spesa agg'!$P:$P,G$4)","v":0},{"$f":"-SUMIFS(\n'Z0.6.a ProgInvest_Spesa agg'!$S:$S,\n'Z0.6.a ProgInvest_Spesa agg'!$K:$K,$C432,\n'Z0.6.a ProgInvest_Spesa agg'!$M:$M,$D$145,\n'Z0.6.a ProgInvest_Spesa agg'!$L:$L,\"in corso\",\n'Z0.6.a ProgInvest_Spesa agg'!$O:$O,\"vite utili 2\",\n'Z0.6.a ProgInvest_Spesa agg'!$P:$P,H$4)","v":0},{"$f":"-SUMIFS(\n'Z0.6.a ProgInvest_Spesa agg'!$S:$S,\n'Z0.6.a ProgInvest_Spesa agg'!$K:$K,$C432,\n'Z0.6.a ProgInvest_Spesa agg'!$M:$M,$D$145,\n'Z0.6.a ProgInvest_Spesa agg'!$L:$L,\"in corso\",\n'Z0.6.a ProgInvest_Spesa agg'!$O:$O,\"vite utili 2\",\n'Z0.6.a ProgInvest_Spesa agg'!$P:$P,I$4)","v":0},{"$f":"-SUMIFS(\n'Z0.6.a ProgInvest_Spesa agg'!$S:$S,\n'Z0.6.a ProgInvest_Spesa agg'!$K:$K,$C432,\n'Z0.6.a ProgInvest_Spesa agg'!$M:$M,$D$145,\n'Z0.6.a ProgInvest_Spesa agg'!$L:$L,\"in corso\",\n'Z0.6.a ProgInvest_Spesa agg'!$O:$O,\"vite utili 2\",\n'Z0.6.a ProgInvest_Spesa agg'!$P:$P,J$4)","v":0},{"$f":"-SUMIFS(\n'Z0.6.a ProgInvest_Spesa agg'!$S:$S,\n'Z0.6.a ProgInvest_Spesa agg'!$K:$K,$C432,\n'Z0.6.a ProgInvest_Spesa agg'!$M:$M,$D$145,\n'Z0.6.a ProgInvest_Spesa agg'!$L:$L,\"in corso\",\n'Z0.6.a ProgInvest_Spesa agg'!$O:$O,\"vite utili 2\",\n'Z0.6.a ProgInvest_Spesa agg'!$P:$P,K$4)","v":0},{"$f":"-SUMIFS(\n'Z0.6.a ProgInvest_Spesa agg'!$S:$S,\n'Z0.6.a ProgInvest_Spesa agg'!$K:$K,$C432,\n'Z0.6.a ProgInvest_Spesa agg'!$M:$M,$D$145,\n'Z0.6.a ProgInvest_Spesa agg'!$L:$L,\"in corso\",\n'Z0.6.a ProgInvest_Spesa agg'!$O:$O,\"vite utili 2\",\n'Z0.6.a ProgInvest_Spesa agg'!$P:$P,L$4)","v":0},{"$f":"-SUMIFS(\n'Z0.6.a ProgInvest_Spesa agg'!$S:$S,\n'Z0.6.a ProgInvest_Spesa agg'!$K:$K,$C432,\n'Z0.6.a ProgInvest_Spesa agg'!$M:$M,$D$145,\n'Z0.6.a ProgInvest_Spesa agg'!$L:$L,\"in corso\",\n'Z0.6.a ProgInvest_Spesa agg'!$O:$O,\"vite utili 2\",\n'Z0.6.a ProgInvest_Spesa agg'!$P:$P,M$4)","v":0},{"$f":"-SUMIFS(\n'Z0.6.a ProgInvest_Spesa agg'!$S:$S,\n'Z0.6.a ProgInvest_Spesa agg'!$K:$K,$C432,\n'Z0.6.a ProgInvest_Spesa agg'!$M:$M,$D$145,\n'Z0.6.a ProgInvest_Spesa agg'!$L:$L,\"in corso\",\n'Z0.6.a ProgInvest_Spesa agg'!$O:$O,\"vite utili 2\",\n'Z0.6.a ProgInvest_Spesa agg'!$P:$P,N$4)","v":0},{"$f":"-SUMIFS(\n'Z0.6.a ProgInvest_Spesa agg'!$S:$S,\n'Z0.6.a ProgInvest_Spesa agg'!$K:$K,$C432,\n'Z0.6.a ProgInvest_Spesa agg'!$M:$M,$D$145,\n'Z0.6.a ProgInvest_Spesa agg'!$L:$L,\"in corso\",\n'Z0.6.a ProgInvest_Spesa agg'!$O:$O,\"vite utili 2\",\n'Z0.6.a ProgInvest_Spesa agg'!$P:$P,O$4)","v":-200},{"$f":"-SUMIFS(\n'Z0.6.a ProgInvest_Spesa agg'!$S:$S,\n'Z0.6.a ProgInvest_Spesa agg'!$K:$K,$C432,\n'Z0.6.a ProgInvest_Spesa agg'!$M:$M,$D$145,\n'Z0.6.a ProgInvest_Spesa agg'!$L:$L,\"in corso\",\n'Z0.6.a ProgInvest_Spesa agg'!$O:$O,\"vite utili 2\",\n'Z0.6.a ProgInvest_Spesa agg'!$P:$P,P$4)","v":0},{"$f":"-SUMIFS(\n'Z0.6.a ProgInvest_Spesa agg'!$S:$S,\n'Z0.6.a ProgInvest_Spesa agg'!$K:$K,$C432,\n'Z0.6.a ProgInvest_Spesa agg'!$M:$M,$D$145,\n'Z0.6.a ProgInvest_Spesa agg'!$L:$L,\"in corso\",\n'Z0.6.a ProgInvest_Spesa agg'!$O:$O,\"vite utili 2\",\n'Z0.6.a ProgInvest_Spesa agg'!$P:$P,Q$4)","v":0},{"$f":"-SUMIFS(\n'Z0.6.a ProgInvest_Spesa agg'!$S:$S,\n'Z0.6.a ProgInvest_Spesa agg'!$K:$K,$C432,\n'Z0.6.a ProgInvest_Spesa agg'!$M:$M,$D$145,\n'Z0.6.a ProgInvest_Spesa agg'!$L:$L,\"in corso\",\n'Z0.6.a ProgInvest_Spesa agg'!$O:$O,\"vite utili 2\",\n'Z0.6.a ProgInvest_Spesa agg'!$P:$P,R$4)","v":0},{"$f":"-SUMIFS(\n'Z0.6.a ProgInvest_Spesa agg'!$S:$S,\n'Z0.6.a ProgInvest_Spesa agg'!$K:$K,$C432,\n'Z0.6.a ProgInvest_Spesa agg'!$M:$M,$D$145,\n'Z0.6.a ProgInvest_Spesa agg'!$L:$L,\"in corso\",\n'Z0.6.a ProgInvest_Spesa agg'!$O:$O,\"vite utili 2\",\n'Z0.6.a ProgInvest_Spesa agg'!$P:$P,S$4)","v":0}]
[null,null,"LIC livello 2 - eop",null,null,{"$f":"OFFSET(INDIRECT($F432 & \"inv\"),-4,2+AnnoPonte-UltimoAnnoRTP,1,1)","v":0},{"$f":"G441+G442+G443","v":0},0,0,0,0,0,0,100,0,0,0,0,0]
[null,null,"Valore di subentro LIC",null,null,null,{"$f":"IF(G$4=ScadenzaConcessione,G444,0)","v":0},0,0,0,0,0,0,0,0,0,0,0,0]
[null,null,"Remunerazione LIC",null,null,null,{"$f":"G441*G$20*G$10","v":0},0,0,0,0,0,0,0,4.3499999999999996,0,0,0,0]
[]
[null,null,"CIN investimenti (lordo contributi e subentro, netto dismissioni) bop (amm. a vite utili)",null,"precedenti",null,{"$f":"F452","v":0},{"$f":"G452","v":0},{"$f":"H452","v":0},{"$f":"I452","v":0},{"$f":"J452","v":0},{"$f":"K452","v":0},{"$f":"L452","v":0},{"$f":"M452","v":0},{"$f":"N452","v":0},{"$f":"O452","v":400},{"$f":"P452","v":380},{"$f":"Q452","v":360},{"$f":"R452","v":340}]
[null,null,"Investimenti entrati in esercizio (amm.a vite utili)",null,{"$f":"SUM(OFFSET(INDIRECT($F432 & \"inv\"),0,3,1,IF(EsistePrev,AnnoPonte-UltimoAnnoRTP,1)))","v":0},null,{"$f":"-G436-G443","v":0},{"$f":"-H436-H443","v":0},0,0,0,0,0,0,400,0,0,0,0]
[null,null,"Dismissioni",null,{"$f":"-SUM(OFFSET(INDIRECT($F432&\"dism\"),0,3,1,IF(EsistePrev,AnnoPonte-UltimoAnnoRTP,1)))","v":0},null,{"$f":"SUMIFS(\n'Z0.6.c ProgInvest_Dism agg'!Z:Z,\n'Z0.6.c ProgInvest_Dism agg'!$K:$K,$C432,\n'Z0.6.c ProgInvest_Dism agg'!$M:$M,$D$145,\n'Z0.6.c ProgInvest_Dism agg'!$L:$L,\"in corso\",\n'Z0.6.c ProgInvest_Dism agg'!$O:$O,\"vite utili 1\")\n+SUMIFS(\n'Z0.6.c ProgInvest_Dism agg'!Z:Z,\n'Z0.6.c ProgInvest_Dism agg'!$K:$K,$C432,\n'Z0.6.c ProgInvest_Dism agg'!$M:$M,$D$145,\n'Z0.6.c ProgInvest_Dism agg'!$L:$L,\"in corso\",\n'Z0.6.c ProgInvest_Dism agg'!$O:$O,\"vite utili 2\")","v":0},{"$f":"SUMIFS(\n'Z0.6.c ProgInvest_Dism agg'!AA:AA,\n'Z0.6.c ProgInvest_Dism agg'!$K:$K,$C432,\n'Z0.6.c ProgInvest_Dism agg'!$M:$M,$D$145,\n'Z0.6.c ProgInvest_Dism agg'!$L:$L,\"in corso\",\n'Z0.6.c ProgInvest_Dism agg'!$O:$O,\"vite utili 1\")\n+SUMIFS(\n'Z0.6.c ProgInvest_Dism agg'!AA:AA,\n'Z0.6.c ProgInvest_Dism agg'!$K:$K,$C432,\n'Z0.6.c ProgInvest_Dism agg'!$M:$M,$D$145,\n'Z0.6.c ProgInvest_Dism agg'!$L:$L,\"in corso\",\n'Z0.6.c ProgInvest_Dism agg'!$O:$O,\"vite utili 2\")","v":0},{"$f":"SUMIFS(\n'Z0.6.c ProgInvest_Dism agg'!AB:AB,\n'Z0.6.c ProgInvest_Dism agg'!$K:$K,$C432,\n'Z0.6.c ProgInvest_Dism agg'!$M:$M,$D$145,\n'Z0.6.c ProgInvest_Dism agg'!$L:$L,\"in corso\",\n'Z0.6.c ProgInvest_Dism agg'!$O:$O,\"vite utili 1\")\n+SUMIFS(\n'Z0.6.c ProgInvest_Dism agg'!AB:AB,\n'Z0.6.c ProgInvest_Dism agg'!$K:$K,$C432,\n'Z0.6.c ProgInvest_Dism agg'!$M:$M,$D$145,\n'Z0.6.c ProgInvest_Dism agg'!$L:$L,\"in corso\",\n'Z0.6.c ProgInvest_Dism agg'!$O:$O,\"vite utili 2\")","v":0},{"$f":"SUMIFS(\n'Z0.6.c ProgInvest_Dism agg'!AC:AC,\n'Z0.6.c ProgInvest_Dism agg'!$K:$K,$C432,\n'Z0.6.c ProgInvest_Dism agg'!$M:$M,$D$145,\n'Z0.6.c ProgInvest_Dism agg'!$L:$L,\"in corso\",\n'Z0.6.c ProgInvest_Dism agg'!$O:$O,\"vite utili 1\")\n+SUMIFS(\n'Z0.6.c ProgInvest_Dism agg'!AC:AC,\n'Z0.6.c ProgInvest_Dism agg'!$K:$K,$C432,\n'Z0.6.c ProgInvest_Dism agg'!$M:$M,$D$145,\n'Z0.6.c ProgInvest_Dism agg'!$L:$L,\"in corso\",\n'Z0.6.c ProgInvest_Dism agg'!$O:$O,\"vite utili 2\")","v":0},{"$f":"SUMIFS(\n'Z0.6.c ProgInvest_Dism agg'!AD:AD,\n'Z0.6.c ProgInvest_Dism agg'!$K:$K,$C432,\n'Z0.6.c ProgInvest_Dism agg'!$M:$M,$D$145,\n'Z0.6.c ProgInvest_Dism agg'!$L:$L,\"in corso\",\n'Z0.6.c ProgInvest_Dism agg'!$O:$O,\"vite utili 1\")\n+SUMIFS(\n'Z0.6.c ProgInvest_Dism agg'!AD:AD,\n'Z0.6.c ProgInvest_Dism agg'!$K:$K,$C432,\n'Z0.6.c ProgInvest_Dism agg'!$M:$M,$D$145,\n'Z0.6.c ProgInvest_Dism agg'!$L:$L,\"in corso\",\n'Z0.6.c ProgInvest_Dism agg'!$O:$O,\"vite utili 2\")","v":0},{"$f":"SUMIFS(\n'Z0.6.c ProgInvest_Dism agg'!AE:AE,\n'Z0.6.c ProgInvest_Dism agg'!$K:$K,$C432,\n'Z0.6.c ProgInvest_Dism agg'!$M:$M,$D$145,\n'Z0.6.c ProgInvest_Dism agg'!$L:$L,\"in corso\",\n'Z0.6.c ProgInvest_Dism agg'!$O:$O,\"vite utili 1\")\n+SUMIFS(\n'Z0.6.c ProgInvest_Dism agg'!AE:AE,\n'Z0.6.c ProgInvest_Dism agg'!$K:$K,$C432,\n'Z0.6.c ProgInvest_Dism agg'!$M:$M,$D$145,\n'Z0.6.c ProgInvest_Dism agg'!$L:$L,\"in corso\",\n'Z0.6.c ProgInvest_Dism agg'!$O:$O,\"vite utili 2\")","v":0},{"$f":"SUMIFS(\n'Z0.6.c ProgInvest_Dism agg'!AF:AF,\n'Z0.6.c ProgInvest_Dism agg'!$K:$K,$C432,\n'Z0.6.c ProgInvest_Dism agg'!$M:$M,$D$145,\n'Z0.6.c ProgInvest_Dism agg'!$L:$L,\"in corso\",\n'Z0.6.c ProgInvest_Dism agg'!$O:$O,\"vite utili 1\")\n+SUMIFS(\n'Z0.6.c ProgInvest_Dism agg'!AF:AF,\n'Z0.6.c ProgInvest_Dism agg'!$K:$K,$C432,\n'Z0.6.c ProgInvest_Dism agg'!$M:$M,$D$145,\n'Z0.6.c ProgInvest_Dism agg'!$L:$L,\"in corso\",\n'Z0.6.c ProgInvest_Dism agg'!$O:$O,\"vite utili 2\")","v":0},{"$f":"SUMIFS(\n'Z0.6.c ProgInvest_Dism agg'!AG:AG,\n'Z0.6.c ProgInvest_Dism agg'!$K:$K,$C432,\n'Z0.6.c ProgInvest_Dism agg'!$M:$M,$D$145,\n'Z0.6.c ProgInvest_Dism agg'!$L:$L,\"in corso\",\n'Z0.6.c ProgInvest_Dism agg'!$O:$O,\"vite utili 1\")\n+SUMIFS(\n'Z0.6.c ProgInvest_Dism agg'!AG:AG,\n'Z0.6.c ProgInvest_Dism agg'!$K:$K,$C432,\n'Z0.6.c ProgInvest_Dism agg'!$M:$M,$D$145,\n'Z0.6.c ProgInvest_Dism agg'!$L:$L,\"in corso\",\n'Z0.6.c ProgInvest_Dism agg'!$O:$O,\"vite utili 2\")","v":0},{"$f":"SUMIFS(\n'Z0.6.c ProgInvest_Dism agg'!AH:AH,\n'Z0.6.c ProgInvest_Dism agg'!$K:$K,$C432,\n'Z0.6.c ProgInvest_Dism agg'!$M:$M,$D$145,\n'Z0.6.c ProgInvest_Dism agg'!$L:$L,\"in corso\",\n'Z0.6.c ProgInvest_Dism agg'!$O:$O,\"vite utili 1\")\n+SUMIFS(\n'Z0.6.c ProgInvest_Dism agg'!AH:AH,\n'Z0.6.c ProgInvest_Dism agg'!$K:$K,$C432,\n'Z0.6.c ProgInvest_Dism agg'!$M:$M,$D$145,\n'Z0.6.c ProgInvest_Dism agg'!$L:$L,\"in corso\",\n'Z0.6.c ProgInvest_Dism agg'!$O:$O,\"vite utili 2\")","v":0},{"$f":"SUMIFS(\n'Z0.6.c ProgInvest_Dism agg'!AI:AI,\n'Z0.6.c ProgInvest_Dism agg'!$K:$K,$C432,\n'Z0.6.c ProgInvest_Dism agg'!$M:$M,$D$145,\n'Z0.6.c ProgInvest_Dism agg'!$L:$L,\"in corso\",\n'Z0.6.c ProgInvest_Dism agg'!$O:$O,\"vite utili 1\")\n+SUMIFS(\n'Z0.6.c ProgInvest_Dism agg'!AI:AI,\n'Z0.6.c ProgInvest_Dism agg'!$K:$K,$C432,\n'Z0.6.c ProgInvest_Dism agg'!$M:$M,$D$145,\n'Z0.6.c ProgInvest_Dism agg'!$L:$L,\"in corso\",\n'Z0.6.c ProgInvest_Dism agg'!$O:$O,\"vite utili 2\")","v":0},{"$f":"SUMIFS(\n'Z0.6.c ProgInvest_Dism agg'!AJ:AJ,\n'Z0.6.c ProgInvest_Dism agg'!$K:$K,$C432,\n'Z0.6.c ProgInvest_Dism agg'!$M:$M,$D$145,\n'Z0.6.c ProgInvest_Dism agg'!$L:$L,\"in corso\",\n'Z0.6.c ProgInvest_Dism agg'!$O:$O,\"vite utili 1\")\n+SUMIFS(\n'Z0.6.c ProgInvest_Dism agg'!AJ:AJ,\n'Z0.6.c ProgInvest_Dism agg'!$K:$K,$C432,\n'Z0.6.c ProgInvest_Dism agg'!$M:$M,$D$145,\n'Z0.6.c ProgInvest_Dism agg'!$L:$L,\"in corso\",\n'Z0.6.c ProgInvest_Dism agg'!$O:$O,\"vite utili 2\")","v":0},{"$f":"SUMIFS(\n'Z0.6.c ProgInvest_Dism agg'!AK:AK,\n'Z0.6.c ProgInvest_Dism agg'!$K:$K,$C432,\n'Z0.6.c ProgInvest_Dism agg'!$M:$M,$D$145,\n'Z0.6.c ProgInvest_Dism agg'!$L:$L,\"in corso\",\n'Z0.6.c ProgInvest_Dism agg'!$O:$O,\"vite utili 1\")\n+SUMIFS(\n'Z0.6.c ProgInvest_Dism agg'!AK:AK,\n'Z0.6.c ProgInvest_Dism agg'!$K:$K,$C432,\n'Z0.6.c ProgInvest_Dism agg'!$M:$M,$D$145,\n'Z0.6.c ProgInvest_Dism agg'!$L:$L,\"in corso\",\n'Z0.6.c ProgInvest_Dism agg'!$O:$O,\"vite utili 2\")","v":0},{"$f":"SUMIFS(\n'Z0.6.c ProgInvest_Dism agg'!AL:AL,\n'Z0.6.c ProgInvest_Dism agg'!$K:$K,$C432,\n'Z0.6.c ProgInvest_Dism agg'!$M:$M,$D$145,\n'Z0.6.c ProgInvest_Dism agg'!$L:$L,\"in corso\",\n'Z0.6.c ProgInvest_Dism agg'!$O:$O,\"vite utili 1\")\n+SUMIFS(\n'Z0.6.c ProgInvest_Dism agg'!AL:AL,\n'Z0.6.c ProgInvest_Dism agg'!$K:$K,$C432,\n'Z0.6.c ProgInvest_Dism agg'!$M:$M,$D$145,\n'Z0.6.c ProgInvest_Dism agg'!$L:$L,\"in corso\",\n'Z0.6.c ProgInvest_Dism agg'!$O:$O,\"vite utili 2\")","v":20}]
[null,null,"Ammortamento (a vite utili)",null,{"$f":"SUM(OFFSET(INDIRECT($F432 & \"inv\"),2,3,1,IF(EsistePrev,AnnoPonte-UltimoAnnoRTP,1)))","v":0},null,{"$f":"MIN(G448,IF(F$4-UltimoAnnoRTP<=$D432,\n(SUM($F449:F449)+SUM(OFFSET(INDIRECT($F432 & \"inv\"),0,3,1,IF(EsistePrev,AnnoPonte-UltimoAnnoRTP,1)))\n-SUM($F450:F450)-SUM(OFFSET(INDIRECT($F432 & \"dism\"),0,3,1,IF(EsistePrev,AnnoPonte-UltimoAnnoRTP,1))))/$D432,\n\nIF(AND(F$4-UltimoAnnoRTP>$D432,F$4-AnnoPonte<=$D432),\n(SUM($F449:F449)+SUM(IFERROR(OFFSET(INDIRECT($F432 & \"inv\"),0,3+(F$4-UltimoAnnoRTP-$D432),1,(IF(EsistePrev,AnnoPonte-UltimoAnnoRTP,1)-(F$4-UltimoAnnoRTP-$D432))),0))\n-SUM($F450:F450)-SUM(IFERROR(OFFSET(INDIRECT($F432 & \"dism\"),0,3+(F$4-UltimoAnnoRTP-$D432),1,(IF(EsistePrev,AnnoPonte-UltimoAnnoRTP,1)-(F$4-UltimoAnnoRTP-$D432))),0)))/$D432,\n\n(SUM(OFFSET(F449,0,-$D432+1,1,$D432))\n-SUM(OFFSET(F450,0,-$D432+1,1,$D432)))/$D432)))","v":0},{"$f":"MIN(H448,IF(G$4-UltimoAnnoRTP<=$D432,\n(SUM($F449:G449)+SUM(OFFSET(INDIRECT($F432 & \"inv\"),0,3,1,IF(EsistePrev,AnnoPonte-UltimoAnnoRTP,1)))\n-SUM($F450:G450)-SUM(OFFSET(INDIRECT($F432 & \"dism\"),0,3,1,IF(EsistePrev,AnnoPonte-UltimoAnnoRTP,1))))/$D432,\n\nIF(AND(G$4-UltimoAnnoRTP>$D432,G$4-AnnoPonte<=$D432),\n(SUM($F449:G449)+SUM(IFERROR(OFFSET(INDIRECT($F432 & \"inv\"),0,3+(G$4-UltimoAnnoRTP-$D432),1,(IF(EsistePrev,AnnoPonte-UltimoAnnoRTP,1)-(G$4-UltimoAnnoRTP-$D432))),0))\n-SUM($F450:G450)-SUM(IFERROR(OFFSET(INDIRECT($F432 & \"dism\"),0,3+(G$4-UltimoAnnoRTP-$D432),1,(IF(EsistePrev,AnnoPonte-UltimoAnnoRTP,1)-(G$4-UltimoAnnoRTP-$D432))),0)))/$D432,\n\n(SUM(OFFSET(G449,0,-$D432+1,1,$D432))\n-SUM(OFFSET(G450,0,-$D432+1,1,$D432)))/$D432)))","v":0},{"$f":"MIN(I448,IF(H$4-UltimoAnnoRTP<=$D432,\n(SUM($F449:H449)+SUM(OFFSET(INDIRECT($F432 & \"inv\"),0,3,1,IF(EsistePrev,AnnoPonte-UltimoAnnoRTP,1)))\n-SUM($F450:H450)-SUM(OFFSET(INDIRECT($F432 & \"dism\"),0,3,1,IF(EsistePrev,AnnoPonte-UltimoAnnoRTP,1))))/$D432,\n\nIF(AND(H$4-UltimoAnnoRTP>$D432,H$4-AnnoPonte<=$D432),\n(SUM($F449:H449)+SUM(IFERROR(OFFSET(INDIRECT($F432 & \"inv\"),0,3+(H$4-UltimoAnnoRTP-$D432),1,(IF(EsistePrev,AnnoPonte-UltimoAnnoRTP,1)-(H$4-UltimoAnnoRTP-$D432))),0))\n-SUM($F450:H450)-SUM(IFERROR(OFFSET(INDIRECT($F432 & \"dism\"),0,3+(H$4-UltimoAnnoRTP-$D432),1,(IF(EsistePrev,AnnoPonte-UltimoAnnoRTP,1)-(H$4-UltimoAnnoRTP-$D432))),0)))/$D432,\n\n(SUM(OFFSET(H449,0,-$D432+1,1,$D432))\n-SUM(OFFSET(H450,0,-$D432+1,1,$D432)))/$D432)))","v":0},{"$f":"MIN(J448,IF(I$4-UltimoAnnoRTP<=$D432,\n(SUM($F449:I449)+SUM(OFFSET(INDIRECT($F432 & \"inv\"),0,3,1,IF(EsistePrev,AnnoPonte-UltimoAnnoRTP,1)))\n-SUM($F450:I450)-SUM(OFFSET(INDIRECT($F432 & \"dism\"),0,3,1,IF(EsistePrev,AnnoPonte-UltimoAnnoRTP,1))))/$D432,\n\nIF(AND(I$4-UltimoAnnoRTP>$D432,I$4-AnnoPonte<=$D432),\n(SUM($F449:I449)+SUM(IFERROR(OFFSET(INDIRECT($F432 & \"inv\"),0,3+(I$4-UltimoAnnoRTP-$D432),1,(IF(EsistePrev,AnnoPonte-UltimoAnnoRTP,1)-(I$4-UltimoAnnoRTP-$D432))),0))\n-SUM($F450:I450)-SUM(IFERROR(OFFSET(INDIRECT($F432 & \"dism\"),0,3+(I$4-UltimoAnnoRTP-$D432),1,(IF(EsistePrev,AnnoPonte-UltimoAnnoRTP,1)-(I$4-UltimoAnnoRTP-$D432))),0)))/$D432,\n\n(SUM(OFFSET(I449,0,-$D432+1,1,$D432))\n-SUM(OFFSET(I450,0,-$D432+1,1,$D432)))/$D432)))","v":0},{"$f":"MIN(K448,IF(J$4-UltimoAnnoRTP<=$D432,\n(SUM($F449:J449)+SUM(OFFSET(INDIRECT($F432 & \"inv\"),0,3,1,IF(EsistePrev,AnnoPonte-UltimoAnnoRTP,1)))\n-SUM($F450:J450)-SUM(OFFSET(INDIRECT($F432 & \"dism\"),0,3,1,IF(EsistePrev,AnnoPonte-UltimoAnnoRTP,1))))/$D432,\n\nIF(AND(J$4-UltimoAnnoRTP>$D432,J$4-AnnoPonte<=$D432),\n(SUM($F449:J449)+SUM(IFERROR(OFFSET(INDIRECT($F432 & \"inv\"),0,3+(J$4-UltimoAnnoRTP-$D432),1,(IF(EsistePrev,AnnoPonte-UltimoAnnoRTP,1)-(J$4-UltimoAnnoRTP-$D432))),0))\n-SUM($F450:J450)-SUM(IFERROR(OFFSET(INDIRECT($F432 & \"dism\"),0,3+(J$4-UltimoAnnoRTP-$D432),1,(IF(EsistePrev,AnnoPonte-UltimoAnnoRTP,1)-(J$4-UltimoAnnoRTP-$D432))),0)))/$D432,\n\n(SUM(OFFSET(J449,0,-$D432+1,1,$D432))\n-SUM(OFFSET(J450,0,-$D432+1,1,$D432)))/$D432)))","v":0},{"$f":"MIN(L448,IF(K$4-UltimoAnnoRTP<=$D432,\n(SUM($F449:K449)+SUM(OFFSET(INDIRECT($F432 & \"inv\"),0,3,1,IF(EsistePrev,AnnoPonte-UltimoAnnoRTP,1)))\n-SUM($F450:K450)-SUM(OFFSET(INDIRECT($F432 & \"dism\"),0,3,1,IF(EsistePrev,AnnoPonte-UltimoAnnoRTP,1))))/$D432,\n\nIF(AND(K$4-UltimoAnnoRTP>$D432,K$4-AnnoPonte<=$D432),\n(SUM($F449:K449)+SUM(IFERROR(OFFSET(INDIRECT($F432 & \"inv\"),0,3+(K$4-UltimoAnnoRTP-$D432),1,(IF(EsistePrev,AnnoPonte-UltimoAnnoRTP,1)-(K$4-UltimoAnnoRTP-$D432))),0))\n-SUM($F450:K450)-SUM(IFERROR(OFFSET(INDIRECT($F432 & \"dism\"),0,3+(K$4-UltimoAnnoRTP-$D432),1,(IF(EsistePrev,AnnoPonte-UltimoAnnoRTP,1)-(K$4-UltimoAnnoRTP-$D432))),0)))/$D432,\n\n(SUM(OFFSET(K449,0,-$D432+1,1,$D432))\n-SUM(OFFSET(K450,0,-$D432+1,1,$D432)))/$D432)))","v":0},{"$f":"MIN(M448,IF(L$4-UltimoAnnoRTP<=$D432,\n(SUM($F449:L449)+SUM(OFFSET(INDIRECT($F432 & \"inv\"),0,3,1,IF(EsistePrev,AnnoPonte-UltimoAnnoRTP,1)))\n-SUM($F450:L450)-SUM(OFFSET(INDIRECT($F432 & \"dism\"),0,3,1,IF(EsistePrev,AnnoPonte-UltimoAnnoRTP,1))))/$D432,\n\nIF(AND(L$4-UltimoAnnoRTP>$D432,L$4-AnnoPonte<=$D432),\n(SUM($F449:L449)+SUM(IFERROR(OFFSET(INDIRECT($F432 & \"inv\"),0,3+(L$4-UltimoAnnoRTP-$D432),1,(IF(EsistePrev,AnnoPonte-UltimoAnnoRTP,1)-(L$4-UltimoAnnoRTP-$D432))),0))\n-SUM($F450:L450)-SUM(IFERROR(OFFSET(INDIRECT($F432 & \"dism\"),0,3+(L$4-UltimoAnnoRTP-$D432),1,(IF(EsistePrev,AnnoPonte-UltimoAnnoRTP,1)-(L$4-UltimoAnnoRTP-$D432))),0)))/$D432,\n\n(SUM(OFFSET(L449,0,-$D432+1,1,$D432))\n-SUM(OFFSET(L450,0,-$D432+1,1,$D432)))/$D432)))","v":0},{"$f":"MIN(N448,IF(M$4-UltimoAnnoRTP<=$D432,\n(SUM($F449:M449)+SUM(OFFSET(INDIRECT($F432 & \"inv\"),0,3,1,IF(EsistePrev,AnnoPonte-UltimoAnnoRTP,1)))\n-SUM($F450:M450)-SUM(OFFSET(INDIRECT($F432 & \"dism\"),0,3,1,IF(EsistePrev,AnnoPonte-UltimoAnnoRTP,1))))/$D432,\n\nIF(AND(M$4-UltimoAnnoRTP>$D432,M$4-AnnoPonte<=$D432),\n(SUM($F449:M449)+SUM(IFERROR(OFFSET(INDIRECT($F432 & \"inv\"),0,3+(M$4-UltimoAnnoRTP-$D432),1,(IF(EsistePrev,AnnoPonte-UltimoAnnoRTP,1)-(M$4-UltimoAnnoRTP-$D432))),0))\n-SUM($F450:M450)-SUM(IFERROR(OFFSET(INDIRECT($F432 & \"dism\"),0,3+(M$4-UltimoAnnoRTP-$D432),1,(IF(EsistePrev,AnnoPonte-UltimoAnnoRTP,1)-(M$4-UltimoAnnoRTP-$D432))),0)))/$D432,\n\n(SUM(OFFSET(M449,0,-$D432+1,1,$D432))\n-SUM(OFFSET(M450,0,-$D432+1,1,$D432)))/$D432)))","v":0},{"$f":"MIN(O448,IF(N$4-UltimoAnnoRTP<=$D432,\n(SUM($F449:N449)+SUM(OFFSET(INDIRECT($F432 & \"inv\"),0,3,1,IF(EsistePrev,AnnoPonte-UltimoAnnoRTP,1)))\n-SUM($F450:N450)-SUM(OFFSET(INDIRECT($F432 & \"dism\"),0,3,1,IF(EsistePrev,AnnoPonte-UltimoAnnoRTP,1))))/$D432,\n\nIF(AND(N$4-UltimoAnnoRTP>$D432,N$4-AnnoPonte<=$D432),\n(SUM($F449:N449)+SUM(IFERROR(OFFSET(INDIRECT($F432 & \"inv\"),0,3+(N$4-UltimoAnnoRTP-$D432),1,(IF(EsistePrev,AnnoPonte-UltimoAnnoRTP,1)-(N$4-UltimoAnnoRTP-$D432))),0))\n-SUM($F450:N450)-SUM(IFERROR(OFFSET(INDIRECT($F432 & \"dism\"),0,3+(N$4-UltimoAnnoRTP-$D432),1,(IF(EsistePrev,AnnoPonte-UltimoAnnoRTP,1)-(N$4-UltimoAnnoRTP-$D432))),0)))/$D432,\n\n(SUM(OFFSET(N449,0,-$D432+1,1,$D432))\n-SUM(OFFSET(N450,0,-$D432+1,1,$D432)))/$D432)))","v":0},{"$f":"MIN(P448,IF(O$4-UltimoAnnoRTP<=$D432,\n(SUM($F449:O449)+SUM(OFFSET(INDIRECT($F432 & \"inv\"),0,3,1,IF(EsistePrev,AnnoPonte-UltimoAnnoRTP,1)))\n-SUM($F450:O450)-SUM(OFFSET(INDIRECT($F432 & \"dism\"),0,3,1,IF(EsistePrev,AnnoPonte-UltimoAnnoRTP,1))))/$D432,\n\nIF(AND(O$4-UltimoAnnoRTP>$D432,O$4-AnnoPonte<=$D432),\n(SUM($F449:O449)+SUM(IFERROR(OFFSET(INDIRECT($F432 & \"inv\"),0,3+(O$4-UltimoAnnoRTP-$D432),1,(IF(EsistePrev,AnnoPonte-UltimoAnnoRTP,1)-(O$4-UltimoAnnoRTP-$D432))),0))\n-SUM($F450:O450)-SUM(IFERROR(OFFSET(INDIRECT($F432 & \"dism\"),0,3+(O$4-UltimoAnnoRTP-$D432),1,(IF(EsistePrev,AnnoPonte-UltimoAnnoRTP,1)-(O$4-UltimoAnnoRTP-$D432))),0)))/$D432,\n\n(SUM(OFFSET(O449,0,-$D432+1,1,$D432))\n-SUM(OFFSET(O450,0,-$D432+1,1,$D432)))/$D432)))","v":20},{"$f":"MIN(Q448,IF(P$4-UltimoAnnoRTP<=$D432,\n(SUM($F449:P449)+SUM(OFFSET(INDIRECT($F432 & \"inv\"),0,3,1,IF(EsistePrev,AnnoPonte-UltimoAnnoRTP,1)))\n-SUM($F450:P450)-SUM(OFFSET(INDIRECT($F432 & \"dism\"),0,3,1,IF(EsistePrev,AnnoPonte-UltimoAnnoRTP,1))))/$D432,\n\nIF(AND(P$4-UltimoAnnoRTP>$D432,P$4-AnnoPonte<=$D432),\n(SUM($F449:P449)+SUM(IFERROR(OFFSET(INDIRECT($F432 & \"inv\"),0,3+(P$4-UltimoAnnoRTP-$D432),1,(IF(EsistePrev,AnnoPonte-UltimoAnnoRTP,1)-(P$4-UltimoAnnoRTP-$D432))),0))\n-SUM($F450:P450)-SUM(IFERROR(OFFSET(INDIRECT($F432 & \"dism\"),0,3+(P$4-UltimoAnnoRTP-$D432),1,(IF(EsistePrev,AnnoPonte-UltimoAnnoRTP,1)-(P$4-UltimoAnnoRTP-$D432))),0)))/$D432,\n\n(SUM(OFFSET(P449,0,-$D432+1,1,$D432))\n-SUM(OFFSET(P450,0,-$D432+1,1,$D432)))/$D432)))","v":20},{"$f":"MIN(R448,IF(Q$4-UltimoAnnoRTP<=$D432,\n(SUM($F449:Q449)+SUM(OFFSET(INDIRECT($F432 & \"inv\"),0,3,1,IF(EsistePrev,AnnoPonte-UltimoAnnoRTP,1)))\n-SUM($F450:Q450)-SUM(OFFSET(INDIRECT($F432 & \"dism\"),0,3,1,IF(EsistePrev,AnnoPonte-UltimoAnnoRTP,1))))/$D432,\n\nIF(AND(Q$4-UltimoAnnoRTP>$D432,Q$4-AnnoPonte<=$D432),\n(SUM($F449:Q449)+SUM(IFERROR(OFFSET(INDIRECT($F432 & \"inv\"),0,3+(Q$4-UltimoAnnoRTP-$D432),1,(IF(EsistePrev,AnnoPonte-UltimoAnnoRTP,1)-(Q$4-UltimoAnnoRTP-$D432))),0))\n-SUM($F450:Q450)-SUM(IFERROR(OFFSET(INDIRECT($F432 & \"dism\"),0,3+(Q$4-UltimoAnnoRTP-$D432),1,(IF(EsistePrev,AnnoPonte-UltimoAnnoRTP,1)-(Q$4-UltimoAnnoRTP-$D432))),0)))/$D432,\n\n(SUM(OFFSET(Q449,0,-$D432+1,1,$D432))\n-SUM(OFFSET(Q450,0,-$D432+1,1,$D432)))/$D432)))","v":20},{"$f":"MIN(S448,IF(R$4-UltimoAnnoRTP<=$D432,\n(SUM($F449:R449)+SUM(OFFSET(INDIRECT($F432 & \"inv\"),0,3,1,IF(EsistePrev,AnnoPonte-UltimoAnnoRTP,1)))\n-SUM($F450:R450)-SUM(OFFSET(INDIRECT($F432 & \"dism\"),0,3,1,IF(EsistePrev,AnnoPonte-UltimoAnnoRTP,1))))/$D432,\n\nIF(AND(R$4-UltimoAnnoRTP>$D432,R$4-AnnoPonte<=$D432),\n(SUM($F449:R449)+SUM(IFERROR(OFFSET(INDIRECT($F432 & \"inv\"),0,3+(R$4-UltimoAnnoRTP-$D432),1,(IF(EsistePrev,AnnoPonte-UltimoAnnoRTP,1)-(R$4-UltimoAnnoRTP-$D432))),0))\n-SUM($F450:R450)-SUM(IFERROR(OFFSET(INDIRECT($F432 & \"dism\"),0,3+(R$4-UltimoAnnoRTP-$D432),1,(IF(EsistePrev,AnnoPonte-UltimoAnnoRTP,1)-(R$4-UltimoAnnoRTP-$D432))),0)))/$D432,\n\n(SUM(OFFSET(R449,0,-$D432+1,1,$D432))\n-SUM(OFFSET(R450,0,-$D432+1,1,$D432)))/$D432)))","v":20}]
[null,null,"CIN investimenti (lordo contributi, netto dismissioni) eop (amm. a vite utili)",null,null,{"$f":"OFFSET(INDIRECT($F432 & \"inv\"),3,2+AnnoPonte-UltimoAnnoRTP,1,1)","v":0},{"$f":"G448+G449-G450-G451","v":0},0,0,0,0,0,0,0,400,380,360,340,300]
[null,null,"Remunerazione CIN investimenti",null,null,null,{"$f":"(G448-F454)*G$17*G$10","v":0},{"$f":"(H448-G454)*H$17*H$10","v":0},{"$f":"(I448-H454)*I$17*I$10","v":0},{"$f":"(J448-I454)*J$17*J$10","v":0},{"$f":"(K448-J454)*K$17*K$10","v":0},{"$f":"(L448-K454)*L$17*L$10","v":0},{"$f":"(M448-L454)*M$17*M$10","v":0},{"$f":"(N448-M454)*N$17*N$10","v":0},{"$f":"(O448-N454)*O$17*O$10","v":0},{"$f":"(P448-O454)*P$17*P$10","v":6.008},{"$f":"(Q448-P454)*Q$17*Q$10","v":4.5060000000000002},{"$f":"(R448-Q454)*R$17*R$10","v":3.004},{"$f":"(S448-R454)*S$17*S$10","v":1.502}]
[null,null,"Valore di subentro investimenti (lordo contributi) - cumulato",null,null,{"$f":"OFFSET(INDIRECT($F432 & \"inv\"),5,2+AnnoPonte-UltimoAnnoRTP,1,1)","v":0},{"$f":"IF(MAX(-SUM(OFFSET($G450,0,0,1,ScadenzaConcessione-AnnoPonte)),F454+(G449-G450)/$D432*($D432-(ScadenzaConcessione-G$4)))<0,0,MAX(-SUM(OFFSET($G450,0,0,1,ScadenzaConcessione-AnnoPonte)),F454+(G449-G450)/$D432*($D432-(ScadenzaConcessione-G$4))))","v":0},{"$f":"IF(MAX(-SUM(OFFSET($G450,0,0,1,ScadenzaConcessione-AnnoPonte)),G454+(H449-H450)/$D432*($D432-(ScadenzaConcessione-H$4)))<0,0,MAX(-SUM(OFFSET($G450,0,0,1,ScadenzaConcessione-AnnoPonte)),G454+(H449-H450)/$D432*($D432-(ScadenzaConcessione-H$4))))","v":0},{"$f":"IF(MAX(-SUM(OFFSET($G450,0,0,1,ScadenzaConcessione-AnnoPonte)),H454+(I449-I450)/$D432*($D432-(ScadenzaConcessione-I$4)))<0,0,MAX(-SUM(OFFSET($G450,0,0,1,ScadenzaConcessione-AnnoPonte)),H454+(I449-I450)/$D432*($D432-(ScadenzaConcessione-I$4))))","v":0},{"$f":"IF(MAX(-SUM(OFFSET($G450,0,0,1,ScadenzaConcessione-AnnoPonte)),I454+(J449-J450)/$D432*($D432-(ScadenzaConcessione-J$4)))<0,0,MAX(-SUM(OFFSET($G450,0,0,1,ScadenzaConcessione-AnnoPonte)),I454+(J449-J450)/$D432*($D432-(ScadenzaConcessione-J$4))))","v":0},{"$f":"IF(MAX(-SUM(OFFSET($G450,0,0,1,ScadenzaConcessione-AnnoPonte)),J454+(K449-K450)/$D432*($D432-(ScadenzaConcessione-K$4)))<0,0,MAX(-SUM(OFFSET($G450,0,0,1,ScadenzaConcessione-AnnoPonte)),J454+(K449-K450)/$D432*($D432-(ScadenzaConcessione-K$4))))","v":0},{"$f":"IF(MAX(-SUM(OFFSET($G450,0,0,1,ScadenzaConcessione-AnnoPonte)),K454+(L449-L450)/$D432*($D432-(ScadenzaConcessione-L$4)))<0,0,MAX(-SUM(OFFSET($G450,0,0,1,ScadenzaConcessione-AnnoPonte)),K454+(L449-L450)/$D432*($D432-(ScadenzaConcessione-L$4))))","v":0},{"$f":"IF(MAX(-SUM(OFFSET($G450,0,0,1,ScadenzaConcessione-AnnoPonte)),L454+(M449-M450)/$D432*($D432-(ScadenzaConcessione-M$4)))<0,0,MAX(-SUM(OFFSET($G450,0,0,1,ScadenzaConcessione-AnnoPonte)),L454+(M449-M450)/$D432*($D432-(ScadenzaConcessione-M$4))))","v":0},{"$f":"IF(MAX(-SUM(OFFSET($G450,0,0,1,ScadenzaConcessione-AnnoPonte)),M454+(N449-N450)/$D432*($D432-(ScadenzaConcessione-N$4)))<0,0,MAX(-SUM(OFFSET($G450,0,0,1,ScadenzaConcessione-AnnoPonte)),M454+(N449-N450)/$D432*($D432-(ScadenzaConcessione-N$4))))","v":0},{"$f":"IF(MAX(-SUM(OFFSET($G450,0,0,1,ScadenzaConcessione-AnnoPonte)),N454+(O449-O450)/$D432*($D432-(ScadenzaConcessione-O$4)))<0,0,MAX(-SUM(OFFSET($G450,0,0,1,ScadenzaConcessione-AnnoPonte)),N454+(O449-O450)/$D432*($D432-(ScadenzaConcessione-O$4))))","v":320},{"$f":"IF(MAX(-SUM(OFFSET($G450,0,0,1,ScadenzaConcessione-AnnoPonte)),O454+(P449-P450)/$D432*($D432-(ScadenzaConcessione-P$4)))<0,0,MAX(-SUM(OFFSET($G450,0,0,1,ScadenzaConcessione-AnnoPonte)),O454+(P449-P450)/$D432*($D432-(ScadenzaConcessione-P$4))))","v":320},{"$f":"IF(MAX(-SUM(OFFSET($G450,0,0,1,ScadenzaConcessione-AnnoPonte)),P454+(Q449-Q450)/$D432*($D432-(ScadenzaConcessione-Q$4)))<0,0,MAX(-SUM(OFFSET($G450,0,0,1,ScadenzaConcessione-AnnoPonte)),P454+(Q449-Q450)/$D432*($D432-(ScadenzaConcessione-Q$4))))","v":320},{"$f":"IF(MAX(-SUM(OFFSET($G450,0,0,1,ScadenzaConcessione-AnnoPonte)),Q454+(R449-R450)/$D432*($D432-(ScadenzaConcessione-R$4)))<0,0,MAX(-SUM(OFFSET($G450,0,0,1,ScadenzaConcessione-AnnoPonte)),Q454+(R449-R450)/$D432*($D432-(ScadenzaConcessione-R$4))))","v":320},{"$f":"IF(MAX(-SUM(OFFSET($G450,0,0,1,ScadenzaConcessione-AnnoPonte)),R454+(S449-S450)/$D432*($D432-(ScadenzaConcessione-S$4)))<0,0,MAX(-SUM(OFFSET($G450,0,0,1,ScadenzaConcessione-AnnoPonte)),R454+(S449-S450)/$D432*($D432-(ScadenzaConcessione-S$4))))","v":300}]
[null,null,"Remunerazione valore di subentro CIN investimenti",null,null,null,{"$f":"F454*G$19*G$10","v":0},{"$f":"G454*H$19*H$10","v":0},0,0,0,0,0,0,0,24.032,24.032,24.032,24.032]
[]
[null,null,"CIN contributi bop (amm. a vite utili)",null,"precedenti",null,{"$f":"F460","v":0},{"$f":"G460","v":0},{"$f":"H460","v":0},{"$f":"I460","v":0},{"$f":"J460","v":0},{"$f":"K460","v":0},{"$f":"L460","v":0},{"$f":"M460","v":0},{"$f":"N460","v":-40},{"$f":"O460","v":-38},{"$f":"P460","v":-36},{"$f":"Q460","v":-34},{"$f":"R460","v":-32}]
[null,null,"contributi annui (amm. a vite utili)",null,{"$f":"-SUM(OFFSET(INDIRECT($F432 & \"contr\"),0,3,1,IF(EsistePrev,AnnoPonte-UltimoAnnoRTP,1)))","v":0},null,{"$f":"-SUMIFS(\n'Z0.6.b ProgInvest_Contr agg'!Z:Z,\n'Z0.6.b ProgInvest_Contr agg'!$K:$K,$C432,\n'Z0.6.b ProgInvest_Contr agg'!$M:$M,$D$145,\n'Z0.6.b ProgInvest_Contr agg'!$L:$L,\"in corso\",\n'Z0.6.b ProgInvest_Contr agg'!$O:$O,\"vite utili 1\")\n-SUMIFS(\n'Z0.6.b ProgInvest_Contr agg'!Z:Z,\n'Z0.6.b ProgInvest_Contr agg'!$K:$K,$C432,\n'Z0.6.b ProgInvest_Contr agg'!$M:$M,$D$145,\n'Z0.6.b ProgInvest_Contr agg'!$L:$L,\"in corso\",\n'Z0.6.b ProgInvest_Contr agg'!$O:$O,\"vite utili 2\")","v":0},{"$f":"-SUMIFS(\n'Z0.6.b ProgInvest_Contr agg'!AA:AA,\n'Z0.6.b ProgInvest_Contr agg'!$K:$K,$C432,\n'Z0.6.b ProgInvest_Contr agg'!$M:$M,$D$145,\n'Z0.6.b ProgInvest_Contr agg'!$L:$L,\"in corso\",\n'Z0.6.b ProgInvest_Contr agg'!$O:$O,\"vite utili 1\")\n-SUMIFS(\n'Z0.6.b ProgInvest_Contr agg'!AA:AA,\n'Z0.6.b ProgInvest_Contr agg'!$K:$K,$C432,\n'Z0.6.b ProgInvest_Contr agg'!$M:$M,$D$145,\n'Z0.6.b ProgInvest_Contr agg'!$L:$L,\"in corso\",\n'Z0.6.b ProgInvest_Contr agg'!$O:$O,\"vite utili 2\")","v":0},{"$f":"-SUMIFS(\n'Z0.6.b ProgInvest_Contr agg'!AB:AB,\n'Z0.6.b ProgInvest_Contr agg'!$K:$K,$C432,\n'Z0.6.b ProgInvest_Contr agg'!$M:$M,$D$145,\n'Z0.6.b ProgInvest_Contr agg'!$L:$L,\"in corso\",\n'Z0.6.b ProgInvest_Contr agg'!$O:$O,\"vite utili 1\")\n-SUMIFS(\n'Z0.6.b ProgInvest_Contr agg'!AB:AB,\n'Z0.6.b ProgInvest_Contr agg'!$K:$K,$C432,\n'Z0.6.b ProgInvest_Contr agg'!$M:$M,$D$145,\n'Z0.6.b ProgInvest_Contr agg'!$L:$L,\"in corso\",\n'Z0.6.b ProgInvest_Contr agg'!$O:$O,\"vite utili 2\")","v":0},{"$f":"-SUMIFS(\n'Z0.6.b ProgInvest_Contr agg'!AC:AC,\n'Z0.6.b ProgInvest_Contr agg'!$K:$K,$C432,\n'Z0.6.b ProgInvest_Contr agg'!$M:$M,$D$145,\n'Z0.6.b ProgInvest_Contr agg'!$L:$L,\"in corso\",\n'Z0.6.b ProgInvest_Contr agg'!$O:$O,\"vite utili 1\")\n-SUMIFS(\n'Z0.6.b ProgInvest_Contr agg'!AC:AC,\n'Z0.6.b ProgInvest_Contr agg'!$K:$K,$C432,\n'Z0.6.b ProgInvest_Contr agg'!$M:$M,$D$145,\n'Z0.6.b ProgInvest_Contr agg'!$L:$L,\"in corso\",\n'Z0.6.b ProgInvest_Contr agg'!$O:$O,\"vite utili 2\")","v":0},{"$f":"-SUMIFS(\n'Z0.6.b ProgInvest_Contr agg'!AD:AD,\n'Z0.6.b ProgInvest_Contr agg'!$K:$K,$C432,\n'Z0.6.b ProgInvest_Contr agg'!$M:$M,$D$145,\n'Z0.6.b ProgInvest_Contr agg'!$L:$L,\"in corso\",\n'Z0.6.b ProgInvest_Contr agg'!$O:$O,\"vite utili 1\")\n-SUMIFS(\n'Z0.6.b ProgInvest_Contr agg'!AD:AD,\n'Z0.6.b ProgInvest_Contr agg'!$K:$K,$C432,\n'Z0.6.b ProgInvest_Contr agg'!$M:$M,$D$145,\n'Z0.6.b ProgInvest_Contr agg'!$L:$L,\"in corso\",\n'Z0.6.b ProgInvest_Contr agg'!$O:$O,\"vite utili 2\")","v":0},{"$f":"-SUMIFS(\n'Z0.6.b ProgInvest_Contr agg'!AE:AE,\n'Z0.6.b ProgInvest_Contr agg'!$K:$K,$C432,\n'Z0.6.b ProgInvest_Contr agg'!$M:$M,$D$145,\n'Z0.6.b ProgInvest_Contr agg'!$L:$L,\"in corso\",\n'Z0.6.b ProgInvest_Contr agg'!$O:$O,\"vite utili 1\")\n-SUMIFS(\n'Z0.6.b ProgInvest_Contr agg'!AE:AE,\n'Z0.6.b ProgInvest_Contr agg'!$K:$K,$C432,\n'Z0.6.b ProgInvest_Contr agg'!$M:$M,$D$145,\n'Z0.6.b ProgInvest_Contr agg'!$L:$L,\"in corso\",\n'Z0.6.b ProgInvest_Contr agg'!$O:$O,\"vite utili 2\")","v":0},{"$f":"-SUMIFS(\n'Z0.6.b ProgInvest_Contr agg'!AF:AF,\n'Z0.6.b ProgInvest_Contr agg'!$K:$K,$C432,\n'Z0.6.b ProgInvest_Contr agg'!$M:$M,$D$145,\n'Z0.6.b ProgInvest_Contr agg'!$L:$L,\"in corso\",\n'Z0.6.b ProgInvest_Contr agg'!$O:$O,\"vite utili 1\")\n-SUMIFS(\n'Z0.6.b ProgInvest_Contr agg'!AF:AF,\n'Z0.6.b ProgInvest_Contr agg'!$K:$K,$C432,\n'Z0.6.b ProgInvest_Contr agg'!$M:$M,$D$145,\n'Z0.6.b ProgInvest_Contr agg'!$L:$L,\"in corso\",\n'Z0.6.b ProgInvest_Contr agg'!$O:$O,\"vite utili 2\")","v":0},{"$f":"-SUMIFS(\n'Z0.6.b ProgInvest_Contr agg'!AG:AG,\n'Z0.6.b ProgInvest_Contr agg'!$K:$K,$C432,\n'Z0.6.b ProgInvest_Contr agg'!$M:$M,$D$145,\n'Z0.6.b ProgInvest_Contr agg'!$L:$L,\"in corso\",\n'Z0.6.b ProgInvest_Contr agg'!$O:$O,\"vite utili 1\")\n-SUMIFS(\n'Z0.6.b ProgInvest_Contr agg'!AG:AG,\n'Z0.6.b ProgInvest_Contr agg'!$K:$K,$C432,\n'Z0.6.b ProgInvest_Contr agg'!$M:$M,$D$145,\n'Z0.6.b ProgInvest_Contr agg'!$L:$L,\"in corso\",\n'Z0.6.b ProgInvest_Contr agg'!$O:$O,\"vite utili 2\")","v":-40},{"$f":"-SUMIFS(\n'Z0.6.b ProgInvest_Contr agg'!AH:AH,\n'Z0.6.b ProgInvest_Contr agg'!$K:$K,$C432,\n'Z0.6.b ProgInvest_Contr agg'!$M:$M,$D$145,\n'Z0.6.b ProgInvest_Contr agg'!$L:$L,\"in corso\",\n'Z0.6.b ProgInvest_Contr agg'!$O:$O,\"vite utili 1\")\n-SUMIFS(\n'Z0.6.b ProgInvest_Contr agg'!AH:AH,\n'Z0.6.b ProgInvest_Contr agg'!$K:$K,$C432,\n'Z0.6.b ProgInvest_Contr agg'!$M:$M,$D$145,\n'Z0.6.b ProgInvest_Contr agg'!$L:$L,\"in corso\",\n'Z0.6.b ProgInvest_Contr agg'!$O:$O,\"vite utili 2\")","v":0},{"$f":"-SUMIFS(\n'Z0.6.b ProgInvest_Contr agg'!AI:AI,\n'Z0.6.b ProgInvest_Contr agg'!$K:$K,$C432,\n'Z0.6.b ProgInvest_Contr agg'!$M:$M,$D$145,\n'Z0.6.b ProgInvest_Contr agg'!$L:$L,\"in corso\",\n'Z0.6.b ProgInvest_Contr agg'!$O:$O,\"vite utili 1\")\n-SUMIFS(\n'Z0.6.b ProgInvest_Contr agg'!AI:AI,\n'Z0.6.b ProgInvest_Contr agg'!$K:$K,$C432,\n'Z0.6.b ProgInvest_Contr agg'!$M:$M,$D$145,\n'Z0.6.b ProgInvest_Contr agg'!$L:$L,\"in corso\",\n'Z0.6.b ProgInvest_Contr agg'!$O:$O,\"vite utili 2\")","v":0},{"$f":"-SUMIFS(\n'Z0.6.b ProgInvest_Contr agg'!AJ:AJ,\n'Z0.6.b ProgInvest_Contr agg'!$K:$K,$C432,\n'Z0.6.b ProgInvest_Contr agg'!$M:$M,$D$145,\n'Z0.6.b ProgInvest_Contr agg'!$L:$L,\"in corso\",\n'Z0.6.b ProgInvest_Contr agg'!$O:$O,\"vite utili 1\")\n-SUMIFS(\n'Z0.6.b ProgInvest_Contr agg'!AJ:AJ,\n'Z0.6.b ProgInvest_Contr agg'!$K:$K,$C432,\n'Z0.6.b ProgInvest_Contr agg'!$M:$M,$D$145,\n'Z0.6.b ProgInvest_Contr agg'!$L:$L,\"in corso\",\n'Z0.6.b ProgInvest_Contr agg'!$O:$O,\"vite utili 2\")","v":0},{"$f":"-SUMIFS(\n'Z0.6.b ProgInvest_Contr agg'!AK:AK,\n'Z0.6.b ProgInvest_Contr agg'!$K:$K,$C432,\n'Z0.6.b ProgInvest_Contr agg'!$M:$M,$D$145,\n'Z0.6.b ProgInvest_Contr agg'!$L:$L,\"in corso\",\n'Z0.6.b ProgInvest_Contr agg'!$O:$O,\"vite utili 1\")\n-SUMIFS(\n'Z0.6.b ProgInvest_Contr agg'!AK:AK,\n'Z0.6.b ProgInvest_Contr agg'!$K:$K,$C432,\n'Z0.6.b ProgInvest_Contr agg'!$M:$M,$D$145,\n'Z0.6.b ProgInvest_Contr agg'!$L:$L,\"in corso\",\n'Z0.6.b ProgInvest_Contr agg'!$O:$O,\"vite utili 2\")","v":0},{"$f":"-SUMIFS(\n'Z0.6.b ProgInvest_Contr agg'!AL:AL,\n'Z0.6.b ProgInvest_Contr agg'!$K:$K,$C432,\n'Z0.6.b ProgInvest_Contr agg'!$M:$M,$D$145,\n'Z0.6.b ProgInvest_Contr agg'!$L:$L,\"in corso\",\n'Z0.6.b ProgInvest_Contr agg'!$O:$O,\"vite utili 1\")\n-SUMIFS(\n'Z0.6.b ProgInvest_Contr agg'!AL:AL,\n'Z0.6.b ProgInvest_Contr agg'!$K:$K,$C432,\n'Z0.6.b ProgInvest_Contr agg'!$M:$M,$D$145,\n'Z0.6.b ProgInvest_Contr agg'!$L:$L,\"in corso\",\n'Z0.6.b ProgInvest_Contr agg'!$O:$O,\"vite utili 2\")","v":0}]
[null,null,"Ammortamento contributi (amm. a vite utili)",null,{"$f":"-SUM(OFFSET(INDIRECT($F432 & \"contr\"),1,3,1,IF(EsistePrev,AnnoPonte-UltimoAnnoRTP,1)))","v":0},null,{"$f":"IF(F$4-UltimoAnnoRTP<=$D432,\n(SUM($F458:F458)-SUM(OFFSET(INDIRECT($F432 & \"contr\"),0,3,1,IF(EsistePrev,AnnoPonte-UltimoAnnoRTP,1)))\n)/$D432,\n\nIF(AND(F$4-UltimoAnnoRTP>$D432,F$4-AnnoPonte<=$D432),\n(SUM($F458:F458)-SUM(IFERROR(OFFSET(INDIRECT($F432 & \"contr\"),0,3+(F$4-UltimoAnnoRTP-$D432),1,(IF(EsistePrev,AnnoPonte-UltimoAnnoRTP,1)-(F$4-UltimoAnnoRTP-$D432))),0))\n)/$D432,\n\n(SUM(OFFSET(F458,0,-$D432+1,1,$D432))\n)/$D432))","v":0},{"$f":"IF(G$4-UltimoAnnoRTP<=$D432,\n(SUM($F458:G458)-SUM(OFFSET(INDIRECT($F432 & \"contr\"),0,3,1,IF(EsistePrev,AnnoPonte-UltimoAnnoRTP,1)))\n)/$D432,\n\nIF(AND(G$4-UltimoAnnoRTP>$D432,G$4-AnnoPonte<=$D432),\n(SUM($F458:G458)-SUM(IFERROR(OFFSET(INDIRECT($F432 & \"contr\"),0,3+(G$4-UltimoAnnoRTP-$D432),1,(IF(EsistePrev,AnnoPonte-UltimoAnnoRTP,1)-(G$4-UltimoAnnoRTP-$D432))),0))\n)/$D432,\n\n(SUM(OFFSET(G458,0,-$D432+1,1,$D432))\n)/$D432))","v":0},{"$f":"IF(H$4-UltimoAnnoRTP<=$D432,\n(SUM($F458:H458)-SUM(OFFSET(INDIRECT($F432 & \"contr\"),0,3,1,IF(EsistePrev,AnnoPonte-UltimoAnnoRTP,1)))\n)/$D432,\n\nIF(AND(H$4-UltimoAnnoRTP>$D432,H$4-AnnoPonte<=$D432),\n(SUM($F458:H458)-SUM(IFERROR(OFFSET(INDIRECT($F432 & \"contr\"),0,3+(H$4-UltimoAnnoRTP-$D432),1,(IF(EsistePrev,AnnoPonte-UltimoAnnoRTP,1)-(H$4-UltimoAnnoRTP-$D432))),0))\n)/$D432,\n\n(SUM(OFFSET(H458,0,-$D432+1,1,$D432))\n)/$D432))","v":0},{"$f":"IF(I$4-UltimoAnnoRTP<=$D432,\n(SUM($F458:I458)-SUM(OFFSET(INDIRECT($F432 & \"contr\"),0,3,1,IF(EsistePrev,AnnoPonte-UltimoAnnoRTP,1)))\n)/$D432,\n\nIF(AND(I$4-UltimoAnnoRTP>$D432,I$4-AnnoPonte<=$D432),\n(SUM($F458:I458)-SUM(IFERROR(OFFSET(INDIRECT($F432 & \"contr\"),0,3+(I$4-UltimoAnnoRTP-$D432),1,(IF(EsistePrev,AnnoPonte-UltimoAnnoRTP,1)-(I$4-UltimoAnnoRTP-$D432))),0))\n)/$D432,\n\n(SUM(OFFSET(I458,0,-$D432+1,1,$D432))\n)/$D432))","v":0},{"$f":"IF(J$4-UltimoAnnoRTP<=$D432,\n(SUM($F458:J458)-SUM(OFFSET(INDIRECT($F432 & \"contr\"),0,3,1,IF(EsistePrev,AnnoPonte-UltimoAnnoRTP,1)))\n)/$D432,\n\nIF(AND(J$4-UltimoAnnoRTP>$D432,J$4-AnnoPonte<=$D432),\n(SUM($F458:J458)-SUM(IFERROR(OFFSET(INDIRECT($F432 & \"contr\"),0,3+(J$4-UltimoAnnoRTP-$D432),1,(IF(EsistePrev,AnnoPonte-UltimoAnnoRTP,1)-(J$4-UltimoAnnoRTP-$D432))),0))\n)/$D432,\n\n(SUM(OFFSET(J458,0,-$D432+1,1,$D432))\n)/$D432))","v":0},{"$f":"IF(K$4-UltimoAnnoRTP<=$D432,\n(SUM($F458:K458)-SUM(OFFSET(INDIRECT($F432 & \"contr\"),0,3,1,IF(EsistePrev,AnnoPonte-UltimoAnnoRTP,1)))\n)/$D432,\n\nIF(AND(K$4-UltimoAnnoRTP>$D432,K$4-AnnoPonte<=$D432),\n(SUM($F458:K458)-SUM(IFERROR(OFFSET(INDIRECT($F432 & \"contr\"),0,3+(K$4-UltimoAnnoRTP-$D432),1,(IF(EsistePrev,AnnoPonte-UltimoAnnoRTP,1)-(K$4-UltimoAnnoRTP-$D432))),0))\n)/$D432,\n\n(SUM(OFFSET(K458,0,-$D432+1,1,$D432))\n)/$D432))","v":0},{"$f":"IF(L$4-UltimoAnnoRTP<=$D432,\n(SUM($F458:L458)-SUM(OFFSET(INDIRECT($F432 & \"contr\"),0,3,1,IF(EsistePrev,AnnoPonte-UltimoAnnoRTP,1)))\n)/$D432,\n\nIF(AND(L$4-UltimoAnnoRTP>$D432,L$4-AnnoPonte<=$D432),\n(SUM($F458:L458)-SUM(IFERROR(OFFSET(INDIRECT($F432 & \"contr\"),0,3+(L$4-UltimoAnnoRTP-$D432),1,(IF(EsistePrev,AnnoPonte-UltimoAnnoRTP,1)-(L$4-UltimoAnnoRTP-$D432))),0))\n)/$D432,\n\n(SUM(OFFSET(L458,0,-$D432+1,1,$D432))\n)/$D432))","v":0},{"$f":"IF(M$4-UltimoAnnoRTP<=$D432,\n(SUM($F458:M458)-SUM(OFFSET(INDIRECT($F432 & \"contr\"),0,3,1,IF(EsistePrev,AnnoPonte-UltimoAnnoRTP,1)))\n)/$D432,\n\nIF(AND(M$4-UltimoAnnoRTP>$D432,M$4-AnnoPonte<=$D432),\n(SUM($F458:M458)-SUM(IFERROR(OFFSET(INDIRECT($F432 & \"contr\"),0,3+(M$4-UltimoAnnoRTP-$D432),1,(IF(EsistePrev,AnnoPonte-UltimoAnnoRTP,1)-(M$4-UltimoAnnoRTP-$D432))),0))\n)/$D432,\n\n(SUM(OFFSET(M458,0,-$D432+1,1,$D432))\n)/$D432))","v":0},{"$f":"IF(N$4-UltimoAnnoRTP<=$D432,\n(SUM($F458:N458)-SUM(OFFSET(INDIRECT($F432 & \"contr\"),0,3,1,IF(EsistePrev,AnnoPonte-UltimoAnnoRTP,1)))\n)/$D432,\n\nIF(AND(N$4-UltimoAnnoRTP>$D432,N$4-AnnoPonte<=$D432),\n(SUM($F458:N458)-SUM(IFERROR(OFFSET(INDIRECT($F432 & \"contr\"),0,3+(N$4-UltimoAnnoRTP-$D432),1,(IF(EsistePrev,AnnoPonte-UltimoAnnoRTP,1)-(N$4-UltimoAnnoRTP-$D432))),0))\n)/$D432,\n\n(SUM(OFFSET(N458,0,-$D432+1,1,$D432))\n)/$D432))","v":-2},{"$f":"IF(O$4-UltimoAnnoRTP<=$D432,\n(SUM($F458:O458)-SUM(OFFSET(INDIRECT($F432 & \"contr\"),0,3,1,IF(EsistePrev,AnnoPonte-UltimoAnnoRTP,1)))\n)/$D432,\n\nIF(AND(O$4-UltimoAnnoRTP>$D432,O$4-AnnoPonte<=$D432),\n(SUM($F458:O458)-SUM(IFERROR(OFFSET(INDIRECT($F432 & \"contr\"),0,3+(O$4-UltimoAnnoRTP-$D432),1,(IF(EsistePrev,AnnoPonte-UltimoAnnoRTP,1)-(O$4-UltimoAnnoRTP-$D432))),0))\n)/$D432,\n\n(SUM(OFFSET(O458,0,-$D432+1,1,$D432))\n)/$D432))","v":-2},{"$f":"IF(P$4-UltimoAnnoRTP<=$D432,\n(SUM($F458:P458)-SUM(OFFSET(INDIRECT($F432 & \"contr\"),0,3,1,IF(EsistePrev,AnnoPonte-UltimoAnnoRTP,1)))\n)/$D432,\n\nIF(AND(P$4-UltimoAnnoRTP>$D432,P$4-AnnoPonte<=$D432),\n(SUM($F458:P458)-SUM(IFERROR(OFFSET(INDIRECT($F432 & \"contr\"),0,3+(P$4-UltimoAnnoRTP-$D432),1,(IF(EsistePrev,AnnoPonte-UltimoAnnoRTP,1)-(P$4-UltimoAnnoRTP-$D432))),0))\n)/$D432,\n\n(SUM(OFFSET(P458,0,-$D432+1,1,$D432))\n)/$D432))","v":-2},{"$f":"IF(Q$4-UltimoAnnoRTP<=$D432,\n(SUM($F458:Q458)-SUM(OFFSET(INDIRECT($F432 & \"contr\"),0,3,1,IF(EsistePrev,AnnoPonte-UltimoAnnoRTP,1)))\n)/$D432,\n\nIF(AND(Q$4-UltimoAnnoRTP>$D432,Q$4-AnnoPonte<=$D432),\n(SUM($F458:Q458)-SUM(IFERROR(OFFSET(INDIRECT($F432 & \"contr\"),0,3+(Q$4-UltimoAnnoRTP-$D432),1,(IF(EsistePrev,AnnoPonte-UltimoAnnoRTP,1)-(Q$4-UltimoAnnoRTP-$D432))),0))\n)/$D432,\n\n(SUM(OFFSET(Q458,0,-$D432+1,1,$D432))\n)/$D432))","v":-2},{"$f":"IF(R$4-UltimoAnnoRTP<=$D432,\n(SUM($F458:R458)-SUM(OFFSET(INDIRECT($F432 & \"contr\"),0,3,1,IF(EsistePrev,AnnoPonte-UltimoAnnoRTP,1)))\n)/$D432,\n\nIF(AND(R$4-UltimoAnnoRTP>$D432,R$4-AnnoPonte<=$D432),\n(SUM($F458:R458)-SUM(IFERROR(OFFSET(INDIRECT($F432 & \"contr\"),0,3+(R$4-UltimoAnnoRTP-$D432),1,(IF(EsistePrev,AnnoPonte-UltimoAnnoRTP,1)-(R$4-UltimoAnnoRTP-$D432))),0))\n)/$D432,\n\n(SUM(OFFSET(R458,0,-$D432+1,1,$D432))\n)/$D432))","v":-2}]
[null,null,"CIN contributi eop (amm. a vite utili)",null,null,{"$f":"-OFFSET(INDIRECT($F432 & \"contr\"),2,2+AnnoPonte-UltimoAnnoRTP,1,1)","v":0},{"$f":"G457+G458-G459","v":0},0,0,0,0,0,0,-40,-38,-36,-34,-32,-30]
[null,null,"Remunerazione CIN contributi",null,null,null,{"$f":"(G457-F462)*G$17*G$10","v":0},{"$f":"(H457-G462)*H$17*H$10","v":0},{"$f":"(I457-H462)*I$17*I$10","v":0},{"$f":"(J457-I462)*J$17*J$10","v":0},{"$f":"(K457-J462)*K$17*K$10","v":0},{"$f":"(L457-K462)*L$17*L$10","v":0},{"$f":"(M457-L462)*M$17*M$10","v":0},{"$f":"(N457-M462)*N$17*N$10","v":0},{"$f":"(O457-N462)*O$17*O$10","v":-0.751},{"$f":"(P457-O462)*P$17*P$10","v":-0.6008},{"$f":"(Q457-P462)*Q$17*Q$10","v":-0.4506},{"$f":"(R457-Q462)*R$17*R$10","v":-0.3004},{"$f":"(S457-R462)*S$17*S$10","v":-0.1502}]
[null,null,"Valore di subentro contributi - cumulato",null,null,{"$f":"-OFFSET(INDIRECT($F432 & \"contr\"),4,2+AnnoPonte-UltimoAnnoRTP,1,1)","v":0},{"$f":"MIN(0,F462+(G458)/$D432*($D432-(ScadenzaConcessione-G$4)))","v":0},{"$f":"MIN(0,G462+(H458)/$D432*($D432-(ScadenzaConcessione-H$4)))","v":0},{"$f":"MIN(0,H462+(I458)/$D432*($D432-(ScadenzaConcessione-I$4)))","v":0},{"$f":"MIN(0,I462+(J458)/$D432*($D432-(ScadenzaConcessione-J$4)))","v":0},{"$f":"MIN(0,J462+(K458)/$D432*($D432-(ScadenzaConcessione-K$4)))","v":0},{"$f":"MIN(0,K462+(L458)/$D432*($D432-(ScadenzaConcessione-L$4)))","v":0},{"$f":"MIN(0,L462+(M458)/$D432*($D432-(ScadenzaConcessione-M$4)))","v":0},{"$f":"MIN(0,M462+(N458)/$D432*($D432-(ScadenzaConcessione-N$4)))","v":-30},{"$f":"MIN(0,N462+(O458)/$D432*($D432-(ScadenzaConcessione-O$4)))","v":-30},{"$f":"MIN(0,O462+(P458)/$D432*($D432-(ScadenzaConcessione-P$4)))","v":-30},{"$f":"MIN(0,P462+(Q458)/$D432*($D432-(ScadenzaConcessione-Q$4)))","v":-30},{"$f":"MIN(0,Q462+(R458)/$D432*($D432-(ScadenzaConcessione-R$4)))","v":-30},{"$f":"MIN(0,R462+(S458)/$D432*($D432-(ScadenzaConcessione-S$4)))","v":-30}]
[null,null,"Remunerazione valore di subentro CIN contributi ",null,null,null,{"$f":"F462*G$19*G$10","v":0},{"$f":"G462*H$19*H$10","v":0},0,0,0,0,0,0,-2.2530000000000001,-2.2530000000000001,-2.2530000000000001,-2.2530000000000001,-2.2530000000000001]
[]
[null,null,"Check - TIR di progetto"]
[null,null,"Cash out investimenti",null,null,{"$f":"-(F437+F444+F452+F460)","v":0},{"$f":"-(G435+G442-G450+G458)","v":0},{"$f":"-(H435+H442-H450+H458)","v":0},0,0,0,0,0,-160,-200,0,0,0,20]
[null,null,"Cash in valore di subentro",null,null,null,{"$f":"IF(G$4=ScadenzaConcessione,G438+G454+G462,\"\")","v":""},"","","","","","","","","","","",{"$f":"IF(S$4=ScadenzaConcessione,S438+S445+S454+S462,\"\")","v":270}]
[null,null,"Cash in ammortamenti",null,null,null,{"$f":"G451+G459","v":0},0,0,0,0,0,0,0,-2,18,18,18,18]
[null,null,"Cash in remunerazioni (annualizzato)",null,null,null,{"$f":"(G439+G446+G453+G455+G461+G463)/G$10","v":0},{"$f":"(H439+H446+H453+H455+H461+H463)/H$10","v":0},0,0,0,0,0,0,8.8559999999999999,27.186199999999999,25.834399999999999,24.482600000000001,23.130799999999997]
[null,null,"Cash flow",null,null,{"$f":"SUM(F466:F469)","v":0},0,{"$f":"SUM(H466:H469)","v":0},0,0,0,0,0,-160,-193.14400000000001,45.186199999999999,43.834400000000002,42.482600000000005,331.13080000000002]
[null,null,"Tasso interno di rendimento",null,null,{"$f":"IFERROR(IRR(OFFSET(F470,0,0,1,ScadenzaConcessione-AnnoPonte+1)),\"non calc.\")","v":7.2656543316207411E-2}]
[null,null,"VAN",null,{"$f":"WACC","v":7.51E-2},{"$f":"NPV(E472,OFFSET(F470,0,0,1,ScadenzaConcessione-AnnoPonte+1))","v":-1.5317872983900325}]
[]
[null,null,"Infrastrutture tecnologiche ed impianti",{"$f":"VLOOKUP(C474,'C3 Tk Supporto'!C:E,2,0)","v":10},"vita utile","VU08"]
[]
[null,null,"LIC livello 1 - bop",null,null,null,{"$f":"F479","v":0},{"$f":"G479","v":0},{"$f":"H479","v":0},{"$f":"I479","v":0},{"$f":"J479","v":0},{"$f":"K479","v":0},{"$f":"L479","v":0},{"$f":"M479","v":0},{"$f":"N479","v":0},{"$f":"O479","v":100},{"$f":"P479","v":0},{"$f":"Q479","v":0},{"$f":"R479","v":0}]
[null,null,"Investimenti in corso aggiuntivi",null,null,null,{"$f":"SUMIFS(\n'Z0.6.a ProgInvest_Spesa agg'!Z:Z,\n'Z0.6.a ProgInvest_Spesa agg'!$K:$K,$C474,\n'Z0.6.a ProgInvest_Spesa agg'!$M:$M,$D$145,\n'Z0.6.a ProgInvest_Spesa agg'!$L:$L,\"in corso\",\n'Z0.6.a ProgInvest_Spesa agg'!$O:$O,\"vite utili 1\")","v":0},{"$f":"SUMIFS(\n'Z0.6.a ProgInvest_Spesa agg'!AA:AA,\n'Z0.6.a ProgInvest_Spesa agg'!$K:$K,$C474,\n'Z0.6.a ProgInvest_Spesa agg'!$M:$M,$D$145,\n'Z0.6.a ProgInvest_Spesa agg'!$L:$L,\"in corso\",\n'Z0.6.a ProgInvest_Spesa agg'!$O:$O,\"vite utili 1\")","v":0},{"$f":"SUMIFS(\n'Z0.6.a ProgInvest_Spesa agg'!AB:AB,\n'Z0.6.a ProgInvest_Spesa agg'!$K:$K,$C474,\n'Z0.6.a ProgInvest_Spesa agg'!$M:$M,$D$145,\n'Z0.6.a ProgInvest_Spesa agg'!$L:$L,\"in corso\",\n'Z0.6.a ProgInvest_Spesa agg'!$O:$O,\"vite utili 1\")","v":0},{"$f":"SUMIFS(\n'Z0.6.a ProgInvest_Spesa agg'!AC:AC,\n'Z0.6.a ProgInvest_Spesa agg'!$K:$K,$C474,\n'Z0.6.a ProgInvest_Spesa agg'!$M:$M,$D$145,\n'Z0.6.a ProgInvest_Spesa agg'!$L:$L,\"in corso\",\n'Z0.6.a ProgInvest_Spesa agg'!$O:$O,\"vite utili 1\")","v":0},{"$f":"SUMIFS(\n'Z0.6.a ProgInvest_Spesa agg'!AD:AD,\n'Z0.6.a ProgInvest_Spesa agg'!$K:$K,$C474,\n'Z0.6.a ProgInvest_Spesa agg'!$M:$M,$D$145,\n'Z0.6.a ProgInvest_Spesa agg'!$L:$L,\"in corso\",\n'Z0.6.a ProgInvest_Spesa agg'!$O:$O,\"vite utili 1\")","v":0},{"$f":"SUMIFS(\n'Z0.6.a ProgInvest_Spesa agg'!AE:AE,\n'Z0.6.a ProgInvest_Spesa agg'!$K:$K,$C474,\n'Z0.6.a ProgInvest_Spesa agg'!$M:$M,$D$145,\n'Z0.6.a ProgInvest_Spesa agg'!$L:$L,\"in corso\",\n'Z0.6.a ProgInvest_Spesa agg'!$O:$O,\"vite utili 1\")","v":0},{"$f":"SUMIFS(\n'Z0.6.a ProgInvest_Spesa agg'!AF:AF,\n'Z0.6.a ProgInvest_Spesa agg'!$K:$K,$C474,\n'Z0.6.a ProgInvest_Spesa agg'!$M:$M,$D$145,\n'Z0.6.a ProgInvest_Spesa agg'!$L:$L,\"in corso\",\n'Z0.6.a ProgInvest_Spesa agg'!$O:$O,\"vite utili 1\")","v":0},{"$f":"SUMIFS(\n'Z0.6.a ProgInvest_Spesa agg'!AG:AG,\n'Z0.6.a ProgInvest_Spesa agg'!$K:$K,$C474,\n'Z0.6.a ProgInvest_Spesa agg'!$M:$M,$D$145,\n'Z0.6.a ProgInvest_Spesa agg'!$L:$L,\"in corso\",\n'Z0.6.a ProgInvest_Spesa agg'!$O:$O,\"vite utili 1\")","v":0},{"$f":"SUMIFS(\n'Z0.6.a ProgInvest_Spesa agg'!AH:AH,\n'Z0.6.a ProgInvest_Spesa agg'!$K:$K,$C474,\n'Z0.6.a ProgInvest_Spesa agg'!$M:$M,$D$145,\n'Z0.6.a ProgInvest_Spesa agg'!$L:$L,\"in corso\",\n'Z0.6.a ProgInvest_Spesa agg'!$O:$O,\"vite utili 1\")","v":100},{"$f":"SUMIFS(\n'Z0.6.a ProgInvest_Spesa agg'!AI:AI,\n'Z0.6.a ProgInvest_Spesa agg'!$K:$K,$C474,\n'Z0.6.a ProgInvest_Spesa agg'!$M:$M,$D$145,\n'Z0.6.a ProgInvest_Spesa agg'!$L:$L,\"in corso\",\n'Z0.6.a ProgInvest_Spesa agg'!$O:$O,\"vite utili 1\")","v":100},{"$f":"SUMIFS(\n'Z0.6.a ProgInvest_Spesa agg'!AJ:AJ,\n'Z0.6.a ProgInvest_Spesa agg'!$K:$K,$C474,\n'Z0.6.a ProgInvest_Spesa agg'!$M:$M,$D$145,\n'Z0.6.a ProgInvest_Spesa agg'!$L:$L,\"in corso\",\n'Z0.6.a ProgInvest_Spesa agg'!$O:$O,\"vite utili 1\")","v":0},{"$f":"SUMIFS(\n'Z0.6.a ProgInvest_Spesa agg'!AK:AK,\n'Z0.6.a ProgInvest_Spesa agg'!$K:$K,$C474,\n'Z0.6.a ProgInvest_Spesa agg'!$M:$M,$D$145,\n'Z0.6.a ProgInvest_Spesa agg'!$L:$L,\"in corso\",\n'Z0.6.a ProgInvest_Spesa agg'!$O:$O,\"vite utili 1\")","v":0},{"$f":"SUMIFS(\n'Z0.6.a ProgInvest_Spesa agg'!AL:AL,\n'Z0.6.a ProgInvest_Spesa agg'!$K:$K,$C474,\n'Z0.6.a ProgInvest_Spesa agg'!$M:$M,$D$145,\n'Z0.6.a ProgInvest_Spesa agg'!$L:$L,\"in corso\",\n'Z0.6.a ProgInvest_Spesa agg'!$O:$O,\"vite utili 1\")","v":0}]
[null,null,"Investimenti in corso cessanti (entrata in esercizio)",null,null,null,{"$f":"-SUMIFS(\n'Z0.6.a ProgInvest_Spesa agg'!$S:$S,\n'Z0.6.a ProgInvest_Spesa agg'!$K:$K,$C474,\n'Z0.6.a ProgInvest_Spesa agg'!$M:$M,$D$145,\n'Z0.6.a ProgInvest_Spesa agg'!$L:$L,\"in corso\",\n'Z0.6.a ProgInvest_Spesa agg'!$O:$O,\"vite utili 1\",\n'Z0.6.a ProgInvest_Spesa agg'!$P:$P,G$4)","v":0},{"$f":"-SUMIFS(\n'Z0.6.a ProgInvest_Spesa agg'!$S:$S,\n'Z0.6.a ProgInvest_Spesa agg'!$K:$K,$C474,\n'Z0.6.a ProgInvest_Spesa agg'!$M:$M,$D$145,\n'Z0.6.a ProgInvest_Spesa agg'!$L:$L,\"in corso\",\n'Z0.6.a ProgInvest_Spesa agg'!$O:$O,\"vite utili 1\",\n'Z0.6.a ProgInvest_Spesa agg'!$P:$P,H$4)","v":0},{"$f":"-SUMIFS(\n'Z0.6.a ProgInvest_Spesa agg'!$S:$S,\n'Z0.6.a ProgInvest_Spesa agg'!$K:$K,$C474,\n'Z0.6.a ProgInvest_Spesa agg'!$M:$M,$D$145,\n'Z0.6.a ProgInvest_Spesa agg'!$L:$L,\"in corso\",\n'Z0.6.a ProgInvest_Spesa agg'!$O:$O,\"vite utili 1\",\n'Z0.6.a ProgInvest_Spesa agg'!$P:$P,I$4)","v":0},{"$f":"-SUMIFS(\n'Z0.6.a ProgInvest_Spesa agg'!$S:$S,\n'Z0.6.a ProgInvest_Spesa agg'!$K:$K,$C474,\n'Z0.6.a ProgInvest_Spesa agg'!$M:$M,$D$145,\n'Z0.6.a ProgInvest_Spesa agg'!$L:$L,\"in corso\",\n'Z0.6.a ProgInvest_Spesa agg'!$O:$O,\"vite utili 1\",\n'Z0.6.a ProgInvest_Spesa agg'!$P:$P,J$4)","v":0},{"$f":"-SUMIFS(\n'Z0.6.a ProgInvest_Spesa agg'!$S:$S,\n'Z0.6.a ProgInvest_Spesa agg'!$K:$K,$C474,\n'Z0.6.a ProgInvest_Spesa agg'!$M:$M,$D$145,\n'Z0.6.a ProgInvest_Spesa agg'!$L:$L,\"in corso\",\n'Z0.6.a ProgInvest_Spesa agg'!$O:$O,\"vite utili 1\",\n'Z0.6.a ProgInvest_Spesa agg'!$P:$P,K$4)","v":0},{"$f":"-SUMIFS(\n'Z0.6.a ProgInvest_Spesa agg'!$S:$S,\n'Z0.6.a ProgInvest_Spesa agg'!$K:$K,$C474,\n'Z0.6.a ProgInvest_Spesa agg'!$M:$M,$D$145,\n'Z0.6.a ProgInvest_Spesa agg'!$L:$L,\"in corso\",\n'Z0.6.a ProgInvest_Spesa agg'!$O:$O,\"vite utili 1\",\n'Z0.6.a ProgInvest_Spesa agg'!$P:$P,L$4)","v":0},{"$f":"-SUMIFS(\n'Z0.6.a ProgInvest_Spesa agg'!$S:$S,\n'Z0.6.a ProgInvest_Spesa agg'!$K:$K,$C474,\n'Z0.6.a ProgInvest_Spesa agg'!$M:$M,$D$145,\n'Z0.6.a ProgInvest_Spesa agg'!$L:$L,\"in corso\",\n'Z0.6.a ProgInvest_Spesa agg'!$O:$O,\"vite utili 1\",\n'Z0.6.a ProgInvest_Spesa agg'!$P:$P,M$4)","v":0},{"$f":"-SUMIFS(\n'Z0.6.a ProgInvest_Spesa agg'!$S:$S,\n'Z0.6.a ProgInvest_Spesa agg'!$K:$K,$C474,\n'Z0.6.a ProgInvest_Spesa agg'!$M:$M,$D$145,\n'Z0.6.a ProgInvest_Spesa agg'!$L:$L,\"in corso\",\n'Z0.6.a ProgInvest_Spesa agg'!$O:$O,\"vite utili 1\",\n'Z0.6.a ProgInvest_Spesa agg'!$P:$P,N$4)","v":0},{"$f":"-SUMIFS(\n'Z0.6.a ProgInvest_Spesa agg'!$S:$S,\n'Z0.6.a ProgInvest_Spesa agg'!$K:$K,$C474,\n'Z0.6.a ProgInvest_Spesa agg'!$M:$M,$D$145,\n'Z0.6.a ProgInvest_Spesa agg'!$L:$L,\"in corso\",\n'Z0.6.a ProgInvest_Spesa agg'!$O:$O,\"vite utili 1\",\n'Z0.6.a ProgInvest_Spesa agg'!$P:$P,O$4)","v":0},{"$f":"-SUMIFS(\n'Z0.6.a ProgInvest_Spesa agg'!$S:$S,\n'Z0.6.a ProgInvest_Spesa agg'!$K:$K,$C474,\n'Z0.6.a ProgInvest_Spesa agg'!$M:$M,$D$145,\n'Z0.6.a ProgInvest_Spesa agg'!$L:$L,\"in corso\",\n'Z0.6.a ProgInvest_Spesa agg'!$O:$O,\"vite utili 1\",\n'Z0.6.a ProgInvest_Spesa agg'!$P:$P,P$4)","v":-200},{"$f":"-SUMIFS(\n'Z0.6.a ProgInvest_Spesa agg'!$S:$S,\n'Z0.6.a ProgInvest_Spesa agg'!$K:$K,$C474,\n'Z0.6.a ProgInvest_Spesa agg'!$M:$M,$D$145,\n'Z0.6.a ProgInvest_Spesa agg'!$L:$L,\"in corso\",\n'Z0.6.a ProgInvest_Spesa agg'!$O:$O,\"vite utili 1\",\n'Z0.6.a ProgInvest_Spesa agg'!$P:$P,Q$4)","v":0},{"$f":"-SUMIFS(\n'Z0.6.a ProgInvest_Spesa agg'!$S:$S,\n'Z0.6.a ProgInvest_Spesa agg'!$K:$K,$C474,\n'Z0.6.a ProgInvest_Spesa agg'!$M:$M,$D$145,\n'Z0.6.a ProgInvest_Spesa agg'!$L:$L,\"in corso\",\n'Z0.6.a ProgInvest_Spesa agg'!$O:$O,\"vite utili 1\",\n'Z0.6.a ProgInvest_Spesa agg'!$P:$P,R$4)","v":0},{"$f":"-SUMIFS(\n'Z0.6.a ProgInvest_Spesa agg'!$S:$S,\n'Z0.6.a ProgInvest_Spesa agg'!$K:$K,$C474,\n'Z0.6.a ProgInvest_Spesa agg'!$M:$M,$D$145,\n'Z0.6.a ProgInvest_Spesa agg'!$L:$L,\"in corso\",\n'Z0.6.a ProgInvest_Spesa agg'!$O:$O,\"vite utili 1\",\n'Z0.6.a ProgInvest_Spesa agg'!$P:$P,S$4)","v":0}]
[null,null,"LIC livello 1 - eop",null,null,{"$f":"OFFSET(INDIRECT($F474 & \"inv\"),-10,2+AnnoPonte-UltimoAnnoRTP,1,1)","v":0},{"$f":"G476+G477+G478","v":0},0,0,0,0,0,0,0,100,0,0,0,0]
[null,null,"Valore di subentro LIC",null,null,null,{"$f":"IF(G$4=ScadenzaConcessione,G479,0)","v":0},0,0,0,0,0,0,0,0,0,0,0,0]
[null,null,"Remunerazione LIC",null,null,null,{"$f":"G476*G$17*G$10","v":0},{"$f":"H476*H$17*H$10","v":0},0,0,0,0,0,0,0,7.51,0,0,0]
[]
[null,null,"LIC livello 2 - bop",null,null,null,{"$f":"F486","v":0},{"$f":"G486","v":0},{"$f":"H486","v":0},{"$f":"I486","v":0},{"$f":"J486","v":0},{"$f":"K486","v":0},{"$f":"L486","v":0},{"$f":"M486","v":0},{"$f":"N486","v":0},{"$f":"O486","v":100},{"$f":"P486","v":0},{"$f":"Q486","v":0},{"$f":"R486","v":0}]
[null,null,"Investimenti in corso aggiuntivi",null,null,null,{"$f":"SUMIFS(\n'Z0.6.a ProgInvest_Spesa agg'!Z:Z,\n'Z0.6.a ProgInvest_Spesa agg'!$K:$K,$C474,\n'Z0.6.a ProgInvest_Spesa agg'!$M:$M,$D$145,\n'Z0.6.a ProgInvest_Spesa agg'!$L:$L,\"in corso\",\n'Z0.6.a ProgInvest_Spesa agg'!$O:$O,\"vite utili 2\")","v":0},{"$f":"SUMIFS(\n'Z0.6.a ProgInvest_Spesa agg'!AA:AA,\n'Z0.6.a ProgInvest_Spesa agg'!$K:$K,$C474,\n'Z0.6.a ProgInvest_Spesa agg'!$M:$M,$D$145,\n'Z0.6.a ProgInvest_Spesa agg'!$L:$L,\"in corso\",\n'Z0.6.a ProgInvest_Spesa agg'!$O:$O,\"vite utili 2\")","v":0},{"$f":"SUMIFS(\n'Z0.6.a ProgInvest_Spesa agg'!AB:AB,\n'Z0.6.a ProgInvest_Spesa agg'!$K:$K,$C474,\n'Z0.6.a ProgInvest_Spesa agg'!$M:$M,$D$145,\n'Z0.6.a ProgInvest_Spesa agg'!$L:$L,\"in corso\",\n'Z0.6.a ProgInvest_Spesa agg'!$O:$O,\"vite utili 2\")","v":0},{"$f":"SUMIFS(\n'Z0.6.a ProgInvest_Spesa agg'!AC:AC,\n'Z0.6.a ProgInvest_Spesa agg'!$K:$K,$C474,\n'Z0.6.a ProgInvest_Spesa agg'!$M:$M,$D$145,\n'Z0.6.a ProgInvest_Spesa agg'!$L:$L,\"in corso\",\n'Z0.6.a ProgInvest_Spesa agg'!$O:$O,\"vite utili 2\")","v":0},{"$f":"SUMIFS(\n'Z0.6.a ProgInvest_Spesa agg'!AD:AD,\n'Z0.6.a ProgInvest_Spesa agg'!$K:$K,$C474,\n'Z0.6.a ProgInvest_Spesa agg'!$M:$M,$D$145,\n'Z0.6.a ProgInvest_Spesa agg'!$L:$L,\"in corso\",\n'Z0.6.a ProgInvest_Spesa agg'!$O:$O,\"vite utili 2\")","v":0},{"$f":"SUMIFS(\n'Z0.6.a ProgInvest_Spesa agg'!AE:AE,\n'Z0.6.a ProgInvest_Spesa agg'!$K:$K,$C474,\n'Z0.6.a ProgInvest_Spesa agg'!$M:$M,$D$145,\n'Z0.6.a ProgInvest_Spesa agg'!$L:$L,\"in corso\",\n'Z0.6.a ProgInvest_Spesa agg'!$O:$O,\"vite utili 2\")","v":0},{"$f":"SUMIFS(\n'Z0.6.a ProgInvest_Spesa agg'!AF:AF,\n'Z0.6.a ProgInvest_Spesa agg'!$K:$K,$C474,\n'Z0.6.a ProgInvest_Spesa agg'!$M:$M,$D$145,\n'Z0.6.a ProgInvest_Spesa agg'!$L:$L,\"in corso\",\n'Z0.6.a ProgInvest_Spesa agg'!$O:$O,\"vite utili 2\")","v":0},{"$f":"SUMIFS(\n'Z0.6.a ProgInvest_Spesa agg'!AG:AG,\n'Z0.6.a ProgInvest_Spesa agg'!$K:$K,$C474,\n'Z0.6.a ProgInvest_Spesa agg'!$M:$M,$D$145,\n'Z0.6.a ProgInvest_Spesa agg'!$L:$L,\"in corso\",\n'Z0.6.a ProgInvest_Spesa agg'!$O:$O,\"vite utili 2\")","v":0},{"$f":"SUMIFS(\n'Z0.6.a ProgInvest_Spesa agg'!AH:AH,\n'Z0.6.a ProgInvest_Spesa agg'!$K:$K,$C474,\n'Z0.6.a ProgInvest_Spesa agg'!$M:$M,$D$145,\n'Z0.6.a ProgInvest_Spesa agg'!$L:$L,\"in corso\",\n'Z0.6.a ProgInvest_Spesa agg'!$O:$O,\"vite utili 2\")","v":100},{"$f":"SUMIFS(\n'Z0.6.a ProgInvest_Spesa agg'!AI:AI,\n'Z0.6.a ProgInvest_Spesa agg'!$K:$K,$C474,\n'Z0.6.a ProgInvest_Spesa agg'!$M:$M,$D$145,\n'Z0.6.a ProgInvest_Spesa agg'!$L:$L,\"in corso\",\n'Z0.6.a ProgInvest_Spesa agg'!$O:$O,\"vite utili 2\")","v":100},{"$f":"SUMIFS(\n'Z0.6.a ProgInvest_Spesa agg'!AJ:AJ,\n'Z0.6.a ProgInvest_Spesa agg'!$K:$K,$C474,\n'Z0.6.a ProgInvest_Spesa agg'!$M:$M,$D$145,\n'Z0.6.a ProgInvest_Spesa agg'!$L:$L,\"in corso\",\n'Z0.6.a ProgInvest_Spesa agg'!$O:$O,\"vite utili 2\")","v":0},{"$f":"SUMIFS(\n'Z0.6.a ProgInvest_Spesa agg'!AK:AK,\n'Z0.6.a ProgInvest_Spesa agg'!$K:$K,$C474,\n'Z0.6.a ProgInvest_Spesa agg'!$M:$M,$D$145,\n'Z0.6.a ProgInvest_Spesa agg'!$L:$L,\"in corso\",\n'Z0.6.a ProgInvest_Spesa agg'!$O:$O,\"vite utili 2\")","v":0},{"$f":"SUMIFS(\n'Z0.6.a ProgInvest_Spesa agg'!AL:AL,\n'Z0.6.a ProgInvest_Spesa agg'!$K:$K,$C474,\n'Z0.6.a ProgInvest_Spesa agg'!$M:$M,$D$145,\n'Z0.6.a ProgInvest_Spesa agg'!$L:$L,\"in corso\",\n'Z0.6.a ProgInvest_Spesa agg'!$O:$O,\"vite utili 2\")","v":0}]
[null,null,"Investimenti in corso cessanti (entrata in esercizio)",null,null,null,{"$f":"-SUMIFS(\n'Z0.6.a ProgInvest_Spesa agg'!$S:$S,\n'Z0.6.a ProgInvest_Spesa agg'!$K:$K,$C474,\n'Z0.6.a ProgInvest_Spesa agg'!$M:$M,$D$145,\n'Z0.6.a ProgInvest_Spesa agg'!$L:$L,\"in corso\",\n'Z0.6.a ProgInvest_Spesa agg'!$O:$O,\"vite utili 2\",\n'Z0.6.a ProgInvest_Spesa agg'!$P:$P,G$4)","v":0},{"$f":"-SUMIFS(\n'Z0.6.a ProgInvest_Spesa agg'!$S:$S,\n'Z0.6.a ProgInvest_Spesa agg'!$K:$K,$C474,\n'Z0.6.a ProgInvest_Spesa agg'!$M:$M,$D$145,\n'Z0.6.a ProgInvest_Spesa agg'!$L:$L,\"in corso\",\n'Z0.6.a ProgInvest_Spesa agg'!$O:$O,\"vite utili 2\",\n'Z0.6.a ProgInvest_Spesa agg'!$P:$P,H$4)","v":0},{"$f":"-SUMIFS(\n'Z0.6.a ProgInvest_Spesa agg'!$S:$S,\n'Z0.6.a ProgInvest_Spesa agg'!$K:$K,$C474,\n'Z0.6.a ProgInvest_Spesa agg'!$M:$M,$D$145,\n'Z0.6.a ProgInvest_Spesa agg'!$L:$L,\"in corso\",\n'Z0.6.a ProgInvest_Spesa agg'!$O:$O,\"vite utili 2\",\n'Z0.6.a ProgInvest_Spesa agg'!$P:$P,I$4)","v":0},{"$f":"-SUMIFS(\n'Z0.6.a ProgInvest_Spesa agg'!$S:$S,\n'Z0.6.a ProgInvest_Spesa agg'!$K:$K,$C474,\n'Z0.6.a ProgInvest_Spesa agg'!$M:$M,$D$145,\n'Z0.6.a ProgInvest_Spesa agg'!$L:$L,\"in corso\",\n'Z0.6.a ProgInvest_Spesa agg'!$O:$O,\"vite utili 2\",\n'Z0.6.a ProgInvest_Spesa agg'!$P:$P,J$4)","v":0},{"$f":"-SUMIFS(\n'Z0.6.a ProgInvest_Spesa agg'!$S:$S,\n'Z0.6.a ProgInvest_Spesa agg'!$K:$K,$C474,\n'Z0.6.a ProgInvest_Spesa agg'!$M:$M,$D$145,\n'Z0.6.a ProgInvest_Spesa agg'!$L:$L,\"in corso\",\n'Z0.6.a ProgInvest_Spesa agg'!$O:$O,\"vite utili 2\",\n'Z0.6.a ProgInvest_Spesa agg'!$P:$P,K$4)","v":0},{"$f":"-SUMIFS(\n'Z0.6.a ProgInvest_Spesa agg'!$S:$S,\n'Z0.6.a ProgInvest_Spesa agg'!$K:$K,$C474,\n'Z0.6.a ProgInvest_Spesa agg'!$M:$M,$D$145,\n'Z0.6.a ProgInvest_Spesa agg'!$L:$L,\"in corso\",\n'Z0.6.a ProgInvest_Spesa agg'!$O:$O,\"vite utili 2\",\n'Z0.6.a ProgInvest_Spesa agg'!$P:$P,L$4)","v":0},{"$f":"-SUMIFS(\n'Z0.6.a ProgInvest_Spesa agg'!$S:$S,\n'Z0.6.a ProgInvest_Spesa agg'!$K:$K,$C474,\n'Z0.6.a ProgInvest_Spesa agg'!$M:$M,$D$145,\n'Z0.6.a ProgInvest_Spesa agg'!$L:$L,\"in corso\",\n'Z0.6.a ProgInvest_Spesa agg'!$O:$O,\"vite utili 2\",\n'Z0.6.a ProgInvest_Spesa agg'!$P:$P,M$4)","v":0},{"$f":"-SUMIFS(\n'Z0.6.a ProgInvest_Spesa agg'!$S:$S,\n'Z0.6.a ProgInvest_Spesa agg'!$K:$K,$C474,\n'Z0.6.a ProgInvest_Spesa agg'!$M:$M,$D$145,\n'Z0.6.a ProgInvest_Spesa agg'!$L:$L,\"in corso\",\n'Z0.6.a ProgInvest_Spesa agg'!$O:$O,\"vite utili 2\",\n'Z0.6.a ProgInvest_Spesa agg'!$P:$P,N$4)","v":0},{"$f":"-SUMIFS(\n'Z0.6.a ProgInvest_Spesa agg'!$S:$S,\n'Z0.6.a ProgInvest_Spesa agg'!$K:$K,$C474,\n'Z0.6.a ProgInvest_Spesa agg'!$M:$M,$D$145,\n'Z0.6.a ProgInvest_Spesa agg'!$L:$L,\"in corso\",\n'Z0.6.a ProgInvest_Spesa agg'!$O:$O,\"vite utili 2\",\n'Z0.6.a ProgInvest_Spesa agg'!$P:$P,O$4)","v":0},{"$f":"-SUMIFS(\n'Z0.6.a ProgInvest_Spesa agg'!$S:$S,\n'Z0.6.a ProgInvest_Spesa agg'!$K:$K,$C474,\n'Z0.6.a ProgInvest_Spesa agg'!$M:$M,$D$145,\n'Z0.6.a ProgInvest_Spesa agg'!$L:$L,\"in corso\",\n'Z0.6.a ProgInvest_Spesa agg'!$O:$O,\"vite utili 2\",\n'Z0.6.a ProgInvest_Spesa agg'!$P:$P,P$4)","v":-200},{"$f":"-SUMIFS(\n'Z0.6.a ProgInvest_Spesa agg'!$S:$S,\n'Z0.6.a ProgInvest_Spesa agg'!$K:$K,$C474,\n'Z0.6.a ProgInvest_Spesa agg'!$M:$M,$D$145,\n'Z0.6.a ProgInvest_Spesa agg'!$L:$L,\"in corso\",\n'Z0.6.a ProgInvest_Spesa agg'!$O:$O,\"vite utili 2\",\n'Z0.6.a ProgInvest_Spesa agg'!$P:$P,Q$4)","v":0},{"$f":"-SUMIFS(\n'Z0.6.a ProgInvest_Spesa agg'!$S:$S,\n'Z0.6.a ProgInvest_Spesa agg'!$K:$K,$C474,\n'Z0.6.a ProgInvest_Spesa agg'!$M:$M,$D$145,\n'Z0.6.a ProgInvest_Spesa agg'!$L:$L,\"in corso\",\n'Z0.6.a ProgInvest_Spesa agg'!$O:$O,\"vite utili 2\",\n'Z0.6.a ProgInvest_Spesa agg'!$P:$P,R$4)","v":0},{"$f":"-SUMIFS(\n'Z0.6.a ProgInvest_Spesa agg'!$S:$S,\n'Z0.6.a ProgInvest_Spesa agg'!$K:$K,$C474,\n'Z0.6.a ProgInvest_Spesa agg'!$M:$M,$D$145,\n'Z0.6.a ProgInvest_Spesa agg'!$L:$L,\"in corso\",\n'Z0.6.a ProgInvest_Spesa agg'!$O:$O,\"vite utili 2\",\n'Z0.6.a ProgInvest_Spesa agg'!$P:$P,S$4)","v":0}]
[null,null,"LIC livello 2 - eop",null,null,{"$f":"OFFSET(INDIRECT($F474 & \"inv\"),-4,2+AnnoPonte-UltimoAnnoRTP,1,1)","v":0},{"$f":"G483+G484+G485","v":0},0,0,0,0,0,0,0,100,0,0,0,0]
[null,null,"Valore di subentro LIC",null,null,null,{"$f":"IF(G$4=ScadenzaConcessione,G486,0)","v":0},0,0,0,0,0,0,0,0,0,0,0,0]
[null,null,"Remunerazione LIC",null,null,null,{"$f":"G483*G$20*G$10","v":0},0,0,0,0,0,0,0,0,4.3499999999999996,0,0,0]
[]
[null,null,"CIN investimenti (lordo contributi e subentro, netto dismissioni) bop (amm. a vite utili)",null,"precedenti",null,{"$f":"F494","v":0},{"$f":"G494","v":0},{"$f":"H494","v":0},{"$f":"I494","v":0},{"$f":"J494","v":0},{"$f":"K494","v":0},{"$f":"L494","v":0},{"$f":"M494","v":0},{"$f":"N494","v":0},{"$f":"O494","v":0},{"$f":"P494","v":400},{"$f":"Q494","v":360},{"$f":"R494","v":320}]
[null,null,"Investimenti entrati in esercizio (amm.a vite utili)",null,{"$f":"SUM(OFFSET(INDIRECT($F474 & \"inv\"),0,3,1,IF(EsistePrev,AnnoPonte-UltimoAnnoRTP,1)))","v":0},null,{"$f":"-G478-G485","v":0},{"$f":"-H478-H485","v":0},0,0,0,0,0,0,0,400,0,0,0]
[null,null,"Dismissioni",null,{"$f":"-SUM(OFFSET(INDIRECT($F474&\"dism\"),0,3,1,IF(EsistePrev,AnnoPonte-UltimoAnnoRTP,1)))","v":0},null,{"$f":"SUMIFS(\n'Z0.6.c ProgInvest_Dism agg'!Z:Z,\n'Z0.6.c ProgInvest_Dism agg'!$K:$K,$C474,\n'Z0.6.c ProgInvest_Dism agg'!$M:$M,$D$145,\n'Z0.6.c ProgInvest_Dism agg'!$L:$L,\"in corso\",\n'Z0.6.c ProgInvest_Dism agg'!$O:$O,\"vite utili 1\")\n+SUMIFS(\n'Z0.6.c ProgInvest_Dism agg'!Z:Z,\n'Z0.6.c ProgInvest_Dism agg'!$K:$K,$C474,\n'Z0.6.c ProgInvest_Dism agg'!$M:$M,$D$145,\n'Z0.6.c ProgInvest_Dism agg'!$L:$L,\"in corso\",\n'Z0.6.c ProgInvest_Dism agg'!$O:$O,\"vite utili 2\")","v":0},{"$f":"SUMIFS(\n'Z0.6.c ProgInvest_Dism agg'!AA:AA,\n'Z0.6.c ProgInvest_Dism agg'!$K:$K,$C474,\n'Z0.6.c ProgInvest_Dism agg'!$M:$M,$D$145,\n'Z0.6.c ProgInvest_Dism agg'!$L:$L,\"in corso\",\n'Z0.6.c ProgInvest_Dism agg'!$O:$O,\"vite utili 1\")\n+SUMIFS(\n'Z0.6.c ProgInvest_Dism agg'!AA:AA,\n'Z0.6.c ProgInvest_Dism agg'!$K:$K,$C474,\n'Z0.6.c ProgInvest_Dism agg'!$M:$M,$D$145,\n'Z0.6.c ProgInvest_Dism agg'!$L:$L,\"in corso\",\n'Z0.6.c ProgInvest_Dism agg'!$O:$O,\"vite utili 2\")","v":0},{"$f":"SUMIFS(\n'Z0.6.c ProgInvest_Dism agg'!AB:AB,\n'Z0.6.c ProgInvest_Dism agg'!$K:$K,$C474,\n'Z0.6.c ProgInvest_Dism agg'!$M:$M,$D$145,\n'Z0.6.c ProgInvest_Dism agg'!$L:$L,\"in corso\",\n'Z0.6.c ProgInvest_Dism agg'!$O:$O,\"vite utili 1\")\n+SUMIFS(\n'Z0.6.c ProgInvest_Dism agg'!AB:AB,\n'Z0.6.c ProgInvest_Dism agg'!$K:$K,$C474,\n'Z0.6.c ProgInvest_Dism agg'!$M:$M,$D$145,\n'Z0.6.c ProgInvest_Dism agg'!$L:$L,\"in corso\",\n'Z0.6.c ProgInvest_Dism agg'!$O:$O,\"vite utili 2\")","v":0},{"$f":"SUMIFS(\n'Z0.6.c ProgInvest_Dism agg'!AC:AC,\n'Z0.6.c ProgInvest_Dism agg'!$K:$K,$C474,\n'Z0.6.c ProgInvest_Dism agg'!$M:$M,$D$145,\n'Z0.6.c ProgInvest_Dism agg'!$L:$L,\"in corso\",\n'Z0.6.c ProgInvest_Dism agg'!$O:$O,\"vite utili 1\")\n+SUMIFS(\n'Z0.6.c ProgInvest_Dism agg'!AC:AC,\n'Z0.6.c ProgInvest_Dism agg'!$K:$K,$C474,\n'Z0.6.c ProgInvest_Dism agg'!$M:$M,$D$145,\n'Z0.6.c ProgInvest_Dism agg'!$L:$L,\"in corso\",\n'Z0.6.c ProgInvest_Dism agg'!$O:$O,\"vite utili 2\")","v":0},{"$f":"SUMIFS(\n'Z0.6.c ProgInvest_Dism agg'!AD:AD,\n'Z0.6.c ProgInvest_Dism agg'!$K:$K,$C474,\n'Z0.6.c ProgInvest_Dism agg'!$M:$M,$D$145,\n'Z0.6.c ProgInvest_Dism agg'!$L:$L,\"in corso\",\n'Z0.6.c ProgInvest_Dism agg'!$O:$O,\"vite utili 1\")\n+SUMIFS(\n'Z0.6.c ProgInvest_Dism agg'!AD:AD,\n'Z0.6.c ProgInvest_Dism agg'!$K:$K,$C474,\n'Z0.6.c ProgInvest_Dism agg'!$M:$M,$D$145,\n'Z0.6.c ProgInvest_Dism agg'!$L:$L,\"in corso\",\n'Z0.6.c ProgInvest_Dism agg'!$O:$O,\"vite utili 2\")","v":0},{"$f":"SUMIFS(\n'Z0.6.c ProgInvest_Dism agg'!AE:AE,\n'Z0.6.c ProgInvest_Dism agg'!$K:$K,$C474,\n'Z0.6.c ProgInvest_Dism agg'!$M:$M,$D$145,\n'Z0.6.c ProgInvest_Dism agg'!$L:$L,\"in corso\",\n'Z0.6.c ProgInvest_Dism agg'!$O:$O,\"vite utili 1\")\n+SUMIFS(\n'Z0.6.c ProgInvest_Dism agg'!AE:AE,\n'Z0.6.c ProgInvest_Dism agg'!$K:$K,$C474,\n'Z0.6.c ProgInvest_Dism agg'!$M:$M,$D$145,\n'Z0.6.c ProgInvest_Dism agg'!$L:$L,\"in corso\",\n'Z0.6.c ProgInvest_Dism agg'!$O:$O,\"vite utili 2\")","v":0},{"$f":"SUMIFS(\n'Z0.6.c ProgInvest_Dism agg'!AF:AF,\n'Z0.6.c ProgInvest_Dism agg'!$K:$K,$C474,\n'Z0.6.c ProgInvest_Dism agg'!$M:$M,$D$145,\n'Z0.6.c ProgInvest_Dism agg'!$L:$L,\"in corso\",\n'Z0.6.c ProgInvest_Dism agg'!$O:$O,\"vite utili 1\")\n+SUMIFS(\n'Z0.6.c ProgInvest_Dism agg'!AF:AF,\n'Z0.6.c ProgInvest_Dism agg'!$K:$K,$C474,\n'Z0.6.c ProgInvest_Dism agg'!$M:$M,$D$145,\n'Z0.6.c ProgInvest_Dism agg'!$L:$L,\"in corso\",\n'Z0.6.c ProgInvest_Dism agg'!$O:$O,\"vite utili 2\")","v":0},{"$f":"SUMIFS(\n'Z0.6.c ProgInvest_Dism agg'!AG:AG,\n'Z0.6.c ProgInvest_Dism agg'!$K:$K,$C474,\n'Z0.6.c ProgInvest_Dism agg'!$M:$M,$D$145,\n'Z0.6.c ProgInvest_Dism agg'!$L:$L,\"in corso\",\n'Z0.6.c ProgInvest_Dism agg'!$O:$O,\"vite utili 1\")\n+SUMIFS(\n'Z0.6.c ProgInvest_Dism agg'!AG:AG,\n'Z0.6.c ProgInvest_Dism agg'!$K:$K,$C474,\n'Z0.6.c ProgInvest_Dism agg'!$M:$M,$D$145,\n'Z0.6.c ProgInvest_Dism agg'!$L:$L,\"in corso\",\n'Z0.6.c ProgInvest_Dism agg'!$O:$O,\"vite utili 2\")","v":0},{"$f":"SUMIFS(\n'Z0.6.c ProgInvest_Dism agg'!AH:AH,\n'Z0.6.c ProgInvest_Dism agg'!$K:$K,$C474,\n'Z0.6.c ProgInvest_Dism agg'!$M:$M,$D$145,\n'Z0.6.c ProgInvest_Dism agg'!$L:$L,\"in corso\",\n'Z0.6.c ProgInvest_Dism agg'!$O:$O,\"vite utili 1\")\n+SUMIFS(\n'Z0.6.c ProgInvest_Dism agg'!AH:AH,\n'Z0.6.c ProgInvest_Dism agg'!$K:$K,$C474,\n'Z0.6.c ProgInvest_Dism agg'!$M:$M,$D$145,\n'Z0.6.c ProgInvest_Dism agg'!$L:$L,\"in corso\",\n'Z0.6.c ProgInvest_Dism agg'!$O:$O,\"vite utili 2\")","v":0},{"$f":"SUMIFS(\n'Z0.6.c ProgInvest_Dism agg'!AI:AI,\n'Z0.6.c ProgInvest_Dism agg'!$K:$K,$C474,\n'Z0.6.c ProgInvest_Dism agg'!$M:$M,$D$145,\n'Z0.6.c ProgInvest_Dism agg'!$L:$L,\"in corso\",\n'Z0.6.c ProgInvest_Dism agg'!$O:$O,\"vite utili 1\")\n+SUMIFS(\n'Z0.6.c ProgInvest_Dism agg'!AI:AI,\n'Z0.6.c ProgInvest_Dism agg'!$K:$K,$C474,\n'Z0.6.c ProgInvest_Dism agg'!$M:$M,$D$145,\n'Z0.6.c ProgInvest_Dism agg'!$L:$L,\"in corso\",\n'Z0.6.c ProgInvest_Dism agg'!$O:$O,\"vite utili 2\")","v":0},{"$f":"SUMIFS(\n'Z0.6.c ProgInvest_Dism agg'!AJ:AJ,\n'Z0.6.c ProgInvest_Dism agg'!$K:$K,$C474,\n'Z0.6.c ProgInvest_Dism agg'!$M:$M,$D$145,\n'Z0.6.c ProgInvest_Dism agg'!$L:$L,\"in corso\",\n'Z0.6.c ProgInvest_Dism agg'!$O:$O,\"vite utili 1\")\n+SUMIFS(\n'Z0.6.c ProgInvest_Dism agg'!AJ:AJ,\n'Z0.6.c ProgInvest_Dism agg'!$K:$K,$C474,\n'Z0.6.c ProgInvest_Dism agg'!$M:$M,$D$145,\n'Z0.6.c ProgInvest_Dism agg'!$L:$L,\"in corso\",\n'Z0.6.c ProgInvest_Dism agg'!$O:$O,\"vite utili 2\")","v":0},{"$f":"SUMIFS(\n'Z0.6.c ProgInvest_Dism agg'!AK:AK,\n'Z0.6.c ProgInvest_Dism agg'!$K:$K,$C474,\n'Z0.6.c ProgInvest_Dism agg'!$M:$M,$D$145,\n'Z0.6.c ProgInvest_Dism agg'!$L:$L,\"in corso\",\n'Z0.6.c ProgInvest_Dism agg'!$O:$O,\"vite utili 1\")\n+SUMIFS(\n'Z0.6.c ProgInvest_Dism agg'!AK:AK,\n'Z0.6.c ProgInvest_Dism agg'!$K:$K,$C474,\n'Z0.6.c ProgInvest_Dism agg'!$M:$M,$D$145,\n'Z0.6.c ProgInvest_Dism agg'!$L:$L,\"in corso\",\n'Z0.6.c ProgInvest_Dism agg'!$O:$O,\"vite utili 2\")","v":0},{"$f":"SUMIFS(\n'Z0.6.c ProgInvest_Dism agg'!AL:AL,\n'Z0.6.c ProgInvest_Dism agg'!$K:$K,$C474,\n'Z0.6.c ProgInvest_Dism agg'!$M:$M,$D$145,\n'Z0.6.c ProgInvest_Dism agg'!$L:$L,\"in corso\",\n'Z0.6.c ProgInvest_Dism agg'!$O:$O,\"vite utili 1\")\n+SUMIFS(\n'Z0.6.c ProgInvest_Dism agg'!AL:AL,\n'Z0.6.c ProgInvest_Dism agg'!$K:$K,$C474,\n'Z0.6.c ProgInvest_Dism agg'!$M:$M,$D$145,\n'Z0.6.c ProgInvest_Dism agg'!$L:$L,\"in corso\",\n'Z0.6.c ProgInvest_Dism agg'!$O:$O,\"vite utili 2\")","v":20}]
[null,null,"Ammortamento (a vite utili)",null,{"$f":"SUM(OFFSET(INDIRECT($F474 & \"inv\"),2,3,1,IF(EsistePrev,AnnoPonte-UltimoAnnoRTP,1)))","v":0},null,{"$f":"MIN(G490,IF(F$4-UltimoAnnoRTP<=$D474,\n(SUM($F491:F491)+SUM(OFFSET(INDIRECT($F474 & \"inv\"),0,3,1,IF(EsistePrev,AnnoPonte-UltimoAnnoRTP,1)))\n-SUM($F492:F492)-SUM(OFFSET(INDIRECT($F474 & \"dism\"),0,3,1,IF(EsistePrev,AnnoPonte-UltimoAnnoRTP,1))))/$D474,\n\nIF(AND(F$4-UltimoAnnoRTP>$D474,F$4-AnnoPonte<=$D474),\n(SUM($F491:F491)+SUM(IFERROR(OFFSET(INDIRECT($F474 & \"inv\"),0,3+(F$4-UltimoAnnoRTP-$D474),1,(IF(EsistePrev,AnnoPonte-UltimoAnnoRTP,1)-(F$4-UltimoAnnoRTP-$D474))),0))\n-SUM($F492:F492)-SUM(IFERROR(OFFSET(INDIRECT($F474 & \"dism\"),0,3+(F$4-UltimoAnnoRTP-$D474),1,(IF(EsistePrev,AnnoPonte-UltimoAnnoRTP,1)-(F$4-UltimoAnnoRTP-$D474))),0)))/$D474,\n\n(SUM(OFFSET(F491,0,-$D474+1,1,$D474))\n-SUM(OFFSET(F492,0,-$D474+1,1,$D474)))/$D474)))","v":0},{"$f":"MIN(H490,IF(G$4-UltimoAnnoRTP<=$D474,\n(SUM($F491:G491)+SUM(OFFSET(INDIRECT($F474 & \"inv\"),0,3,1,IF(EsistePrev,AnnoPonte-UltimoAnnoRTP,1)))\n-SUM($F492:G492)-SUM(OFFSET(INDIRECT($F474 & \"dism\"),0,3,1,IF(EsistePrev,AnnoPonte-UltimoAnnoRTP,1))))/$D474,\n\nIF(AND(G$4-UltimoAnnoRTP>$D474,G$4-AnnoPonte<=$D474),\n(SUM($F491:G491)+SUM(IFERROR(OFFSET(INDIRECT($F474 & \"inv\"),0,3+(G$4-UltimoAnnoRTP-$D474),1,(IF(EsistePrev,AnnoPonte-UltimoAnnoRTP,1)-(G$4-UltimoAnnoRTP-$D474))),0))\n-SUM($F492:G492)-SUM(IFERROR(OFFSET(INDIRECT($F474 & \"dism\"),0,3+(G$4-UltimoAnnoRTP-$D474),1,(IF(EsistePrev,AnnoPonte-UltimoAnnoRTP,1)-(G$4-UltimoAnnoRTP-$D474))),0)))/$D474,\n\n(SUM(OFFSET(G491,0,-$D474+1,1,$D474))\n-SUM(OFFSET(G492,0,-$D474+1,1,$D474)))/$D474)))","v":0},{"$f":"MIN(I490,IF(H$4-UltimoAnnoRTP<=$D474,\n(SUM($F491:H491)+SUM(OFFSET(INDIRECT($F474 & \"inv\"),0,3,1,IF(EsistePrev,AnnoPonte-UltimoAnnoRTP,1)))\n-SUM($F492:H492)-SUM(OFFSET(INDIRECT($F474 & \"dism\"),0,3,1,IF(EsistePrev,AnnoPonte-UltimoAnnoRTP,1))))/$D474,\n\nIF(AND(H$4-UltimoAnnoRTP>$D474,H$4-AnnoPonte<=$D474),\n(SUM($F491:H491)+SUM(IFERROR(OFFSET(INDIRECT($F474 & \"inv\"),0,3+(H$4-UltimoAnnoRTP-$D474),1,(IF(EsistePrev,AnnoPonte-UltimoAnnoRTP,1)-(H$4-UltimoAnnoRTP-$D474))),0))\n-SUM($F492:H492)-SUM(IFERROR(OFFSET(INDIRECT($F474 & \"dism\"),0,3+(H$4-UltimoAnnoRTP-$D474),1,(IF(EsistePrev,AnnoPonte-UltimoAnnoRTP,1)-(H$4-UltimoAnnoRTP-$D474))),0)))/$D474,\n\n(SUM(OFFSET(H491,0,-$D474+1,1,$D474))\n-SUM(OFFSET(H492,0,-$D474+1,1,$D474)))/$D474)))","v":0},{"$f":"MIN(J490,IF(I$4-UltimoAnnoRTP<=$D474,\n(SUM($F491:I491)+SUM(OFFSET(INDIRECT($F474 & \"inv\"),0,3,1,IF(EsistePrev,AnnoPonte-UltimoAnnoRTP,1)))\n-SUM($F492:I492)-SUM(OFFSET(INDIRECT($F474 & \"dism\"),0,3,1,IF(EsistePrev,AnnoPonte-UltimoAnnoRTP,1))))/$D474,\n\nIF(AND(I$4-UltimoAnnoRTP>$D474,I$4-AnnoPonte<=$D474),\n(SUM($F491:I491)+SUM(IFERROR(OFFSET(INDIRECT($F474 & \"inv\"),0,3+(I$4-UltimoAnnoRTP-$D474),1,(IF(EsistePrev,AnnoPonte-UltimoAnnoRTP,1)-(I$4-UltimoAnnoRTP-$D474))),0))\n-SUM($F492:I492)-SUM(IFERROR(OFFSET(INDIRECT($F474 & \"dism\"),0,3+(I$4-UltimoAnnoRTP-$D474),1,(IF(EsistePrev,AnnoPonte-UltimoAnnoRTP,1)-(I$4-UltimoAnnoRTP-$D474))),0)))/$D474,\n\n(SUM(OFFSET(I491,0,-$D474+1,1,$D474))\n-SUM(OFFSET(I492,0,-$D474+1,1,$D474)))/$D474)))","v":0},{"$f":"MIN(K490,IF(J$4-UltimoAnnoRTP<=$D474,\n(SUM($F491:J491)+SUM(OFFSET(INDIRECT($F474 & \"inv\"),0,3,1,IF(EsistePrev,AnnoPonte-UltimoAnnoRTP,1)))\n-SUM($F492:J492)-SUM(OFFSET(INDIRECT($F474 & \"dism\"),0,3,1,IF(EsistePrev,AnnoPonte-UltimoAnnoRTP,1))))/$D474,\n\nIF(AND(J$4-UltimoAnnoRTP>$D474,J$4-AnnoPonte<=$D474),\n(SUM($F491:J491)+SUM(IFERROR(OFFSET(INDIRECT($F474 & \"inv\"),0,3+(J$4-UltimoAnnoRTP-$D474),1,(IF(EsistePrev,AnnoPonte-UltimoAnnoRTP,1)-(J$4-UltimoAnnoRTP-$D474))),0))\n-SUM($F492:J492)-SUM(IFERROR(OFFSET(INDIRECT($F474 & \"dism\"),0,3+(J$4-UltimoAnnoRTP-$D474),1,(IF(EsistePrev,AnnoPonte-UltimoAnnoRTP,1)-(J$4-UltimoAnnoRTP-$D474))),0)))/$D474,\n\n(SUM(OFFSET(J491,0,-$D474+1,1,$D474))\n-SUM(OFFSET(J492,0,-$D474+1,1,$D474)))/$D474)))","v":0},{"$f":"MIN(L490,IF(K$4-UltimoAnnoRTP<=$D474,\n(SUM($F491:K491)+SUM(OFFSET(INDIRECT($F474 & \"inv\"),0,3,1,IF(EsistePrev,AnnoPonte-UltimoAnnoRTP,1)))\n-SUM($F492:K492)-SUM(OFFSET(INDIRECT($F474 & \"dism\"),0,3,1,IF(EsistePrev,AnnoPonte-UltimoAnnoRTP,1))))/$D474,\n\nIF(AND(K$4-UltimoAnnoRTP>$D474,K$4-AnnoPonte<=$D474),\n(SUM($F491:K491)+SUM(IFERROR(OFFSET(INDIRECT($F474 & \"inv\"),0,3+(K$4-UltimoAnnoRTP-$D474),1,(IF(EsistePrev,AnnoPonte-UltimoAnnoRTP,1)-(K$4-UltimoAnnoRTP-$D474))),0))\n-SUM($F492:K492)-SUM(IFERROR(OFFSET(INDIRECT($F474 & \"dism\"),0,3+(K$4-UltimoAnnoRTP-$D474),1,(IF(EsistePrev,AnnoPonte-UltimoAnnoRTP,1)-(K$4-UltimoAnnoRTP-$D474))),0)))/$D474,\n\n(SUM(OFFSET(K491,0,-$D474+1,1,$D474))\n-SUM(OFFSET(K492,0,-$D474+1,1,$D474)))/$D474)))","v":0},{"$f":"MIN(M490,IF(L$4-UltimoAnnoRTP<=$D474,\n(SUM($F491:L491)+SUM(OFFSET(INDIRECT($F474 & \"inv\"),0,3,1,IF(EsistePrev,AnnoPonte-UltimoAnnoRTP,1)))\n-SUM($F492:L492)-SUM(OFFSET(INDIRECT($F474 & \"dism\"),0,3,1,IF(EsistePrev,AnnoPonte-UltimoAnnoRTP,1))))/$D474,\n\nIF(AND(L$4-UltimoAnnoRTP>$D474,L$4-AnnoPonte<=$D474),\n(SUM($F491:L491)+SUM(IFERROR(OFFSET(INDIRECT($F474 & \"inv\"),0,3+(L$4-UltimoAnnoRTP-$D474),1,(IF(EsistePrev,AnnoPonte-UltimoAnnoRTP,1)-(L$4-UltimoAnnoRTP-$D474))),0))\n-SUM($F492:L492)-SUM(IFERROR(OFFSET(INDIRECT($F474 & \"dism\"),0,3+(L$4-UltimoAnnoRTP-$D474),1,(IF(EsistePrev,AnnoPonte-UltimoAnnoRTP,1)-(L$4-UltimoAnnoRTP-$D474))),0)))/$D474,\n\n(SUM(OFFSET(L491,0,-$D474+1,1,$D474))\n-SUM(OFFSET(L492,0,-$D474+1,1,$D474)))/$D474)))","v":0},{"$f":"MIN(N490,IF(M$4-UltimoAnnoRTP<=$D474,\n(SUM($F491:M491)+SUM(OFFSET(INDIRECT($F474 & \"inv\"),0,3,1,IF(EsistePrev,AnnoPonte-UltimoAnnoRTP,1)))\n-SUM($F492:M492)-SUM(OFFSET(INDIRECT($F474 & \"dism\"),0,3,1,IF(EsistePrev,AnnoPonte-UltimoAnnoRTP,1))))/$D474,\n\nIF(AND(M$4-UltimoAnnoRTP>$D474,M$4-AnnoPonte<=$D474),\n(SUM($F491:M491)+SUM(IFERROR(OFFSET(INDIRECT($F474 & \"inv\"),0,3+(M$4-UltimoAnnoRTP-$D474),1,(IF(EsistePrev,AnnoPonte-UltimoAnnoRTP,1)-(M$4-UltimoAnnoRTP-$D474))),0))\n-SUM($F492:M492)-SUM(IFERROR(OFFSET(INDIRECT($F474 & \"dism\"),0,3+(M$4-UltimoAnnoRTP-$D474),1,(IF(EsistePrev,AnnoPonte-UltimoAnnoRTP,1)-(M$4-UltimoAnnoRTP-$D474))),0)))/$D474,\n\n(SUM(OFFSET(M491,0,-$D474+1,1,$D474))\n-SUM(OFFSET(M492,0,-$D474+1,1,$D474)))/$D474)))","v":0},{"$f":"MIN(O490,IF(N$4-UltimoAnnoRTP<=$D474,\n(SUM($F491:N491)+SUM(OFFSET(INDIRECT($F474 & \"inv\"),0,3,1,IF(EsistePrev,AnnoPonte-UltimoAnnoRTP,1)))\n-SUM($F492:N492)-SUM(OFFSET(INDIRECT($F474 & \"dism\"),0,3,1,IF(EsistePrev,AnnoPonte-UltimoAnnoRTP,1))))/$D474,\n\nIF(AND(N$4-UltimoAnnoRTP>$D474,N$4-AnnoPonte<=$D474),\n(SUM($F491:N491)+SUM(IFERROR(OFFSET(INDIRECT($F474 & \"inv\"),0,3+(N$4-UltimoAnnoRTP-$D474),1,(IF(EsistePrev,AnnoPonte-UltimoAnnoRTP,1)-(N$4-UltimoAnnoRTP-$D474))),0))\n-SUM($F492:N492)-SUM(IFERROR(OFFSET(INDIRECT($F474 & \"dism\"),0,3+(N$4-UltimoAnnoRTP-$D474),1,(IF(EsistePrev,AnnoPonte-UltimoAnnoRTP,1)-(N$4-UltimoAnnoRTP-$D474))),0)))/$D474,\n\n(SUM(OFFSET(N491,0,-$D474+1,1,$D474))\n-SUM(OFFSET(N492,0,-$D474+1,1,$D474)))/$D474)))","v":0},{"$f":"MIN(P490,IF(O$4-UltimoAnnoRTP<=$D474,\n(SUM($F491:O491)+SUM(OFFSET(INDIRECT($F474 & \"inv\"),0,3,1,IF(EsistePrev,AnnoPonte-UltimoAnnoRTP,1)))\n-SUM($F492:O492)-SUM(OFFSET(INDIRECT($F474 & \"dism\"),0,3,1,IF(EsistePrev,AnnoPonte-UltimoAnnoRTP,1))))/$D474,\n\nIF(AND(O$4-UltimoAnnoRTP>$D474,O$4-AnnoPonte<=$D474),\n(SUM($F491:O491)+SUM(IFERROR(OFFSET(INDIRECT($F474 & \"inv\"),0,3+(O$4-UltimoAnnoRTP-$D474),1,(IF(EsistePrev,AnnoPonte-UltimoAnnoRTP,1)-(O$4-UltimoAnnoRTP-$D474))),0))\n-SUM($F492:O492)-SUM(IFERROR(OFFSET(INDIRECT($F474 & \"dism\"),0,3+(O$4-UltimoAnnoRTP-$D474),1,(IF(EsistePrev,AnnoPonte-UltimoAnnoRTP,1)-(O$4-UltimoAnnoRTP-$D474))),0)))/$D474,\n\n(SUM(OFFSET(O491,0,-$D474+1,1,$D474))\n-SUM(OFFSET(O492,0,-$D474+1,1,$D474)))/$D474)))","v":0},{"$f":"MIN(Q490,IF(P$4-UltimoAnnoRTP<=$D474,\n(SUM($F491:P491)+SUM(OFFSET(INDIRECT($F474 & \"inv\"),0,3,1,IF(EsistePrev,AnnoPonte-UltimoAnnoRTP,1)))\n-SUM($F492:P492)-SUM(OFFSET(INDIRECT($F474 & \"dism\"),0,3,1,IF(EsistePrev,AnnoPonte-UltimoAnnoRTP,1))))/$D474,\n\nIF(AND(P$4-UltimoAnnoRTP>$D474,P$4-AnnoPonte<=$D474),\n(SUM($F491:P491)+SUM(IFERROR(OFFSET(INDIRECT($F474 & \"inv\"),0,3+(P$4-UltimoAnnoRTP-$D474),1,(IF(EsistePrev,AnnoPonte-UltimoAnnoRTP,1)-(P$4-UltimoAnnoRTP-$D474))),0))\n-SUM($F492:P492)-SUM(IFERROR(OFFSET(INDIRECT($F474 & \"dism\"),0,3+(P$4-UltimoAnnoRTP-$D474),1,(IF(EsistePrev,AnnoPonte-UltimoAnnoRTP,1)-(P$4-UltimoAnnoRTP-$D474))),0)))/$D474,\n\n(SUM(OFFSET(P491,0,-$D474+1,1,$D474))\n-SUM(OFFSET(P492,0,-$D474+1,1,$D474)))/$D474)))","v":40},{"$f":"MIN(R490,IF(Q$4-UltimoAnnoRTP<=$D474,\n(SUM($F491:Q491)+SUM(OFFSET(INDIRECT($F474 & \"inv\"),0,3,1,IF(EsistePrev,AnnoPonte-UltimoAnnoRTP,1)))\n-SUM($F492:Q492)-SUM(OFFSET(INDIRECT($F474 & \"dism\"),0,3,1,IF(EsistePrev,AnnoPonte-UltimoAnnoRTP,1))))/$D474,\n\nIF(AND(Q$4-UltimoAnnoRTP>$D474,Q$4-AnnoPonte<=$D474),\n(SUM($F491:Q491)+SUM(IFERROR(OFFSET(INDIRECT($F474 & \"inv\"),0,3+(Q$4-UltimoAnnoRTP-$D474),1,(IF(EsistePrev,AnnoPonte-UltimoAnnoRTP,1)-(Q$4-UltimoAnnoRTP-$D474))),0))\n-SUM($F492:Q492)-SUM(IFERROR(OFFSET(INDIRECT($F474 & \"dism\"),0,3+(Q$4-UltimoAnnoRTP-$D474),1,(IF(EsistePrev,AnnoPonte-UltimoAnnoRTP,1)-(Q$4-UltimoAnnoRTP-$D474))),0)))/$D474,\n\n(SUM(OFFSET(Q491,0,-$D474+1,1,$D474))\n-SUM(OFFSET(Q492,0,-$D474+1,1,$D474)))/$D474)))","v":40},{"$f":"MIN(S490,IF(R$4-UltimoAnnoRTP<=$D474,\n(SUM($F491:R491)+SUM(OFFSET(INDIRECT($F474 & \"inv\"),0,3,1,IF(EsistePrev,AnnoPonte-UltimoAnnoRTP,1)))\n-SUM($F492:R492)-SUM(OFFSET(INDIRECT($F474 & \"dism\"),0,3,1,IF(EsistePrev,AnnoPonte-UltimoAnnoRTP,1))))/$D474,\n\nIF(AND(R$4-UltimoAnnoRTP>$D474,R$4-AnnoPonte<=$D474),\n(SUM($F491:R491)+SUM(IFERROR(OFFSET(INDIRECT($F474 & \"inv\"),0,3+(R$4-UltimoAnnoRTP-$D474),1,(IF(EsistePrev,AnnoPonte-UltimoAnnoRTP,1)-(R$4-UltimoAnnoRTP-$D474))),0))\n-SUM($F492:R492)-SUM(IFERROR(OFFSET(INDIRECT($F474 & \"dism\"),0,3+(R$4-UltimoAnnoRTP-$D474),1,(IF(EsistePrev,AnnoPonte-UltimoAnnoRTP,1)-(R$4-UltimoAnnoRTP-$D474))),0)))/$D474,\n\n(SUM(OFFSET(R491,0,-$D474+1,1,$D474))\n-SUM(OFFSET(R492,0,-$D474+1,1,$D474)))/$D474)))","v":40}]
[null,null,"CIN investimenti (lordo contributi, netto dismissioni) eop (amm. a vite utili)",null,null,{"$f":"OFFSET(INDIRECT($F474 & \"inv\"),3,2+AnnoPonte-UltimoAnnoRTP,1,1)","v":0},{"$f":"G490+G491-G492-G493","v":0},0,0,0,0,0,0,0,0,400,360,320,260]
[null,null,"Remunerazione CIN investimenti",null,null,null,{"$f":"(G490-F496)*G$17*G$10","v":0},{"$f":"(H490-G496)*H$17*H$10","v":0},{"$f":"(I490-H496)*I$17*I$10","v":0},{"$f":"(J490-I496)*J$17*J$10","v":0},{"$f":"(K490-J496)*K$17*K$10","v":0},{"$f":"(L490-K496)*L$17*L$10","v":0},{"$f":"(M490-L496)*M$17*M$10","v":0},{"$f":"(N490-M496)*N$17*N$10","v":0},{"$f":"(O490-N496)*O$17*O$10","v":0},{"$f":"(P490-O496)*P$17*P$10","v":0},{"$f":"(Q490-P496)*Q$17*Q$10","v":9.0120000000000005},{"$f":"(R490-Q496)*R$17*R$10","v":6.008},{"$f":"(S490-R496)*S$17*S$10","v":3.004}]
[null,null,"Valore di subentro investimenti (lordo contributi) - cumulato",null,null,{"$f":"OFFSET(INDIRECT($F474 & \"inv\"),5,2+AnnoPonte-UltimoAnnoRTP,1,1)","v":0},{"$f":"IF(MAX(-SUM(OFFSET($G492,0,0,1,ScadenzaConcessione-AnnoPonte)),F496+(G491-G492)/$D474*($D474-(ScadenzaConcessione-G$4)))<0,0,MAX(-SUM(OFFSET($G492,0,0,1,ScadenzaConcessione-AnnoPonte)),F496+(G491-G492)/$D474*($D474-(ScadenzaConcessione-G$4))))","v":0},{"$f":"IF(MAX(-SUM(OFFSET($G492,0,0,1,ScadenzaConcessione-AnnoPonte)),G496+(H491-H492)/$D474*($D474-(ScadenzaConcessione-H$4)))<0,0,MAX(-SUM(OFFSET($G492,0,0,1,ScadenzaConcessione-AnnoPonte)),G496+(H491-H492)/$D474*($D474-(ScadenzaConcessione-H$4))))","v":0},{"$f":"IF(MAX(-SUM(OFFSET($G492,0,0,1,ScadenzaConcessione-AnnoPonte)),H496+(I491-I492)/$D474*($D474-(ScadenzaConcessione-I$4)))<0,0,MAX(-SUM(OFFSET($G492,0,0,1,ScadenzaConcessione-AnnoPonte)),H496+(I491-I492)/$D474*($D474-(ScadenzaConcessione-I$4))))","v":0},{"$f":"IF(MAX(-SUM(OFFSET($G492,0,0,1,ScadenzaConcessione-AnnoPonte)),I496+(J491-J492)/$D474*($D474-(ScadenzaConcessione-J$4)))<0,0,MAX(-SUM(OFFSET($G492,0,0,1,ScadenzaConcessione-AnnoPonte)),I496+(J491-J492)/$D474*($D474-(ScadenzaConcessione-J$4))))","v":0},{"$f":"IF(MAX(-SUM(OFFSET($G492,0,0,1,ScadenzaConcessione-AnnoPonte)),J496+(K491-K492)/$D474*($D474-(ScadenzaConcessione-K$4)))<0,0,MAX(-SUM(OFFSET($G492,0,0,1,ScadenzaConcessione-AnnoPonte)),J496+(K491-K492)/$D474*($D474-(ScadenzaConcessione-K$4))))","v":0},{"$f":"IF(MAX(-SUM(OFFSET($G492,0,0,1,ScadenzaConcessione-AnnoPonte)),K496+(L491-L492)/$D474*($D474-(ScadenzaConcessione-L$4)))<0,0,MAX(-SUM(OFFSET($G492,0,0,1,ScadenzaConcessione-AnnoPonte)),K496+(L491-L492)/$D474*($D474-(ScadenzaConcessione-L$4))))","v":0},{"$f":"IF(MAX(-SUM(OFFSET($G492,0,0,1,ScadenzaConcessione-AnnoPonte)),L496+(M491-M492)/$D474*($D474-(ScadenzaConcessione-M$4)))<0,0,MAX(-SUM(OFFSET($G492,0,0,1,ScadenzaConcessione-AnnoPonte)),L496+(M491-M492)/$D474*($D474-(ScadenzaConcessione-M$4))))","v":0},{"$f":"IF(MAX(-SUM(OFFSET($G492,0,0,1,ScadenzaConcessione-AnnoPonte)),M496+(N491-N492)/$D474*($D474-(ScadenzaConcessione-N$4)))<0,0,MAX(-SUM(OFFSET($G492,0,0,1,ScadenzaConcessione-AnnoPonte)),M496+(N491-N492)/$D474*($D474-(ScadenzaConcessione-N$4))))","v":0},{"$f":"IF(MAX(-SUM(OFFSET($G492,0,0,1,ScadenzaConcessione-AnnoPonte)),N496+(O491-O492)/$D474*($D474-(ScadenzaConcessione-O$4)))<0,0,MAX(-SUM(OFFSET($G492,0,0,1,ScadenzaConcessione-AnnoPonte)),N496+(O491-O492)/$D474*($D474-(ScadenzaConcessione-O$4))))","v":0},{"$f":"IF(MAX(-SUM(OFFSET($G492,0,0,1,ScadenzaConcessione-AnnoPonte)),O496+(P491-P492)/$D474*($D474-(ScadenzaConcessione-P$4)))<0,0,MAX(-SUM(OFFSET($G492,0,0,1,ScadenzaConcessione-AnnoPonte)),O496+(P491-P492)/$D474*($D474-(ScadenzaConcessione-P$4))))","v":280},{"$f":"IF(MAX(-SUM(OFFSET($G492,0,0,1,ScadenzaConcessione-AnnoPonte)),P496+(Q491-Q492)/$D474*($D474-(ScadenzaConcessione-Q$4)))<0,0,MAX(-SUM(OFFSET($G492,0,0,1,ScadenzaConcessione-AnnoPonte)),P496+(Q491-Q492)/$D474*($D474-(ScadenzaConcessione-Q$4))))","v":280},{"$f":"IF(MAX(-SUM(OFFSET($G492,0,0,1,ScadenzaConcessione-AnnoPonte)),Q496+(R491-R492)/$D474*($D474-(ScadenzaConcessione-R$4)))<0,0,MAX(-SUM(OFFSET($G492,0,0,1,ScadenzaConcessione-AnnoPonte)),Q496+(R491-R492)/$D474*($D474-(ScadenzaConcessione-R$4))))","v":280},{"$f":"IF(MAX(-SUM(OFFSET($G492,0,0,1,ScadenzaConcessione-AnnoPonte)),R496+(S491-S492)/$D474*($D474-(ScadenzaConcessione-S$4)))<0,0,MAX(-SUM(OFFSET($G492,0,0,1,ScadenzaConcessione-AnnoPonte)),R496+(S491-S492)/$D474*($D474-(ScadenzaConcessione-S$4))))","v":260}]
[null,null,"Remunerazione valore di subentro CIN investimenti",null,null,null,{"$f":"F496*G$19*G$10","v":0},{"$f":"G496*H$19*H$10","v":0},0,0,0,0,0,0,0,0,21.027999999999999,21.027999999999999,21.027999999999999]
[]
[null,null,"CIN contributi bop (amm. a vite utili)",null,"precedenti",null,{"$f":"F502","v":0},{"$f":"G502","v":0},{"$f":"H502","v":0},{"$f":"I502","v":0},{"$f":"J502","v":0},{"$f":"K502","v":0},{"$f":"L502","v":0},{"$f":"M502","v":0},{"$f":"N502","v":0},{"$f":"O502","v":-40},{"$f":"P502","v":-36},{"$f":"Q502","v":-32},{"$f":"R502","v":-28}]
[null,null,"contributi annui (amm. a vite utili)",null,{"$f":"-SUM(OFFSET(INDIRECT($F474 & \"contr\"),0,3,1,IF(EsistePrev,AnnoPonte-UltimoAnnoRTP,1)))","v":0},null,{"$f":"-SUMIFS(\n'Z0.6.b ProgInvest_Contr agg'!Z:Z,\n'Z0.6.b ProgInvest_Contr agg'!$K:$K,$C474,\n'Z0.6.b ProgInvest_Contr agg'!$M:$M,$D$145,\n'Z0.6.b ProgInvest_Contr agg'!$L:$L,\"in corso\",\n'Z0.6.b ProgInvest_Contr agg'!$O:$O,\"vite utili 1\")\n-SUMIFS(\n'Z0.6.b ProgInvest_Contr agg'!Z:Z,\n'Z0.6.b ProgInvest_Contr agg'!$K:$K,$C474,\n'Z0.6.b ProgInvest_Contr agg'!$M:$M,$D$145,\n'Z0.6.b ProgInvest_Contr agg'!$L:$L,\"in corso\",\n'Z0.6.b ProgInvest_Contr agg'!$O:$O,\"vite utili 2\")","v":0},{"$f":"-SUMIFS(\n'Z0.6.b ProgInvest_Contr agg'!AA:AA,\n'Z0.6.b ProgInvest_Contr agg'!$K:$K,$C474,\n'Z0.6.b ProgInvest_Contr agg'!$M:$M,$D$145,\n'Z0.6.b ProgInvest_Contr agg'!$L:$L,\"in corso\",\n'Z0.6.b ProgInvest_Contr agg'!$O:$O,\"vite utili 1\")\n-SUMIFS(\n'Z0.6.b ProgInvest_Contr agg'!AA:AA,\n'Z0.6.b ProgInvest_Contr agg'!$K:$K,$C474,\n'Z0.6.b ProgInvest_Contr agg'!$M:$M,$D$145,\n'Z0.6.b ProgInvest_Contr agg'!$L:$L,\"in corso\",\n'Z0.6.b ProgInvest_Contr agg'!$O:$O,\"vite utili 2\")","v":0},{"$f":"-SUMIFS(\n'Z0.6.b ProgInvest_Contr agg'!AB:AB,\n'Z0.6.b ProgInvest_Contr agg'!$K:$K,$C474,\n'Z0.6.b ProgInvest_Contr agg'!$M:$M,$D$145,\n'Z0.6.b ProgInvest_Contr agg'!$L:$L,\"in corso\",\n'Z0.6.b ProgInvest_Contr agg'!$O:$O,\"vite utili 1\")\n-SUMIFS(\n'Z0.6.b ProgInvest_Contr agg'!AB:AB,\n'Z0.6.b ProgInvest_Contr agg'!$K:$K,$C474,\n'Z0.6.b ProgInvest_Contr agg'!$M:$M,$D$145,\n'Z0.6.b ProgInvest_Contr agg'!$L:$L,\"in corso\",\n'Z0.6.b ProgInvest_Contr agg'!$O:$O,\"vite utili 2\")","v":0},{"$f":"-SUMIFS(\n'Z0.6.b ProgInvest_Contr agg'!AC:AC,\n'Z0.6.b ProgInvest_Contr agg'!$K:$K,$C474,\n'Z0.6.b ProgInvest_Contr agg'!$M:$M,$D$145,\n'Z0.6.b ProgInvest_Contr agg'!$L:$L,\"in corso\",\n'Z0.6.b ProgInvest_Contr agg'!$O:$O,\"vite utili 1\")\n-SUMIFS(\n'Z0.6.b ProgInvest_Contr agg'!AC:AC,\n'Z0.6.b ProgInvest_Contr agg'!$K:$K,$C474,\n'Z0.6.b ProgInvest_Contr agg'!$M:$M,$D$145,\n'Z0.6.b ProgInvest_Contr agg'!$L:$L,\"in corso\",\n'Z0.6.b ProgInvest_Contr agg'!$O:$O,\"vite utili 2\")","v":0},{"$f":"-SUMIFS(\n'Z0.6.b ProgInvest_Contr agg'!AD:AD,\n'Z0.6.b ProgInvest_Contr agg'!$K:$K,$C474,\n'Z0.6.b ProgInvest_Contr agg'!$M:$M,$D$145,\n'Z0.6.b ProgInvest_Contr agg'!$L:$L,\"in corso\",\n'Z0.6.b ProgInvest_Contr agg'!$O:$O,\"vite utili 1\")\n-SUMIFS(\n'Z0.6.b ProgInvest_Contr agg'!AD:AD,\n'Z0.6.b ProgInvest_Contr agg'!$K:$K,$C474,\n'Z0.6.b ProgInvest_Contr agg'!$M:$M,$D$145,\n'Z0.6.b ProgInvest_Contr agg'!$L:$L,\"in corso\",\n'Z0.6.b ProgInvest_Contr agg'!$O:$O,\"vite utili 2\")","v":0},{"$f":"-SUMIFS(\n'Z0.6.b ProgInvest_Contr agg'!AE:AE,\n'Z0.6.b ProgInvest_Contr agg'!$K:$K,$C474,\n'Z0.6.b ProgInvest_Contr agg'!$M:$M,$D$145,\n'Z0.6.b ProgInvest_Contr agg'!$L:$L,\"in corso\",\n'Z0.6.b ProgInvest_Contr agg'!$O:$O,\"vite utili 1\")\n-SUMIFS(\n'Z0.6.b ProgInvest_Contr agg'!AE:AE,\n'Z0.6.b ProgInvest_Contr agg'!$K:$K,$C474,\n'Z0.6.b ProgInvest_Contr agg'!$M:$M,$D$145,\n'Z0.6.b ProgInvest_Contr agg'!$L:$L,\"in corso\",\n'Z0.6.b ProgInvest_Contr agg'!$O:$O,\"vite utili 2\")","v":0},{"$f":"-SUMIFS(\n'Z0.6.b ProgInvest_Contr agg'!AF:AF,\n'Z0.6.b ProgInvest_Contr agg'!$K:$K,$C474,\n'Z0.6.b ProgInvest_Contr agg'!$M:$M,$D$145,\n'Z0.6.b ProgInvest_Contr agg'!$L:$L,\"in corso\",\n'Z0.6.b ProgInvest_Contr agg'!$O:$O,\"vite utili 1\")\n-SUMIFS(\n'Z0.6.b ProgInvest_Contr agg'!AF:AF,\n'Z0.6.b ProgInvest_Contr agg'!$K:$K,$C474,\n'Z0.6.b ProgInvest_Contr agg'!$M:$M,$D$145,\n'Z0.6.b ProgInvest_Contr agg'!$L:$L,\"in corso\",\n'Z0.6.b ProgInvest_Contr agg'!$O:$O,\"vite utili 2\")","v":0},{"$f":"-SUMIFS(\n'Z0.6.b ProgInvest_Contr agg'!AG:AG,\n'Z0.6.b ProgInvest_Contr agg'!$K:$K,$C474,\n'Z0.6.b ProgInvest_Contr agg'!$M:$M,$D$145,\n'Z0.6.b ProgInvest_Contr agg'!$L:$L,\"in corso\",\n'Z0.6.b ProgInvest_Contr agg'!$O:$O,\"vite utili 1\")\n-SUMIFS(\n'Z0.6.b ProgInvest_Contr agg'!AG:AG,\n'Z0.6.b ProgInvest_Contr agg'!$K:$K,$C474,\n'Z0.6.b ProgInvest_Contr agg'!$M:$M,$D$145,\n'Z0.6.b ProgInvest_Contr agg'!$L:$L,\"in corso\",\n'Z0.6.b ProgInvest_Contr agg'!$O:$O,\"vite utili 2\")","v":0},{"$f":"-SUMIFS(\n'Z0.6.b ProgInvest_Contr agg'!AH:AH,\n'Z0.6.b ProgInvest_Contr agg'!$K:$K,$C474,\n'Z0.6.b ProgInvest_Contr agg'!$M:$M,$D$145,\n'Z0.6.b ProgInvest_Contr agg'!$L:$L,\"in corso\",\n'Z0.6.b ProgInvest_Contr agg'!$O:$O,\"vite utili 1\")\n-SUMIFS(\n'Z0.6.b ProgInvest_Contr agg'!AH:AH,\n'Z0.6.b ProgInvest_Contr agg'!$K:$K,$C474,\n'Z0.6.b ProgInvest_Contr agg'!$M:$M,$D$145,\n'Z0.6.b ProgInvest_Contr agg'!$L:$L,\"in corso\",\n'Z0.6.b ProgInvest_Contr agg'!$O:$O,\"vite utili 2\")","v":-40},{"$f":"-SUMIFS(\n'Z0.6.b ProgInvest_Contr agg'!AI:AI,\n'Z0.6.b ProgInvest_Contr agg'!$K:$K,$C474,\n'Z0.6.b ProgInvest_Contr agg'!$M:$M,$D$145,\n'Z0.6.b ProgInvest_Contr agg'!$L:$L,\"in corso\",\n'Z0.6.b ProgInvest_Contr agg'!$O:$O,\"vite utili 1\")\n-SUMIFS(\n'Z0.6.b ProgInvest_Contr agg'!AI:AI,\n'Z0.6.b ProgInvest_Contr agg'!$K:$K,$C474,\n'Z0.6.b ProgInvest_Contr agg'!$M:$M,$D$145,\n'Z0.6.b ProgInvest_Contr agg'!$L:$L,\"in corso\",\n'Z0.6.b ProgInvest_Contr agg'!$O:$O,\"vite utili 2\")","v":0},{"$f":"-SUMIFS(\n'Z0.6.b ProgInvest_Contr agg'!AJ:AJ,\n'Z0.6.b ProgInvest_Contr agg'!$K:$K,$C474,\n'Z0.6.b ProgInvest_Contr agg'!$M:$M,$D$145,\n'Z0.6.b ProgInvest_Contr agg'!$L:$L,\"in corso\",\n'Z0.6.b ProgInvest_Contr agg'!$O:$O,\"vite utili 1\")\n-SUMIFS(\n'Z0.6.b ProgInvest_Contr agg'!AJ:AJ,\n'Z0.6.b ProgInvest_Contr agg'!$K:$K,$C474,\n'Z0.6.b ProgInvest_Contr agg'!$M:$M,$D$145,\n'Z0.6.b ProgInvest_Contr agg'!$L:$L,\"in corso\",\n'Z0.6.b ProgInvest_Contr agg'!$O:$O,\"vite utili 2\")","v":0},{"$f":"-SUMIFS(\n'Z0.6.b ProgInvest_Contr agg'!AK:AK,\n'Z0.6.b ProgInvest_Contr agg'!$K:$K,$C474,\n'Z0.6.b ProgInvest_Contr agg'!$M:$M,$D$145,\n'Z0.6.b ProgInvest_Contr agg'!$L:$L,\"in corso\",\n'Z0.6.b ProgInvest_Contr agg'!$O:$O,\"vite utili 1\")\n-SUMIFS(\n'Z0.6.b ProgInvest_Contr agg'!AK:AK,\n'Z0.6.b ProgInvest_Contr agg'!$K:$K,$C474,\n'Z0.6.b ProgInvest_Contr agg'!$M:$M,$D$145,\n'Z0.6.b ProgInvest_Contr agg'!$L:$L,\"in corso\",\n'Z0.6.b ProgInvest_Contr agg'!$O:$O,\"vite utili 2\")","v":0},{"$f":"-SUMIFS(\n'Z0.6.b ProgInvest_Contr agg'!AL:AL,\n'Z0.6.b ProgInvest_Contr agg'!$K:$K,$C474,\n'Z0.6.b ProgInvest_Contr agg'!$M:$M,$D$145,\n'Z0.6.b ProgInvest_Contr agg'!$L:$L,\"in corso\",\n'Z0.6.b ProgInvest_Contr agg'!$O:$O,\"vite utili 1\")\n-SUMIFS(\n'Z0.6.b ProgInvest_Contr agg'!AL:AL,\n'Z0.6.b ProgInvest_Contr agg'!$K:$K,$C474,\n'Z0.6.b ProgInvest_Contr agg'!$M:$M,$D$145,\n'Z0.6.b ProgInvest_Contr agg'!$L:$L,\"in corso\",\n'Z0.6.b ProgInvest_Contr agg'!$O:$O,\"vite utili 2\")","v":0}]
[null,null,"Ammortamento contributi (amm. a vite utili)",null,{"$f":"-SUM(OFFSET(INDIRECT($F474 & \"contr\"),1,3,1,IF(EsistePrev,AnnoPonte-UltimoAnnoRTP,1)))","v":0},null,{"$f":"IF(F$4-UltimoAnnoRTP<=$D474,\n(SUM($F500:F500)-SUM(OFFSET(INDIRECT($F474 & \"contr\"),0,3,1,IF(EsistePrev,AnnoPonte-UltimoAnnoRTP,1)))\n)/$D474,\n\nIF(AND(F$4-UltimoAnnoRTP>$D474,F$4-AnnoPonte<=$D474),\n(SUM($F500:F500)-SUM(IFERROR(OFFSET(INDIRECT($F474 & \"contr\"),0,3+(F$4-UltimoAnnoRTP-$D474),1,(IF(EsistePrev,AnnoPonte-UltimoAnnoRTP,1)-(F$4-UltimoAnnoRTP-$D474))),0))\n)/$D474,\n\n(SUM(OFFSET(F500,0,-$D474+1,1,$D474))\n)/$D474))","v":0},{"$f":"IF(G$4-UltimoAnnoRTP<=$D474,\n(SUM($F500:G500)-SUM(OFFSET(INDIRECT($F474 & \"contr\"),0,3,1,IF(EsistePrev,AnnoPonte-UltimoAnnoRTP,1)))\n)/$D474,\n\nIF(AND(G$4-UltimoAnnoRTP>$D474,G$4-AnnoPonte<=$D474),\n(SUM($F500:G500)-SUM(IFERROR(OFFSET(INDIRECT($F474 & \"contr\"),0,3+(G$4-UltimoAnnoRTP-$D474),1,(IF(EsistePrev,AnnoPonte-UltimoAnnoRTP,1)-(G$4-UltimoAnnoRTP-$D474))),0))\n)/$D474,\n\n(SUM(OFFSET(G500,0,-$D474+1,1,$D474))\n)/$D474))","v":0},{"$f":"IF(H$4-UltimoAnnoRTP<=$D474,\n(SUM($F500:H500)-SUM(OFFSET(INDIRECT($F474 & \"contr\"),0,3,1,IF(EsistePrev,AnnoPonte-UltimoAnnoRTP,1)))\n)/$D474,\n\nIF(AND(H$4-UltimoAnnoRTP>$D474,H$4-AnnoPonte<=$D474),\n(SUM($F500:H500)-SUM(IFERROR(OFFSET(INDIRECT($F474 & \"contr\"),0,3+(H$4-UltimoAnnoRTP-$D474),1,(IF(EsistePrev,AnnoPonte-UltimoAnnoRTP,1)-(H$4-UltimoAnnoRTP-$D474))),0))\n)/$D474,\n\n(SUM(OFFSET(H500,0,-$D474+1,1,$D474))\n)/$D474))","v":0},{"$f":"IF(I$4-UltimoAnnoRTP<=$D474,\n(SUM($F500:I500)-SUM(OFFSET(INDIRECT($F474 & \"contr\"),0,3,1,IF(EsistePrev,AnnoPonte-UltimoAnnoRTP,1)))\n)/$D474,\n\nIF(AND(I$4-UltimoAnnoRTP>$D474,I$4-AnnoPonte<=$D474),\n(SUM($F500:I500)-SUM(IFERROR(OFFSET(INDIRECT($F474 & \"contr\"),0,3+(I$4-UltimoAnnoRTP-$D474),1,(IF(EsistePrev,AnnoPonte-UltimoAnnoRTP,1)-(I$4-UltimoAnnoRTP-$D474))),0))\n)/$D474,\n\n(SUM(OFFSET(I500,0,-$D474+1,1,$D474))\n)/$D474))","v":0},{"$f":"IF(J$4-UltimoAnnoRTP<=$D474,\n(SUM($F500:J500)-SUM(OFFSET(INDIRECT($F474 & \"contr\"),0,3,1,IF(EsistePrev,AnnoPonte-UltimoAnnoRTP,1)))\n)/$D474,\n\nIF(AND(J$4-UltimoAnnoRTP>$D474,J$4-AnnoPonte<=$D474),\n(SUM($F500:J500)-SUM(IFERROR(OFFSET(INDIRECT($F474 & \"contr\"),0,3+(J$4-UltimoAnnoRTP-$D474),1,(IF(EsistePrev,AnnoPonte-UltimoAnnoRTP,1)-(J$4-UltimoAnnoRTP-$D474))),0))\n)/$D474,\n\n(SUM(OFFSET(J500,0,-$D474+1,1,$D474))\n)/$D474))","v":0},{"$f":"IF(K$4-UltimoAnnoRTP<=$D474,\n(SUM($F500:K500)-SUM(OFFSET(INDIRECT($F474 & \"contr\"),0,3,1,IF(EsistePrev,AnnoPonte-UltimoAnnoRTP,1)))\n)/$D474,\n\nIF(AND(K$4-UltimoAnnoRTP>$D474,K$4-AnnoPonte<=$D474),\n(SUM($F500:K500)-SUM(IFERROR(OFFSET(INDIRECT($F474 & \"contr\"),0,3+(K$4-UltimoAnnoRTP-$D474),1,(IF(EsistePrev,AnnoPonte-UltimoAnnoRTP,1)-(K$4-UltimoAnnoRTP-$D474))),0))\n)/$D474,\n\n(SUM(OFFSET(K500,0,-$D474+1,1,$D474))\n)/$D474))","v":0},{"$f":"IF(L$4-UltimoAnnoRTP<=$D474,\n(SUM($F500:L500)-SUM(OFFSET(INDIRECT($F474 & \"contr\"),0,3,1,IF(EsistePrev,AnnoPonte-UltimoAnnoRTP,1)))\n)/$D474,\n\nIF(AND(L$4-UltimoAnnoRTP>$D474,L$4-AnnoPonte<=$D474),\n(SUM($F500:L500)-SUM(IFERROR(OFFSET(INDIRECT($F474 & \"contr\"),0,3+(L$4-UltimoAnnoRTP-$D474),1,(IF(EsistePrev,AnnoPonte-UltimoAnnoRTP,1)-(L$4-UltimoAnnoRTP-$D474))),0))\n)/$D474,\n\n(SUM(OFFSET(L500,0,-$D474+1,1,$D474))\n)/$D474))","v":0},{"$f":"IF(M$4-UltimoAnnoRTP<=$D474,\n(SUM($F500:M500)-SUM(OFFSET(INDIRECT($F474 & \"contr\"),0,3,1,IF(EsistePrev,AnnoPonte-UltimoAnnoRTP,1)))\n)/$D474,\n\nIF(AND(M$4-UltimoAnnoRTP>$D474,M$4-AnnoPonte<=$D474),\n(SUM($F500:M500)-SUM(IFERROR(OFFSET(INDIRECT($F474 & \"contr\"),0,3+(M$4-UltimoAnnoRTP-$D474),1,(IF(EsistePrev,AnnoPonte-UltimoAnnoRTP,1)-(M$4-UltimoAnnoRTP-$D474))),0))\n)/$D474,\n\n(SUM(OFFSET(M500,0,-$D474+1,1,$D474))\n)/$D474))","v":0},{"$f":"IF(N$4-UltimoAnnoRTP<=$D474,\n(SUM($F500:N500)-SUM(OFFSET(INDIRECT($F474 & \"contr\"),0,3,1,IF(EsistePrev,AnnoPonte-UltimoAnnoRTP,1)))\n)/$D474,\n\nIF(AND(N$4-UltimoAnnoRTP>$D474,N$4-AnnoPonte<=$D474),\n(SUM($F500:N500)-SUM(IFERROR(OFFSET(INDIRECT($F474 & \"contr\"),0,3+(N$4-UltimoAnnoRTP-$D474),1,(IF(EsistePrev,AnnoPonte-UltimoAnnoRTP,1)-(N$4-UltimoAnnoRTP-$D474))),0))\n)/$D474,\n\n(SUM(OFFSET(N500,0,-$D474+1,1,$D474))\n)/$D474))","v":0},{"$f":"IF(O$4-UltimoAnnoRTP<=$D474,\n(SUM($F500:O500)-SUM(OFFSET(INDIRECT($F474 & \"contr\"),0,3,1,IF(EsistePrev,AnnoPonte-UltimoAnnoRTP,1)))\n)/$D474,\n\nIF(AND(O$4-UltimoAnnoRTP>$D474,O$4-AnnoPonte<=$D474),\n(SUM($F500:O500)-SUM(IFERROR(OFFSET(INDIRECT($F474 & \"contr\"),0,3+(O$4-UltimoAnnoRTP-$D474),1,(IF(EsistePrev,AnnoPonte-UltimoAnnoRTP,1)-(O$4-UltimoAnnoRTP-$D474))),0))\n)/$D474,\n\n(SUM(OFFSET(O500,0,-$D474+1,1,$D474))\n)/$D474))","v":-4},{"$f":"IF(P$4-UltimoAnnoRTP<=$D474,\n(SUM($F500:P500)-SUM(OFFSET(INDIRECT($F474 & \"contr\"),0,3,1,IF(EsistePrev,AnnoPonte-UltimoAnnoRTP,1)))\n)/$D474,\n\nIF(AND(P$4-UltimoAnnoRTP>$D474,P$4-AnnoPonte<=$D474),\n(SUM($F500:P500)-SUM(IFERROR(OFFSET(INDIRECT($F474 & \"contr\"),0,3+(P$4-UltimoAnnoRTP-$D474),1,(IF(EsistePrev,AnnoPonte-UltimoAnnoRTP,1)-(P$4-UltimoAnnoRTP-$D474))),0))\n)/$D474,\n\n(SUM(OFFSET(P500,0,-$D474+1,1,$D474))\n)/$D474))","v":-4},{"$f":"IF(Q$4-UltimoAnnoRTP<=$D474,\n(SUM($F500:Q500)-SUM(OFFSET(INDIRECT($F474 & \"contr\"),0,3,1,IF(EsistePrev,AnnoPonte-UltimoAnnoRTP,1)))\n)/$D474,\n\nIF(AND(Q$4-UltimoAnnoRTP>$D474,Q$4-AnnoPonte<=$D474),\n(SUM($F500:Q500)-SUM(IFERROR(OFFSET(INDIRECT($F474 & \"contr\"),0,3+(Q$4-UltimoAnnoRTP-$D474),1,(IF(EsistePrev,AnnoPonte-UltimoAnnoRTP,1)-(Q$4-UltimoAnnoRTP-$D474))),0))\n)/$D474,\n\n(SUM(OFFSET(Q500,0,-$D474+1,1,$D474))\n)/$D474))","v":-4},{"$f":"IF(R$4-UltimoAnnoRTP<=$D474,\n(SUM($F500:R500)-SUM(OFFSET(INDIRECT($F474 & \"contr\"),0,3,1,IF(EsistePrev,AnnoPonte-UltimoAnnoRTP,1)))\n)/$D474,\n\nIF(AND(R$4-UltimoAnnoRTP>$D474,R$4-AnnoPonte<=$D474),\n(SUM($F500:R500)-SUM(IFERROR(OFFSET(INDIRECT($F474 & \"contr\"),0,3+(R$4-UltimoAnnoRTP-$D474),1,(IF(EsistePrev,AnnoPonte-UltimoAnnoRTP,1)-(R$4-UltimoAnnoRTP-$D474))),0))\n)/$D474,\n\n(SUM(OFFSET(R500,0,-$D474+1,1,$D474))\n)/$D474))","v":-4}]
[null,null,"CIN contributi eop (amm. a vite utili)",null,null,{"$f":"-OFFSET(INDIRECT($F474 & \"contr\"),2,2+AnnoPonte-UltimoAnnoRTP,1,1)","v":0},{"$f":"G499+G500-G501","v":0},0,0,0,0,0,0,0,-40,-36,-32,-28,-24]
[null,null,"Remunerazione CIN contributi",null,null,null,{"$f":"(G499-F504)*G$17*G$10","v":0},{"$f":"(H499-G504)*H$17*H$10","v":0},{"$f":"(I499-H504)*I$17*I$10","v":0},{"$f":"(J499-I504)*J$17*J$10","v":0},{"$f":"(K499-J504)*K$17*K$10","v":0},{"$f":"(L499-K504)*L$17*L$10","v":0},{"$f":"(M499-L504)*M$17*M$10","v":0},{"$f":"(N499-M504)*N$17*N$10","v":0},{"$f":"(O499-N504)*O$17*O$10","v":0},{"$f":"(P499-O504)*P$17*P$10","v":-1.2016},{"$f":"(Q499-P504)*Q$17*Q$10","v":-0.9012},{"$f":"(R499-Q504)*R$17*R$10","v":-0.6008},{"$f":"(S499-R504)*S$17*S$10","v":-0.3004}]
[null,null,"Valore di subentro contributi - cumulato",null,null,{"$f":"-OFFSET(INDIRECT($F474 & \"contr\"),4,2+AnnoPonte-UltimoAnnoRTP,1,1)","v":0},{"$f":"MIN(0,F504+(G500)/$D474*($D474-(ScadenzaConcessione-G$4)))","v":0},{"$f":"MIN(0,G504+(H500)/$D474*($D474-(ScadenzaConcessione-H$4)))","v":0},{"$f":"MIN(0,H504+(I500)/$D474*($D474-(ScadenzaConcessione-I$4)))","v":0},{"$f":"MIN(0,I504+(J500)/$D474*($D474-(ScadenzaConcessione-J$4)))","v":0},{"$f":"MIN(0,J504+(K500)/$D474*($D474-(ScadenzaConcessione-K$4)))","v":0},{"$f":"MIN(0,K504+(L500)/$D474*($D474-(ScadenzaConcessione-L$4)))","v":0},{"$f":"MIN(0,L504+(M500)/$D474*($D474-(ScadenzaConcessione-M$4)))","v":0},{"$f":"MIN(0,M504+(N500)/$D474*($D474-(ScadenzaConcessione-N$4)))","v":0},{"$f":"MIN(0,N504+(O500)/$D474*($D474-(ScadenzaConcessione-O$4)))","v":-24},{"$f":"MIN(0,O504+(P500)/$D474*($D474-(ScadenzaConcessione-P$4)))","v":-24},{"$f":"MIN(0,P504+(Q500)/$D474*($D474-(ScadenzaConcessione-Q$4)))","v":-24},{"$f":"MIN(0,Q504+(R500)/$D474*($D474-(ScadenzaConcessione-R$4)))","v":-24},{"$f":"MIN(0,R504+(S500)/$D474*($D474-(ScadenzaConcessione-S$4)))","v":-24}]
[null,null,"Remunerazione valore di subentro CIN contributi ",null,null,null,{"$f":"F504*G$19*G$10","v":0},{"$f":"G504*H$19*H$10","v":0},0,0,0,0,0,0,0,-1.8024,-1.8024,-1.8024,-1.8024]
[]
[null,null,"Check - TIR di progetto"]
[null,null,"Cash out investimenti",null,null,{"$f":"-(F479+F486+F494+F502)","v":0},{"$f":"-(G477+G484-G492+G500)","v":0},{"$f":"-(H477+H484-H492+H500)","v":0},0,0,0,0,0,0,-160,-200,0,0,20]
[null,null,"Cash in valore di subentro",null,null,null,{"$f":"IF(G$4=ScadenzaConcessione,G480+G496+G504,\"\")","v":""},"","","","","","","","","","","",{"$f":"IF(S$4=ScadenzaConcessione,S480+S487+S496+S504,\"\")","v":236}]
[null,null,"Cash in ammortamenti",null,null,null,{"$f":"G493+G501","v":0},0,0,0,0,0,0,0,0,-4,36,36,36]
[null,null,"Cash in remunerazioni (annualizzato)",null,null,null,{"$f":"(G481+G488+G495+G497+G503+G505)/G$10","v":0},{"$f":"(H481+H488+H495+H497+H503+H505)/H$10","v":0},0,0,0,0,0,0,0,8.8559999999999999,27.336400000000001,24.6328,21.929200000000002]
[null,null,"Cash flow",null,null,{"$f":"SUM(F508:F511)","v":0},0,{"$f":"SUM(H508:H511)","v":0},0,0,0,0,0,0,-160,-195.14400000000001,63.336399999999998,60.632800000000003,313.92919999999998]
[null,null,"Tasso interno di rendimento",null,null,{"$f":"IFERROR(IRR(OFFSET(F512,0,0,1,ScadenzaConcessione-AnnoPonte+1)),\"non calc.\")","v":7.200798548980103E-2}]
[null,null,"VAN",null,{"$f":"WACC","v":7.51E-2},{"$f":"NPV(E514,OFFSET(F512,0,0,1,ScadenzaConcessione-AnnoPonte+1))","v":-1.4247858788857382}]
[]
[null,null,"Stazioni/Barriere di esazione, fabbricati, aree di servizio",{"$f":"VLOOKUP(C516,'C3 Tk Supporto'!C:E,2,0)","v":40},"vita utile","VU09"]
[]
[null,null,"LIC livello 1 - bop",null,null,null,{"$f":"F521","v":0},{"$f":"G521","v":0},{"$f":"H521","v":0},{"$f":"I521","v":0},{"$f":"J521","v":0},{"$f":"K521","v":0},{"$f":"L521","v":0},{"$f":"M521","v":0},{"$f":"N521","v":0},{"$f":"O521","v":0},{"$f":"P521","v":100},{"$f":"Q521","v":0},{"$f":"R521","v":0}]
[null,null,"Investimenti in corso aggiuntivi",null,null,null,{"$f":"SUMIFS(\n'Z0.6.a ProgInvest_Spesa agg'!Z:Z,\n'Z0.6.a ProgInvest_Spesa agg'!$K:$K,$C516,\n'Z0.6.a ProgInvest_Spesa agg'!$M:$M,$D$145,\n'Z0.6.a ProgInvest_Spesa agg'!$L:$L,\"in corso\",\n'Z0.6.a ProgInvest_Spesa agg'!$O:$O,\"vite utili 1\")","v":0},{"$f":"SUMIFS(\n'Z0.6.a ProgInvest_Spesa agg'!AA:AA,\n'Z0.6.a ProgInvest_Spesa agg'!$K:$K,$C516,\n'Z0.6.a ProgInvest_Spesa agg'!$M:$M,$D$145,\n'Z0.6.a ProgInvest_Spesa agg'!$L:$L,\"in corso\",\n'Z0.6.a ProgInvest_Spesa agg'!$O:$O,\"vite utili 1\")","v":0},{"$f":"SUMIFS(\n'Z0.6.a ProgInvest_Spesa agg'!AB:AB,\n'Z0.6.a ProgInvest_Spesa agg'!$K:$K,$C516,\n'Z0.6.a ProgInvest_Spesa agg'!$M:$M,$D$145,\n'Z0.6.a ProgInvest_Spesa agg'!$L:$L,\"in corso\",\n'Z0.6.a ProgInvest_Spesa agg'!$O:$O,\"vite utili 1\")","v":0},{"$f":"SUMIFS(\n'Z0.6.a ProgInvest_Spesa agg'!AC:AC,\n'Z0.6.a ProgInvest_Spesa agg'!$K:$K,$C516,\n'Z0.6.a ProgInvest_Spesa agg'!$M:$M,$D$145,\n'Z0.6.a ProgInvest_Spesa agg'!$L:$L,\"in corso\",\n'Z0.6.a ProgInvest_Spesa agg'!$O:$O,\"vite utili 1\")","v":0},{"$f":"SUMIFS(\n'Z0.6.a ProgInvest_Spesa agg'!AD:AD,\n'Z0.6.a ProgInvest_Spesa agg'!$K:$K,$C516,\n'Z0.6.a ProgInvest_Spesa agg'!$M:$M,$D$145,\n'Z0.6.a ProgInvest_Spesa agg'!$L:$L,\"in corso\",\n'Z0.6.a ProgInvest_Spesa agg'!$O:$O,\"vite utili 1\")","v":0},{"$f":"SUMIFS(\n'Z0.6.a ProgInvest_Spesa agg'!AE:AE,\n'Z0.6.a ProgInvest_Spesa agg'!$K:$K,$C516,\n'Z0.6.a ProgInvest_Spesa agg'!$M:$M,$D$145,\n'Z0.6.a ProgInvest_Spesa agg'!$L:$L,\"in corso\",\n'Z0.6.a ProgInvest_Spesa agg'!$O:$O,\"vite utili 1\")","v":0},{"$f":"SUMIFS(\n'Z0.6.a ProgInvest_Spesa agg'!AF:AF,\n'Z0.6.a ProgInvest_Spesa agg'!$K:$K,$C516,\n'Z0.6.a ProgInvest_Spesa agg'!$M:$M,$D$145,\n'Z0.6.a ProgInvest_Spesa agg'!$L:$L,\"in corso\",\n'Z0.6.a ProgInvest_Spesa agg'!$O:$O,\"vite utili 1\")","v":0},{"$f":"SUMIFS(\n'Z0.6.a ProgInvest_Spesa agg'!AG:AG,\n'Z0.6.a ProgInvest_Spesa agg'!$K:$K,$C516,\n'Z0.6.a ProgInvest_Spesa agg'!$M:$M,$D$145,\n'Z0.6.a ProgInvest_Spesa agg'!$L:$L,\"in corso\",\n'Z0.6.a ProgInvest_Spesa agg'!$O:$O,\"vite utili 1\")","v":0},{"$f":"SUMIFS(\n'Z0.6.a ProgInvest_Spesa agg'!AH:AH,\n'Z0.6.a ProgInvest_Spesa agg'!$K:$K,$C516,\n'Z0.6.a ProgInvest_Spesa agg'!$M:$M,$D$145,\n'Z0.6.a ProgInvest_Spesa agg'!$L:$L,\"in corso\",\n'Z0.6.a ProgInvest_Spesa agg'!$O:$O,\"vite utili 1\")","v":0},{"$f":"SUMIFS(\n'Z0.6.a ProgInvest_Spesa agg'!AI:AI,\n'Z0.6.a ProgInvest_Spesa agg'!$K:$K,$C516,\n'Z0.6.a ProgInvest_Spesa agg'!$M:$M,$D$145,\n'Z0.6.a ProgInvest_Spesa agg'!$L:$L,\"in corso\",\n'Z0.6.a ProgInvest_Spesa agg'!$O:$O,\"vite utili 1\")","v":100},{"$f":"SUMIFS(\n'Z0.6.a ProgInvest_Spesa agg'!AJ:AJ,\n'Z0.6.a ProgInvest_Spesa agg'!$K:$K,$C516,\n'Z0.6.a ProgInvest_Spesa agg'!$M:$M,$D$145,\n'Z0.6.a ProgInvest_Spesa agg'!$L:$L,\"in corso\",\n'Z0.6.a ProgInvest_Spesa agg'!$O:$O,\"vite utili 1\")","v":100},{"$f":"SUMIFS(\n'Z0.6.a ProgInvest_Spesa agg'!AK:AK,\n'Z0.6.a ProgInvest_Spesa agg'!$K:$K,$C516,\n'Z0.6.a ProgInvest_Spesa agg'!$M:$M,$D$145,\n'Z0.6.a ProgInvest_Spesa agg'!$L:$L,\"in corso\",\n'Z0.6.a ProgInvest_Spesa agg'!$O:$O,\"vite utili 1\")","v":0},{"$f":"SUMIFS(\n'Z0.6.a ProgInvest_Spesa agg'!AL:AL,\n'Z0.6.a ProgInvest_Spesa agg'!$K:$K,$C516,\n'Z0.6.a ProgInvest_Spesa agg'!$M:$M,$D$145,\n'Z0.6.a ProgInvest_Spesa agg'!$L:$L,\"in corso\",\n'Z0.6.a ProgInvest_Spesa agg'!$O:$O,\"vite utili 1\")","v":0}]
[null,null,"Investimenti in corso cessanti (entrata in esercizio)",null,null,null,{"$f":"-SUMIFS(\n'Z0.6.a ProgInvest_Spesa agg'!$S:$S,\n'Z0.6.a ProgInvest_Spesa agg'!$K:$K,$C516,\n'Z0.6.a ProgInvest_Spesa agg'!$M:$M,$D$145,\n'Z0.6.a ProgInvest_Spesa agg'!$L:$L,\"in corso\",\n'Z0.6.a ProgInvest_Spesa agg'!$O:$O,\"vite utili 1\",\n'Z0.6.a ProgInvest_Spesa agg'!$P:$P,G$4)","v":0},{"$f":"-SUMIFS(\n'Z0.6.a ProgInvest_Spesa agg'!$S:$S,\n'Z0.6.a ProgInvest_Spesa agg'!$K:$K,$C516,\n'Z0.6.a ProgInvest_Spesa agg'!$M:$M,$D$145,\n'Z0.6.a ProgInvest_Spesa agg'!$L:$L,\"in corso\",\n'Z0.6.a ProgInvest_Spesa agg'!$O:$O,\"vite utili 1\",\n'Z0.6.a ProgInvest_Spesa agg'!$P:$P,H$4)","v":0},{"$f":"-SUMIFS(\n'Z0.6.a ProgInvest_Spesa agg'!$S:$S,\n'Z0.6.a ProgInvest_Spesa agg'!$K:$K,$C516,\n'Z0.6.a ProgInvest_Spesa agg'!$M:$M,$D$145,\n'Z0.6.a ProgInvest_Spesa agg'!$L:$L,\"in corso\",\n'Z0.6.a ProgInvest_Spesa agg'!$O:$O,\"vite utili 1\",\n'Z0.6.a ProgInvest_Spesa agg'!$P:$P,I$4)","v":0},{"$f":"-SUMIFS(\n'Z0.6.a ProgInvest_Spesa agg'!$S:$S,\n'Z0.6.a ProgInvest_Spesa agg'!$K:$K,$C516,\n'Z0.6.a ProgInvest_Spesa agg'!$M:$M,$D$145,\n'Z0.6.a ProgInvest_Spesa agg'!$L:$L,\"in corso\",\n'Z0.6.a ProgInvest_Spesa agg'!$O:$O,\"vite utili 1\",\n'Z0.6.a ProgInvest_Spesa agg'!$P:$P,J$4)","v":0},{"$f":"-SUMIFS(\n'Z0.6.a ProgInvest_Spesa agg'!$S:$S,\n'Z0.6.a ProgInvest_Spesa agg'!$K:$K,$C516,\n'Z0.6.a ProgInvest_Spesa agg'!$M:$M,$D$145,\n'Z0.6.a ProgInvest_Spesa agg'!$L:$L,\"in corso\",\n'Z0.6.a ProgInvest_Spesa agg'!$O:$O,\"vite utili 1\",\n'Z0.6.a ProgInvest_Spesa agg'!$P:$P,K$4)","v":0},{"$f":"-SUMIFS(\n'Z0.6.a ProgInvest_Spesa agg'!$S:$S,\n'Z0.6.a ProgInvest_Spesa agg'!$K:$K,$C516,\n'Z0.6.a ProgInvest_Spesa agg'!$M:$M,$D$145,\n'Z0.6.a ProgInvest_Spesa agg'!$L:$L,\"in corso\",\n'Z0.6.a ProgInvest_Spesa agg'!$O:$O,\"vite utili 1\",\n'Z0.6.a ProgInvest_Spesa agg'!$P:$P,L$4)","v":0},{"$f":"-SUMIFS(\n'Z0.6.a ProgInvest_Spesa agg'!$S:$S,\n'Z0.6.a ProgInvest_Spesa agg'!$K:$K,$C516,\n'Z0.6.a ProgInvest_Spesa agg'!$M:$M,$D$145,\n'Z0.6.a ProgInvest_Spesa agg'!$L:$L,\"in corso\",\n'Z0.6.a ProgInvest_Spesa agg'!$O:$O,\"vite utili 1\",\n'Z0.6.a ProgInvest_Spesa agg'!$P:$P,M$4)","v":0},{"$f":"-SUMIFS(\n'Z0.6.a ProgInvest_Spesa agg'!$S:$S,\n'Z0.6.a ProgInvest_Spesa agg'!$K:$K,$C516,\n'Z0.6.a ProgInvest_Spesa agg'!$M:$M,$D$145,\n'Z0.6.a ProgInvest_Spesa agg'!$L:$L,\"in corso\",\n'Z0.6.a ProgInvest_Spesa agg'!$O:$O,\"vite utili 1\",\n'Z0.6.a ProgInvest_Spesa agg'!$P:$P,N$4)","v":0},{"$f":"-SUMIFS(\n'Z0.6.a ProgInvest_Spesa agg'!$S:$S,\n'Z0.6.a ProgInvest_Spesa agg'!$K:$K,$C516,\n'Z0.6.a ProgInvest_Spesa agg'!$M:$M,$D$145,\n'Z0.6.a ProgInvest_Spesa agg'!$L:$L,\"in corso\",\n'Z0.6.a ProgInvest_Spesa agg'!$O:$O,\"vite utili 1\",\n'Z0.6.a ProgInvest_Spesa agg'!$P:$P,O$4)","v":0},{"$f":"-SUMIFS(\n'Z0.6.a ProgInvest_Spesa agg'!$S:$S,\n'Z0.6.a ProgInvest_Spesa agg'!$K:$K,$C516,\n'Z0.6.a ProgInvest_Spesa agg'!$M:$M,$D$145,\n'Z0.6.a ProgInvest_Spesa agg'!$L:$L,\"in corso\",\n'Z0.6.a ProgInvest_Spesa agg'!$O:$O,\"vite utili 1\",\n'Z0.6.a ProgInvest_Spesa agg'!$P:$P,P$4)","v":0},{"$f":"-SUMIFS(\n'Z0.6.a ProgInvest_Spesa agg'!$S:$S,\n'Z0.6.a ProgInvest_Spesa agg'!$K:$K,$C516,\n'Z0.6.a ProgInvest_Spesa agg'!$M:$M,$D$145,\n'Z0.6.a ProgInvest_Spesa agg'!$L:$L,\"in corso\",\n'Z0.6.a ProgInvest_Spesa agg'!$O:$O,\"vite utili 1\",\n'Z0.6.a ProgInvest_Spesa agg'!$P:$P,Q$4)","v":-200},{"$f":"-SUMIFS(\n'Z0.6.a ProgInvest_Spesa agg'!$S:$S,\n'Z0.6.a ProgInvest_Spesa agg'!$K:$K,$C516,\n'Z0.6.a ProgInvest_Spesa agg'!$M:$M,$D$145,\n'Z0.6.a ProgInvest_Spesa agg'!$L:$L,\"in corso\",\n'Z0.6.a ProgInvest_Spesa agg'!$O:$O,\"vite utili 1\",\n'Z0.6.a ProgInvest_Spesa agg'!$P:$P,R$4)","v":0},{"$f":"-SUMIFS(\n'Z0.6.a ProgInvest_Spesa agg'!$S:$S,\n'Z0.6.a ProgInvest_Spesa agg'!$K:$K,$C516,\n'Z0.6.a ProgInvest_Spesa agg'!$M:$M,$D$145,\n'Z0.6.a ProgInvest_Spesa agg'!$L:$L,\"in corso\",\n'Z0.6.a ProgInvest_Spesa agg'!$O:$O,\"vite utili 1\",\n'Z0.6.a ProgInvest_Spesa agg'!$P:$P,S$4)","v":0}]
[null,null,"LIC livello 1 - eop",null,null,{"$f":"OFFSET(INDIRECT($F516 & \"inv\"),-10,2+AnnoPonte-UltimoAnnoRTP,1,1)","v":0},{"$f":"G518+G519+G520","v":0},0,0,0,0,0,0,0,0,100,0,0,0]
[null,null,"Valore di subentro LIC",null,null,null,{"$f":"IF(G$4=ScadenzaConcessione,G521,0)","v":0},0,0,0,0,0,0,0,0,0,0,0,0]
[null,null,"Remunerazione LIC",null,null,null,{"$f":"G518*G$17*G$10","v":0},{"$f":"H518*H$17*H$10","v":0},0,0,0,0,0,0,0,0,7.51,0,0]
[]
[null,null,"LIC livello 2 - bop",null,null,null,{"$f":"F528","v":0},{"$f":"G528","v":0},{"$f":"H528","v":0},{"$f":"I528","v":0},{"$f":"J528","v":0},{"$f":"K528","v":0},{"$f":"L528","v":0},{"$f":"M528","v":0},{"$f":"N528","v":0},{"$f":"O528","v":0},{"$f":"P528","v":100},{"$f":"Q528","v":0},{"$f":"R528","v":0}]
[null,null,"Investimenti in corso aggiuntivi",null,null,null,{"$f":"SUMIFS(\n'Z0.6.a ProgInvest_Spesa agg'!Z:Z,\n'Z0.6.a ProgInvest_Spesa agg'!$K:$K,$C516,\n'Z0.6.a ProgInvest_Spesa agg'!$M:$M,$D$145,\n'Z0.6.a ProgInvest_Spesa agg'!$L:$L,\"in corso\",\n'Z0.6.a ProgInvest_Spesa agg'!$O:$O,\"vite utili 2\")","v":0},{"$f":"SUMIFS(\n'Z0.6.a ProgInvest_Spesa agg'!AA:AA,\n'Z0.6.a ProgInvest_Spesa agg'!$K:$K,$C516,\n'Z0.6.a ProgInvest_Spesa agg'!$M:$M,$D$145,\n'Z0.6.a ProgInvest_Spesa agg'!$L:$L,\"in corso\",\n'Z0.6.a ProgInvest_Spesa agg'!$O:$O,\"vite utili 2\")","v":0},{"$f":"SUMIFS(\n'Z0.6.a ProgInvest_Spesa agg'!AB:AB,\n'Z0.6.a ProgInvest_Spesa agg'!$K:$K,$C516,\n'Z0.6.a ProgInvest_Spesa agg'!$M:$M,$D$145,\n'Z0.6.a ProgInvest_Spesa agg'!$L:$L,\"in corso\",\n'Z0.6.a ProgInvest_Spesa agg'!$O:$O,\"vite utili 2\")","v":0},{"$f":"SUMIFS(\n'Z0.6.a ProgInvest_Spesa agg'!AC:AC,\n'Z0.6.a ProgInvest_Spesa agg'!$K:$K,$C516,\n'Z0.6.a ProgInvest_Spesa agg'!$M:$M,$D$145,\n'Z0.6.a ProgInvest_Spesa agg'!$L:$L,\"in corso\",\n'Z0.6.a ProgInvest_Spesa agg'!$O:$O,\"vite utili 2\")","v":0},{"$f":"SUMIFS(\n'Z0.6.a ProgInvest_Spesa agg'!AD:AD,\n'Z0.6.a ProgInvest_Spesa agg'!$K:$K,$C516,\n'Z0.6.a ProgInvest_Spesa agg'!$M:$M,$D$145,\n'Z0.6.a ProgInvest_Spesa agg'!$L:$L,\"in corso\",\n'Z0.6.a ProgInvest_Spesa agg'!$O:$O,\"vite utili 2\")","v":0},{"$f":"SUMIFS(\n'Z0.6.a ProgInvest_Spesa agg'!AE:AE,\n'Z0.6.a ProgInvest_Spesa agg'!$K:$K,$C516,\n'Z0.6.a ProgInvest_Spesa agg'!$M:$M,$D$145,\n'Z0.6.a ProgInvest_Spesa agg'!$L:$L,\"in corso\",\n'Z0.6.a ProgInvest_Spesa agg'!$O:$O,\"vite utili 2\")","v":0},{"$f":"SUMIFS(\n'Z0.6.a ProgInvest_Spesa agg'!AF:AF,\n'Z0.6.a ProgInvest_Spesa agg'!$K:$K,$C516,\n'Z0.6.a ProgInvest_Spesa agg'!$M:$M,$D$145,\n'Z0.6.a ProgInvest_Spesa agg'!$L:$L,\"in corso\",\n'Z0.6.a ProgInvest_Spesa agg'!$O:$O,\"vite utili 2\")","v":0},{"$f":"SUMIFS(\n'Z0.6.a ProgInvest_Spesa agg'!AG:AG,\n'Z0.6.a ProgInvest_Spesa agg'!$K:$K,$C516,\n'Z0.6.a ProgInvest_Spesa agg'!$M:$M,$D$145,\n'Z0.6.a ProgInvest_Spesa agg'!$L:$L,\"in corso\",\n'Z0.6.a ProgInvest_Spesa agg'!$O:$O,\"vite utili 2\")","v":0},{"$f":"SUMIFS(\n'Z0.6.a ProgInvest_Spesa agg'!AH:AH,\n'Z0.6.a ProgInvest_Spesa agg'!$K:$K,$C516,\n'Z0.6.a ProgInvest_Spesa agg'!$M:$M,$D$145,\n'Z0.6.a ProgInvest_Spesa agg'!$L:$L,\"in corso\",\n'Z0.6.a ProgInvest_Spesa agg'!$O:$O,\"vite utili 2\")","v":0},{"$f":"SUMIFS(\n'Z0.6.a ProgInvest_Spesa agg'!AI:AI,\n'Z0.6.a ProgInvest_Spesa agg'!$K:$K,$C516,\n'Z0.6.a ProgInvest_Spesa agg'!$M:$M,$D$145,\n'Z0.6.a ProgInvest_Spesa agg'!$L:$L,\"in corso\",\n'Z0.6.a ProgInvest_Spesa agg'!$O:$O,\"vite utili 2\")","v":100},{"$f":"SUMIFS(\n'Z0.6.a ProgInvest_Spesa agg'!AJ:AJ,\n'Z0.6.a ProgInvest_Spesa agg'!$K:$K,$C516,\n'Z0.6.a ProgInvest_Spesa agg'!$M:$M,$D$145,\n'Z0.6.a ProgInvest_Spesa agg'!$L:$L,\"in corso\",\n'Z0.6.a ProgInvest_Spesa agg'!$O:$O,\"vite utili 2\")","v":100},{"$f":"SUMIFS(\n'Z0.6.a ProgInvest_Spesa agg'!AK:AK,\n'Z0.6.a ProgInvest_Spesa agg'!$K:$K,$C516,\n'Z0.6.a ProgInvest_Spesa agg'!$M:$M,$D$145,\n'Z0.6.a ProgInvest_Spesa agg'!$L:$L,\"in corso\",\n'Z0.6.a ProgInvest_Spesa agg'!$O:$O,\"vite utili 2\")","v":0},{"$f":"SUMIFS(\n'Z0.6.a ProgInvest_Spesa agg'!AL:AL,\n'Z0.6.a ProgInvest_Spesa agg'!$K:$K,$C516,\n'Z0.6.a ProgInvest_Spesa agg'!$M:$M,$D$145,\n'Z0.6.a ProgInvest_Spesa agg'!$L:$L,\"in corso\",\n'Z0.6.a ProgInvest_Spesa agg'!$O:$O,\"vite utili 2\")","v":0}]
[null,null,"Investimenti in corso cessanti (entrata in esercizio)",null,null,null,{"$f":"-SUMIFS(\n'Z0.6.a ProgInvest_Spesa agg'!$S:$S,\n'Z0.6.a ProgInvest_Spesa agg'!$K:$K,$C516,\n'Z0.6.a ProgInvest_Spesa agg'!$M:$M,$D$145,\n'Z0.6.a ProgInvest_Spesa agg'!$L:$L,\"in corso\",\n'Z0.6.a ProgInvest_Spesa agg'!$O:$O,\"vite utili 2\",\n'Z0.6.a ProgInvest_Spesa agg'!$P:$P,G$4)","v":0},{"$f":"-SUMIFS(\n'Z0.6.a ProgInvest_Spesa agg'!$S:$S,\n'Z0.6.a ProgInvest_Spesa agg'!$K:$K,$C516,\n'Z0.6.a ProgInvest_Spesa agg'!$M:$M,$D$145,\n'Z0.6.a ProgInvest_Spesa agg'!$L:$L,\"in corso\",\n'Z0.6.a ProgInvest_Spesa agg'!$O:$O,\"vite utili 2\",\n'Z0.6.a ProgInvest_Spesa agg'!$P:$P,H$4)","v":0},{"$f":"-SUMIFS(\n'Z0.6.a ProgInvest_Spesa agg'!$S:$S,\n'Z0.6.a ProgInvest_Spesa agg'!$K:$K,$C516,\n'Z0.6.a ProgInvest_Spesa agg'!$M:$M,$D$145,\n'Z0.6.a ProgInvest_Spesa agg'!$L:$L,\"in corso\",\n'Z0.6.a ProgInvest_Spesa agg'!$O:$O,\"vite utili 2\",\n'Z0.6.a ProgInvest_Spesa agg'!$P:$P,I$4)","v":0},{"$f":"-SUMIFS(\n'Z0.6.a ProgInvest_Spesa agg'!$S:$S,\n'Z0.6.a ProgInvest_Spesa agg'!$K:$K,$C516,\n'Z0.6.a ProgInvest_Spesa agg'!$M:$M,$D$145,\n'Z0.6.a ProgInvest_Spesa agg'!$L:$L,\"in corso\",\n'Z0.6.a ProgInvest_Spesa agg'!$O:$O,\"vite utili 2\",\n'Z0.6.a ProgInvest_Spesa agg'!$P:$P,J$4)","v":0},{"$f":"-SUMIFS(\n'Z0.6.a ProgInvest_Spesa agg'!$S:$S,\n'Z0.6.a ProgInvest_Spesa agg'!$K:$K,$C516,\n'Z0.6.a ProgInvest_Spesa agg'!$M:$M,$D$145,\n'Z0.6.a ProgInvest_Spesa agg'!$L:$L,\"in corso\",\n'Z0.6.a ProgInvest_Spesa agg'!$O:$O,\"vite utili 2\",\n'Z0.6.a ProgInvest_Spesa agg'!$P:$P,K$4)","v":0},{"$f":"-SUMIFS(\n'Z0.6.a ProgInvest_Spesa agg'!$S:$S,\n'Z0.6.a ProgInvest_Spesa agg'!$K:$K,$C516,\n'Z0.6.a ProgInvest_Spesa agg'!$M:$M,$D$145,\n'Z0.6.a ProgInvest_Spesa agg'!$L:$L,\"in corso\",\n'Z0.6.a ProgInvest_Spesa agg'!$O:$O,\"vite utili 2\",\n'Z0.6.a ProgInvest_Spesa agg'!$P:$P,L$4)","v":0},{"$f":"-SUMIFS(\n'Z0.6.a ProgInvest_Spesa agg'!$S:$S,\n'Z0.6.a ProgInvest_Spesa agg'!$K:$K,$C516,\n'Z0.6.a ProgInvest_Spesa agg'!$M:$M,$D$145,\n'Z0.6.a ProgInvest_Spesa agg'!$L:$L,\"in corso\",\n'Z0.6.a ProgInvest_Spesa agg'!$O:$O,\"vite utili 2\",\n'Z0.6.a ProgInvest_Spesa agg'!$P:$P,M$4)","v":0},{"$f":"-SUMIFS(\n'Z0.6.a ProgInvest_Spesa agg'!$S:$S,\n'Z0.6.a ProgInvest_Spesa agg'!$K:$K,$C516,\n'Z0.6.a ProgInvest_Spesa agg'!$M:$M,$D$145,\n'Z0.6.a ProgInvest_Spesa agg'!$L:$L,\"in corso\",\n'Z0.6.a ProgInvest_Spesa agg'!$O:$O,\"vite utili 2\",\n'Z0.6.a ProgInvest_Spesa agg'!$P:$P,N$4)","v":0},{"$f":"-SUMIFS(\n'Z0.6.a ProgInvest_Spesa agg'!$S:$S,\n'Z0.6.a ProgInvest_Spesa agg'!$K:$K,$C516,\n'Z0.6.a ProgInvest_Spesa agg'!$M:$M,$D$145,\n'Z0.6.a ProgInvest_Spesa agg'!$L:$L,\"in corso\",\n'Z0.6.a ProgInvest_Spesa agg'!$O:$O,\"vite utili 2\",\n'Z0.6.a ProgInvest_Spesa agg'!$P:$P,O$4)","v":0},{"$f":"-SUMIFS(\n'Z0.6.a ProgInvest_Spesa agg'!$S:$S,\n'Z0.6.a ProgInvest_Spesa agg'!$K:$K,$C516,\n'Z0.6.a ProgInvest_Spesa agg'!$M:$M,$D$145,\n'Z0.6.a ProgInvest_Spesa agg'!$L:$L,\"in corso\",\n'Z0.6.a ProgInvest_Spesa agg'!$O:$O,\"vite utili 2\",\n'Z0.6.a ProgInvest_Spesa agg'!$P:$P,P$4)","v":0},{"$f":"-SUMIFS(\n'Z0.6.a ProgInvest_Spesa agg'!$S:$S,\n'Z0.6.a ProgInvest_Spesa agg'!$K:$K,$C516,\n'Z0.6.a ProgInvest_Spesa agg'!$M:$M,$D$145,\n'Z0.6.a ProgInvest_Spesa agg'!$L:$L,\"in corso\",\n'Z0.6.a ProgInvest_Spesa agg'!$O:$O,\"vite utili 2\",\n'Z0.6.a ProgInvest_Spesa agg'!$P:$P,Q$4)","v":-200},{"$f":"-SUMIFS(\n'Z0.6.a ProgInvest_Spesa agg'!$S:$S,\n'Z0.6.a ProgInvest_Spesa agg'!$K:$K,$C516,\n'Z0.6.a ProgInvest_Spesa agg'!$M:$M,$D$145,\n'Z0.6.a ProgInvest_Spesa agg'!$L:$L,\"in corso\",\n'Z0.6.a ProgInvest_Spesa agg'!$O:$O,\"vite utili 2\",\n'Z0.6.a ProgInvest_Spesa agg'!$P:$P,R$4)","v":0},{"$f":"-SUMIFS(\n'Z0.6.a ProgInvest_Spesa agg'!$S:$S,\n'Z0.6.a ProgInvest_Spesa agg'!$K:$K,$C516,\n'Z0.6.a ProgInvest_Spesa agg'!$M:$M,$D$145,\n'Z0.6.a ProgInvest_Spesa agg'!$L:$L,\"in corso\",\n'Z0.6.a ProgInvest_Spesa agg'!$O:$O,\"vite utili 2\",\n'Z0.6.a ProgInvest_Spesa agg'!$P:$P,S$4)","v":0}]
[null,null,"LIC livello 2 - eop",null,null,{"$f":"OFFSET(INDIRECT($F516 & \"inv\"),-4,2+AnnoPonte-UltimoAnnoRTP,1,1)","v":0},{"$f":"G525+G526+G527","v":0},0,0,0,0,0,0,0,0,100,0,0,0]
[null,null,"Valore di subentro LIC",null,null,null,{"$f":"IF(G$4=ScadenzaConcessione,G528,0)","v":0},0,0,0,0,0,0,0,0,0,0,0,0]
[null,null,"Remunerazione LIC",null,null,null,{"$f":"G525*G$20*G$10","v":0},0,0,0,0,0,0,0,0,0,4.3499999999999996,0,0]
[]
[null,null,"CIN investimenti (lordo contributi e subentro, netto dismissioni) bop (amm. a vite utili)",null,"precedenti",null,{"$f":"F536","v":0},{"$f":"G536","v":0},{"$f":"H536","v":0},{"$f":"I536","v":0},{"$f":"J536","v":0},{"$f":"K536","v":0},{"$f":"L536","v":0},{"$f":"M536","v":0},{"$f":"N536","v":0},{"$f":"O536","v":0},{"$f":"P536","v":0},{"$f":"Q536","v":400},{"$f":"R536","v":390}]
[null,null,"Investimenti entrati in esercizio (amm.a vite utili)",null,{"$f":"SUM(OFFSET(INDIRECT($F516 & \"inv\"),0,3,1,IF(EsistePrev,AnnoPonte-UltimoAnnoRTP,1)))","v":0},null,{"$f":"-G520-G527","v":0},{"$f":"-H520-H527","v":0},0,0,0,0,0,0,0,0,400,0,0]
[null,null,"Dismissioni",null,{"$f":"-SUM(OFFSET(INDIRECT($F516&\"dism\"),0,3,1,IF(EsistePrev,AnnoPonte-UltimoAnnoRTP,1)))","v":0},null,{"$f":"SUMIFS(\n'Z0.6.c ProgInvest_Dism agg'!Z:Z,\n'Z0.6.c ProgInvest_Dism agg'!$K:$K,$C516,\n'Z0.6.c ProgInvest_Dism agg'!$M:$M,$D$145,\n'Z0.6.c ProgInvest_Dism agg'!$L:$L,\"in corso\",\n'Z0.6.c ProgInvest_Dism agg'!$O:$O,\"vite utili 1\")\n+SUMIFS(\n'Z0.6.c ProgInvest_Dism agg'!Z:Z,\n'Z0.6.c ProgInvest_Dism agg'!$K:$K,$C516,\n'Z0.6.c ProgInvest_Dism agg'!$M:$M,$D$145,\n'Z0.6.c ProgInvest_Dism agg'!$L:$L,\"in corso\",\n'Z0.6.c ProgInvest_Dism agg'!$O:$O,\"vite utili 2\")","v":0},{"$f":"SUMIFS(\n'Z0.6.c ProgInvest_Dism agg'!AA:AA,\n'Z0.6.c ProgInvest_Dism agg'!$K:$K,$C516,\n'Z0.6.c ProgInvest_Dism agg'!$M:$M,$D$145,\n'Z0.6.c ProgInvest_Dism agg'!$L:$L,\"in corso\",\n'Z0.6.c ProgInvest_Dism agg'!$O:$O,\"vite utili 1\")\n+SUMIFS(\n'Z0.6.c ProgInvest_Dism agg'!AA:AA,\n'Z0.6.c ProgInvest_Dism agg'!$K:$K,$C516,\n'Z0.6.c ProgInvest_Dism agg'!$M:$M,$D$145,\n'Z0.6.c ProgInvest_Dism agg'!$L:$L,\"in corso\",\n'Z0.6.c ProgInvest_Dism agg'!$O:$O,\"vite utili 2\")","v":0},{"$f":"SUMIFS(\n'Z0.6.c ProgInvest_Dism agg'!AB:AB,\n'Z0.6.c ProgInvest_Dism agg'!$K:$K,$C516,\n'Z0.6.c ProgInvest_Dism agg'!$M:$M,$D$145,\n'Z0.6.c ProgInvest_Dism agg'!$L:$L,\"in corso\",\n'Z0.6.c ProgInvest_Dism agg'!$O:$O,\"vite utili 1\")\n+SUMIFS(\n'Z0.6.c ProgInvest_Dism agg'!AB:AB,\n'Z0.6.c ProgInvest_Dism agg'!$K:$K,$C516,\n'Z0.6.c ProgInvest_Dism agg'!$M:$M,$D$145,\n'Z0.6.c ProgInvest_Dism agg'!$L:$L,\"in corso\",\n'Z0.6.c ProgInvest_Dism agg'!$O:$O,\"vite utili 2\")","v":0},{"$f":"SUMIFS(\n'Z0.6.c ProgInvest_Dism agg'!AC:AC,\n'Z0.6.c ProgInvest_Dism agg'!$K:$K,$C516,\n'Z0.6.c ProgInvest_Dism agg'!$M:$M,$D$145,\n'Z0.6.c ProgInvest_Dism agg'!$L:$L,\"in corso\",\n'Z0.6.c ProgInvest_Dism agg'!$O:$O,\"vite utili 1\")\n+SUMIFS(\n'Z0.6.c ProgInvest_Dism agg'!AC:AC,\n'Z0.6.c ProgInvest_Dism agg'!$K:$K,$C516,\n'Z0.6.c ProgInvest_Dism agg'!$M:$M,$D$145,\n'Z0.6.c ProgInvest_Dism agg'!$L:$L,\"in corso\",\n'Z0.6.c ProgInvest_Dism agg'!$O:$O,\"vite utili 2\")","v":0},{"$f":"SUMIFS(\n'Z0.6.c ProgInvest_Dism agg'!AD:AD,\n'Z0.6.c ProgInvest_Dism agg'!$K:$K,$C516,\n'Z0.6.c ProgInvest_Dism agg'!$M:$M,$D$145,\n'Z0.6.c ProgInvest_Dism agg'!$L:$L,\"in corso\",\n'Z0.6.c ProgInvest_Dism agg'!$O:$O,\"vite utili 1\")\n+SUMIFS(\n'Z0.6.c ProgInvest_Dism agg'!AD:AD,\n'Z0.6.c ProgInvest_Dism agg'!$K:$K,$C516,\n'Z0.6.c ProgInvest_Dism agg'!$M:$M,$D$145,\n'Z0.6.c ProgInvest_Dism agg'!$L:$L,\"in corso\",\n'Z0.6.c ProgInvest_Dism agg'!$O:$O,\"vite utili 2\")","v":0},{"$f":"SUMIFS(\n'Z0.6.c ProgInvest_Dism agg'!AE:AE,\n'Z0.6.c ProgInvest_Dism agg'!$K:$K,$C516,\n'Z0.6.c ProgInvest_Dism agg'!$M:$M,$D$145,\n'Z0.6.c ProgInvest_Dism agg'!$L:$L,\"in corso\",\n'Z0.6.c ProgInvest_Dism agg'!$O:$O,\"vite utili 1\")\n+SUMIFS(\n'Z0.6.c ProgInvest_Dism agg'!AE:AE,\n'Z0.6.c ProgInvest_Dism agg'!$K:$K,$C516,\n'Z0.6.c ProgInvest_Dism agg'!$M:$M,$D$145,\n'Z0.6.c ProgInvest_Dism agg'!$L:$L,\"in corso\",\n'Z0.6.c ProgInvest_Dism agg'!$O:$O,\"vite utili 2\")","v":0},{"$f":"SUMIFS(\n'Z0.6.c ProgInvest_Dism agg'!AF:AF,\n'Z0.6.c ProgInvest_Dism agg'!$K:$K,$C516,\n'Z0.6.c ProgInvest_Dism agg'!$M:$M,$D$145,\n'Z0.6.c ProgInvest_Dism agg'!$L:$L,\"in corso\",\n'Z0.6.c ProgInvest_Dism agg'!$O:$O,\"vite utili 1\")\n+SUMIFS(\n'Z0.6.c ProgInvest_Dism agg'!AF:AF,\n'Z0.6.c ProgInvest_Dism agg'!$K:$K,$C516,\n'Z0.6.c ProgInvest_Dism agg'!$M:$M,$D$145,\n'Z0.6.c ProgInvest_Dism agg'!$L:$L,\"in corso\",\n'Z0.6.c ProgInvest_Dism agg'!$O:$O,\"vite utili 2\")","v":0},{"$f":"SUMIFS(\n'Z0.6.c ProgInvest_Dism agg'!AG:AG,\n'Z0.6.c ProgInvest_Dism agg'!$K:$K,$C516,\n'Z0.6.c ProgInvest_Dism agg'!$M:$M,$D$145,\n'Z0.6.c ProgInvest_Dism agg'!$L:$L,\"in corso\",\n'Z0.6.c ProgInvest_Dism agg'!$O:$O,\"vite utili 1\")\n+SUMIFS(\n'Z0.6.c ProgInvest_Dism agg'!AG:AG,\n'Z0.6.c ProgInvest_Dism agg'!$K:$K,$C516,\n'Z0.6.c ProgInvest_Dism agg'!$M:$M,$D$145,\n'Z0.6.c ProgInvest_Dism agg'!$L:$L,\"in corso\",\n'Z0.6.c ProgInvest_Dism agg'!$O:$O,\"vite utili 2\")","v":0},{"$f":"SUMIFS(\n'Z0.6.c ProgInvest_Dism agg'!AH:AH,\n'Z0.6.c ProgInvest_Dism agg'!$K:$K,$C516,\n'Z0.6.c ProgInvest_Dism agg'!$M:$M,$D$145,\n'Z0.6.c ProgInvest_Dism agg'!$L:$L,\"in corso\",\n'Z0.6.c ProgInvest_Dism agg'!$O:$O,\"vite utili 1\")\n+SUMIFS(\n'Z0.6.c ProgInvest_Dism agg'!AH:AH,\n'Z0.6.c ProgInvest_Dism agg'!$K:$K,$C516,\n'Z0.6.c ProgInvest_Dism agg'!$M:$M,$D$145,\n'Z0.6.c ProgInvest_Dism agg'!$L:$L,\"in corso\",\n'Z0.6.c ProgInvest_Dism agg'!$O:$O,\"vite utili 2\")","v":0},{"$f":"SUMIFS(\n'Z0.6.c ProgInvest_Dism agg'!AI:AI,\n'Z0.6.c ProgInvest_Dism agg'!$K:$K,$C516,\n'Z0.6.c ProgInvest_Dism agg'!$M:$M,$D$145,\n'Z0.6.c ProgInvest_Dism agg'!$L:$L,\"in corso\",\n'Z0.6.c ProgInvest_Dism agg'!$O:$O,\"vite utili 1\")\n+SUMIFS(\n'Z0.6.c ProgInvest_Dism agg'!AI:AI,\n'Z0.6.c ProgInvest_Dism agg'!$K:$K,$C516,\n'Z0.6.c ProgInvest_Dism agg'!$M:$M,$D$145,\n'Z0.6.c ProgInvest_Dism agg'!$L:$L,\"in corso\",\n'Z0.6.c ProgInvest_Dism agg'!$O:$O,\"vite utili 2\")","v":0},{"$f":"SUMIFS(\n'Z0.6.c ProgInvest_Dism agg'!AJ:AJ,\n'Z0.6.c ProgInvest_Dism agg'!$K:$K,$C516,\n'Z0.6.c ProgInvest_Dism agg'!$M:$M,$D$145,\n'Z0.6.c ProgInvest_Dism agg'!$L:$L,\"in corso\",\n'Z0.6.c ProgInvest_Dism agg'!$O:$O,\"vite utili 1\")\n+SUMIFS(\n'Z0.6.c ProgInvest_Dism agg'!AJ:AJ,\n'Z0.6.c ProgInvest_Dism agg'!$K:$K,$C516,\n'Z0.6.c ProgInvest_Dism agg'!$M:$M,$D$145,\n'Z0.6.c ProgInvest_Dism agg'!$L:$L,\"in corso\",\n'Z0.6.c ProgInvest_Dism agg'!$O:$O,\"vite utili 2\")","v":0},{"$f":"SUMIFS(\n'Z0.6.c ProgInvest_Dism agg'!AK:AK,\n'Z0.6.c ProgInvest_Dism agg'!$K:$K,$C516,\n'Z0.6.c ProgInvest_Dism agg'!$M:$M,$D$145,\n'Z0.6.c ProgInvest_Dism agg'!$L:$L,\"in corso\",\n'Z0.6.c ProgInvest_Dism agg'!$O:$O,\"vite utili 1\")\n+SUMIFS(\n'Z0.6.c ProgInvest_Dism agg'!AK:AK,\n'Z0.6.c ProgInvest_Dism agg'!$K:$K,$C516,\n'Z0.6.c ProgInvest_Dism agg'!$M:$M,$D$145,\n'Z0.6.c ProgInvest_Dism agg'!$L:$L,\"in corso\",\n'Z0.6.c ProgInvest_Dism agg'!$O:$O,\"vite utili 2\")","v":0},{"$f":"SUMIFS(\n'Z0.6.c ProgInvest_Dism agg'!AL:AL,\n'Z0.6.c ProgInvest_Dism agg'!$K:$K,$C516,\n'Z0.6.c ProgInvest_Dism agg'!$M:$M,$D$145,\n'Z0.6.c ProgInvest_Dism agg'!$L:$L,\"in corso\",\n'Z0.6.c ProgInvest_Dism agg'!$O:$O,\"vite utili 1\")\n+SUMIFS(\n'Z0.6.c ProgInvest_Dism agg'!AL:AL,\n'Z0.6.c ProgInvest_Dism agg'!$K:$K,$C516,\n'Z0.6.c ProgInvest_Dism agg'!$M:$M,$D$145,\n'Z0.6.c ProgInvest_Dism agg'!$L:$L,\"in corso\",\n'Z0.6.c ProgInvest_Dism agg'!$O:$O,\"vite utili 2\")","v":20}]
[null,null,"Ammortamento (a vite utili)",null,{"$f":"SUM(OFFSET(INDIRECT($F516 & \"inv\"),2,3,1,IF(EsistePrev,AnnoPonte-UltimoAnnoRTP,1)))","v":0},null,{"$f":"MIN(G532,IF(F$4-UltimoAnnoRTP<=$D516,\n(SUM($F533:F533)+SUM(OFFSET(INDIRECT($F516 & \"inv\"),0,3,1,IF(EsistePrev,AnnoPonte-UltimoAnnoRTP,1)))\n-SUM($F534:F534)-SUM(OFFSET(INDIRECT($F516 & \"dism\"),0,3,1,IF(EsistePrev,AnnoPonte-UltimoAnnoRTP,1))))/$D516,\n\nIF(AND(F$4-UltimoAnnoRTP>$D516,F$4-AnnoPonte<=$D516),\n(SUM($F533:F533)+SUM(IFERROR(OFFSET(INDIRECT($F516 & \"inv\"),0,3+(F$4-UltimoAnnoRTP-$D516),1,(IF(EsistePrev,AnnoPonte-UltimoAnnoRTP,1)-(F$4-UltimoAnnoRTP-$D516))),0))\n-SUM($F534:F534)-SUM(IFERROR(OFFSET(INDIRECT($F516 & \"dism\"),0,3+(F$4-UltimoAnnoRTP-$D516),1,(IF(EsistePrev,AnnoPonte-UltimoAnnoRTP,1)-(F$4-UltimoAnnoRTP-$D516))),0)))/$D516,\n\n(SUM(OFFSET(F533,0,-$D516+1,1,$D516))\n-SUM(OFFSET(F534,0,-$D516+1,1,$D516)))/$D516)))","v":0},{"$f":"MIN(H532,IF(G$4-UltimoAnnoRTP<=$D516,\n(SUM($F533:G533)+SUM(OFFSET(INDIRECT($F516 & \"inv\"),0,3,1,IF(EsistePrev,AnnoPonte-UltimoAnnoRTP,1)))\n-SUM($F534:G534)-SUM(OFFSET(INDIRECT($F516 & \"dism\"),0,3,1,IF(EsistePrev,AnnoPonte-UltimoAnnoRTP,1))))/$D516,\n\nIF(AND(G$4-UltimoAnnoRTP>$D516,G$4-AnnoPonte<=$D516),\n(SUM($F533:G533)+SUM(IFERROR(OFFSET(INDIRECT($F516 & \"inv\"),0,3+(G$4-UltimoAnnoRTP-$D516),1,(IF(EsistePrev,AnnoPonte-UltimoAnnoRTP,1)-(G$4-UltimoAnnoRTP-$D516))),0))\n-SUM($F534:G534)-SUM(IFERROR(OFFSET(INDIRECT($F516 & \"dism\"),0,3+(G$4-UltimoAnnoRTP-$D516),1,(IF(EsistePrev,AnnoPonte-UltimoAnnoRTP,1)-(G$4-UltimoAnnoRTP-$D516))),0)))/$D516,\n\n(SUM(OFFSET(G533,0,-$D516+1,1,$D516))\n-SUM(OFFSET(G534,0,-$D516+1,1,$D516)))/$D516)))","v":0},{"$f":"MIN(I532,IF(H$4-UltimoAnnoRTP<=$D516,\n(SUM($F533:H533)+SUM(OFFSET(INDIRECT($F516 & \"inv\"),0,3,1,IF(EsistePrev,AnnoPonte-UltimoAnnoRTP,1)))\n-SUM($F534:H534)-SUM(OFFSET(INDIRECT($F516 & \"dism\"),0,3,1,IF(EsistePrev,AnnoPonte-UltimoAnnoRTP,1))))/$D516,\n\nIF(AND(H$4-UltimoAnnoRTP>$D516,H$4-AnnoPonte<=$D516),\n(SUM($F533:H533)+SUM(IFERROR(OFFSET(INDIRECT($F516 & \"inv\"),0,3+(H$4-UltimoAnnoRTP-$D516),1,(IF(EsistePrev,AnnoPonte-UltimoAnnoRTP,1)-(H$4-UltimoAnnoRTP-$D516))),0))\n-SUM($F534:H534)-SUM(IFERROR(OFFSET(INDIRECT($F516 & \"dism\"),0,3+(H$4-UltimoAnnoRTP-$D516),1,(IF(EsistePrev,AnnoPonte-UltimoAnnoRTP,1)-(H$4-UltimoAnnoRTP-$D516))),0)))/$D516,\n\n(SUM(OFFSET(H533,0,-$D516+1,1,$D516))\n-SUM(OFFSET(H534,0,-$D516+1,1,$D516)))/$D516)))","v":0},{"$f":"MIN(J532,IF(I$4-UltimoAnnoRTP<=$D516,\n(SUM($F533:I533)+SUM(OFFSET(INDIRECT($F516 & \"inv\"),0,3,1,IF(EsistePrev,AnnoPonte-UltimoAnnoRTP,1)))\n-SUM($F534:I534)-SUM(OFFSET(INDIRECT($F516 & \"dism\"),0,3,1,IF(EsistePrev,AnnoPonte-UltimoAnnoRTP,1))))/$D516,\n\nIF(AND(I$4-UltimoAnnoRTP>$D516,I$4-AnnoPonte<=$D516),\n(SUM($F533:I533)+SUM(IFERROR(OFFSET(INDIRECT($F516 & \"inv\"),0,3+(I$4-UltimoAnnoRTP-$D516),1,(IF(EsistePrev,AnnoPonte-UltimoAnnoRTP,1)-(I$4-UltimoAnnoRTP-$D516))),0))\n-SUM($F534:I534)-SUM(IFERROR(OFFSET(INDIRECT($F516 & \"dism\"),0,3+(I$4-UltimoAnnoRTP-$D516),1,(IF(EsistePrev,AnnoPonte-UltimoAnnoRTP,1)-(I$4-UltimoAnnoRTP-$D516))),0)))/$D516,\n\n(SUM(OFFSET(I533,0,-$D516+1,1,$D516))\n-SUM(OFFSET(I534,0,-$D516+1,1,$D516)))/$D516)))","v":0},{"$f":"MIN(K532,IF(J$4-UltimoAnnoRTP<=$D516,\n(SUM($F533:J533)+SUM(OFFSET(INDIRECT($F516 & \"inv\"),0,3,1,IF(EsistePrev,AnnoPonte-UltimoAnnoRTP,1)))\n-SUM($F534:J534)-SUM(OFFSET(INDIRECT($F516 & \"dism\"),0,3,1,IF(EsistePrev,AnnoPonte-UltimoAnnoRTP,1))))/$D516,\n\nIF(AND(J$4-UltimoAnnoRTP>$D516,J$4-AnnoPonte<=$D516),\n(SUM($F533:J533)+SUM(IFERROR(OFFSET(INDIRECT($F516 & \"inv\"),0,3+(J$4-UltimoAnnoRTP-$D516),1,(IF(EsistePrev,AnnoPonte-UltimoAnnoRTP,1)-(J$4-UltimoAnnoRTP-$D516))),0))\n-SUM($F534:J534)-SUM(IFERROR(OFFSET(INDIRECT($F516 & \"dism\"),0,3+(J$4-UltimoAnnoRTP-$D516),1,(IF(EsistePrev,AnnoPonte-UltimoAnnoRTP,1)-(J$4-UltimoAnnoRTP-$D516))),0)))/$D516,\n\n(SUM(OFFSET(J533,0,-$D516+1,1,$D516))\n-SUM(OFFSET(J534,0,-$D516+1,1,$D516)))/$D516)))","v":0},{"$f":"MIN(L532,IF(K$4-UltimoAnnoRTP<=$D516,\n(SUM($F533:K533)+SUM(OFFSET(INDIRECT($F516 & \"inv\"),0,3,1,IF(EsistePrev,AnnoPonte-UltimoAnnoRTP,1)))\n-SUM($F534:K534)-SUM(OFFSET(INDIRECT($F516 & \"dism\"),0,3,1,IF(EsistePrev,AnnoPonte-UltimoAnnoRTP,1))))/$D516,\n\nIF(AND(K$4-UltimoAnnoRTP>$D516,K$4-AnnoPonte<=$D516),\n(SUM($F533:K533)+SUM(IFERROR(OFFSET(INDIRECT($F516 & \"inv\"),0,3+(K$4-UltimoAnnoRTP-$D516),1,(IF(EsistePrev,AnnoPonte-UltimoAnnoRTP,1)-(K$4-UltimoAnnoRTP-$D516))),0))\n-SUM($F534:K534)-SUM(IFERROR(OFFSET(INDIRECT($F516 & \"dism\"),0,3+(K$4-UltimoAnnoRTP-$D516),1,(IF(EsistePrev,AnnoPonte-UltimoAnnoRTP,1)-(K$4-UltimoAnnoRTP-$D516))),0)))/$D516,\n\n(SUM(OFFSET(K533,0,-$D516+1,1,$D516))\n-SUM(OFFSET(K534,0,-$D516+1,1,$D516)))/$D516)))","v":0},{"$f":"MIN(M532,IF(L$4-UltimoAnnoRTP<=$D516,\n(SUM($F533:L533)+SUM(OFFSET(INDIRECT($F516 & \"inv\"),0,3,1,IF(EsistePrev,AnnoPonte-UltimoAnnoRTP,1)))\n-SUM($F534:L534)-SUM(OFFSET(INDIRECT($F516 & \"dism\"),0,3,1,IF(EsistePrev,AnnoPonte-UltimoAnnoRTP,1))))/$D516,\n\nIF(AND(L$4-UltimoAnnoRTP>$D516,L$4-AnnoPonte<=$D516),\n(SUM($F533:L533)+SUM(IFERROR(OFFSET(INDIRECT($F516 & \"inv\"),0,3+(L$4-UltimoAnnoRTP-$D516),1,(IF(EsistePrev,AnnoPonte-UltimoAnnoRTP,1)-(L$4-UltimoAnnoRTP-$D516))),0))\n-SUM($F534:L534)-SUM(IFERROR(OFFSET(INDIRECT($F516 & \"dism\"),0,3+(L$4-UltimoAnnoRTP-$D516),1,(IF(EsistePrev,AnnoPonte-UltimoAnnoRTP,1)-(L$4-UltimoAnnoRTP-$D516))),0)))/$D516,\n\n(SUM(OFFSET(L533,0,-$D516+1,1,$D516))\n-SUM(OFFSET(L534,0,-$D516+1,1,$D516)))/$D516)))","v":0},{"$f":"MIN(N532,IF(M$4-UltimoAnnoRTP<=$D516,\n(SUM($F533:M533)+SUM(OFFSET(INDIRECT($F516 & \"inv\"),0,3,1,IF(EsistePrev,AnnoPonte-UltimoAnnoRTP,1)))\n-SUM($F534:M534)-SUM(OFFSET(INDIRECT($F516 & \"dism\"),0,3,1,IF(EsistePrev,AnnoPonte-UltimoAnnoRTP,1))))/$D516,\n\nIF(AND(M$4-UltimoAnnoRTP>$D516,M$4-AnnoPonte<=$D516),\n(SUM($F533:M533)+SUM(IFERROR(OFFSET(INDIRECT($F516 & \"inv\"),0,3+(M$4-UltimoAnnoRTP-$D516),1,(IF(EsistePrev,AnnoPonte-UltimoAnnoRTP,1)-(M$4-UltimoAnnoRTP-$D516))),0))\n-SUM($F534:M534)-SUM(IFERROR(OFFSET(INDIRECT($F516 & \"dism\"),0,3+(M$4-UltimoAnnoRTP-$D516),1,(IF(EsistePrev,AnnoPonte-UltimoAnnoRTP,1)-(M$4-UltimoAnnoRTP-$D516))),0)))/$D516,\n\n(SUM(OFFSET(M533,0,-$D516+1,1,$D516))\n-SUM(OFFSET(M534,0,-$D516+1,1,$D516)))/$D516)))","v":0},{"$f":"MIN(O532,IF(N$4-UltimoAnnoRTP<=$D516,\n(SUM($F533:N533)+SUM(OFFSET(INDIRECT($F516 & \"inv\"),0,3,1,IF(EsistePrev,AnnoPonte-UltimoAnnoRTP,1)))\n-SUM($F534:N534)-SUM(OFFSET(INDIRECT($F516 & \"dism\"),0,3,1,IF(EsistePrev,AnnoPonte-UltimoAnnoRTP,1))))/$D516,\n\nIF(AND(N$4-UltimoAnnoRTP>$D516,N$4-AnnoPonte<=$D516),\n(SUM($F533:N533)+SUM(IFERROR(OFFSET(INDIRECT($F516 & \"inv\"),0,3+(N$4-UltimoAnnoRTP-$D516),1,(IF(EsistePrev,AnnoPonte-UltimoAnnoRTP,1)-(N$4-UltimoAnnoRTP-$D516))),0))\n-SUM($F534:N534)-SUM(IFERROR(OFFSET(INDIRECT($F516 & \"dism\"),0,3+(N$4-UltimoAnnoRTP-$D516),1,(IF(EsistePrev,AnnoPonte-UltimoAnnoRTP,1)-(N$4-UltimoAnnoRTP-$D516))),0)))/$D516,\n\n(SUM(OFFSET(N533,0,-$D516+1,1,$D516))\n-SUM(OFFSET(N534,0,-$D516+1,1,$D516)))/$D516)))","v":0},{"$f":"MIN(P532,IF(O$4-UltimoAnnoRTP<=$D516,\n(SUM($F533:O533)+SUM(OFFSET(INDIRECT($F516 & \"inv\"),0,3,1,IF(EsistePrev,AnnoPonte-UltimoAnnoRTP,1)))\n-SUM($F534:O534)-SUM(OFFSET(INDIRECT($F516 & \"dism\"),0,3,1,IF(EsistePrev,AnnoPonte-UltimoAnnoRTP,1))))/$D516,\n\nIF(AND(O$4-UltimoAnnoRTP>$D516,O$4-AnnoPonte<=$D516),\n(SUM($F533:O533)+SUM(IFERROR(OFFSET(INDIRECT($F516 & \"inv\"),0,3+(O$4-UltimoAnnoRTP-$D516),1,(IF(EsistePrev,AnnoPonte-UltimoAnnoRTP,1)-(O$4-UltimoAnnoRTP-$D516))),0))\n-SUM($F534:O534)-SUM(IFERROR(OFFSET(INDIRECT($F516 & \"dism\"),0,3+(O$4-UltimoAnnoRTP-$D516),1,(IF(EsistePrev,AnnoPonte-UltimoAnnoRTP,1)-(O$4-UltimoAnnoRTP-$D516))),0)))/$D516,\n\n(SUM(OFFSET(O533,0,-$D516+1,1,$D516))\n-SUM(OFFSET(O534,0,-$D516+1,1,$D516)))/$D516)))","v":0},{"$f":"MIN(Q532,IF(P$4-UltimoAnnoRTP<=$D516,\n(SUM($F533:P533)+SUM(OFFSET(INDIRECT($F516 & \"inv\"),0,3,1,IF(EsistePrev,AnnoPonte-UltimoAnnoRTP,1)))\n-SUM($F534:P534)-SUM(OFFSET(INDIRECT($F516 & \"dism\"),0,3,1,IF(EsistePrev,AnnoPonte-UltimoAnnoRTP,1))))/$D516,\n\nIF(AND(P$4-UltimoAnnoRTP>$D516,P$4-AnnoPonte<=$D516),\n(SUM($F533:P533)+SUM(IFERROR(OFFSET(INDIRECT($F516 & \"inv\"),0,3+(P$4-UltimoAnnoRTP-$D516),1,(IF(EsistePrev,AnnoPonte-UltimoAnnoRTP,1)-(P$4-UltimoAnnoRTP-$D516))),0))\n-SUM($F534:P534)-SUM(IFERROR(OFFSET(INDIRECT($F516 & \"dism\"),0,3+(P$4-UltimoAnnoRTP-$D516),1,(IF(EsistePrev,AnnoPonte-UltimoAnnoRTP,1)-(P$4-UltimoAnnoRTP-$D516))),0)))/$D516,\n\n(SUM(OFFSET(P533,0,-$D516+1,1,$D516))\n-SUM(OFFSET(P534,0,-$D516+1,1,$D516)))/$D516)))","v":0},{"$f":"MIN(R532,IF(Q$4-UltimoAnnoRTP<=$D516,\n(SUM($F533:Q533)+SUM(OFFSET(INDIRECT($F516 & \"inv\"),0,3,1,IF(EsistePrev,AnnoPonte-UltimoAnnoRTP,1)))\n-SUM($F534:Q534)-SUM(OFFSET(INDIRECT($F516 & \"dism\"),0,3,1,IF(EsistePrev,AnnoPonte-UltimoAnnoRTP,1))))/$D516,\n\nIF(AND(Q$4-UltimoAnnoRTP>$D516,Q$4-AnnoPonte<=$D516),\n(SUM($F533:Q533)+SUM(IFERROR(OFFSET(INDIRECT($F516 & \"inv\"),0,3+(Q$4-UltimoAnnoRTP-$D516),1,(IF(EsistePrev,AnnoPonte-UltimoAnnoRTP,1)-(Q$4-UltimoAnnoRTP-$D516))),0))\n-SUM($F534:Q534)-SUM(IFERROR(OFFSET(INDIRECT($F516 & \"dism\"),0,3+(Q$4-UltimoAnnoRTP-$D516),1,(IF(EsistePrev,AnnoPonte-UltimoAnnoRTP,1)-(Q$4-UltimoAnnoRTP-$D516))),0)))/$D516,\n\n(SUM(OFFSET(Q533,0,-$D516+1,1,$D516))\n-SUM(OFFSET(Q534,0,-$D516+1,1,$D516)))/$D516)))","v":10},{"$f":"MIN(S532,IF(R$4-UltimoAnnoRTP<=$D516,\n(SUM($F533:R533)+SUM(OFFSET(INDIRECT($F516 & \"inv\"),0,3,1,IF(EsistePrev,AnnoPonte-UltimoAnnoRTP,1)))\n-SUM($F534:R534)-SUM(OFFSET(INDIRECT($F516 & \"dism\"),0,3,1,IF(EsistePrev,AnnoPonte-UltimoAnnoRTP,1))))/$D516,\n\nIF(AND(R$4-UltimoAnnoRTP>$D516,R$4-AnnoPonte<=$D516),\n(SUM($F533:R533)+SUM(IFERROR(OFFSET(INDIRECT($F516 & \"inv\"),0,3+(R$4-UltimoAnnoRTP-$D516),1,(IF(EsistePrev,AnnoPonte-UltimoAnnoRTP,1)-(R$4-UltimoAnnoRTP-$D516))),0))\n-SUM($F534:R534)-SUM(IFERROR(OFFSET(INDIRECT($F516 & \"dism\"),0,3+(R$4-UltimoAnnoRTP-$D516),1,(IF(EsistePrev,AnnoPonte-UltimoAnnoRTP,1)-(R$4-UltimoAnnoRTP-$D516))),0)))/$D516,\n\n(SUM(OFFSET(R533,0,-$D516+1,1,$D516))\n-SUM(OFFSET(R534,0,-$D516+1,1,$D516)))/$D516)))","v":10}]
[null,null,"CIN investimenti (lordo contributi, netto dismissioni) eop (amm. a vite utili)",null,null,{"$f":"OFFSET(INDIRECT($F516 & \"inv\"),3,2+AnnoPonte-UltimoAnnoRTP,1,1)","v":0},{"$f":"G532+G533-G534-G535","v":0},0,0,0,0,0,0,0,0,0,400,390,360]
[null,null,"Remunerazione CIN investimenti",null,null,null,{"$f":"(G532-F538)*G$17*G$10","v":0},{"$f":"(H532-G538)*H$17*H$10","v":0},{"$f":"(I532-H538)*I$17*I$10","v":0},{"$f":"(J532-I538)*J$17*J$10","v":0},{"$f":"(K532-J538)*K$17*K$10","v":0},{"$f":"(L532-K538)*L$17*L$10","v":0},{"$f":"(M532-L538)*M$17*M$10","v":0},{"$f":"(N532-M538)*N$17*N$10","v":0},{"$f":"(O532-N538)*O$17*O$10","v":0},{"$f":"(P532-O538)*P$17*P$10","v":0},{"$f":"(Q532-P538)*Q$17*Q$10","v":0},{"$f":"(R532-Q538)*R$17*R$10","v":1.502},{"$f":"(S532-R538)*S$17*S$10","v":0.751}]
[null,null,"Valore di subentro investimenti (lordo contributi) - cumulato",null,null,{"$f":"OFFSET(INDIRECT($F516 & \"inv\"),5,2+AnnoPonte-UltimoAnnoRTP,1,1)","v":0},{"$f":"IF(MAX(-SUM(OFFSET($G534,0,0,1,ScadenzaConcessione-AnnoPonte)),F538+(G533-G534)/$D516*($D516-(ScadenzaConcessione-G$4)))<0,0,MAX(-SUM(OFFSET($G534,0,0,1,ScadenzaConcessione-AnnoPonte)),F538+(G533-G534)/$D516*($D516-(ScadenzaConcessione-G$4))))","v":0},{"$f":"IF(MAX(-SUM(OFFSET($G534,0,0,1,ScadenzaConcessione-AnnoPonte)),G538+(H533-H534)/$D516*($D516-(ScadenzaConcessione-H$4)))<0,0,MAX(-SUM(OFFSET($G534,0,0,1,ScadenzaConcessione-AnnoPonte)),G538+(H533-H534)/$D516*($D516-(ScadenzaConcessione-H$4))))","v":0},{"$f":"IF(MAX(-SUM(OFFSET($G534,0,0,1,ScadenzaConcessione-AnnoPonte)),H538+(I533-I534)/$D516*($D516-(ScadenzaConcessione-I$4)))<0,0,MAX(-SUM(OFFSET($G534,0,0,1,ScadenzaConcessione-AnnoPonte)),H538+(I533-I534)/$D516*($D516-(ScadenzaConcessione-I$4))))","v":0},{"$f":"IF(MAX(-SUM(OFFSET($G534,0,0,1,ScadenzaConcessione-AnnoPonte)),I538+(J533-J534)/$D516*($D516-(ScadenzaConcessione-J$4)))<0,0,MAX(-SUM(OFFSET($G534,0,0,1,ScadenzaConcessione-AnnoPonte)),I538+(J533-J534)/$D516*($D516-(ScadenzaConcessione-J$4))))","v":0},{"$f":"IF(MAX(-SUM(OFFSET($G534,0,0,1,ScadenzaConcessione-AnnoPonte)),J538+(K533-K534)/$D516*($D516-(ScadenzaConcessione-K$4)))<0,0,MAX(-SUM(OFFSET($G534,0,0,1,ScadenzaConcessione-AnnoPonte)),J538+(K533-K534)/$D516*($D516-(ScadenzaConcessione-K$4))))","v":0},{"$f":"IF(MAX(-SUM(OFFSET($G534,0,0,1,ScadenzaConcessione-AnnoPonte)),K538+(L533-L534)/$D516*($D516-(ScadenzaConcessione-L$4)))<0,0,MAX(-SUM(OFFSET($G534,0,0,1,ScadenzaConcessione-AnnoPonte)),K538+(L533-L534)/$D516*($D516-(ScadenzaConcessione-L$4))))","v":0},{"$f":"IF(MAX(-SUM(OFFSET($G534,0,0,1,ScadenzaConcessione-AnnoPonte)),L538+(M533-M534)/$D516*($D516-(ScadenzaConcessione-M$4)))<0,0,MAX(-SUM(OFFSET($G534,0,0,1,ScadenzaConcessione-AnnoPonte)),L538+(M533-M534)/$D516*($D516-(ScadenzaConcessione-M$4))))","v":0},{"$f":"IF(MAX(-SUM(OFFSET($G534,0,0,1,ScadenzaConcessione-AnnoPonte)),M538+(N533-N534)/$D516*($D516-(ScadenzaConcessione-N$4)))<0,0,MAX(-SUM(OFFSET($G534,0,0,1,ScadenzaConcessione-AnnoPonte)),M538+(N533-N534)/$D516*($D516-(ScadenzaConcessione-N$4))))","v":0},{"$f":"IF(MAX(-SUM(OFFSET($G534,0,0,1,ScadenzaConcessione-AnnoPonte)),N538+(O533-O534)/$D516*($D516-(ScadenzaConcessione-O$4)))<0,0,MAX(-SUM(OFFSET($G534,0,0,1,ScadenzaConcessione-AnnoPonte)),N538+(O533-O534)/$D516*($D516-(ScadenzaConcessione-O$4))))","v":0},{"$f":"IF(MAX(-SUM(OFFSET($G534,0,0,1,ScadenzaConcessione-AnnoPonte)),O538+(P533-P534)/$D516*($D516-(ScadenzaConcessione-P$4)))<0,0,MAX(-SUM(OFFSET($G534,0,0,1,ScadenzaConcessione-AnnoPonte)),O538+(P533-P534)/$D516*($D516-(ScadenzaConcessione-P$4))))","v":0},{"$f":"IF(MAX(-SUM(OFFSET($G534,0,0,1,ScadenzaConcessione-AnnoPonte)),P538+(Q533-Q534)/$D516*($D516-(ScadenzaConcessione-Q$4)))<0,0,MAX(-SUM(OFFSET($G534,0,0,1,ScadenzaConcessione-AnnoPonte)),P538+(Q533-Q534)/$D516*($D516-(ScadenzaConcessione-Q$4))))","v":380},{"$f":"IF(MAX(-SUM(OFFSET($G534,0,0,1,ScadenzaConcessione-AnnoPonte)),Q538+(R533-R534)/$D516*($D516-(ScadenzaConcessione-R$4)))<0,0,MAX(-SUM(OFFSET($G534,0,0,1,ScadenzaConcessione-AnnoPonte)),Q538+(R533-R534)/$D516*($D516-(ScadenzaConcessione-R$4))))","v":380},{"$f":"IF(MAX(-SUM(OFFSET($G534,0,0,1,ScadenzaConcessione-AnnoPonte)),R538+(S533-S534)/$D516*($D516-(ScadenzaConcessione-S$4)))<0,0,MAX(-SUM(OFFSET($G534,0,0,1,ScadenzaConcessione-AnnoPonte)),R538+(S533-S534)/$D516*($D516-(ScadenzaConcessione-S$4))))","v":360}]
[null,null,"Remunerazione valore di subentro CIN investimenti",null,null,null,{"$f":"F538*G$19*G$10","v":0},{"$f":"G538*H$19*H$10","v":0},0,0,0,0,0,0,0,0,0,28.538,28.538]
[]
[null,null,"CIN contributi bop (amm. a vite utili)",null,"precedenti",null,{"$f":"F544","v":0},{"$f":"G544","v":0},{"$f":"H544","v":0},{"$f":"I544","v":0},{"$f":"J544","v":0},{"$f":"K544","v":0},{"$f":"L544","v":0},{"$f":"M544","v":0},{"$f":"N544","v":0},{"$f":"O544","v":0},{"$f":"P544","v":-40},{"$f":"Q544","v":-39},{"$f":"R544","v":-38}]
[null,null,"contributi annui (amm. a vite utili)",null,{"$f":"-SUM(OFFSET(INDIRECT($F516 & \"contr\"),0,3,1,IF(EsistePrev,AnnoPonte-UltimoAnnoRTP,1)))","v":0},null,{"$f":"-SUMIFS(\n'Z0.6.b ProgInvest_Contr agg'!Z:Z,\n'Z0.6.b ProgInvest_Contr agg'!$K:$K,$C516,\n'Z0.6.b ProgInvest_Contr agg'!$M:$M,$D$145,\n'Z0.6.b ProgInvest_Contr agg'!$L:$L,\"in corso\",\n'Z0.6.b ProgInvest_Contr agg'!$O:$O,\"vite utili 1\")\n-SUMIFS(\n'Z0.6.b ProgInvest_Contr agg'!Z:Z,\n'Z0.6.b ProgInvest_Contr agg'!$K:$K,$C516,\n'Z0.6.b ProgInvest_Contr agg'!$M:$M,$D$145,\n'Z0.6.b ProgInvest_Contr agg'!$L:$L,\"in corso\",\n'Z0.6.b ProgInvest_Contr agg'!$O:$O,\"vite utili 2\")","v":0},{"$f":"-SUMIFS(\n'Z0.6.b ProgInvest_Contr agg'!AA:AA,\n'Z0.6.b ProgInvest_Contr agg'!$K:$K,$C516,\n'Z0.6.b ProgInvest_Contr agg'!$M:$M,$D$145,\n'Z0.6.b ProgInvest_Contr agg'!$L:$L,\"in corso\",\n'Z0.6.b ProgInvest_Contr agg'!$O:$O,\"vite utili 1\")\n-SUMIFS(\n'Z0.6.b ProgInvest_Contr agg'!AA:AA,\n'Z0.6.b ProgInvest_Contr agg'!$K:$K,$C516,\n'Z0.6.b ProgInvest_Contr agg'!$M:$M,$D$145,\n'Z0.6.b ProgInvest_Contr agg'!$L:$L,\"in corso\",\n'Z0.6.b ProgInvest_Contr agg'!$O:$O,\"vite utili 2\")","v":0},{"$f":"-SUMIFS(\n'Z0.6.b ProgInvest_Contr agg'!AB:AB,\n'Z0.6.b ProgInvest_Contr agg'!$K:$K,$C516,\n'Z0.6.b ProgInvest_Contr agg'!$M:$M,$D$145,\n'Z0.6.b ProgInvest_Contr agg'!$L:$L,\"in corso\",\n'Z0.6.b ProgInvest_Contr agg'!$O:$O,\"vite utili 1\")\n-SUMIFS(\n'Z0.6.b ProgInvest_Contr agg'!AB:AB,\n'Z0.6.b ProgInvest_Contr agg'!$K:$K,$C516,\n'Z0.6.b ProgInvest_Contr agg'!$M:$M,$D$145,\n'Z0.6.b ProgInvest_Contr agg'!$L:$L,\"in corso\",\n'Z0.6.b ProgInvest_Contr agg'!$O:$O,\"vite utili 2\")","v":0},{"$f":"-SUMIFS(\n'Z0.6.b ProgInvest_Contr agg'!AC:AC,\n'Z0.6.b ProgInvest_Contr agg'!$K:$K,$C516,\n'Z0.6.b ProgInvest_Contr agg'!$M:$M,$D$145,\n'Z0.6.b ProgInvest_Contr agg'!$L:$L,\"in corso\",\n'Z0.6.b ProgInvest_Contr agg'!$O:$O,\"vite utili 1\")\n-SUMIFS(\n'Z0.6.b ProgInvest_Contr agg'!AC:AC,\n'Z0.6.b ProgInvest_Contr agg'!$K:$K,$C516,\n'Z0.6.b ProgInvest_Contr agg'!$M:$M,$D$145,\n'Z0.6.b ProgInvest_Contr agg'!$L:$L,\"in corso\",\n'Z0.6.b ProgInvest_Contr agg'!$O:$O,\"vite utili 2\")","v":0},{"$f":"-SUMIFS(\n'Z0.6.b ProgInvest_Contr agg'!AD:AD,\n'Z0.6.b ProgInvest_Contr agg'!$K:$K,$C516,\n'Z0.6.b ProgInvest_Contr agg'!$M:$M,$D$145,\n'Z0.6.b ProgInvest_Contr agg'!$L:$L,\"in corso\",\n'Z0.6.b ProgInvest_Contr agg'!$O:$O,\"vite utili 1\")\n-SUMIFS(\n'Z0.6.b ProgInvest_Contr agg'!AD:AD,\n'Z0.6.b ProgInvest_Contr agg'!$K:$K,$C516,\n'Z0.6.b ProgInvest_Contr agg'!$M:$M,$D$145,\n'Z0.6.b ProgInvest_Contr agg'!$L:$L,\"in corso\",\n'Z0.6.b ProgInvest_Contr agg'!$O:$O,\"vite utili 2\")","v":0},{"$f":"-SUMIFS(\n'Z0.6.b ProgInvest_Contr agg'!AE:AE,\n'Z0.6.b ProgInvest_Contr agg'!$K:$K,$C516,\n'Z0.6.b ProgInvest_Contr agg'!$M:$M,$D$145,\n'Z0.6.b ProgInvest_Contr agg'!$L:$L,\"in corso\",\n'Z0.6.b ProgInvest_Contr agg'!$O:$O,\"vite utili 1\")\n-SUMIFS(\n'Z0.6.b ProgInvest_Contr agg'!AE:AE,\n'Z0.6.b ProgInvest_Contr agg'!$K:$K,$C516,\n'Z0.6.b ProgInvest_Contr agg'!$M:$M,$D$145,\n'Z0.6.b ProgInvest_Contr agg'!$L:$L,\"in corso\",\n'Z0.6.b ProgInvest_Contr agg'!$O:$O,\"vite utili 2\")","v":0},{"$f":"-SUMIFS(\n'Z0.6.b ProgInvest_Contr agg'!AF:AF,\n'Z0.6.b ProgInvest_Contr agg'!$K:$K,$C516,\n'Z0.6.b ProgInvest_Contr agg'!$M:$M,$D$145,\n'Z0.6.b ProgInvest_Contr agg'!$L:$L,\"in corso\",\n'Z0.6.b ProgInvest_Contr agg'!$O:$O,\"vite utili 1\")\n-SUMIFS(\n'Z0.6.b ProgInvest_Contr agg'!AF:AF,\n'Z0.6.b ProgInvest_Contr agg'!$K:$K,$C516,\n'Z0.6.b ProgInvest_Contr agg'!$M:$M,$D$145,\n'Z0.6.b ProgInvest_Contr agg'!$L:$L,\"in corso\",\n'Z0.6.b ProgInvest_Contr agg'!$O:$O,\"vite utili 2\")","v":0},{"$f":"-SUMIFS(\n'Z0.6.b ProgInvest_Contr agg'!AG:AG,\n'Z0.6.b ProgInvest_Contr agg'!$K:$K,$C516,\n'Z0.6.b ProgInvest_Contr agg'!$M:$M,$D$145,\n'Z0.6.b ProgInvest_Contr agg'!$L:$L,\"in corso\",\n'Z0.6.b ProgInvest_Contr agg'!$O:$O,\"vite utili 1\")\n-SUMIFS(\n'Z0.6.b ProgInvest_Contr agg'!AG:AG,\n'Z0.6.b ProgInvest_Contr agg'!$K:$K,$C516,\n'Z0.6.b ProgInvest_Contr agg'!$M:$M,$D$145,\n'Z0.6.b ProgInvest_Contr agg'!$L:$L,\"in corso\",\n'Z0.6.b ProgInvest_Contr agg'!$O:$O,\"vite utili 2\")","v":0},{"$f":"-SUMIFS(\n'Z0.6.b ProgInvest_Contr agg'!AH:AH,\n'Z0.6.b ProgInvest_Contr agg'!$K:$K,$C516,\n'Z0.6.b ProgInvest_Contr agg'!$M:$M,$D$145,\n'Z0.6.b ProgInvest_Contr agg'!$L:$L,\"in corso\",\n'Z0.6.b ProgInvest_Contr agg'!$O:$O,\"vite utili 1\")\n-SUMIFS(\n'Z0.6.b ProgInvest_Contr agg'!AH:AH,\n'Z0.6.b ProgInvest_Contr agg'!$K:$K,$C516,\n'Z0.6.b ProgInvest_Contr agg'!$M:$M,$D$145,\n'Z0.6.b ProgInvest_Contr agg'!$L:$L,\"in corso\",\n'Z0.6.b ProgInvest_Contr agg'!$O:$O,\"vite utili 2\")","v":0},{"$f":"-SUMIFS(\n'Z0.6.b ProgInvest_Contr agg'!AI:AI,\n'Z0.6.b ProgInvest_Contr agg'!$K:$K,$C516,\n'Z0.6.b ProgInvest_Contr agg'!$M:$M,$D$145,\n'Z0.6.b ProgInvest_Contr agg'!$L:$L,\"in corso\",\n'Z0.6.b ProgInvest_Contr agg'!$O:$O,\"vite utili 1\")\n-SUMIFS(\n'Z0.6.b ProgInvest_Contr agg'!AI:AI,\n'Z0.6.b ProgInvest_Contr agg'!$K:$K,$C516,\n'Z0.6.b ProgInvest_Contr agg'!$M:$M,$D$145,\n'Z0.6.b ProgInvest_Contr agg'!$L:$L,\"in corso\",\n'Z0.6.b ProgInvest_Contr agg'!$O:$O,\"vite utili 2\")","v":-40},{"$f":"-SUMIFS(\n'Z0.6.b ProgInvest_Contr agg'!AJ:AJ,\n'Z0.6.b ProgInvest_Contr agg'!$K:$K,$C516,\n'Z0.6.b ProgInvest_Contr agg'!$M:$M,$D$145,\n'Z0.6.b ProgInvest_Contr agg'!$L:$L,\"in corso\",\n'Z0.6.b ProgInvest_Contr agg'!$O:$O,\"vite utili 1\")\n-SUMIFS(\n'Z0.6.b ProgInvest_Contr agg'!AJ:AJ,\n'Z0.6.b ProgInvest_Contr agg'!$K:$K,$C516,\n'Z0.6.b ProgInvest_Contr agg'!$M:$M,$D$145,\n'Z0.6.b ProgInvest_Contr agg'!$L:$L,\"in corso\",\n'Z0.6.b ProgInvest_Contr agg'!$O:$O,\"vite utili 2\")","v":0},{"$f":"-SUMIFS(\n'Z0.6.b ProgInvest_Contr agg'!AK:AK,\n'Z0.6.b ProgInvest_Contr agg'!$K:$K,$C516,\n'Z0.6.b ProgInvest_Contr agg'!$M:$M,$D$145,\n'Z0.6.b ProgInvest_Contr agg'!$L:$L,\"in corso\",\n'Z0.6.b ProgInvest_Contr agg'!$O:$O,\"vite utili 1\")\n-SUMIFS(\n'Z0.6.b ProgInvest_Contr agg'!AK:AK,\n'Z0.6.b ProgInvest_Contr agg'!$K:$K,$C516,\n'Z0.6.b ProgInvest_Contr agg'!$M:$M,$D$145,\n'Z0.6.b ProgInvest_Contr agg'!$L:$L,\"in corso\",\n'Z0.6.b ProgInvest_Contr agg'!$O:$O,\"vite utili 2\")","v":0},{"$f":"-SUMIFS(\n'Z0.6.b ProgInvest_Contr agg'!AL:AL,\n'Z0.6.b ProgInvest_Contr agg'!$K:$K,$C516,\n'Z0.6.b ProgInvest_Contr agg'!$M:$M,$D$145,\n'Z0.6.b ProgInvest_Contr agg'!$L:$L,\"in corso\",\n'Z0.6.b ProgInvest_Contr agg'!$O:$O,\"vite utili 1\")\n-SUMIFS(\n'Z0.6.b ProgInvest_Contr agg'!AL:AL,\n'Z0.6.b ProgInvest_Contr agg'!$K:$K,$C516,\n'Z0.6.b ProgInvest_Contr agg'!$M:$M,$D$145,\n'Z0.6.b ProgInvest_Contr agg'!$L:$L,\"in corso\",\n'Z0.6.b ProgInvest_Contr agg'!$O:$O,\"vite utili 2\")","v":0}]
[null,null,"Ammortamento contributi (amm. a vite utili)",null,{"$f":"-SUM(OFFSET(INDIRECT($F516 & \"contr\"),1,3,1,IF(EsistePrev,AnnoPonte-UltimoAnnoRTP,1)))","v":0},null,{"$f":"IF(F$4-UltimoAnnoRTP<=$D516,\n(SUM($F542:F542)-SUM(OFFSET(INDIRECT($F516 & \"contr\"),0,3,1,IF(EsistePrev,AnnoPonte-UltimoAnnoRTP,1)))\n)/$D516,\n\nIF(AND(F$4-UltimoAnnoRTP>$D516,F$4-AnnoPonte<=$D516),\n(SUM($F542:F542)-SUM(IFERROR(OFFSET(INDIRECT($F516 & \"contr\"),0,3+(F$4-UltimoAnnoRTP-$D516),1,(IF(EsistePrev,AnnoPonte-UltimoAnnoRTP,1)-(F$4-UltimoAnnoRTP-$D516))),0))\n)/$D516,\n\n(SUM(OFFSET(F542,0,-$D516+1,1,$D516))\n)/$D516))","v":0},{"$f":"IF(G$4-UltimoAnnoRTP<=$D516,\n(SUM($F542:G542)-SUM(OFFSET(INDIRECT($F516 & \"contr\"),0,3,1,IF(EsistePrev,AnnoPonte-UltimoAnnoRTP,1)))\n)/$D516,\n\nIF(AND(G$4-UltimoAnnoRTP>$D516,G$4-AnnoPonte<=$D516),\n(SUM($F542:G542)-SUM(IFERROR(OFFSET(INDIRECT($F516 & \"contr\"),0,3+(G$4-UltimoAnnoRTP-$D516),1,(IF(EsistePrev,AnnoPonte-UltimoAnnoRTP,1)-(G$4-UltimoAnnoRTP-$D516))),0))\n)/$D516,\n\n(SUM(OFFSET(G542,0,-$D516+1,1,$D516))\n)/$D516))","v":0},{"$f":"IF(H$4-UltimoAnnoRTP<=$D516,\n(SUM($F542:H542)-SUM(OFFSET(INDIRECT($F516 & \"contr\"),0,3,1,IF(EsistePrev,AnnoPonte-UltimoAnnoRTP,1)))\n)/$D516,\n\nIF(AND(H$4-UltimoAnnoRTP>$D516,H$4-AnnoPonte<=$D516),\n(SUM($F542:H542)-SUM(IFERROR(OFFSET(INDIRECT($F516 & \"contr\"),0,3+(H$4-UltimoAnnoRTP-$D516),1,(IF(EsistePrev,AnnoPonte-UltimoAnnoRTP,1)-(H$4-UltimoAnnoRTP-$D516))),0))\n)/$D516,\n\n(SUM(OFFSET(H542,0,-$D516+1,1,$D516))\n)/$D516))","v":0},{"$f":"IF(I$4-UltimoAnnoRTP<=$D516,\n(SUM($F542:I542)-SUM(OFFSET(INDIRECT($F516 & \"contr\"),0,3,1,IF(EsistePrev,AnnoPonte-UltimoAnnoRTP,1)))\n)/$D516,\n\nIF(AND(I$4-UltimoAnnoRTP>$D516,I$4-AnnoPonte<=$D516),\n(SUM($F542:I542)-SUM(IFERROR(OFFSET(INDIRECT($F516 & \"contr\"),0,3+(I$4-UltimoAnnoRTP-$D516),1,(IF(EsistePrev,AnnoPonte-UltimoAnnoRTP,1)-(I$4-UltimoAnnoRTP-$D516))),0))\n)/$D516,\n\n(SUM(OFFSET(I542,0,-$D516+1,1,$D516))\n)/$D516))","v":0},{"$f":"IF(J$4-UltimoAnnoRTP<=$D516,\n(SUM($F542:J542)-SUM(OFFSET(INDIRECT($F516 & \"contr\"),0,3,1,IF(EsistePrev,AnnoPonte-UltimoAnnoRTP,1)))\n)/$D516,\n\nIF(AND(J$4-UltimoAnnoRTP>$D516,J$4-AnnoPonte<=$D516),\n(SUM($F542:J542)-SUM(IFERROR(OFFSET(INDIRECT($F516 & \"contr\"),0,3+(J$4-UltimoAnnoRTP-$D516),1,(IF(EsistePrev,AnnoPonte-UltimoAnnoRTP,1)-(J$4-UltimoAnnoRTP-$D516))),0))\n)/$D516,\n\n(SUM(OFFSET(J542,0,-$D516+1,1,$D516))\n)/$D516))","v":0},{"$f":"IF(K$4-UltimoAnnoRTP<=$D516,\n(SUM($F542:K542)-SUM(OFFSET(INDIRECT($F516 & \"contr\"),0,3,1,IF(EsistePrev,AnnoPonte-UltimoAnnoRTP,1)))\n)/$D516,\n\nIF(AND(K$4-UltimoAnnoRTP>$D516,K$4-AnnoPonte<=$D516),\n(SUM($F542:K542)-SUM(IFERROR(OFFSET(INDIRECT($F516 & \"contr\"),0,3+(K$4-UltimoAnnoRTP-$D516),1,(IF(EsistePrev,AnnoPonte-UltimoAnnoRTP,1)-(K$4-UltimoAnnoRTP-$D516))),0))\n)/$D516,\n\n(SUM(OFFSET(K542,0,-$D516+1,1,$D516))\n)/$D516))","v":0},{"$f":"IF(L$4-UltimoAnnoRTP<=$D516,\n(SUM($F542:L542)-SUM(OFFSET(INDIRECT($F516 & \"contr\"),0,3,1,IF(EsistePrev,AnnoPonte-UltimoAnnoRTP,1)))\n)/$D516,\n\nIF(AND(L$4-UltimoAnnoRTP>$D516,L$4-AnnoPonte<=$D516),\n(SUM($F542:L542)-SUM(IFERROR(OFFSET(INDIRECT($F516 & \"contr\"),0,3+(L$4-UltimoAnnoRTP-$D516),1,(IF(EsistePrev,AnnoPonte-UltimoAnnoRTP,1)-(L$4-UltimoAnnoRTP-$D516))),0))\n)/$D516,\n\n(SUM(OFFSET(L542,0,-$D516+1,1,$D516))\n)/$D516))","v":0},{"$f":"IF(M$4-UltimoAnnoRTP<=$D516,\n(SUM($F542:M542)-SUM(OFFSET(INDIRECT($F516 & \"contr\"),0,3,1,IF(EsistePrev,AnnoPonte-UltimoAnnoRTP,1)))\n)/$D516,\n\nIF(AND(M$4-UltimoAnnoRTP>$D516,M$4-AnnoPonte<=$D516),\n(SUM($F542:M542)-SUM(IFERROR(OFFSET(INDIRECT($F516 & \"contr\"),0,3+(M$4-UltimoAnnoRTP-$D516),1,(IF(EsistePrev,AnnoPonte-UltimoAnnoRTP,1)-(M$4-UltimoAnnoRTP-$D516))),0))\n)/$D516,\n\n(SUM(OFFSET(M542,0,-$D516+1,1,$D516))\n)/$D516))","v":0},{"$f":"IF(N$4-UltimoAnnoRTP<=$D516,\n(SUM($F542:N542)-SUM(OFFSET(INDIRECT($F516 & \"contr\"),0,3,1,IF(EsistePrev,AnnoPonte-UltimoAnnoRTP,1)))\n)/$D516,\n\nIF(AND(N$4-UltimoAnnoRTP>$D516,N$4-AnnoPonte<=$D516),\n(SUM($F542:N542)-SUM(IFERROR(OFFSET(INDIRECT($F516 & \"contr\"),0,3+(N$4-UltimoAnnoRTP-$D516),1,(IF(EsistePrev,AnnoPonte-UltimoAnnoRTP,1)-(N$4-UltimoAnnoRTP-$D516))),0))\n)/$D516,\n\n(SUM(OFFSET(N542,0,-$D516+1,1,$D516))\n)/$D516))","v":0},{"$f":"IF(O$4-UltimoAnnoRTP<=$D516,\n(SUM($F542:O542)-SUM(OFFSET(INDIRECT($F516 & \"contr\"),0,3,1,IF(EsistePrev,AnnoPonte-UltimoAnnoRTP,1)))\n)/$D516,\n\nIF(AND(O$4-UltimoAnnoRTP>$D516,O$4-AnnoPonte<=$D516),\n(SUM($F542:O542)-SUM(IFERROR(OFFSET(INDIRECT($F516 & \"contr\"),0,3+(O$4-UltimoAnnoRTP-$D516),1,(IF(EsistePrev,AnnoPonte-UltimoAnnoRTP,1)-(O$4-UltimoAnnoRTP-$D516))),0))\n)/$D516,\n\n(SUM(OFFSET(O542,0,-$D516+1,1,$D516))\n)/$D516))","v":0},{"$f":"IF(P$4-UltimoAnnoRTP<=$D516,\n(SUM($F542:P542)-SUM(OFFSET(INDIRECT($F516 & \"contr\"),0,3,1,IF(EsistePrev,AnnoPonte-UltimoAnnoRTP,1)))\n)/$D516,\n\nIF(AND(P$4-UltimoAnnoRTP>$D516,P$4-AnnoPonte<=$D516),\n(SUM($F542:P542)-SUM(IFERROR(OFFSET(INDIRECT($F516 & \"contr\"),0,3+(P$4-UltimoAnnoRTP-$D516),1,(IF(EsistePrev,AnnoPonte-UltimoAnnoRTP,1)-(P$4-UltimoAnnoRTP-$D516))),0))\n)/$D516,\n\n(SUM(OFFSET(P542,0,-$D516+1,1,$D516))\n)/$D516))","v":-1},{"$f":"IF(Q$4-UltimoAnnoRTP<=$D516,\n(SUM($F542:Q542)-SUM(OFFSET(INDIRECT($F516 & \"contr\"),0,3,1,IF(EsistePrev,AnnoPonte-UltimoAnnoRTP,1)))\n)/$D516,\n\nIF(AND(Q$4-UltimoAnnoRTP>$D516,Q$4-AnnoPonte<=$D516),\n(SUM($F542:Q542)-SUM(IFERROR(OFFSET(INDIRECT($F516 & \"contr\"),0,3+(Q$4-UltimoAnnoRTP-$D516),1,(IF(EsistePrev,AnnoPonte-UltimoAnnoRTP,1)-(Q$4-UltimoAnnoRTP-$D516))),0))\n)/$D516,\n\n(SUM(OFFSET(Q542,0,-$D516+1,1,$D516))\n)/$D516))","v":-1},{"$f":"IF(R$4-UltimoAnnoRTP<=$D516,\n(SUM($F542:R542)-SUM(OFFSET(INDIRECT($F516 & \"contr\"),0,3,1,IF(EsistePrev,AnnoPonte-UltimoAnnoRTP,1)))\n)/$D516,\n\nIF(AND(R$4-UltimoAnnoRTP>$D516,R$4-AnnoPonte<=$D516),\n(SUM($F542:R542)-SUM(IFERROR(OFFSET(INDIRECT($F516 & \"contr\"),0,3+(R$4-UltimoAnnoRTP-$D516),1,(IF(EsistePrev,AnnoPonte-UltimoAnnoRTP,1)-(R$4-UltimoAnnoRTP-$D516))),0))\n)/$D516,\n\n(SUM(OFFSET(R542,0,-$D516+1,1,$D516))\n)/$D516))","v":-1}]
[null,null,"CIN contributi eop (amm. a vite utili)",null,null,{"$f":"-OFFSET(INDIRECT($F516 & \"contr\"),2,2+AnnoPonte-UltimoAnnoRTP,1,1)","v":0},{"$f":"G541+G542-G543","v":0},0,0,0,0,0,0,0,0,-40,-39,-38,-37]
[null,null,"Remunerazione CIN contributi",null,null,null,{"$f":"(G541-F546)*G$17*G$10","v":0},{"$f":"(H541-G546)*H$17*H$10","v":0},{"$f":"(I541-H546)*I$17*I$10","v":0},{"$f":"(J541-I546)*J$17*J$10","v":0},{"$f":"(K541-J546)*K$17*K$10","v":0},{"$f":"(L541-K546)*L$17*L$10","v":0},{"$f":"(M541-L546)*M$17*M$10","v":0},{"$f":"(N541-M546)*N$17*N$10","v":0},{"$f":"(O541-N546)*O$17*O$10","v":0},{"$f":"(P541-O546)*P$17*P$10","v":0},{"$f":"(Q541-P546)*Q$17*Q$10","v":-0.2253},{"$f":"(R541-Q546)*R$17*R$10","v":-0.1502},{"$f":"(S541-R546)*S$17*S$10","v":-7.51E-2}]
[null,null,"Valore di subentro contributi - cumulato",null,null,{"$f":"-OFFSET(INDIRECT($F516 & \"contr\"),4,2+AnnoPonte-UltimoAnnoRTP,1,1)","v":0},{"$f":"MIN(0,F546+(G542)/$D516*($D516-(ScadenzaConcessione-G$4)))","v":0},{"$f":"MIN(0,G546+(H542)/$D516*($D516-(ScadenzaConcessione-H$4)))","v":0},{"$f":"MIN(0,H546+(I542)/$D516*($D516-(ScadenzaConcessione-I$4)))","v":0},{"$f":"MIN(0,I546+(J542)/$D516*($D516-(ScadenzaConcessione-J$4)))","v":0},{"$f":"MIN(0,J546+(K542)/$D516*($D516-(ScadenzaConcessione-K$4)))","v":0},{"$f":"MIN(0,K546+(L542)/$D516*($D516-(ScadenzaConcessione-L$4)))","v":0},{"$f":"MIN(0,L546+(M542)/$D516*($D516-(ScadenzaConcessione-M$4)))","v":0},{"$f":"MIN(0,M546+(N542)/$D516*($D516-(ScadenzaConcessione-N$4)))","v":0},{"$f":"MIN(0,N546+(O542)/$D516*($D516-(ScadenzaConcessione-O$4)))","v":0},{"$f":"MIN(0,O546+(P542)/$D516*($D516-(ScadenzaConcessione-P$4)))","v":-37},{"$f":"MIN(0,P546+(Q542)/$D516*($D516-(ScadenzaConcessione-Q$4)))","v":-37},{"$f":"MIN(0,Q546+(R542)/$D516*($D516-(ScadenzaConcessione-R$4)))","v":-37},{"$f":"MIN(0,R546+(S542)/$D516*($D516-(ScadenzaConcessione-S$4)))","v":-37}]
[null,null,"Remunerazione valore di subentro CIN contributi ",null,null,null,{"$f":"F546*G$19*G$10","v":0},{"$f":"G546*H$19*H$10","v":0},0,0,0,0,0,0,0,0,-2.7787000000000002,-2.7787000000000002,-2.7787000000000002]
[]
[null,null,"Check - TIR di progetto"]
[null,null,"Cash out investimenti",null,null,{"$f":"-(F521+F528+F536+F544)","v":0},{"$f":"-(G519+G526-G534+G542)","v":0},{"$f":"-(H519+H526-H534+H542)","v":0},0,0,0,0,0,0,0,-160,-200,0,20]
[null,null,"Cash in valore di subentro",null,null,null,{"$f":"IF(G$4=ScadenzaConcessione,G522+G538+G546,\"\")","v":""},"","","","","","","","","","","",{"$f":"IF(S$4=ScadenzaConcessione,S522+S529+S538+S546,\"\")","v":323}]
[null,null,"Cash in ammortamenti",null,null,null,{"$f":"G535+G543","v":0},0,0,0,0,0,0,0,0,0,-1,9,9]
[null,null,"Cash in remunerazioni (annualizzato)",null,null,null,{"$f":"(G523+G530+G537+G539+G545+G547)/G$10","v":0},{"$f":"(H523+H530+H537+H539+H545+H547)/H$10","v":0},0,0,0,0,0,0,0,0,8.8559999999999981,27.111099999999997,26.435200000000002]
[null,null,"Cash flow",null,null,{"$f":"SUM(F550:F553)","v":0},0,{"$f":"SUM(H550:H553)","v":0},0,0,0,0,0,0,0,-160,-192.14400000000001,36.111099999999993,378.43520000000001]
[null,null,"Tasso interno di rendimento",null,null,{"$f":"IFERROR(IRR(OFFSET(F554,0,0,1,ScadenzaConcessione-AnnoPonte+1)),\"non calc.\")","v":7.1168649490218616E-2}]
[null,null,"VAN",null,{"$f":"WACC","v":7.51E-2},{"$f":"NPV(E556,OFFSET(F554,0,0,1,ScadenzaConcessione-AnnoPonte+1))","v":-1.3252589330162377}]
[]
[null,null,"Altro",{"$f":"VLOOKUP(C558,'C3 Tk Supporto'!C:E,2,0)","v":30},"vita utile","VU10"]
[]
[null,null,"LIC livello 1 - bop",null,null,null,{"$f":"F563","v":0},{"$f":"G563","v":0},{"$f":"H563","v":0},{"$f":"I563","v":0},{"$f":"J563","v":0},{"$f":"K563","v":0},{"$f":"L563","v":0},{"$f":"M563","v":0},{"$f":"N563","v":0},{"$f":"O563","v":0},{"$f":"P563","v":0},{"$f":"Q563","v":100},{"$f":"R563","v":0}]
[null,null,"Investimenti in corso aggiuntivi",null,null,null,{"$f":"SUMIFS(\n'Z0.6.a ProgInvest_Spesa agg'!Z:Z,\n'Z0.6.a ProgInvest_Spesa agg'!$K:$K,$C558,\n'Z0.6.a ProgInvest_Spesa agg'!$M:$M,$D$145,\n'Z0.6.a ProgInvest_Spesa agg'!$L:$L,\"in corso\",\n'Z0.6.a ProgInvest_Spesa agg'!$O:$O,\"vite utili 1\")","v":0},{"$f":"SUMIFS(\n'Z0.6.a ProgInvest_Spesa agg'!AA:AA,\n'Z0.6.a ProgInvest_Spesa agg'!$K:$K,$C558,\n'Z0.6.a ProgInvest_Spesa agg'!$M:$M,$D$145,\n'Z0.6.a ProgInvest_Spesa agg'!$L:$L,\"in corso\",\n'Z0.6.a ProgInvest_Spesa agg'!$O:$O,\"vite utili 1\")","v":0},{"$f":"SUMIFS(\n'Z0.6.a ProgInvest_Spesa agg'!AB:AB,\n'Z0.6.a ProgInvest_Spesa agg'!$K:$K,$C558,\n'Z0.6.a ProgInvest_Spesa agg'!$M:$M,$D$145,\n'Z0.6.a ProgInvest_Spesa agg'!$L:$L,\"in corso\",\n'Z0.6.a ProgInvest_Spesa agg'!$O:$O,\"vite utili 1\")","v":0},{"$f":"SUMIFS(\n'Z0.6.a ProgInvest_Spesa agg'!AC:AC,\n'Z0.6.a ProgInvest_Spesa agg'!$K:$K,$C558,\n'Z0.6.a ProgInvest_Spesa agg'!$M:$M,$D$145,\n'Z0.6.a ProgInvest_Spesa agg'!$L:$L,\"in corso\",\n'Z0.6.a ProgInvest_Spesa agg'!$O:$O,\"vite utili 1\")","v":0},{"$f":"SUMIFS(\n'Z0.6.a ProgInvest_Spesa agg'!AD:AD,\n'Z0.6.a ProgInvest_Spesa agg'!$K:$K,$C558,\n'Z0.6.a ProgInvest_Spesa agg'!$M:$M,$D$145,\n'Z0.6.a ProgInvest_Spesa agg'!$L:$L,\"in corso\",\n'Z0.6.a ProgInvest_Spesa agg'!$O:$O,\"vite utili 1\")","v":0},{"$f":"SUMIFS(\n'Z0.6.a ProgInvest_Spesa agg'!AE:AE,\n'Z0.6.a ProgInvest_Spesa agg'!$K:$K,$C558,\n'Z0.6.a ProgInvest_Spesa agg'!$M:$M,$D$145,\n'Z0.6.a ProgInvest_Spesa agg'!$L:$L,\"in corso\",\n'Z0.6.a ProgInvest_Spesa agg'!$O:$O,\"vite utili 1\")","v":0},{"$f":"SUMIFS(\n'Z0.6.a ProgInvest_Spesa agg'!AF:AF,\n'Z0.6.a ProgInvest_Spesa agg'!$K:$K,$C558,\n'Z0.6.a ProgInvest_Spesa agg'!$M:$M,$D$145,\n'Z0.6.a ProgInvest_Spesa agg'!$L:$L,\"in corso\",\n'Z0.6.a ProgInvest_Spesa agg'!$O:$O,\"vite utili 1\")","v":0},{"$f":"SUMIFS(\n'Z0.6.a ProgInvest_Spesa agg'!AG:AG,\n'Z0.6.a ProgInvest_Spesa agg'!$K:$K,$C558,\n'Z0.6.a ProgInvest_Spesa agg'!$M:$M,$D$145,\n'Z0.6.a ProgInvest_Spesa agg'!$L:$L,\"in corso\",\n'Z0.6.a ProgInvest_Spesa agg'!$O:$O,\"vite utili 1\")","v":0},{"$f":"SUMIFS(\n'Z0.6.a ProgInvest_Spesa agg'!AH:AH,\n'Z0.6.a ProgInvest_Spesa agg'!$K:$K,$C558,\n'Z0.6.a ProgInvest_Spesa agg'!$M:$M,$D$145,\n'Z0.6.a ProgInvest_Spesa agg'!$L:$L,\"in corso\",\n'Z0.6.a ProgInvest_Spesa agg'!$O:$O,\"vite utili 1\")","v":0},{"$f":"SUMIFS(\n'Z0.6.a ProgInvest_Spesa agg'!AI:AI,\n'Z0.6.a ProgInvest_Spesa agg'!$K:$K,$C558,\n'Z0.6.a ProgInvest_Spesa agg'!$M:$M,$D$145,\n'Z0.6.a ProgInvest_Spesa agg'!$L:$L,\"in corso\",\n'Z0.6.a ProgInvest_Spesa agg'!$O:$O,\"vite utili 1\")","v":0},{"$f":"SUMIFS(\n'Z0.6.a ProgInvest_Spesa agg'!AJ:AJ,\n'Z0.6.a ProgInvest_Spesa agg'!$K:$K,$C558,\n'Z0.6.a ProgInvest_Spesa agg'!$M:$M,$D$145,\n'Z0.6.a ProgInvest_Spesa agg'!$L:$L,\"in corso\",\n'Z0.6.a ProgInvest_Spesa agg'!$O:$O,\"vite utili 1\")","v":100},{"$f":"SUMIFS(\n'Z0.6.a ProgInvest_Spesa agg'!AK:AK,\n'Z0.6.a ProgInvest_Spesa agg'!$K:$K,$C558,\n'Z0.6.a ProgInvest_Spesa agg'!$M:$M,$D$145,\n'Z0.6.a ProgInvest_Spesa agg'!$L:$L,\"in corso\",\n'Z0.6.a ProgInvest_Spesa agg'!$O:$O,\"vite utili 1\")","v":100},{"$f":"SUMIFS(\n'Z0.6.a ProgInvest_Spesa agg'!AL:AL,\n'Z0.6.a ProgInvest_Spesa agg'!$K:$K,$C558,\n'Z0.6.a ProgInvest_Spesa agg'!$M:$M,$D$145,\n'Z0.6.a ProgInvest_Spesa agg'!$L:$L,\"in corso\",\n'Z0.6.a ProgInvest_Spesa agg'!$O:$O,\"vite utili 1\")","v":0}]
[null,null,"Investimenti in corso cessanti (entrata in esercizio)",null,null,null,{"$f":"-SUMIFS(\n'Z0.6.a ProgInvest_Spesa agg'!$S:$S,\n'Z0.6.a ProgInvest_Spesa agg'!$K:$K,$C558,\n'Z0.6.a ProgInvest_Spesa agg'!$M:$M,$D$145,\n'Z0.6.a ProgInvest_Spesa agg'!$L:$L,\"in corso\",\n'Z0.6.a ProgInvest_Spesa agg'!$O:$O,\"vite utili 1\",\n'Z0.6.a ProgInvest_Spesa agg'!$P:$P,G$4)","v":0},{"$f":"-SUMIFS(\n'Z0.6.a ProgInvest_Spesa agg'!$S:$S,\n'Z0.6.a ProgInvest_Spesa agg'!$K:$K,$C558,\n'Z0.6.a ProgInvest_Spesa agg'!$M:$M,$D$145,\n'Z0.6.a ProgInvest_Spesa agg'!$L:$L,\"in corso\",\n'Z0.6.a ProgInvest_Spesa agg'!$O:$O,\"vite utili 1\",\n'Z0.6.a ProgInvest_Spesa agg'!$P:$P,H$4)","v":0},{"$f":"-SUMIFS(\n'Z0.6.a ProgInvest_Spesa agg'!$S:$S,\n'Z0.6.a ProgInvest_Spesa agg'!$K:$K,$C558,\n'Z0.6.a ProgInvest_Spesa agg'!$M:$M,$D$145,\n'Z0.6.a ProgInvest_Spesa agg'!$L:$L,\"in corso\",\n'Z0.6.a ProgInvest_Spesa agg'!$O:$O,\"vite utili 1\",\n'Z0.6.a ProgInvest_Spesa agg'!$P:$P,I$4)","v":0},{"$f":"-SUMIFS(\n'Z0.6.a ProgInvest_Spesa agg'!$S:$S,\n'Z0.6.a ProgInvest_Spesa agg'!$K:$K,$C558,\n'Z0.6.a ProgInvest_Spesa agg'!$M:$M,$D$145,\n'Z0.6.a ProgInvest_Spesa agg'!$L:$L,\"in corso\",\n'Z0.6.a ProgInvest_Spesa agg'!$O:$O,\"vite utili 1\",\n'Z0.6.a ProgInvest_Spesa agg'!$P:$P,J$4)","v":0},{"$f":"-SUMIFS(\n'Z0.6.a ProgInvest_Spesa agg'!$S:$S,\n'Z0.6.a ProgInvest_Spesa agg'!$K:$K,$C558,\n'Z0.6.a ProgInvest_Spesa agg'!$M:$M,$D$145,\n'Z0.6.a ProgInvest_Spesa agg'!$L:$L,\"in corso\",\n'Z0.6.a ProgInvest_Spesa agg'!$O:$O,\"vite utili 1\",\n'Z0.6.a ProgInvest_Spesa agg'!$P:$P,K$4)","v":0},{"$f":"-SUMIFS(\n'Z0.6.a ProgInvest_Spesa agg'!$S:$S,\n'Z0.6.a ProgInvest_Spesa agg'!$K:$K,$C558,\n'Z0.6.a ProgInvest_Spesa agg'!$M:$M,$D$145,\n'Z0.6.a ProgInvest_Spesa agg'!$L:$L,\"in corso\",\n'Z0.6.a ProgInvest_Spesa agg'!$O:$O,\"vite utili 1\",\n'Z0.6.a ProgInvest_Spesa agg'!$P:$P,L$4)","v":0},{"$f":"-SUMIFS(\n'Z0.6.a ProgInvest_Spesa agg'!$S:$S,\n'Z0.6.a ProgInvest_Spesa agg'!$K:$K,$C558,\n'Z0.6.a ProgInvest_Spesa agg'!$M:$M,$D$145,\n'Z0.6.a ProgInvest_Spesa agg'!$L:$L,\"in corso\",\n'Z0.6.a ProgInvest_Spesa agg'!$O:$O,\"vite utili 1\",\n'Z0.6.a ProgInvest_Spesa agg'!$P:$P,M$4)","v":0},{"$f":"-SUMIFS(\n'Z0.6.a ProgInvest_Spesa agg'!$S:$S,\n'Z0.6.a ProgInvest_Spesa agg'!$K:$K,$C558,\n'Z0.6.a ProgInvest_Spesa agg'!$M:$M,$D$145,\n'Z0.6.a ProgInvest_Spesa agg'!$L:$L,\"in corso\",\n'Z0.6.a ProgInvest_Spesa agg'!$O:$O,\"vite utili 1\",\n'Z0.6.a ProgInvest_Spesa agg'!$P:$P,N$4)","v":0},{"$f":"-SUMIFS(\n'Z0.6.a ProgInvest_Spesa agg'!$S:$S,\n'Z0.6.a ProgInvest_Spesa agg'!$K:$K,$C558,\n'Z0.6.a ProgInvest_Spesa agg'!$M:$M,$D$145,\n'Z0.6.a ProgInvest_Spesa agg'!$L:$L,\"in corso\",\n'Z0.6.a ProgInvest_Spesa agg'!$O:$O,\"vite utili 1\",\n'Z0.6.a ProgInvest_Spesa agg'!$P:$P,O$4)","v":0},{"$f":"-SUMIFS(\n'Z0.6.a ProgInvest_Spesa agg'!$S:$S,\n'Z0.6.a ProgInvest_Spesa agg'!$K:$K,$C558,\n'Z0.6.a ProgInvest_Spesa agg'!$M:$M,$D$145,\n'Z0.6.a ProgInvest_Spesa agg'!$L:$L,\"in corso\",\n'Z0.6.a ProgInvest_Spesa agg'!$O:$O,\"vite utili 1\",\n'Z0.6.a ProgInvest_Spesa agg'!$P:$P,P$4)","v":0},{"$f":"-SUMIFS(\n'Z0.6.a ProgInvest_Spesa agg'!$S:$S,\n'Z0.6.a ProgInvest_Spesa agg'!$K:$K,$C558,\n'Z0.6.a ProgInvest_Spesa agg'!$M:$M,$D$145,\n'Z0.6.a ProgInvest_Spesa agg'!$L:$L,\"in corso\",\n'Z0.6.a ProgInvest_Spesa agg'!$O:$O,\"vite utili 1\",\n'Z0.6.a ProgInvest_Spesa agg'!$P:$P,Q$4)","v":0},{"$f":"-SUMIFS(\n'Z0.6.a ProgInvest_Spesa agg'!$S:$S,\n'Z0.6.a ProgInvest_Spesa agg'!$K:$K,$C558,\n'Z0.6.a ProgInvest_Spesa agg'!$M:$M,$D$145,\n'Z0.6.a ProgInvest_Spesa agg'!$L:$L,\"in corso\",\n'Z0.6.a ProgInvest_Spesa agg'!$O:$O,\"vite utili 1\",\n'Z0.6.a ProgInvest_Spesa agg'!$P:$P,R$4)","v":-200},{"$f":"-SUMIFS(\n'Z0.6.a ProgInvest_Spesa agg'!$S:$S,\n'Z0.6.a ProgInvest_Spesa agg'!$K:$K,$C558,\n'Z0.6.a ProgInvest_Spesa agg'!$M:$M,$D$145,\n'Z0.6.a ProgInvest_Spesa agg'!$L:$L,\"in corso\",\n'Z0.6.a ProgInvest_Spesa agg'!$O:$O,\"vite utili 1\",\n'Z0.6.a ProgInvest_Spesa agg'!$P:$P,S$4)","v":0}]
[null,null,"LIC livello 1 - eop",null,null,{"$f":"OFFSET(INDIRECT($F558 & \"inv\"),-10,2+AnnoPonte-UltimoAnnoRTP,1,1)","v":0},{"$f":"G560+G561+G562","v":0},0,0,0,0,0,0,0,0,0,100,0,0]
[null,null,"Valore di subentro LIC",null,null,null,{"$f":"IF(G$4=ScadenzaConcessione,G563,0)","v":0},0,0,0,0,0,0,0,0,0,0,0,0]
[null,null,"Remunerazione LIC",null,null,null,{"$f":"G560*G$17*G$10","v":0},{"$f":"H560*H$17*H$10","v":0},0,0,0,0,0,0,0,0,0,7.51,0]
[]
[null,null,"LIC livello 2 - bop",null,null,null,{"$f":"F570","v":0},{"$f":"G570","v":0},{"$f":"H570","v":0},{"$f":"I570","v":0},{"$f":"J570","v":0},{"$f":"K570","v":0},{"$f":"L570","v":0},{"$f":"M570","v":0},{"$f":"N570","v":0},{"$f":"O570","v":0},{"$f":"P570","v":0},{"$f":"Q570","v":100},{"$f":"R570","v":0}]
[null,null,"Investimenti in corso aggiuntivi",null,null,null,{"$f":"SUMIFS(\n'Z0.6.a ProgInvest_Spesa agg'!Z:Z,\n'Z0.6.a ProgInvest_Spesa agg'!$K:$K,$C558,\n'Z0.6.a ProgInvest_Spesa agg'!$M:$M,$D$145,\n'Z0.6.a ProgInvest_Spesa agg'!$L:$L,\"in corso\",\n'Z0.6.a ProgInvest_Spesa agg'!$O:$O,\"vite utili 2\")","v":0},{"$f":"SUMIFS(\n'Z0.6.a ProgInvest_Spesa agg'!AA:AA,\n'Z0.6.a ProgInvest_Spesa agg'!$K:$K,$C558,\n'Z0.6.a ProgInvest_Spesa agg'!$M:$M,$D$145,\n'Z0.6.a ProgInvest_Spesa agg'!$L:$L,\"in corso\",\n'Z0.6.a ProgInvest_Spesa agg'!$O:$O,\"vite utili 2\")","v":0},{"$f":"SUMIFS(\n'Z0.6.a ProgInvest_Spesa agg'!AB:AB,\n'Z0.6.a ProgInvest_Spesa agg'!$K:$K,$C558,\n'Z0.6.a ProgInvest_Spesa agg'!$M:$M,$D$145,\n'Z0.6.a ProgInvest_Spesa agg'!$L:$L,\"in corso\",\n'Z0.6.a ProgInvest_Spesa agg'!$O:$O,\"vite utili 2\")","v":0},{"$f":"SUMIFS(\n'Z0.6.a ProgInvest_Spesa agg'!AC:AC,\n'Z0.6.a ProgInvest_Spesa agg'!$K:$K,$C558,\n'Z0.6.a ProgInvest_Spesa agg'!$M:$M,$D$145,\n'Z0.6.a ProgInvest_Spesa agg'!$L:$L,\"in corso\",\n'Z0.6.a ProgInvest_Spesa agg'!$O:$O,\"vite utili 2\")","v":0},{"$f":"SUMIFS(\n'Z0.6.a ProgInvest_Spesa agg'!AD:AD,\n'Z0.6.a ProgInvest_Spesa agg'!$K:$K,$C558,\n'Z0.6.a ProgInvest_Spesa agg'!$M:$M,$D$145,\n'Z0.6.a ProgInvest_Spesa agg'!$L:$L,\"in corso\",\n'Z0.6.a ProgInvest_Spesa agg'!$O:$O,\"vite utili 2\")","v":0},{"$f":"SUMIFS(\n'Z0.6.a ProgInvest_Spesa agg'!AE:AE,\n'Z0.6.a ProgInvest_Spesa agg'!$K:$K,$C558,\n'Z0.6.a ProgInvest_Spesa agg'!$M:$M,$D$145,\n'Z0.6.a ProgInvest_Spesa agg'!$L:$L,\"in corso\",\n'Z0.6.a ProgInvest_Spesa agg'!$O:$O,\"vite utili 2\")","v":0},{"$f":"SUMIFS(\n'Z0.6.a ProgInvest_Spesa agg'!AF:AF,\n'Z0.6.a ProgInvest_Spesa agg'!$K:$K,$C558,\n'Z0.6.a ProgInvest_Spesa agg'!$M:$M,$D$145,\n'Z0.6.a ProgInvest_Spesa agg'!$L:$L,\"in corso\",\n'Z0.6.a ProgInvest_Spesa agg'!$O:$O,\"vite utili 2\")","v":0},{"$f":"SUMIFS(\n'Z0.6.a ProgInvest_Spesa agg'!AG:AG,\n'Z0.6.a ProgInvest_Spesa agg'!$K:$K,$C558,\n'Z0.6.a ProgInvest_Spesa agg'!$M:$M,$D$145,\n'Z0.6.a ProgInvest_Spesa agg'!$L:$L,\"in corso\",\n'Z0.6.a ProgInvest_Spesa agg'!$O:$O,\"vite utili 2\")","v":0},{"$f":"SUMIFS(\n'Z0.6.a ProgInvest_Spesa agg'!AH:AH,\n'Z0.6.a ProgInvest_Spesa agg'!$K:$K,$C558,\n'Z0.6.a ProgInvest_Spesa agg'!$M:$M,$D$145,\n'Z0.6.a ProgInvest_Spesa agg'!$L:$L,\"in corso\",\n'Z0.6.a ProgInvest_Spesa agg'!$O:$O,\"vite utili 2\")","v":0},{"$f":"SUMIFS(\n'Z0.6.a ProgInvest_Spesa agg'!AI:AI,\n'Z0.6.a ProgInvest_Spesa agg'!$K:$K,$C558,\n'Z0.6.a ProgInvest_Spesa agg'!$M:$M,$D$145,\n'Z0.6.a ProgInvest_Spesa agg'!$L:$L,\"in corso\",\n'Z0.6.a ProgInvest_Spesa agg'!$O:$O,\"vite utili 2\")","v":0},{"$f":"SUMIFS(\n'Z0.6.a ProgInvest_Spesa agg'!AJ:AJ,\n'Z0.6.a ProgInvest_Spesa agg'!$K:$K,$C558,\n'Z0.6.a ProgInvest_Spesa agg'!$M:$M,$D$145,\n'Z0.6.a ProgInvest_Spesa agg'!$L:$L,\"in corso\",\n'Z0.6.a ProgInvest_Spesa agg'!$O:$O,\"vite utili 2\")","v":100},{"$f":"SUMIFS(\n'Z0.6.a ProgInvest_Spesa agg'!AK:AK,\n'Z0.6.a ProgInvest_Spesa agg'!$K:$K,$C558,\n'Z0.6.a ProgInvest_Spesa agg'!$M:$M,$D$145,\n'Z0.6.a ProgInvest_Spesa agg'!$L:$L,\"in corso\",\n'Z0.6.a ProgInvest_Spesa agg'!$O:$O,\"vite utili 2\")","v":100},{"$f":"SUMIFS(\n'Z0.6.a ProgInvest_Spesa agg'!AL:AL,\n'Z0.6.a ProgInvest_Spesa agg'!$K:$K,$C558,\n'Z0.6.a ProgInvest_Spesa agg'!$M:$M,$D$145,\n'Z0.6.a ProgInvest_Spesa agg'!$L:$L,\"in corso\",\n'Z0.6.a ProgInvest_Spesa agg'!$O:$O,\"vite utili 2\")","v":0}]
[null,null,"Investimenti in corso cessanti (entrata in esercizio)",null,null,null,{"$f":"-SUMIFS(\n'Z0.6.a ProgInvest_Spesa agg'!$S:$S,\n'Z0.6.a ProgInvest_Spesa agg'!$K:$K,$C558,\n'Z0.6.a ProgInvest_Spesa agg'!$M:$M,$D$145,\n'Z0.6.a ProgInvest_Spesa agg'!$L:$L,\"in corso\",\n'Z0.6.a ProgInvest_Spesa agg'!$O:$O,\"vite utili 2\",\n'Z0.6.a ProgInvest_Spesa agg'!$P:$P,G$4)","v":0},{"$f":"-SUMIFS(\n'Z0.6.a ProgInvest_Spesa agg'!$S:$S,\n'Z0.6.a ProgInvest_Spesa agg'!$K:$K,$C558,\n'Z0.6.a ProgInvest_Spesa agg'!$M:$M,$D$145,\n'Z0.6.a ProgInvest_Spesa agg'!$L:$L,\"in corso\",\n'Z0.6.a ProgInvest_Spesa agg'!$O:$O,\"vite utili 2\",\n'Z0.6.a ProgInvest_Spesa agg'!$P:$P,H$4)","v":0},{"$f":"-SUMIFS(\n'Z0.6.a ProgInvest_Spesa agg'!$S:$S,\n'Z0.6.a ProgInvest_Spesa agg'!$K:$K,$C558,\n'Z0.6.a ProgInvest_Spesa agg'!$M:$M,$D$145,\n'Z0.6.a ProgInvest_Spesa agg'!$L:$L,\"in corso\",\n'Z0.6.a ProgInvest_Spesa agg'!$O:$O,\"vite utili 2\",\n'Z0.6.a ProgInvest_Spesa agg'!$P:$P,I$4)","v":0},{"$f":"-SUMIFS(\n'Z0.6.a ProgInvest_Spesa agg'!$S:$S,\n'Z0.6.a ProgInvest_Spesa agg'!$K:$K,$C558,\n'Z0.6.a ProgInvest_Spesa agg'!$M:$M,$D$145,\n'Z0.6.a ProgInvest_Spesa agg'!$L:$L,\"in corso\",\n'Z0.6.a ProgInvest_Spesa agg'!$O:$O,\"vite utili 2\",\n'Z0.6.a ProgInvest_Spesa agg'!$P:$P,J$4)","v":0},{"$f":"-SUMIFS(\n'Z0.6.a ProgInvest_Spesa agg'!$S:$S,\n'Z0.6.a ProgInvest_Spesa agg'!$K:$K,$C558,\n'Z0.6.a ProgInvest_Spesa agg'!$M:$M,$D$145,\n'Z0.6.a ProgInvest_Spesa agg'!$L:$L,\"in corso\",\n'Z0.6.a ProgInvest_Spesa agg'!$O:$O,\"vite utili 2\",\n'Z0.6.a ProgInvest_Spesa agg'!$P:$P,K$4)","v":0},{"$f":"-SUMIFS(\n'Z0.6.a ProgInvest_Spesa agg'!$S:$S,\n'Z0.6.a ProgInvest_Spesa agg'!$K:$K,$C558,\n'Z0.6.a ProgInvest_Spesa agg'!$M:$M,$D$145,\n'Z0.6.a ProgInvest_Spesa agg'!$L:$L,\"in corso\",\n'Z0.6.a ProgInvest_Spesa agg'!$O:$O,\"vite utili 2\",\n'Z0.6.a ProgInvest_Spesa agg'!$P:$P,L$4)","v":0},{"$f":"-SUMIFS(\n'Z0.6.a ProgInvest_Spesa agg'!$S:$S,\n'Z0.6.a ProgInvest_Spesa agg'!$K:$K,$C558,\n'Z0.6.a ProgInvest_Spesa agg'!$M:$M,$D$145,\n'Z0.6.a ProgInvest_Spesa agg'!$L:$L,\"in corso\",\n'Z0.6.a ProgInvest_Spesa agg'!$O:$O,\"vite utili 2\",\n'Z0.6.a ProgInvest_Spesa agg'!$P:$P,M$4)","v":0},{"$f":"-SUMIFS(\n'Z0.6.a ProgInvest_Spesa agg'!$S:$S,\n'Z0.6.a ProgInvest_Spesa agg'!$K:$K,$C558,\n'Z0.6.a ProgInvest_Spesa agg'!$M:$M,$D$145,\n'Z0.6.a ProgInvest_Spesa agg'!$L:$L,\"in corso\",\n'Z0.6.a ProgInvest_Spesa agg'!$O:$O,\"vite utili 2\",\n'Z0.6.a ProgInvest_Spesa agg'!$P:$P,N$4)","v":0},{"$f":"-SUMIFS(\n'Z0.6.a ProgInvest_Spesa agg'!$S:$S,\n'Z0.6.a ProgInvest_Spesa agg'!$K:$K,$C558,\n'Z0.6.a ProgInvest_Spesa agg'!$M:$M,$D$145,\n'Z0.6.a ProgInvest_Spesa agg'!$L:$L,\"in corso\",\n'Z0.6.a ProgInvest_Spesa agg'!$O:$O,\"vite utili 2\",\n'Z0.6.a ProgInvest_Spesa agg'!$P:$P,O$4)","v":0},{"$f":"-SUMIFS(\n'Z0.6.a ProgInvest_Spesa agg'!$S:$S,\n'Z0.6.a ProgInvest_Spesa agg'!$K:$K,$C558,\n'Z0.6.a ProgInvest_Spesa agg'!$M:$M,$D$145,\n'Z0.6.a ProgInvest_Spesa agg'!$L:$L,\"in corso\",\n'Z0.6.a ProgInvest_Spesa agg'!$O:$O,\"vite utili 2\",\n'Z0.6.a ProgInvest_Spesa agg'!$P:$P,P$4)","v":0},{"$f":"-SUMIFS(\n'Z0.6.a ProgInvest_Spesa agg'!$S:$S,\n'Z0.6.a ProgInvest_Spesa agg'!$K:$K,$C558,\n'Z0.6.a ProgInvest_Spesa agg'!$M:$M,$D$145,\n'Z0.6.a ProgInvest_Spesa agg'!$L:$L,\"in corso\",\n'Z0.6.a ProgInvest_Spesa agg'!$O:$O,\"vite utili 2\",\n'Z0.6.a ProgInvest_Spesa agg'!$P:$P,Q$4)","v":0},{"$f":"-SUMIFS(\n'Z0.6.a ProgInvest_Spesa agg'!$S:$S,\n'Z0.6.a ProgInvest_Spesa agg'!$K:$K,$C558,\n'Z0.6.a ProgInvest_Spesa agg'!$M:$M,$D$145,\n'Z0.6.a ProgInvest_Spesa agg'!$L:$L,\"in corso\",\n'Z0.6.a ProgInvest_Spesa agg'!$O:$O,\"vite utili 2\",\n'Z0.6.a ProgInvest_Spesa agg'!$P:$P,R$4)","v":-200},{"$f":"-SUMIFS(\n'Z0.6.a ProgInvest_Spesa agg'!$S:$S,\n'Z0.6.a ProgInvest_Spesa agg'!$K:$K,$C558,\n'Z0.6.a ProgInvest_Spesa agg'!$M:$M,$D$145,\n'Z0.6.a ProgInvest_Spesa agg'!$L:$L,\"in corso\",\n'Z0.6.a ProgInvest_Spesa agg'!$O:$O,\"vite utili 2\",\n'Z0.6.a ProgInvest_Spesa agg'!$P:$P,S$4)","v":0}]
[null,null,"LIC livello 2 - eop",null,null,{"$f":"OFFSET(INDIRECT($F558 & \"inv\"),-4,2+AnnoPonte-UltimoAnnoRTP,1,1)","v":0},{"$f":"G567+G568+G569","v":0},0,0,0,0,0,0,0,0,0,100,0,0]
[null,null,"Valore di subentro LIC",null,null,null,{"$f":"IF(G$4=ScadenzaConcessione,G570,0)","v":0},0,0,0,0,0,0,0,0,0,0,0,0]
[null,null,"Remunerazione LIC",null,null,null,{"$f":"G567*G$20*G$10","v":0},0,0,0,0,0,0,0,0,0,0,4.3499999999999996,0]
[]
[null,null,"CIN investimenti (lordo contributi e subentro, netto dismissioni) bop (amm. a vite utili)",null,"precedenti",null,{"$f":"F578","v":0},{"$f":"G578","v":0},{"$f":"H578","v":0},{"$f":"I578","v":0},{"$f":"J578","v":0},{"$f":"K578","v":0},{"$f":"L578","v":0},{"$f":"M578","v":0},{"$f":"N578","v":0},{"$f":"O578","v":0},{"$f":"P578","v":0},{"$f":"Q578","v":0},{"$f":"R578","v":400}]
[null,null,"Investimenti entrati in esercizio (amm.a vite utili)",null,{"$f":"SUM(OFFSET(INDIRECT($F558 & \"inv\"),0,3,1,IF(EsistePrev,AnnoPonte-UltimoAnnoRTP,1)))","v":0},null,{"$f":"-G562-G569","v":0},{"$f":"-H562-H569","v":0},0,0,0,0,0,0,0,0,0,400,0]
[null,null,"Dismissioni",null,{"$f":"-SUM(OFFSET(INDIRECT($F558&\"dism\"),0,3,1,IF(EsistePrev,AnnoPonte-UltimoAnnoRTP,1)))","v":0},null,{"$f":"SUMIFS(\n'Z0.6.c ProgInvest_Dism agg'!Z:Z,\n'Z0.6.c ProgInvest_Dism agg'!$K:$K,$C558,\n'Z0.6.c ProgInvest_Dism agg'!$M:$M,$D$145,\n'Z0.6.c ProgInvest_Dism agg'!$L:$L,\"in corso\",\n'Z0.6.c ProgInvest_Dism agg'!$O:$O,\"vite utili 1\")\n+SUMIFS(\n'Z0.6.c ProgInvest_Dism agg'!Z:Z,\n'Z0.6.c ProgInvest_Dism agg'!$K:$K,$C558,\n'Z0.6.c ProgInvest_Dism agg'!$M:$M,$D$145,\n'Z0.6.c ProgInvest_Dism agg'!$L:$L,\"in corso\",\n'Z0.6.c ProgInvest_Dism agg'!$O:$O,\"vite utili 2\")","v":0},{"$f":"SUMIFS(\n'Z0.6.c ProgInvest_Dism agg'!AA:AA,\n'Z0.6.c ProgInvest_Dism agg'!$K:$K,$C558,\n'Z0.6.c ProgInvest_Dism agg'!$M:$M,$D$145,\n'Z0.6.c ProgInvest_Dism agg'!$L:$L,\"in corso\",\n'Z0.6.c ProgInvest_Dism agg'!$O:$O,\"vite utili 1\")\n+SUMIFS(\n'Z0.6.c ProgInvest_Dism agg'!AA:AA,\n'Z0.6.c ProgInvest_Dism agg'!$K:$K,$C558,\n'Z0.6.c ProgInvest_Dism agg'!$M:$M,$D$145,\n'Z0.6.c ProgInvest_Dism agg'!$L:$L,\"in corso\",\n'Z0.6.c ProgInvest_Dism agg'!$O:$O,\"vite utili 2\")","v":0},{"$f":"SUMIFS(\n'Z0.6.c ProgInvest_Dism agg'!AB:AB,\n'Z0.6.c ProgInvest_Dism agg'!$K:$K,$C558,\n'Z0.6.c ProgInvest_Dism agg'!$M:$M,$D$145,\n'Z0.6.c ProgInvest_Dism agg'!$L:$L,\"in corso\",\n'Z0.6.c ProgInvest_Dism agg'!$O:$O,\"vite utili 1\")\n+SUMIFS(\n'Z0.6.c ProgInvest_Dism agg'!AB:AB,\n'Z0.6.c ProgInvest_Dism agg'!$K:$K,$C558,\n'Z0.6.c ProgInvest_Dism agg'!$M:$M,$D$145,\n'Z0.6.c ProgInvest_Dism agg'!$L:$L,\"in corso\",\n'Z0.6.c ProgInvest_Dism agg'!$O:$O,\"vite utili 2\")","v":0},{"$f":"SUMIFS(\n'Z0.6.c ProgInvest_Dism agg'!AC:AC,\n'Z0.6.c ProgInvest_Dism agg'!$K:$K,$C558,\n'Z0.6.c ProgInvest_Dism agg'!$M:$M,$D$145,\n'Z0.6.c ProgInvest_Dism agg'!$L:$L,\"in corso\",\n'Z0.6.c ProgInvest_Dism agg'!$O:$O,\"vite utili 1\")\n+SUMIFS(\n'Z0.6.c ProgInvest_Dism agg'!AC:AC,\n'Z0.6.c ProgInvest_Dism agg'!$K:$K,$C558,\n'Z0.6.c ProgInvest_Dism agg'!$M:$M,$D$145,\n'Z0.6.c ProgInvest_Dism agg'!$L:$L,\"in corso\",\n'Z0.6.c ProgInvest_Dism agg'!$O:$O,\"vite utili 2\")","v":0},{"$f":"SUMIFS(\n'Z0.6.c ProgInvest_Dism agg'!AD:AD,\n'Z0.6.c ProgInvest_Dism agg'!$K:$K,$C558,\n'Z0.6.c ProgInvest_Dism agg'!$M:$M,$D$145,\n'Z0.6.c ProgInvest_Dism agg'!$L:$L,\"in corso\",\n'Z0.6.c ProgInvest_Dism agg'!$O:$O,\"vite utili 1\")\n+SUMIFS(\n'Z0.6.c ProgInvest_Dism agg'!AD:AD,\n'Z0.6.c ProgInvest_Dism agg'!$K:$K,$C558,\n'Z0.6.c ProgInvest_Dism agg'!$M:$M,$D$145,\n'Z0.6.c ProgInvest_Dism agg'!$L:$L,\"in corso\",\n'Z0.6.c ProgInvest_Dism agg'!$O:$O,\"vite utili 2\")","v":0},{"$f":"SUMIFS(\n'Z0.6.c ProgInvest_Dism agg'!AE:AE,\n'Z0.6.c ProgInvest_Dism agg'!$K:$K,$C558,\n'Z0.6.c ProgInvest_Dism agg'!$M:$M,$D$145,\n'Z0.6.c ProgInvest_Dism agg'!$L:$L,\"in corso\",\n'Z0.6.c ProgInvest_Dism agg'!$O:$O,\"vite utili 1\")\n+SUMIFS(\n'Z0.6.c ProgInvest_Dism agg'!AE:AE,\n'Z0.6.c ProgInvest_Dism agg'!$K:$K,$C558,\n'Z0.6.c ProgInvest_Dism agg'!$M:$M,$D$145,\n'Z0.6.c ProgInvest_Dism agg'!$L:$L,\"in corso\",\n'Z0.6.c ProgInvest_Dism agg'!$O:$O,\"vite utili 2\")","v":0},{"$f":"SUMIFS(\n'Z0.6.c ProgInvest_Dism agg'!AF:AF,\n'Z0.6.c ProgInvest_Dism agg'!$K:$K,$C558,\n'Z0.6.c ProgInvest_Dism agg'!$M:$M,$D$145,\n'Z0.6.c ProgInvest_Dism agg'!$L:$L,\"in corso\",\n'Z0.6.c ProgInvest_Dism agg'!$O:$O,\"vite utili 1\")\n+SUMIFS(\n'Z0.6.c ProgInvest_Dism agg'!AF:AF,\n'Z0.6.c ProgInvest_Dism agg'!$K:$K,$C558,\n'Z0.6.c ProgInvest_Dism agg'!$M:$M,$D$145,\n'Z0.6.c ProgInvest_Dism agg'!$L:$L,\"in corso\",\n'Z0.6.c ProgInvest_Dism agg'!$O:$O,\"vite utili 2\")","v":0},{"$f":"SUMIFS(\n'Z0.6.c ProgInvest_Dism agg'!AG:AG,\n'Z0.6.c ProgInvest_Dism agg'!$K:$K,$C558,\n'Z0.6.c ProgInvest_Dism agg'!$M:$M,$D$145,\n'Z0.6.c ProgInvest_Dism agg'!$L:$L,\"in corso\",\n'Z0.6.c ProgInvest_Dism agg'!$O:$O,\"vite utili 1\")\n+SUMIFS(\n'Z0.6.c ProgInvest_Dism agg'!AG:AG,\n'Z0.6.c ProgInvest_Dism agg'!$K:$K,$C558,\n'Z0.6.c ProgInvest_Dism agg'!$M:$M,$D$145,\n'Z0.6.c ProgInvest_Dism agg'!$L:$L,\"in corso\",\n'Z0.6.c ProgInvest_Dism agg'!$O:$O,\"vite utili 2\")","v":0},{"$f":"SUMIFS(\n'Z0.6.c ProgInvest_Dism agg'!AH:AH,\n'Z0.6.c ProgInvest_Dism agg'!$K:$K,$C558,\n'Z0.6.c ProgInvest_Dism agg'!$M:$M,$D$145,\n'Z0.6.c ProgInvest_Dism agg'!$L:$L,\"in corso\",\n'Z0.6.c ProgInvest_Dism agg'!$O:$O,\"vite utili 1\")\n+SUMIFS(\n'Z0.6.c ProgInvest_Dism agg'!AH:AH,\n'Z0.6.c ProgInvest_Dism agg'!$K:$K,$C558,\n'Z0.6.c ProgInvest_Dism agg'!$M:$M,$D$145,\n'Z0.6.c ProgInvest_Dism agg'!$L:$L,\"in corso\",\n'Z0.6.c ProgInvest_Dism agg'!$O:$O,\"vite utili 2\")","v":0},{"$f":"SUMIFS(\n'Z0.6.c ProgInvest_Dism agg'!AI:AI,\n'Z0.6.c ProgInvest_Dism agg'!$K:$K,$C558,\n'Z0.6.c ProgInvest_Dism agg'!$M:$M,$D$145,\n'Z0.6.c ProgInvest_Dism agg'!$L:$L,\"in corso\",\n'Z0.6.c ProgInvest_Dism agg'!$O:$O,\"vite utili 1\")\n+SUMIFS(\n'Z0.6.c ProgInvest_Dism agg'!AI:AI,\n'Z0.6.c ProgInvest_Dism agg'!$K:$K,$C558,\n'Z0.6.c ProgInvest_Dism agg'!$M:$M,$D$145,\n'Z0.6.c ProgInvest_Dism agg'!$L:$L,\"in corso\",\n'Z0.6.c ProgInvest_Dism agg'!$O:$O,\"vite utili 2\")","v":0},{"$f":"SUMIFS(\n'Z0.6.c ProgInvest_Dism agg'!AJ:AJ,\n'Z0.6.c ProgInvest_Dism agg'!$K:$K,$C558,\n'Z0.6.c ProgInvest_Dism agg'!$M:$M,$D$145,\n'Z0.6.c ProgInvest_Dism agg'!$L:$L,\"in corso\",\n'Z0.6.c ProgInvest_Dism agg'!$O:$O,\"vite utili 1\")\n+SUMIFS(\n'Z0.6.c ProgInvest_Dism agg'!AJ:AJ,\n'Z0.6.c ProgInvest_Dism agg'!$K:$K,$C558,\n'Z0.6.c ProgInvest_Dism agg'!$M:$M,$D$145,\n'Z0.6.c ProgInvest_Dism agg'!$L:$L,\"in corso\",\n'Z0.6.c ProgInvest_Dism agg'!$O:$O,\"vite utili 2\")","v":0},{"$f":"SUMIFS(\n'Z0.6.c ProgInvest_Dism agg'!AK:AK,\n'Z0.6.c ProgInvest_Dism agg'!$K:$K,$C558,\n'Z0.6.c ProgInvest_Dism agg'!$M:$M,$D$145,\n'Z0.6.c ProgInvest_Dism agg'!$L:$L,\"in corso\",\n'Z0.6.c ProgInvest_Dism agg'!$O:$O,\"vite utili 1\")\n+SUMIFS(\n'Z0.6.c ProgInvest_Dism agg'!AK:AK,\n'Z0.6.c ProgInvest_Dism agg'!$K:$K,$C558,\n'Z0.6.c ProgInvest_Dism agg'!$M:$M,$D$145,\n'Z0.6.c ProgInvest_Dism agg'!$L:$L,\"in corso\",\n'Z0.6.c ProgInvest_Dism agg'!$O:$O,\"vite utili 2\")","v":0},{"$f":"SUMIFS(\n'Z0.6.c ProgInvest_Dism agg'!AL:AL,\n'Z0.6.c ProgInvest_Dism agg'!$K:$K,$C558,\n'Z0.6.c ProgInvest_Dism agg'!$M:$M,$D$145,\n'Z0.6.c ProgInvest_Dism agg'!$L:$L,\"in corso\",\n'Z0.6.c ProgInvest_Dism agg'!$O:$O,\"vite utili 1\")\n+SUMIFS(\n'Z0.6.c ProgInvest_Dism agg'!AL:AL,\n'Z0.6.c ProgInvest_Dism agg'!$K:$K,$C558,\n'Z0.6.c ProgInvest_Dism agg'!$M:$M,$D$145,\n'Z0.6.c ProgInvest_Dism agg'!$L:$L,\"in corso\",\n'Z0.6.c ProgInvest_Dism agg'!$O:$O,\"vite utili 2\")","v":20}]
[null,null,"Ammortamento (a vite utili)",null,{"$f":"SUM(OFFSET(INDIRECT($F558 & \"inv\"),2,3,1,IF(EsistePrev,AnnoPonte-UltimoAnnoRTP,1)))","v":0},null,{"$f":"MIN(G574,IF(F$4-UltimoAnnoRTP<=$D558,\n(SUM($F575:F575)+SUM(OFFSET(INDIRECT($F558 & \"inv\"),0,3,1,IF(EsistePrev,AnnoPonte-UltimoAnnoRTP,1)))\n-SUM($F576:F576)-SUM(OFFSET(INDIRECT($F558 & \"dism\"),0,3,1,IF(EsistePrev,AnnoPonte-UltimoAnnoRTP,1))))/$D558,\n\nIF(AND(F$4-UltimoAnnoRTP>$D558,F$4-AnnoPonte<=$D558),\n(SUM($F575:F575)+SUM(IFERROR(OFFSET(INDIRECT($F558 & \"inv\"),0,3+(F$4-UltimoAnnoRTP-$D558),1,(IF(EsistePrev,AnnoPonte-UltimoAnnoRTP,1)-(F$4-UltimoAnnoRTP-$D558))),0))\n-SUM($F576:F576)-SUM(IFERROR(OFFSET(INDIRECT($F558 & \"dism\"),0,3+(F$4-UltimoAnnoRTP-$D558),1,(IF(EsistePrev,AnnoPonte-UltimoAnnoRTP,1)-(F$4-UltimoAnnoRTP-$D558))),0)))/$D558,\n\n(SUM(OFFSET(F575,0,-$D558+1,1,$D558))\n-SUM(OFFSET(F576,0,-$D558+1,1,$D558)))/$D558)))","v":0},{"$f":"MIN(H574,IF(G$4-UltimoAnnoRTP<=$D558,\n(SUM($F575:G575)+SUM(OFFSET(INDIRECT($F558 & \"inv\"),0,3,1,IF(EsistePrev,AnnoPonte-UltimoAnnoRTP,1)))\n-SUM($F576:G576)-SUM(OFFSET(INDIRECT($F558 & \"dism\"),0,3,1,IF(EsistePrev,AnnoPonte-UltimoAnnoRTP,1))))/$D558,\n\nIF(AND(G$4-UltimoAnnoRTP>$D558,G$4-AnnoPonte<=$D558),\n(SUM($F575:G575)+SUM(IFERROR(OFFSET(INDIRECT($F558 & \"inv\"),0,3+(G$4-UltimoAnnoRTP-$D558),1,(IF(EsistePrev,AnnoPonte-UltimoAnnoRTP,1)-(G$4-UltimoAnnoRTP-$D558))),0))\n-SUM($F576:G576)-SUM(IFERROR(OFFSET(INDIRECT($F558 & \"dism\"),0,3+(G$4-UltimoAnnoRTP-$D558),1,(IF(EsistePrev,AnnoPonte-UltimoAnnoRTP,1)-(G$4-UltimoAnnoRTP-$D558))),0)))/$D558,\n\n(SUM(OFFSET(G575,0,-$D558+1,1,$D558))\n-SUM(OFFSET(G576,0,-$D558+1,1,$D558)))/$D558)))","v":0},{"$f":"MIN(I574,IF(H$4-UltimoAnnoRTP<=$D558,\n(SUM($F575:H575)+SUM(OFFSET(INDIRECT($F558 & \"inv\"),0,3,1,IF(EsistePrev,AnnoPonte-UltimoAnnoRTP,1)))\n-SUM($F576:H576)-SUM(OFFSET(INDIRECT($F558 & \"dism\"),0,3,1,IF(EsistePrev,AnnoPonte-UltimoAnnoRTP,1))))/$D558,\n\nIF(AND(H$4-UltimoAnnoRTP>$D558,H$4-AnnoPonte<=$D558),\n(SUM($F575:H575)+SUM(IFERROR(OFFSET(INDIRECT($F558 & \"inv\"),0,3+(H$4-UltimoAnnoRTP-$D558),1,(IF(EsistePrev,AnnoPonte-UltimoAnnoRTP,1)-(H$4-UltimoAnnoRTP-$D558))),0))\n-SUM($F576:H576)-SUM(IFERROR(OFFSET(INDIRECT($F558 & \"dism\"),0,3+(H$4-UltimoAnnoRTP-$D558),1,(IF(EsistePrev,AnnoPonte-UltimoAnnoRTP,1)-(H$4-UltimoAnnoRTP-$D558))),0)))/$D558,\n\n(SUM(OFFSET(H575,0,-$D558+1,1,$D558))\n-SUM(OFFSET(H576,0,-$D558+1,1,$D558)))/$D558)))","v":0},{"$f":"MIN(J574,IF(I$4-UltimoAnnoRTP<=$D558,\n(SUM($F575:I575)+SUM(OFFSET(INDIRECT($F558 & \"inv\"),0,3,1,IF(EsistePrev,AnnoPonte-UltimoAnnoRTP,1)))\n-SUM($F576:I576)-SUM(OFFSET(INDIRECT($F558 & \"dism\"),0,3,1,IF(EsistePrev,AnnoPonte-UltimoAnnoRTP,1))))/$D558,\n\nIF(AND(I$4-UltimoAnnoRTP>$D558,I$4-AnnoPonte<=$D558),\n(SUM($F575:I575)+SUM(IFERROR(OFFSET(INDIRECT($F558 & \"inv\"),0,3+(I$4-UltimoAnnoRTP-$D558),1,(IF(EsistePrev,AnnoPonte-UltimoAnnoRTP,1)-(I$4-UltimoAnnoRTP-$D558))),0))\n-SUM($F576:I576)-SUM(IFERROR(OFFSET(INDIRECT($F558 & \"dism\"),0,3+(I$4-UltimoAnnoRTP-$D558),1,(IF(EsistePrev,AnnoPonte-UltimoAnnoRTP,1)-(I$4-UltimoAnnoRTP-$D558))),0)))/$D558,\n\n(SUM(OFFSET(I575,0,-$D558+1,1,$D558))\n-SUM(OFFSET(I576,0,-$D558+1,1,$D558)))/$D558)))","v":0},{"$f":"MIN(K574,IF(J$4-UltimoAnnoRTP<=$D558,\n(SUM($F575:J575)+SUM(OFFSET(INDIRECT($F558 & \"inv\"),0,3,1,IF(EsistePrev,AnnoPonte-UltimoAnnoRTP,1)))\n-SUM($F576:J576)-SUM(OFFSET(INDIRECT($F558 & \"dism\"),0,3,1,IF(EsistePrev,AnnoPonte-UltimoAnnoRTP,1))))/$D558,\n\nIF(AND(J$4-UltimoAnnoRTP>$D558,J$4-AnnoPonte<=$D558),\n(SUM($F575:J575)+SUM(IFERROR(OFFSET(INDIRECT($F558 & \"inv\"),0,3+(J$4-UltimoAnnoRTP-$D558),1,(IF(EsistePrev,AnnoPonte-UltimoAnnoRTP,1)-(J$4-UltimoAnnoRTP-$D558))),0))\n-SUM($F576:J576)-SUM(IFERROR(OFFSET(INDIRECT($F558 & \"dism\"),0,3+(J$4-UltimoAnnoRTP-$D558),1,(IF(EsistePrev,AnnoPonte-UltimoAnnoRTP,1)-(J$4-UltimoAnnoRTP-$D558))),0)))/$D558,\n\n(SUM(OFFSET(J575,0,-$D558+1,1,$D558))\n-SUM(OFFSET(J576,0,-$D558+1,1,$D558)))/$D558)))","v":0},{"$f":"MIN(L574,IF(K$4-UltimoAnnoRTP<=$D558,\n(SUM($F575:K575)+SUM(OFFSET(INDIRECT($F558 & \"inv\"),0,3,1,IF(EsistePrev,AnnoPonte-UltimoAnnoRTP,1)))\n-SUM($F576:K576)-SUM(OFFSET(INDIRECT($F558 & \"dism\"),0,3,1,IF(EsistePrev,AnnoPonte-UltimoAnnoRTP,1))))/$D558,\n\nIF(AND(K$4-UltimoAnnoRTP>$D558,K$4-AnnoPonte<=$D558),\n(SUM($F575:K575)+SUM(IFERROR(OFFSET(INDIRECT($F558 & \"inv\"),0,3+(K$4-UltimoAnnoRTP-$D558),1,(IF(EsistePrev,AnnoPonte-UltimoAnnoRTP,1)-(K$4-UltimoAnnoRTP-$D558))),0))\n-SUM($F576:K576)-SUM(IFERROR(OFFSET(INDIRECT($F558 & \"dism\"),0,3+(K$4-UltimoAnnoRTP-$D558),1,(IF(EsistePrev,AnnoPonte-UltimoAnnoRTP,1)-(K$4-UltimoAnnoRTP-$D558))),0)))/$D558,\n\n(SUM(OFFSET(K575,0,-$D558+1,1,$D558))\n-SUM(OFFSET(K576,0,-$D558+1,1,$D558)))/$D558)))","v":0},{"$f":"MIN(M574,IF(L$4-UltimoAnnoRTP<=$D558,\n(SUM($F575:L575)+SUM(OFFSET(INDIRECT($F558 & \"inv\"),0,3,1,IF(EsistePrev,AnnoPonte-UltimoAnnoRTP,1)))\n-SUM($F576:L576)-SUM(OFFSET(INDIRECT($F558 & \"dism\"),0,3,1,IF(EsistePrev,AnnoPonte-UltimoAnnoRTP,1))))/$D558,\n\nIF(AND(L$4-UltimoAnnoRTP>$D558,L$4-AnnoPonte<=$D558),\n(SUM($F575:L575)+SUM(IFERROR(OFFSET(INDIRECT($F558 & \"inv\"),0,3+(L$4-UltimoAnnoRTP-$D558),1,(IF(EsistePrev,AnnoPonte-UltimoAnnoRTP,1)-(L$4-UltimoAnnoRTP-$D558))),0))\n-SUM($F576:L576)-SUM(IFERROR(OFFSET(INDIRECT($F558 & \"dism\"),0,3+(L$4-UltimoAnnoRTP-$D558),1,(IF(EsistePrev,AnnoPonte-UltimoAnnoRTP,1)-(L$4-UltimoAnnoRTP-$D558))),0)))/$D558,\n\n(SUM(OFFSET(L575,0,-$D558+1,1,$D558))\n-SUM(OFFSET(L576,0,-$D558+1,1,$D558)))/$D558)))","v":0},{"$f":"MIN(N574,IF(M$4-UltimoAnnoRTP<=$D558,\n(SUM($F575:M575)+SUM(OFFSET(INDIRECT($F558 & \"inv\"),0,3,1,IF(EsistePrev,AnnoPonte-UltimoAnnoRTP,1)))\n-SUM($F576:M576)-SUM(OFFSET(INDIRECT($F558 & \"dism\"),0,3,1,IF(EsistePrev,AnnoPonte-UltimoAnnoRTP,1))))/$D558,\n\nIF(AND(M$4-UltimoAnnoRTP>$D558,M$4-AnnoPonte<=$D558),\n(SUM($F575:M575)+SUM(IFERROR(OFFSET(INDIRECT($F558 & \"inv\"),0,3+(M$4-UltimoAnnoRTP-$D558),1,(IF(EsistePrev,AnnoPonte-UltimoAnnoRTP,1)-(M$4-UltimoAnnoRTP-$D558))),0))\n-SUM($F576:M576)-SUM(IFERROR(OFFSET(INDIRECT($F558 & \"dism\"),0,3+(M$4-UltimoAnnoRTP-$D558),1,(IF(EsistePrev,AnnoPonte-UltimoAnnoRTP,1)-(M$4-UltimoAnnoRTP-$D558))),0)))/$D558,\n\n(SUM(OFFSET(M575,0,-$D558+1,1,$D558))\n-SUM(OFFSET(M576,0,-$D558+1,1,$D558)))/$D558)))","v":0},{"$f":"MIN(O574,IF(N$4-UltimoAnnoRTP<=$D558,\n(SUM($F575:N575)+SUM(OFFSET(INDIRECT($F558 & \"inv\"),0,3,1,IF(EsistePrev,AnnoPonte-UltimoAnnoRTP,1)))\n-SUM($F576:N576)-SUM(OFFSET(INDIRECT($F558 & \"dism\"),0,3,1,IF(EsistePrev,AnnoPonte-UltimoAnnoRTP,1))))/$D558,\n\nIF(AND(N$4-UltimoAnnoRTP>$D558,N$4-AnnoPonte<=$D558),\n(SUM($F575:N575)+SUM(IFERROR(OFFSET(INDIRECT($F558 & \"inv\"),0,3+(N$4-UltimoAnnoRTP-$D558),1,(IF(EsistePrev,AnnoPonte-UltimoAnnoRTP,1)-(N$4-UltimoAnnoRTP-$D558))),0))\n-SUM($F576:N576)-SUM(IFERROR(OFFSET(INDIRECT($F558 & \"dism\"),0,3+(N$4-UltimoAnnoRTP-$D558),1,(IF(EsistePrev,AnnoPonte-UltimoAnnoRTP,1)-(N$4-UltimoAnnoRTP-$D558))),0)))/$D558,\n\n(SUM(OFFSET(N575,0,-$D558+1,1,$D558))\n-SUM(OFFSET(N576,0,-$D558+1,1,$D558)))/$D558)))","v":0},{"$f":"MIN(P574,IF(O$4-UltimoAnnoRTP<=$D558,\n(SUM($F575:O575)+SUM(OFFSET(INDIRECT($F558 & \"inv\"),0,3,1,IF(EsistePrev,AnnoPonte-UltimoAnnoRTP,1)))\n-SUM($F576:O576)-SUM(OFFSET(INDIRECT($F558 & \"dism\"),0,3,1,IF(EsistePrev,AnnoPonte-UltimoAnnoRTP,1))))/$D558,\n\nIF(AND(O$4-UltimoAnnoRTP>$D558,O$4-AnnoPonte<=$D558),\n(SUM($F575:O575)+SUM(IFERROR(OFFSET(INDIRECT($F558 & \"inv\"),0,3+(O$4-UltimoAnnoRTP-$D558),1,(IF(EsistePrev,AnnoPonte-UltimoAnnoRTP,1)-(O$4-UltimoAnnoRTP-$D558))),0))\n-SUM($F576:O576)-SUM(IFERROR(OFFSET(INDIRECT($F558 & \"dism\"),0,3+(O$4-UltimoAnnoRTP-$D558),1,(IF(EsistePrev,AnnoPonte-UltimoAnnoRTP,1)-(O$4-UltimoAnnoRTP-$D558))),0)))/$D558,\n\n(SUM(OFFSET(O575,0,-$D558+1,1,$D558))\n-SUM(OFFSET(O576,0,-$D558+1,1,$D558)))/$D558)))","v":0},{"$f":"MIN(Q574,IF(P$4-UltimoAnnoRTP<=$D558,\n(SUM($F575:P575)+SUM(OFFSET(INDIRECT($F558 & \"inv\"),0,3,1,IF(EsistePrev,AnnoPonte-UltimoAnnoRTP,1)))\n-SUM($F576:P576)-SUM(OFFSET(INDIRECT($F558 & \"dism\"),0,3,1,IF(EsistePrev,AnnoPonte-UltimoAnnoRTP,1))))/$D558,\n\nIF(AND(P$4-UltimoAnnoRTP>$D558,P$4-AnnoPonte<=$D558),\n(SUM($F575:P575)+SUM(IFERROR(OFFSET(INDIRECT($F558 & \"inv\"),0,3+(P$4-UltimoAnnoRTP-$D558),1,(IF(EsistePrev,AnnoPonte-UltimoAnnoRTP,1)-(P$4-UltimoAnnoRTP-$D558))),0))\n-SUM($F576:P576)-SUM(IFERROR(OFFSET(INDIRECT($F558 & \"dism\"),0,3+(P$4-UltimoAnnoRTP-$D558),1,(IF(EsistePrev,AnnoPonte-UltimoAnnoRTP,1)-(P$4-UltimoAnnoRTP-$D558))),0)))/$D558,\n\n(SUM(OFFSET(P575,0,-$D558+1,1,$D558))\n-SUM(OFFSET(P576,0,-$D558+1,1,$D558)))/$D558)))","v":0},{"$f":"MIN(R574,IF(Q$4-UltimoAnnoRTP<=$D558,\n(SUM($F575:Q575)+SUM(OFFSET(INDIRECT($F558 & \"inv\"),0,3,1,IF(EsistePrev,AnnoPonte-UltimoAnnoRTP,1)))\n-SUM($F576:Q576)-SUM(OFFSET(INDIRECT($F558 & \"dism\"),0,3,1,IF(EsistePrev,AnnoPonte-UltimoAnnoRTP,1))))/$D558,\n\nIF(AND(Q$4-UltimoAnnoRTP>$D558,Q$4-AnnoPonte<=$D558),\n(SUM($F575:Q575)+SUM(IFERROR(OFFSET(INDIRECT($F558 & \"inv\"),0,3+(Q$4-UltimoAnnoRTP-$D558),1,(IF(EsistePrev,AnnoPonte-UltimoAnnoRTP,1)-(Q$4-UltimoAnnoRTP-$D558))),0))\n-SUM($F576:Q576)-SUM(IFERROR(OFFSET(INDIRECT($F558 & \"dism\"),0,3+(Q$4-UltimoAnnoRTP-$D558),1,(IF(EsistePrev,AnnoPonte-UltimoAnnoRTP,1)-(Q$4-UltimoAnnoRTP-$D558))),0)))/$D558,\n\n(SUM(OFFSET(Q575,0,-$D558+1,1,$D558))\n-SUM(OFFSET(Q576,0,-$D558+1,1,$D558)))/$D558)))","v":0},{"$f":"MIN(S574,IF(R$4-UltimoAnnoRTP<=$D558,\n(SUM($F575:R575)+SUM(OFFSET(INDIRECT($F558 & \"inv\"),0,3,1,IF(EsistePrev,AnnoPonte-UltimoAnnoRTP,1)))\n-SUM($F576:R576)-SUM(OFFSET(INDIRECT($F558 & \"dism\"),0,3,1,IF(EsistePrev,AnnoPonte-UltimoAnnoRTP,1))))/$D558,\n\nIF(AND(R$4-UltimoAnnoRTP>$D558,R$4-AnnoPonte<=$D558),\n(SUM($F575:R575)+SUM(IFERROR(OFFSET(INDIRECT($F558 & \"inv\"),0,3+(R$4-UltimoAnnoRTP-$D558),1,(IF(EsistePrev,AnnoPonte-UltimoAnnoRTP,1)-(R$4-UltimoAnnoRTP-$D558))),0))\n-SUM($F576:R576)-SUM(IFERROR(OFFSET(INDIRECT($F558 & \"dism\"),0,3+(R$4-UltimoAnnoRTP-$D558),1,(IF(EsistePrev,AnnoPonte-UltimoAnnoRTP,1)-(R$4-UltimoAnnoRTP-$D558))),0)))/$D558,\n\n(SUM(OFFSET(R575,0,-$D558+1,1,$D558))\n-SUM(OFFSET(R576,0,-$D558+1,1,$D558)))/$D558)))","v":13.333333333333334}]
[null,null,"CIN investimenti (lordo contributi, netto dismissioni) eop (amm. a vite utili)",null,null,{"$f":"OFFSET(INDIRECT($F558 & \"inv\"),3,2+AnnoPonte-UltimoAnnoRTP,1,1)","v":0},{"$f":"G574+G575-G576-G577","v":0},0,0,0,0,0,0,0,0,0,0,400,366.66666666666669]
[null,null,"Remunerazione CIN investimenti",null,null,null,{"$f":"(G574-F580)*G$17*G$10","v":0},{"$f":"(H574-G580)*H$17*H$10","v":0},{"$f":"(I574-H580)*I$17*I$10","v":0},{"$f":"(J574-I580)*J$17*J$10","v":0},{"$f":"(K574-J580)*K$17*K$10","v":0},{"$f":"(L574-K580)*L$17*L$10","v":0},{"$f":"(M574-L580)*M$17*M$10","v":0},{"$f":"(N574-M580)*N$17*N$10","v":0},{"$f":"(O574-N580)*O$17*O$10","v":0},{"$f":"(P574-O580)*P$17*P$10","v":0},{"$f":"(Q574-P580)*Q$17*Q$10","v":0},{"$f":"(R574-Q580)*R$17*R$10","v":0},{"$f":"(S574-R580)*S$17*S$10","v":1.0013333333333319}]
[null,null,"Valore di subentro investimenti (lordo contributi) - cumulato",null,null,{"$f":"OFFSET(INDIRECT($F558 & \"inv\"),5,2+AnnoPonte-UltimoAnnoRTP,1,1)","v":0},{"$f":"IF(MAX(-SUM(OFFSET($G576,0,0,1,ScadenzaConcessione-AnnoPonte)),F580+(G575-G576)/$D558*($D558-(ScadenzaConcessione-G$4)))<0,0,MAX(-SUM(OFFSET($G576,0,0,1,ScadenzaConcessione-AnnoPonte)),F580+(G575-G576)/$D558*($D558-(ScadenzaConcessione-G$4))))","v":0},{"$f":"IF(MAX(-SUM(OFFSET($G576,0,0,1,ScadenzaConcessione-AnnoPonte)),G580+(H575-H576)/$D558*($D558-(ScadenzaConcessione-H$4)))<0,0,MAX(-SUM(OFFSET($G576,0,0,1,ScadenzaConcessione-AnnoPonte)),G580+(H575-H576)/$D558*($D558-(ScadenzaConcessione-H$4))))","v":0},{"$f":"IF(MAX(-SUM(OFFSET($G576,0,0,1,ScadenzaConcessione-AnnoPonte)),H580+(I575-I576)/$D558*($D558-(ScadenzaConcessione-I$4)))<0,0,MAX(-SUM(OFFSET($G576,0,0,1,ScadenzaConcessione-AnnoPonte)),H580+(I575-I576)/$D558*($D558-(ScadenzaConcessione-I$4))))","v":0},{"$f":"IF(MAX(-SUM(OFFSET($G576,0,0,1,ScadenzaConcessione-AnnoPonte)),I580+(J575-J576)/$D558*($D558-(ScadenzaConcessione-J$4)))<0,0,MAX(-SUM(OFFSET($G576,0,0,1,ScadenzaConcessione-AnnoPonte)),I580+(J575-J576)/$D558*($D558-(ScadenzaConcessione-J$4))))","v":0},{"$f":"IF(MAX(-SUM(OFFSET($G576,0,0,1,ScadenzaConcessione-AnnoPonte)),J580+(K575-K576)/$D558*($D558-(ScadenzaConcessione-K$4)))<0,0,MAX(-SUM(OFFSET($G576,0,0,1,ScadenzaConcessione-AnnoPonte)),J580+(K575-K576)/$D558*($D558-(ScadenzaConcessione-K$4))))","v":0},{"$f":"IF(MAX(-SUM(OFFSET($G576,0,0,1,ScadenzaConcessione-AnnoPonte)),K580+(L575-L576)/$D558*($D558-(ScadenzaConcessione-L$4)))<0,0,MAX(-SUM(OFFSET($G576,0,0,1,ScadenzaConcessione-AnnoPonte)),K580+(L575-L576)/$D558*($D558-(ScadenzaConcessione-L$4))))","v":0},{"$f":"IF(MAX(-SUM(OFFSET($G576,0,0,1,ScadenzaConcessione-AnnoPonte)),L580+(M575-M576)/$D558*($D558-(ScadenzaConcessione-M$4)))<0,0,MAX(-SUM(OFFSET($G576,0,0,1,ScadenzaConcessione-AnnoPonte)),L580+(M575-M576)/$D558*($D558-(ScadenzaConcessione-M$4))))","v":0},{"$f":"IF(MAX(-SUM(OFFSET($G576,0,0,1,ScadenzaConcessione-AnnoPonte)),M580+(N575-N576)/$D558*($D558-(ScadenzaConcessione-N$4)))<0,0,MAX(-SUM(OFFSET($G576,0,0,1,ScadenzaConcessione-AnnoPonte)),M580+(N575-N576)/$D558*($D558-(ScadenzaConcessione-N$4))))","v":0},{"$f":"IF(MAX(-SUM(OFFSET($G576,0,0,1,ScadenzaConcessione-AnnoPonte)),N580+(O575-O576)/$D558*($D558-(ScadenzaConcessione-O$4)))<0,0,MAX(-SUM(OFFSET($G576,0,0,1,ScadenzaConcessione-AnnoPonte)),N580+(O575-O576)/$D558*($D558-(ScadenzaConcessione-O$4))))","v":0},{"$f":"IF(MAX(-SUM(OFFSET($G576,0,0,1,ScadenzaConcessione-AnnoPonte)),O580+(P575-P576)/$D558*($D558-(ScadenzaConcessione-P$4)))<0,0,MAX(-SUM(OFFSET($G576,0,0,1,ScadenzaConcessione-AnnoPonte)),O580+(P575-P576)/$D558*($D558-(ScadenzaConcessione-P$4))))","v":0},{"$f":"IF(MAX(-SUM(OFFSET($G576,0,0,1,ScadenzaConcessione-AnnoPonte)),P580+(Q575-Q576)/$D558*($D558-(ScadenzaConcessione-Q$4)))<0,0,MAX(-SUM(OFFSET($G576,0,0,1,ScadenzaConcessione-AnnoPonte)),P580+(Q575-Q576)/$D558*($D558-(ScadenzaConcessione-Q$4))))","v":0},{"$f":"IF(MAX(-SUM(OFFSET($G576,0,0,1,ScadenzaConcessione-AnnoPonte)),Q580+(R575-R576)/$D558*($D558-(ScadenzaConcessione-R$4)))<0,0,MAX(-SUM(OFFSET($G576,0,0,1,ScadenzaConcessione-AnnoPonte)),Q580+(R575-R576)/$D558*($D558-(ScadenzaConcessione-R$4))))","v":386.66666666666669},{"$f":"IF(MAX(-SUM(OFFSET($G576,0,0,1,ScadenzaConcessione-AnnoPonte)),R580+(S575-S576)/$D558*($D558-(ScadenzaConcessione-S$4)))<0,0,MAX(-SUM(OFFSET($G576,0,0,1,ScadenzaConcessione-AnnoPonte)),R580+(S575-S576)/$D558*($D558-(ScadenzaConcessione-S$4))))","v":366.66666666666669}]
[null,null,"Remunerazione valore di subentro CIN investimenti",null,null,null,{"$f":"F580*G$19*G$10","v":0},{"$f":"G580*H$19*H$10","v":0},0,0,0,0,0,0,0,0,0,0,29.038666666666668]
[]
[null,null,"CIN contributi bop (amm. a vite utili)",null,"precedenti",null,{"$f":"F586","v":0},{"$f":"G586","v":0},{"$f":"H586","v":0},{"$f":"I586","v":0},{"$f":"J586","v":0},{"$f":"K586","v":0},{"$f":"L586","v":0},{"$f":"M586","v":0},{"$f":"N586","v":0},{"$f":"O586","v":0},{"$f":"P586","v":0},{"$f":"Q586","v":-40},{"$f":"R586","v":-38.666666666666664}]
[null,null,"contributi annui (amm. a vite utili)",null,{"$f":"-SUM(OFFSET(INDIRECT($F558 & \"contr\"),0,3,1,IF(EsistePrev,AnnoPonte-UltimoAnnoRTP,1)))","v":0},null,{"$f":"-SUMIFS(\n'Z0.6.b ProgInvest_Contr agg'!Z:Z,\n'Z0.6.b ProgInvest_Contr agg'!$K:$K,$C558,\n'Z0.6.b ProgInvest_Contr agg'!$M:$M,$D$145,\n'Z0.6.b ProgInvest_Contr agg'!$L:$L,\"in corso\",\n'Z0.6.b ProgInvest_Contr agg'!$O:$O,\"vite utili 1\")\n-SUMIFS(\n'Z0.6.b ProgInvest_Contr agg'!Z:Z,\n'Z0.6.b ProgInvest_Contr agg'!$K:$K,$C558,\n'Z0.6.b ProgInvest_Contr agg'!$M:$M,$D$145,\n'Z0.6.b ProgInvest_Contr agg'!$L:$L,\"in corso\",\n'Z0.6.b ProgInvest_Contr agg'!$O:$O,\"vite utili 2\")","v":0},{"$f":"-SUMIFS(\n'Z0.6.b ProgInvest_Contr agg'!AA:AA,\n'Z0.6.b ProgInvest_Contr agg'!$K:$K,$C558,\n'Z0.6.b ProgInvest_Contr agg'!$M:$M,$D$145,\n'Z0.6.b ProgInvest_Contr agg'!$L:$L,\"in corso\",\n'Z0.6.b ProgInvest_Contr agg'!$O:$O,\"vite utili 1\")\n-SUMIFS(\n'Z0.6.b ProgInvest_Contr agg'!AA:AA,\n'Z0.6.b ProgInvest_Contr agg'!$K:$K,$C558,\n'Z0.6.b ProgInvest_Contr agg'!$M:$M,$D$145,\n'Z0.6.b ProgInvest_Contr agg'!$L:$L,\"in corso\",\n'Z0.6.b ProgInvest_Contr agg'!$O:$O,\"vite utili 2\")","v":0},{"$f":"-SUMIFS(\n'Z0.6.b ProgInvest_Contr agg'!AB:AB,\n'Z0.6.b ProgInvest_Contr agg'!$K:$K,$C558,\n'Z0.6.b ProgInvest_Contr agg'!$M:$M,$D$145,\n'Z0.6.b ProgInvest_Contr agg'!$L:$L,\"in corso\",\n'Z0.6.b ProgInvest_Contr agg'!$O:$O,\"vite utili 1\")\n-SUMIFS(\n'Z0.6.b ProgInvest_Contr agg'!AB:AB,\n'Z0.6.b ProgInvest_Contr agg'!$K:$K,$C558,\n'Z0.6.b ProgInvest_Contr agg'!$M:$M,$D$145,\n'Z0.6.b ProgInvest_Contr agg'!$L:$L,\"in corso\",\n'Z0.6.b ProgInvest_Contr agg'!$O:$O,\"vite utili 2\")","v":0},{"$f":"-SUMIFS(\n'Z0.6.b ProgInvest_Contr agg'!AC:AC,\n'Z0.6.b ProgInvest_Contr agg'!$K:$K,$C558,\n'Z0.6.b ProgInvest_Contr agg'!$M:$M,$D$145,\n'Z0.6.b ProgInvest_Contr agg'!$L:$L,\"in corso\",\n'Z0.6.b ProgInvest_Contr agg'!$O:$O,\"vite utili 1\")\n-SUMIFS(\n'Z0.6.b ProgInvest_Contr agg'!AC:AC,\n'Z0.6.b ProgInvest_Contr agg'!$K:$K,$C558,\n'Z0.6.b ProgInvest_Contr agg'!$M:$M,$D$145,\n'Z0.6.b ProgInvest_Contr agg'!$L:$L,\"in corso\",\n'Z0.6.b ProgInvest_Contr agg'!$O:$O,\"vite utili 2\")","v":0},{"$f":"-SUMIFS(\n'Z0.6.b ProgInvest_Contr agg'!AD:AD,\n'Z0.6.b ProgInvest_Contr agg'!$K:$K,$C558,\n'Z0.6.b ProgInvest_Contr agg'!$M:$M,$D$145,\n'Z0.6.b ProgInvest_Contr agg'!$L:$L,\"in corso\",\n'Z0.6.b ProgInvest_Contr agg'!$O:$O,\"vite utili 1\")\n-SUMIFS(\n'Z0.6.b ProgInvest_Contr agg'!AD:AD,\n'Z0.6.b ProgInvest_Contr agg'!$K:$K,$C558,\n'Z0.6.b ProgInvest_Contr agg'!$M:$M,$D$145,\n'Z0.6.b ProgInvest_Contr agg'!$L:$L,\"in corso\",\n'Z0.6.b ProgInvest_Contr agg'!$O:$O,\"vite utili 2\")","v":0},{"$f":"-SUMIFS(\n'Z0.6.b ProgInvest_Contr agg'!AE:AE,\n'Z0.6.b ProgInvest_Contr agg'!$K:$K,$C558,\n'Z0.6.b ProgInvest_Contr agg'!$M:$M,$D$145,\n'Z0.6.b ProgInvest_Contr agg'!$L:$L,\"in corso\",\n'Z0.6.b ProgInvest_Contr agg'!$O:$O,\"vite utili 1\")\n-SUMIFS(\n'Z0.6.b ProgInvest_Contr agg'!AE:AE,\n'Z0.6.b ProgInvest_Contr agg'!$K:$K,$C558,\n'Z0.6.b ProgInvest_Contr agg'!$M:$M,$D$145,\n'Z0.6.b ProgInvest_Contr agg'!$L:$L,\"in corso\",\n'Z0.6.b ProgInvest_Contr agg'!$O:$O,\"vite utili 2\")","v":0},{"$f":"-SUMIFS(\n'Z0.6.b ProgInvest_Contr agg'!AF:AF,\n'Z0.6.b ProgInvest_Contr agg'!$K:$K,$C558,\n'Z0.6.b ProgInvest_Contr agg'!$M:$M,$D$145,\n'Z0.6.b ProgInvest_Contr agg'!$L:$L,\"in corso\",\n'Z0.6.b ProgInvest_Contr agg'!$O:$O,\"vite utili 1\")\n-SUMIFS(\n'Z0.6.b ProgInvest_Contr agg'!AF:AF,\n'Z0.6.b ProgInvest_Contr agg'!$K:$K,$C558,\n'Z0.6.b ProgInvest_Contr agg'!$M:$M,$D$145,\n'Z0.6.b ProgInvest_Contr agg'!$L:$L,\"in corso\",\n'Z0.6.b ProgInvest_Contr agg'!$O:$O,\"vite utili 2\")","v":0},{"$f":"-SUMIFS(\n'Z0.6.b ProgInvest_Contr agg'!AG:AG,\n'Z0.6.b ProgInvest_Contr agg'!$K:$K,$C558,\n'Z0.6.b ProgInvest_Contr agg'!$M:$M,$D$145,\n'Z0.6.b ProgInvest_Contr agg'!$L:$L,\"in corso\",\n'Z0.6.b ProgInvest_Contr agg'!$O:$O,\"vite utili 1\")\n-SUMIFS(\n'Z0.6.b ProgInvest_Contr agg'!AG:AG,\n'Z0.6.b ProgInvest_Contr agg'!$K:$K,$C558,\n'Z0.6.b ProgInvest_Contr agg'!$M:$M,$D$145,\n'Z0.6.b ProgInvest_Contr agg'!$L:$L,\"in corso\",\n'Z0.6.b ProgInvest_Contr agg'!$O:$O,\"vite utili 2\")","v":0},{"$f":"-SUMIFS(\n'Z0.6.b ProgInvest_Contr agg'!AH:AH,\n'Z0.6.b ProgInvest_Contr agg'!$K:$K,$C558,\n'Z0.6.b ProgInvest_Contr agg'!$M:$M,$D$145,\n'Z0.6.b ProgInvest_Contr agg'!$L:$L,\"in corso\",\n'Z0.6.b ProgInvest_Contr agg'!$O:$O,\"vite utili 1\")\n-SUMIFS(\n'Z0.6.b ProgInvest_Contr agg'!AH:AH,\n'Z0.6.b ProgInvest_Contr agg'!$K:$K,$C558,\n'Z0.6.b ProgInvest_Contr agg'!$M:$M,$D$145,\n'Z0.6.b ProgInvest_Contr agg'!$L:$L,\"in corso\",\n'Z0.6.b ProgInvest_Contr agg'!$O:$O,\"vite utili 2\")","v":0},{"$f":"-SUMIFS(\n'Z0.6.b ProgInvest_Contr agg'!AI:AI,\n'Z0.6.b ProgInvest_Contr agg'!$K:$K,$C558,\n'Z0.6.b ProgInvest_Contr agg'!$M:$M,$D$145,\n'Z0.6.b ProgInvest_Contr agg'!$L:$L,\"in corso\",\n'Z0.6.b ProgInvest_Contr agg'!$O:$O,\"vite utili 1\")\n-SUMIFS(\n'Z0.6.b ProgInvest_Contr agg'!AI:AI,\n'Z0.6.b ProgInvest_Contr agg'!$K:$K,$C558,\n'Z0.6.b ProgInvest_Contr agg'!$M:$M,$D$145,\n'Z0.6.b ProgInvest_Contr agg'!$L:$L,\"in corso\",\n'Z0.6.b ProgInvest_Contr agg'!$O:$O,\"vite utili 2\")","v":0},{"$f":"-SUMIFS(\n'Z0.6.b ProgInvest_Contr agg'!AJ:AJ,\n'Z0.6.b ProgInvest_Contr agg'!$K:$K,$C558,\n'Z0.6.b ProgInvest_Contr agg'!$M:$M,$D$145,\n'Z0.6.b ProgInvest_Contr agg'!$L:$L,\"in corso\",\n'Z0.6.b ProgInvest_Contr agg'!$O:$O,\"vite utili 1\")\n-SUMIFS(\n'Z0.6.b ProgInvest_Contr agg'!AJ:AJ,\n'Z0.6.b ProgInvest_Contr agg'!$K:$K,$C558,\n'Z0.6.b ProgInvest_Contr agg'!$M:$M,$D$145,\n'Z0.6.b ProgInvest_Contr agg'!$L:$L,\"in corso\",\n'Z0.6.b ProgInvest_Contr agg'!$O:$O,\"vite utili 2\")","v":-40},{"$f":"-SUMIFS(\n'Z0.6.b ProgInvest_Contr agg'!AK:AK,\n'Z0.6.b ProgInvest_Contr agg'!$K:$K,$C558,\n'Z0.6.b ProgInvest_Contr agg'!$M:$M,$D$145,\n'Z0.6.b ProgInvest_Contr agg'!$L:$L,\"in corso\",\n'Z0.6.b ProgInvest_Contr agg'!$O:$O,\"vite utili 1\")\n-SUMIFS(\n'Z0.6.b ProgInvest_Contr agg'!AK:AK,\n'Z0.6.b ProgInvest_Contr agg'!$K:$K,$C558,\n'Z0.6.b ProgInvest_Contr agg'!$M:$M,$D$145,\n'Z0.6.b ProgInvest_Contr agg'!$L:$L,\"in corso\",\n'Z0.6.b ProgInvest_Contr agg'!$O:$O,\"vite utili 2\")","v":0},{"$f":"-SUMIFS(\n'Z0.6.b ProgInvest_Contr agg'!AL:AL,\n'Z0.6.b ProgInvest_Contr agg'!$K:$K,$C558,\n'Z0.6.b ProgInvest_Contr agg'!$M:$M,$D$145,\n'Z0.6.b ProgInvest_Contr agg'!$L:$L,\"in corso\",\n'Z0.6.b ProgInvest_Contr agg'!$O:$O,\"vite utili 1\")\n-SUMIFS(\n'Z0.6.b ProgInvest_Contr agg'!AL:AL,\n'Z0.6.b ProgInvest_Contr agg'!$K:$K,$C558,\n'Z0.6.b ProgInvest_Contr agg'!$M:$M,$D$145,\n'Z0.6.b ProgInvest_Contr agg'!$L:$L,\"in corso\",\n'Z0.6.b ProgInvest_Contr agg'!$O:$O,\"vite utili 2\")","v":0}]
[null,null,"Ammortamento contributi (amm. a vite utili)",null,{"$f":"-SUM(OFFSET(INDIRECT($F558 & \"contr\"),1,3,1,IF(EsistePrev,AnnoPonte-UltimoAnnoRTP,1)))","v":0},null,{"$f":"IF(F$4-UltimoAnnoRTP<=$D558,\n(SUM($F584:F584)-SUM(OFFSET(INDIRECT($F558 & \"contr\"),0,3,1,IF(EsistePrev,AnnoPonte-UltimoAnnoRTP,1)))\n)/$D558,\n\nIF(AND(F$4-UltimoAnnoRTP>$D558,F$4-AnnoPonte<=$D558),\n(SUM($F584:F584)-SUM(IFERROR(OFFSET(INDIRECT($F558 & \"contr\"),0,3+(F$4-UltimoAnnoRTP-$D558),1,(IF(EsistePrev,AnnoPonte-UltimoAnnoRTP,1)-(F$4-UltimoAnnoRTP-$D558))),0))\n)/$D558,\n\n(SUM(OFFSET(F584,0,-$D558+1,1,$D558))\n)/$D558))","v":0},{"$f":"IF(G$4-UltimoAnnoRTP<=$D558,\n(SUM($F584:G584)-SUM(OFFSET(INDIRECT($F558 & \"contr\"),0,3,1,IF(EsistePrev,AnnoPonte-UltimoAnnoRTP,1)))\n)/$D558,\n\nIF(AND(G$4-UltimoAnnoRTP>$D558,G$4-AnnoPonte<=$D558),\n(SUM($F584:G584)-SUM(IFERROR(OFFSET(INDIRECT($F558 & \"contr\"),0,3+(G$4-UltimoAnnoRTP-$D558),1,(IF(EsistePrev,AnnoPonte-UltimoAnnoRTP,1)-(G$4-UltimoAnnoRTP-$D558))),0))\n)/$D558,\n\n(SUM(OFFSET(G584,0,-$D558+1,1,$D558))\n)/$D558))","v":0},{"$f":"IF(H$4-UltimoAnnoRTP<=$D558,\n(SUM($F584:H584)-SUM(OFFSET(INDIRECT($F558 & \"contr\"),0,3,1,IF(EsistePrev,AnnoPonte-UltimoAnnoRTP,1)))\n)/$D558,\n\nIF(AND(H$4-UltimoAnnoRTP>$D558,H$4-AnnoPonte<=$D558),\n(SUM($F584:H584)-SUM(IFERROR(OFFSET(INDIRECT($F558 & \"contr\"),0,3+(H$4-UltimoAnnoRTP-$D558),1,(IF(EsistePrev,AnnoPonte-UltimoAnnoRTP,1)-(H$4-UltimoAnnoRTP-$D558))),0))\n)/$D558,\n\n(SUM(OFFSET(H584,0,-$D558+1,1,$D558))\n)/$D558))","v":0},{"$f":"IF(I$4-UltimoAnnoRTP<=$D558,\n(SUM($F584:I584)-SUM(OFFSET(INDIRECT($F558 & \"contr\"),0,3,1,IF(EsistePrev,AnnoPonte-UltimoAnnoRTP,1)))\n)/$D558,\n\nIF(AND(I$4-UltimoAnnoRTP>$D558,I$4-AnnoPonte<=$D558),\n(SUM($F584:I584)-SUM(IFERROR(OFFSET(INDIRECT($F558 & \"contr\"),0,3+(I$4-UltimoAnnoRTP-$D558),1,(IF(EsistePrev,AnnoPonte-UltimoAnnoRTP,1)-(I$4-UltimoAnnoRTP-$D558))),0))\n)/$D558,\n\n(SUM(OFFSET(I584,0,-$D558+1,1,$D558))\n)/$D558))","v":0},{"$f":"IF(J$4-UltimoAnnoRTP<=$D558,\n(SUM($F584:J584)-SUM(OFFSET(INDIRECT($F558 & \"contr\"),0,3,1,IF(EsistePrev,AnnoPonte-UltimoAnnoRTP,1)))\n)/$D558,\n\nIF(AND(J$4-UltimoAnnoRTP>$D558,J$4-AnnoPonte<=$D558),\n(SUM($F584:J584)-SUM(IFERROR(OFFSET(INDIRECT($F558 & \"contr\"),0,3+(J$4-UltimoAnnoRTP-$D558),1,(IF(EsistePrev,AnnoPonte-UltimoAnnoRTP,1)-(J$4-UltimoAnnoRTP-$D558))),0))\n)/$D558,\n\n(SUM(OFFSET(J584,0,-$D558+1,1,$D558))\n)/$D558))","v":0},{"$f":"IF(K$4-UltimoAnnoRTP<=$D558,\n(SUM($F584:K584)-SUM(OFFSET(INDIRECT($F558 & \"contr\"),0,3,1,IF(EsistePrev,AnnoPonte-UltimoAnnoRTP,1)))\n)/$D558,\n\nIF(AND(K$4-UltimoAnnoRTP>$D558,K$4-AnnoPonte<=$D558),\n(SUM($F584:K584)-SUM(IFERROR(OFFSET(INDIRECT($F558 & \"contr\"),0,3+(K$4-UltimoAnnoRTP-$D558),1,(IF(EsistePrev,AnnoPonte-UltimoAnnoRTP,1)-(K$4-UltimoAnnoRTP-$D558))),0))\n)/$D558,\n\n(SUM(OFFSET(K584,0,-$D558+1,1,$D558))\n)/$D558))","v":0},{"$f":"IF(L$4-UltimoAnnoRTP<=$D558,\n(SUM($F584:L584)-SUM(OFFSET(INDIRECT($F558 & \"contr\"),0,3,1,IF(EsistePrev,AnnoPonte-UltimoAnnoRTP,1)))\n)/$D558,\n\nIF(AND(L$4-UltimoAnnoRTP>$D558,L$4-AnnoPonte<=$D558),\n(SUM($F584:L584)-SUM(IFERROR(OFFSET(INDIRECT($F558 & \"contr\"),0,3+(L$4-UltimoAnnoRTP-$D558),1,(IF(EsistePrev,AnnoPonte-UltimoAnnoRTP,1)-(L$4-UltimoAnnoRTP-$D558))),0))\n)/$D558,\n\n(SUM(OFFSET(L584,0,-$D558+1,1,$D558))\n)/$D558))","v":0},{"$f":"IF(M$4-UltimoAnnoRTP<=$D558,\n(SUM($F584:M584)-SUM(OFFSET(INDIRECT($F558 & \"contr\"),0,3,1,IF(EsistePrev,AnnoPonte-UltimoAnnoRTP,1)))\n)/$D558,\n\nIF(AND(M$4-UltimoAnnoRTP>$D558,M$4-AnnoPonte<=$D558),\n(SUM($F584:M584)-SUM(IFERROR(OFFSET(INDIRECT($F558 & \"contr\"),0,3+(M$4-UltimoAnnoRTP-$D558),1,(IF(EsistePrev,AnnoPonte-UltimoAnnoRTP,1)-(M$4-UltimoAnnoRTP-$D558))),0))\n)/$D558,\n\n(SUM(OFFSET(M584,0,-$D558+1,1,$D558))\n)/$D558))","v":0},{"$f":"IF(N$4-UltimoAnnoRTP<=$D558,\n(SUM($F584:N584)-SUM(OFFSET(INDIRECT($F558 & \"contr\"),0,3,1,IF(EsistePrev,AnnoPonte-UltimoAnnoRTP,1)))\n)/$D558,\n\nIF(AND(N$4-UltimoAnnoRTP>$D558,N$4-AnnoPonte<=$D558),\n(SUM($F584:N584)-SUM(IFERROR(OFFSET(INDIRECT($F558 & \"contr\"),0,3+(N$4-UltimoAnnoRTP-$D558),1,(IF(EsistePrev,AnnoPonte-UltimoAnnoRTP,1)-(N$4-UltimoAnnoRTP-$D558))),0))\n)/$D558,\n\n(SUM(OFFSET(N584,0,-$D558+1,1,$D558))\n)/$D558))","v":0},{"$f":"IF(O$4-UltimoAnnoRTP<=$D558,\n(SUM($F584:O584)-SUM(OFFSET(INDIRECT($F558 & \"contr\"),0,3,1,IF(EsistePrev,AnnoPonte-UltimoAnnoRTP,1)))\n)/$D558,\n\nIF(AND(O$4-UltimoAnnoRTP>$D558,O$4-AnnoPonte<=$D558),\n(SUM($F584:O584)-SUM(IFERROR(OFFSET(INDIRECT($F558 & \"contr\"),0,3+(O$4-UltimoAnnoRTP-$D558),1,(IF(EsistePrev,AnnoPonte-UltimoAnnoRTP,1)-(O$4-UltimoAnnoRTP-$D558))),0))\n)/$D558,\n\n(SUM(OFFSET(O584,0,-$D558+1,1,$D558))\n)/$D558))","v":0},{"$f":"IF(P$4-UltimoAnnoRTP<=$D558,\n(SUM($F584:P584)-SUM(OFFSET(INDIRECT($F558 & \"contr\"),0,3,1,IF(EsistePrev,AnnoPonte-UltimoAnnoRTP,1)))\n)/$D558,\n\nIF(AND(P$4-UltimoAnnoRTP>$D558,P$4-AnnoPonte<=$D558),\n(SUM($F584:P584)-SUM(IFERROR(OFFSET(INDIRECT($F558 & \"contr\"),0,3+(P$4-UltimoAnnoRTP-$D558),1,(IF(EsistePrev,AnnoPonte-UltimoAnnoRTP,1)-(P$4-UltimoAnnoRTP-$D558))),0))\n)/$D558,\n\n(SUM(OFFSET(P584,0,-$D558+1,1,$D558))\n)/$D558))","v":0},{"$f":"IF(Q$4-UltimoAnnoRTP<=$D558,\n(SUM($F584:Q584)-SUM(OFFSET(INDIRECT($F558 & \"contr\"),0,3,1,IF(EsistePrev,AnnoPonte-UltimoAnnoRTP,1)))\n)/$D558,\n\nIF(AND(Q$4-UltimoAnnoRTP>$D558,Q$4-AnnoPonte<=$D558),\n(SUM($F584:Q584)-SUM(IFERROR(OFFSET(INDIRECT($F558 & \"contr\"),0,3+(Q$4-UltimoAnnoRTP-$D558),1,(IF(EsistePrev,AnnoPonte-UltimoAnnoRTP,1)-(Q$4-UltimoAnnoRTP-$D558))),0))\n)/$D558,\n\n(SUM(OFFSET(Q584,0,-$D558+1,1,$D558))\n)/$D558))","v":-1.3333333333333333},{"$f":"IF(R$4-UltimoAnnoRTP<=$D558,\n(SUM($F584:R584)-SUM(OFFSET(INDIRECT($F558 & \"contr\"),0,3,1,IF(EsistePrev,AnnoPonte-UltimoAnnoRTP,1)))\n)/$D558,\n\nIF(AND(R$4-UltimoAnnoRTP>$D558,R$4-AnnoPonte<=$D558),\n(SUM($F584:R584)-SUM(IFERROR(OFFSET(INDIRECT($F558 & \"contr\"),0,3+(R$4-UltimoAnnoRTP-$D558),1,(IF(EsistePrev,AnnoPonte-UltimoAnnoRTP,1)-(R$4-UltimoAnnoRTP-$D558))),0))\n)/$D558,\n\n(SUM(OFFSET(R584,0,-$D558+1,1,$D558))\n)/$D558))","v":-1.3333333333333333}]
[null,null,"CIN contributi eop (amm. a vite utili)",null,null,{"$f":"-OFFSET(INDIRECT($F558 & \"contr\"),2,2+AnnoPonte-UltimoAnnoRTP,1,1)","v":0},{"$f":"G583+G584-G585","v":0},0,0,0,0,0,0,0,0,0,-40,-38.666666666666664,-37.333333333333329]
[null,null,"Remunerazione CIN contributi",null,null,null,{"$f":"(G583-F588)*G$17*G$10","v":0},{"$f":"(H583-G588)*H$17*H$10","v":0},{"$f":"(I583-H588)*I$17*I$10","v":0},{"$f":"(J583-I588)*J$17*J$10","v":0},{"$f":"(K583-J588)*K$17*K$10","v":0},{"$f":"(L583-K588)*L$17*L$10","v":0},{"$f":"(M583-L588)*M$17*M$10","v":0},{"$f":"(N583-M588)*N$17*N$10","v":0},{"$f":"(O583-N588)*O$17*O$10","v":0},{"$f":"(P583-O588)*P$17*P$10","v":0},{"$f":"(Q583-P588)*Q$17*Q$10","v":0},{"$f":"(R583-Q588)*R$17*R$10","v":-0.20026666666666701},{"$f":"(S583-R588)*S$17*S$10","v":-0.1001333333333335}]
[null,null,"Valore di subentro contributi - cumulato",null,null,{"$f":"-OFFSET(INDIRECT($F558 & \"contr\"),4,2+AnnoPonte-UltimoAnnoRTP,1,1)","v":0},{"$f":"MIN(0,F588+(G584)/$D558*($D558-(ScadenzaConcessione-G$4)))","v":0},{"$f":"MIN(0,G588+(H584)/$D558*($D558-(ScadenzaConcessione-H$4)))","v":0},{"$f":"MIN(0,H588+(I584)/$D558*($D558-(ScadenzaConcessione-I$4)))","v":0},{"$f":"MIN(0,I588+(J584)/$D558*($D558-(ScadenzaConcessione-J$4)))","v":0},{"$f":"MIN(0,J588+(K584)/$D558*($D558-(ScadenzaConcessione-K$4)))","v":0},{"$f":"MIN(0,K588+(L584)/$D558*($D558-(ScadenzaConcessione-L$4)))","v":0},{"$f":"MIN(0,L588+(M584)/$D558*($D558-(ScadenzaConcessione-M$4)))","v":0},{"$f":"MIN(0,M588+(N584)/$D558*($D558-(ScadenzaConcessione-N$4)))","v":0},{"$f":"MIN(0,N588+(O584)/$D558*($D558-(ScadenzaConcessione-O$4)))","v":0},{"$f":"MIN(0,O588+(P584)/$D558*($D558-(ScadenzaConcessione-P$4)))","v":0},{"$f":"MIN(0,P588+(Q584)/$D558*($D558-(ScadenzaConcessione-Q$4)))","v":-37.333333333333329},{"$f":"MIN(0,Q588+(R584)/$D558*($D558-(ScadenzaConcessione-R$4)))","v":-37.333333333333329},{"$f":"MIN(0,R588+(S584)/$D558*($D558-(ScadenzaConcessione-S$4)))","v":-37.333333333333329}]
[null,null,"Remunerazione valore di subentro CIN contributi ",null,null,null,{"$f":"F588*G$19*G$10","v":0},{"$f":"G588*H$19*H$10","v":0},0,0,0,0,0,0,0,0,0,-2.8037333333333332,-2.8037333333333332]
[]
[null,null,"Check - TIR di progetto"]
[null,null,"Cash out investimenti",null,null,{"$f":"-(F563+F570+F578+F586)","v":0},{"$f":"-(G561+G568-G576+G584)","v":0},{"$f":"-(H561+H568-H576+H584)","v":0},0,0,0,0,0,0,0,0,-160,-200,20]
[null,null,"Cash in valore di subentro",null,null,null,{"$f":"IF(G$4=ScadenzaConcessione,G564+G580+G588,\"\")","v":""},"","","","","","","","","","","",{"$f":"IF(S$4=ScadenzaConcessione,S564+S571+S580+S588,\"\")","v":329.33333333333337}]
[null,null,"Cash in ammortamenti",null,null,null,{"$f":"G577+G585","v":0},0,0,0,0,0,0,0,0,0,0,-1.3333333333333333,12]
[null,null,"Cash in remunerazioni (annualizzato)",null,null,null,{"$f":"(G565+G572+G579+G581+G587+G589)/G$10","v":0},{"$f":"(H565+H572+H579+H581+H587+H589)/H$10","v":0},0,0,0,0,0,0,0,0,0,8.8559999999999981,27.136133333333333]
[null,null,"Cash flow",null,null,{"$f":"SUM(F592:F595)","v":0},0,{"$f":"SUM(H592:H595)","v":0},0,0,0,0,0,0,0,0,-160,-192.47733333333335,388.46946666666668]
[null,null,"Tasso interno di rendimento",null,null,{"$f":"IFERROR(IRR(OFFSET(F596,0,0,1,ScadenzaConcessione-AnnoPonte+1)),\"non calc.\")","v":6.8755737682751228E-2}]
[null,null,"VAN",null,{"$f":"WACC","v":7.51E-2},{"$f":"NPV(E598,OFFSET(F596,0,0,1,ScadenzaConcessione-AnnoPonte+1))","v":-1.2326843391463527}]
[]
[null,null,"Ammortamento a vite utili - Riepilogo"]
[]
[null,"12a","LIC bop",null,null,null,{"$f":"IFERROR(G182+G224+G266+G308+G350+G392+G434+G476+G518+G560,0)","v":0},0,100,100,100,100,100,100,100,100,100,100,0]
[null,null,"Investimenti in corso aggiuntivi",null,null,null,{"$f":"IFERROR(G183+G225+G267+G309+G351+G393+G435+G477+G519+G561,0)","v":0},{"$f":"IFERROR(H183+H225+H267+H309+H351+H393+H435+H477+H519+H561,0)","v":100},200,200,200,200,200,200,200,200,200,100,0]
[null,null,"Investimenti in corso cessanti (entrata in esercizio)",null,null,null,{"$f":"IFERROR(G184+G226+G268+G310+G352+G394+G436+G478+G520+G562,0)","v":0},{"$f":"IFERROR(H184+H226+H268+H310+H352+H394+H436+H478+H520+H562,0)","v":0},-200,-200,-200,-200,-200,-200,-200,-200,-200,-200,0]
[null,null,"LIC eop",null,null,{"$f":"IFERROR(F185+F227+F269+F311+F353+F395+F437+F479+F521+F563,0)","v":0},{"$f":"IFERROR(G185+G227+G269+G311+G353+G395+G437+G479+G521+G563,0)","v":0},{"$f":"IFERROR(H185+H227+H269+H311+H353+H395+H437+H479+H521+H563,0)","v":100},100,100,100,100,100,100,100,100,100,0,0]
[null,"13a","Valore di subentro LIC",null,null,null,{"$f":"IFERROR(G186+G228+G270+G312+G354+G396+G438+G480+G522+G564,0)","v":0},{"$f":"IFERROR(H186+H228+H270+H312+H354+H396+H438+H480+H522+H564,0)","v":0},0,0,0,0,0,0,0,0,0,0,0]
[null,"52a","Remunerazione LIC",null,null,null,{"$f":"IFERROR(G187+G229+G271+G313+G355+G397+G439+G481+G523+G565,0)","v":0},{"$f":"IFERROR(H187+H229+H271+H313+H355+H397+H439+H481+H523+H565,0)","v":0},7.51,7.51,7.51,7.51,7.51,7.51,7.51,7.51,7.51,7.51,0]
[]
[null,"12b","LIC bop",null,null,null,{"$f":"IFERROR(G189+G231+G273+G315+G357+G399+G441+G483+G525+G567,0)","v":0},0,100,100,100,100,100,100,100,100,100,100,0]
[null,null,"Investimenti in corso aggiuntivi",null,null,null,{"$f":"IFERROR(G190+G232+G274+G316+G358+G400+G442+G484+G526+G568,0)","v":0},{"$f":"IFERROR(H190+H232+H274+H316+H358+H400+H442+H484+H526+H568,0)","v":100},200,200,200,200,200,200,200,200,200,100,0]
[null,null,"Investimenti in corso cessanti (entrata in esercizio)",null,null,null,{"$f":"IFERROR(G191+G233+G275+G317+G359+G401+G443+G485+G527+G569,0)","v":0},{"$f":"IFERROR(H191+H233+H275+H317+H359+H401+H443+H485+H527+H569,0)","v":0},-200,-200,-200,-200,-200,-200,-200,-200,-200,-200,0]
[null,null,"LIC eop",null,null,{"$f":"IFERROR(F192+F234+F276+F318+F360+F402+F444+F486+F528+F570,0)","v":0},{"$f":"IFERROR(G192+G234+G276+G318+G360+G402+G444+G486+G528+G570,0)","v":0},{"$f":"IFERROR(H192+H234+H276+H318+H360+H402+H444+H486+H528+H570,0)","v":100},100,100,100,100,100,100,100,100,100,0,0]
[null,"13b","Valore di subentro LIC",null,null,null,{"$f":"IFERROR(G193+G235+G277+G319+G361+G403+G445+G487+G529+G571,0)","v":0},{"$f":"IFERROR(H193+H235+H277+H319+H361+H403+H445+H487+H529+H571,0)","v":0},0,0,0,0,0,0,0,0,0,0,0]
[null,"52b","Remunerazione LIC",null,null,null,{"$f":"IFERROR(G194+G236+G278+G320+G362+G404+G446+G488+G530+G572,0)","v":0},{"$f":"IFERROR(H194+H236+H278+H320+H362+H404+H446+H488+H530+H572,0)","v":0},4.3499999999999996,4.3499999999999996,4.3499999999999996,4.3499999999999996,4.3499999999999996,4.3499999999999996,4.3499999999999996,4.3499999999999996,4.3499999999999996,4.3499999999999996,0]
[]
[null,14,"CIN investimenti (lordo contributi e subentro, netto dismissioni) bop (amm. a vite utili)",null,"precedenti",null,{"$f":"IFERROR(G196+G238+G280+G322+G364+G406+G448+G490+G532+G574,0)","v":0},{"$f":"IFERROR(H196+H238+H280+H322+H364+H406+H448+H490+H532+H574,0)","v":0},0,400,790,1170,1534,1884.6666666666667,2215.3333333333335,2526,2816.666666666667,3067.3333333333335,3308]
[null,null,"Investimenti entrati in esercizio (amm.a vite utili)",null,{"$f":"IFERROR(E197+E239+E281+E323+E365+E407+E449+E491+E533+E575,0)","v":0},null,0,{"$f":"IFERROR(H197+H239+H281+H323+H365+H407+H449+H491+H533+H575,0)","v":0},400,400,400,400,400,400,400,400,400,400,0]
[null,null,"Dismissioni",null,{"$f":"IFERROR(E198+E240+E282+E324+E366+E408+E450+E492+E534+E576,0)","v":0},null,0,{"$f":"IFERROR(H198+H240+H282+H324+H366+H408+H450+H492+H534+H576,0)","v":0},0,0,0,0,0,0,0,0,0,0,200]
[null,34,"Ammortamento (a vite utili)",null,{"$f":"IFERROR(E199+E241+E283+E325+E367+E409+E451+E493+E535+E577,0)","v":0},null,0,{"$f":"IFERROR(H199+H241+H283+H325+H367+H409+H451+H493+H535+H577,0)","v":0},0,10,20,36,49.333333333333336,69.333333333333343,89.333333333333343,109.33333333333334,149.33333333333334,159.33333333333334,172.66666666666669]
[null,null,"CIN investimenti (lordo contributi, netto dismissioni) eop (amm. a vite utili)",null,null,{"$f":"IFERROR(F200+F242+F284+F326+F368+F410+F452+F494+F536+F578,0)","v":0},0,{"$f":"IFERROR(H200+H242+H284+H326+H368+H410+H452+H494+H536+H578,0)","v":0},400,790,1170,1534,1884.6666666666667,2215.3333333333335,2526,2816.666666666667,3067.3333333333335,3308,2935.3333333333335]
[null,54,"Remunerazione CIN investimenti",null,null,null,0,{"$f":"IFERROR(H201+H243+H285+H327+H369+H411+H453+H495+H537+H579,0)","v":0},0,7.51,13.518000000000001,21.628799999999998,25.934533333333334,31.241600000000002,33.544666666666664,32.843733333333333,33.644800000000004,23.931866666666668,12.967266666666671]
[null,16,"Valore di subentro investimenti (lordo contributi) - cumulato",null,null,{"$f":"IFERROR(F202+F244+F286+F328+F370+F412+F454+F496+F538+F580,0)","v":0},0,{"$f":"IFERROR(H202+H244+H286+H328+H370+H412+H454+H496+H538+H580,0)","v":0},300,610,882,1188.6666666666667,1468.6666666666667,1768.6666666666667,2088.666666666667,2368.666666666667,2748.666666666667,3135.3333333333335,2935.3333333333335]
[null,56,"Remunerazione valore di subentro CIN investimenti",null,null,null,0,{"$f":"IFERROR(H203+H245+H287+H329+H371+H413+H455+H497+H539+H581,0)","v":0},0,22.53,45.811,66.238200000000006,89.268866666666668,110.29686666666666,132.82686666666666,156.85886666666667,177.88686666666666,206.42486666666667,235.46353333333334]
[]
[null,15,"CIN contributi bop (amm. a vite utili)",null,"precedenti",null,{"$f":"IFERROR(G205+G247+G289+G331+G373+G415+G457+G499+G541+G583,0)","v":0},{"$f":"IFERROR(H205+H247+H289+H331+H373+H415+H457+H499+H541+H583,0)","v":0},-40,-79,-117,-153.4,-188.46666666666667,-221.5333333333333,-252.6,-281.66666666666663,-306.73333333333335,-330.79999999999995,-313.53333333333336]
[null,null,"contributi annui (amm. a vite utili)",null,{"$f":"IFERROR(E206+E248+E290+E332+E374+E416+E458+E500+E542+E584,0)","v":0},null,0,{"$f":"IFERROR(H206+H248+H290+H332+H374+H416+H458+H500+H542+H584,0)","v":-40},-40,-40,-40,-40,-40,-40,-40,-40,-40,0,0]
[null,35,"Ammortamento contributi (amm. a vite utili)",null,{"$f":"IFERROR(E207+E249+E291+E333+E375+E417+E459+E501+E543+E585,0)","v":0},null,0,{"$f":"IFERROR(H207+H249+H291+H333+H375+H417+H459+H501+H543+H585,0)","v":0},-1,-2,-3.6,-4.9333333333333336,-6.9333333333333336,-8.9333333333333336,-10.933333333333334,-14.933333333333334,-15.933333333333334,-17.266666666666666,-17.266666666666666]
[null,null,"CIN contributi eop (amm. a vite utili)",null,null,{"$f":"IFERROR(F208+F250+F292+F334+F376+F418+F460+F502+F544+F586,0)","v":0},0,{"$f":"IFERROR(H208+H250+H292+H334+H376+H418+H460+H502+H544+H586,0)","v":-40},-79,-117,-153.4,-188.46666666666667,-221.5333333333333,-252.6,-281.66666666666663,-306.73333333333335,-330.79999999999995,-313.53333333333336,-296.26666666666665]
[null,55,"Remunerazione CIN contributi",null,null,null,0,{"$f":"IFERROR(H209+H251+H293+H335+H377+H419+H461+H503+H545+H587,0)","v":0},-0.82610000000000006,-1.502,-2.4332399999999996,-2.9639466666666667,-3.6448533333333333,-4.02536,-4.1054666666666657,-4.485973333333332,-3.5897799999999984,-2.5934533333333318,-1.296726666666665]
[null,17,"Valore di subentro contributi - cumulato",null,null,{"$f":"IFERROR(F210+F252+F294+F336+F378+F420+F462+F504+F546+F588,0)","v":0},0,{"$f":"IFERROR(H210+H252+H294+H336+H378+H420+H462+H504+H546+H588,0)","v":-29},-59,-84.6,-113.93333333333332,-139.93333333333334,-167.93333333333334,-197.93333333333334,-221.93333333333334,-258.93333333333334,-296.26666666666665,-296.26666666666665,-296.26666666666665]
[null,57,"Remunerazione valore di subentro CIN contributi ",null,null,null,0,{"$f":"IFERROR(H211+H253+H295+H337+H379+H421+H463+H505+H547+H589,0)","v":0},-2.1779000000000002,-4.4309000000000003,-6.3534600000000001,-8.5563933333333324,-10.508993333333333,-12.611793333333333,-14.864793333333333,-16.667193333333334,-19.445893333333334,-22.249626666666668,-22.249626666666668]
[]
[null,null,"Check - TIR di progetto"]
[null,null,"Cash out investimenti",null,null,{"$f":"-(F605+F612+F620+F628)","v":0},{"$f":"-(G603+G610-G618+G626)","v":0},{"$f":"-(H603+H610-H618+H626)","v":-160},-360,-360,-360,-360,-360,-360,-360,-360,-360,-200,200]
[null,null,"Cash in valore di subentro",null,null,null,{"$f":"IF(G$4=ScadenzaConcessione,G606+G622+G630,\"\")","v":""},"","","","","","","","","","","",{"$f":"IF(S$4=ScadenzaConcessione,S606+S613+S622+S630,\"\")","v":2639.0666666666666}]
[null,null,"Cash in ammortamenti",null,null,null,{"$f":"G619+G627","v":0},0,-1,8,16.399999999999999,31.066666666666666,42.400000000000006,60.400000000000006,78.400000000000006,94.4,133.4,142.06666666666666,155.40000000000003]
[null,null,"Cash in remunerazioni (annualizzato)",null,null,null,{"$f":"(G607+G614+G621+G623+G629+G631)/G$10","v":0},{"$f":"(H607+H614+H621+H623+H629+H631)/H$10","v":0},8.8559999999999981,35.967099999999995,62.402299999999997,88.206659999999999,112.90955333333333,136.76131333333331,159.26127333333332,180.40943333333334,200.35599333333332,217.37365333333332,224.88444666666666]
[null,null,"Cash flow",null,null,{"$f":"SUM(F634:F637)","v":0},0,{"$f":"SUM(H634:H637)","v":-160},-352.14400000000001,-316.03289999999998,-281.19770000000005,-240.72667333333334,-204.69044666666667,-162.83868666666672,-122.3387266666667,-85.190566666666683,-26.244006666666678,159.44031999999999,3219.3511133333332]
[null,null,"Tasso interno di rendimento",null,null,{"$f":"IFERROR(IRR(OFFSET(F638,0,0,1,ScadenzaConcessione-AnnoPonte+1)),\"non calc.\")","v":7.3198009827923682E-2}]
[null,null,"VAN",null,{"$f":"WACC","v":7.51E-2},{"$f":"NPV(E640,OFFSET(F638,0,0,1,ScadenzaConcessione-AnnoPonte+1))","v":-17.447154855510089}]
[]
[]
[]
[null,null,"Riepilogo CIN post"]
[]
[null,null,"CIN regolatorio - asset reversibili - CIN post2026","bop",null,null,{"$f":"G602+G609+G616+G625+G149+G161","v":0},{"$f":"H602+H609+H616+H625+H149+H161","v":49000},99160,99521,99873,100216.6,100545.53333333334,100863.13333333333,101162.73333333334,81644.333333333328,62109.933333333334,42536.533333333333,22774.466666666667]
[null,null,"CIN regolatorio - asset reversibili - CIN post2026","eop",null,{"$f":"F605+F612+F620+F628+F153+F164","v":0},{"$f":"G605+G612+G620+G628+G153+G164","v":49000},{"$f":"H605+H612+H620+H628+H153+H164","v":99160},99521,99873,100216.6,100545.53333333334,100863.13333333333,101162.73333333334,81644.333333333328,62109.933333333334,42536.533333333333,22774.466666666667,2639.0666666666666]
[]
[null,null,"Totale ammortamento CIN post",null,null,null,{"$f":"G627+G619+G163+G152","v":0},{"$f":"H627+H619+H163+H152","v":0},-1,8,16.399999999999999,31.066666666666666,42.400000000000006,60.400000000000006,19878.400000000001,19894.400000000001,19933.400000000001,19942.066666666666,19935.400000000001]
[null,null,"Totale remunerazione CIN post",null,null,null,{"$f":"G631+G629+G623+G621+G614+G607+G166+G159+G155","v":0},{"$f":"H631+H629+H623+H621+H614+H607+H166+H159+H155","v":3679.9},7443.7560000000003,7470.8671000000004,7497.3023000000003,7523.1066600000004,7547.8095533333335,7571.6613133333331,7594.1612733333332,6128.3294333333333,4661.2959933333332,3191.3336533333331,1710.3624466666668]
[null,null,"Totale costi ammessi di costruzione CIN post",null,null,null,{"$f":"+G649+G650","v":0},3679.9,7442.7560000000003,7478.8671000000004,7513.7022999999999,7554.173326666667,7590.2095533333331,7632.0613133333327,27472.561273333333,26022.729433333334,24594.695993333335,23133.400320000001,21645.762446666668]
[]
[null,null,"Check - TIR di progetto"]
[null,null,"Cash out investimenti",null,null,{"$f":"F634+F169","v":0},{"$f":"G634+G169","v":-49000},{"$f":"H634+H169","v":-50160},-360,-360,-360,-360,-360,-360,-360,-360,-360,-180,200]
[null,null,"Cash in valore di subentro",null,null,null,{"$f":"IF(G$4=ScadenzaConcessione,G635+G170,\"\")","v":""},{"$f":"IF(H$4=ScadenzaConcessione,H635+H170,\"\")","v":""},"","","","","","","","","","",2639.0666666666666]
[null,null,"Cash in ammortamenti",null,null,null,{"$f":"G636+G171","v":0},{"$f":"H636+H171","v":0},-1,8,16.399999999999999,31.066666666666666,42.400000000000006,60.400000000000006,19878.400000000001,19894.400000000001,19933.400000000001,19942.066666666666,19935.400000000001]
[null,null,"Cash in remunerazioni (annualizzato)",null,null,null,{"$f":"G637+G172","v":0},{"$f":"H637+H172","v":3679.9},7443.7559999999994,7470.8670999999995,7497.3022999999994,7523.1066599999995,7547.8095533333326,7571.6613133333331,7594.1612733333332,6128.3294333333333,4661.2959933333332,3191.3336533333331,1710.3624466666668]
[null,null,"Cash flow",null,null,{"$f":"SUM(F654:F657)","v":0},-49000,{"$f":"SUM(H654:H657)","v":-46480.1},7082.7559999999994,7118.8670999999995,7153.702299999999,7194.1733266666661,7230.2095533333322,7272.0613133333327,27112.561273333333,25662.729433333334,24234.695993333335,22953.400320000001,24484.829113333333]
[null,null,"Tasso interno di rendimento",null,null,{"$f":"IFERROR(IRR(OFFSET(F658,0,0,1,ScadenzaConcessione-AnnoPonte+1)),\"non calc.\")","v":7.5068486066097506E-2}]
[null,null,"VAN",null,{"$f":"WACC","v":7.51E-2},{"$f":"NPV(E660,OFFSET(F658,0,0,1,ScadenzaConcessione-AnnoPonte+1))","v":-17.447154855484285}]
[]
[]
[]
[null,null,"Calcolo componente tariffaria di costruzione"]
[]
[null,null,"Totale ammortamento",null,null,null,{"$f":"G649+G130+G86","v":26052.631578947367},{"$f":"H649+H130+H86","v":27052.631578947367},28718.298245614034,28727.298245614042,28735.698245614039,28750.3649122807,28761.698245614039,28779.698245614043,27478.400000000001,27494.400000000001,27533.4,27542.066666666666,27515.4]
[null,null,"Totale remunerazione",null,null,null,{"$f":"G650+G131+G87","v":31796.999999999996},{"$f":"H650+H131+H87","v":33510.199999999997},35659.856,31703.600433333333,27746.668966666668,23789.106660000001,19830.442886666668,15870.92798,11910.061273333333,9873.4694333333337,7835.6759933333333,5794.953653333333,3736.1724466666665]
[null,null,"Totale costi ammessi di costruzione",null,null,null,{"$f":"+G666+G667","v":57849.631578947359},{"$f":"+H666+H667","v":60562.831578947364},64378.154245614031,60430.898678947371,56482.367212280704,52539.471572280701,48592.141132280711,44650.626225614047,39388.461273333334,37367.869433333333,35369.075993333332,33337.020319999996,31251.572446666669]
[]
[null,null,"Componente tariffaria di costruzione unitaria",null,null,null,{"$f":"+G668/G$25","v":5.511766064817919E-2},{"$f":"+H668/H$25","v":5.7415650490182012E-2},6.072906248872368E-2,5.6721936146539136E-2,5.2751986917716341E-2,4.8825373118855264E-2,4.4932423601132081E-2,4.1082352163057369E-2,3.6060413327043989E-2,3.4040345558281282E-2,3.2059243913384647E-2,3.0067012599288807E-2,2.8045895541324885E-2]
[]
[]
[]
[null,null,"Calcolo rendimento di progetto - solo Tk"]
[]
[null,null,"Cash out investimenti",null,null,{"$f":"IFERROR(F91+F135+F654,\"\")","v":-238421.05263157893},{"$f":"IFERROR(G91+G135+G654,\"\")","v":-65000},-70160,-360,-360,-360,-360,-360,-360,-360,-360,-360,-120,200]
[null,null,"Cash in valore di subentro",null,null,null,"","","","","","","","","","","","",13599.066666666666]
[null,null,"Cash in ricavi",null,null,null,{"$f":"IFERROR(G93+G94+G137+G138+G656+G657,\"\")","v":57849.631578947359},{"$f":"IFERROR(H93+H94+H137+H138+H656+H657,\"\")","v":60562.831578947371},64378.154245614038,60430.898678947371,56482.367212280704,52539.471572280701,48592.141132280703,44650.62622561404,39388.461273333334,37367.869433333333,35369.075993333332,33337.020319999996,31251.572446666665]
[null,null,"Cash flow",null,null,{"$f":"SUM(F676:F678)","v":-238421.05263157893},-7150.3684210526408,{"$f":"SUM(H676:H678)","v":-9597.1684210526291},64018.154245614038,60070.898678947371,56122.367212280704,52179.471572280701,48232.141132280703,44290.62622561404,39028.461273333334,37007.869433333333,35009.075993333332,33217.020319999996,45050.639113333331]
[null,null,"Tasso interno di rendimento (tasso blended)",null,null,{"$f":"IRR(OFFSET(F679,0,0,1,ScadenzaConcessione-AnnoPonte+1))","v":0.10851810011692087}]
[null,null,"VAN (tasso blended)",null,null,{"$f":"NPV(TassoBlended,OFFSET(F679,0,0,1,ScadenzaConcessione-AnnoPonte+1))","v":1.6737382920685545E-10}]
[]
[]
[]
[null,null,"termine foglio di lavoro"]

{"sheet":"C5 Tk RicalcoloPF","index":22,"n_rows":267,"n_cols":19,"rows_kept":267,"cut":false,"hidden":false,"merged":[]}
[]
[null,null,"Ricalcolo poste figurative - Tk"]
[]
[null,null,"Anno",null,2024,2025,2026,2027,2028,2029,2030,2031,2032,2033,2034,2035,2036,2037,2038]
[]
[null,null,"Anno base",null,1,0,0,0,1,0,0,0,0,1,0,0,0,0,0]
[null,null,"Anno ponte",null,0,1,0,0,0,1,0,0,0,0,1,0,0,0,0]
[null,null,"Periodo regolatorio",null,0,0,1,1,1,1,2,2,2,2,2,3,3,3,3]
[null,null,"Anno del periodo regolatorio",null,0,0,1,2,3,4,1,2,3,4,5,1,2,3,4]
[null,null,"Frazione di anno significativa",null,null,null,1,1,1,1,1,1,1,1,1,1,1,1,1]
[]
[null,null,null,null,"Ultimo adattamento schema: 03/11/2025 14:33:00"]
[]
[null,null,"Informazioni generali"]
[]
[null,null,"Tasso di remunerazione del CIN ante (TIR previgente)","TIR",null,{"$f":"'Z0.1 Dati generali'!G65","v":0.13869999999999999},{"$f":"'Z0.1 Dati generali'!H65","v":0.13869999999999999},{"$f":"'Z0.1 Dati generali'!I65","v":0.13869999999999999},{"$f":"'Z0.1 Dati generali'!J65","v":0.13869999999999999},{"$f":"'Z0.1 Dati generali'!K65","v":0.13869999999999999},{"$f":"'Z0.1 Dati generali'!L65","v":0.13869999999999999},{"$f":"'Z0.1 Dati generali'!M65","v":0.13869999999999999},{"$f":"'Z0.1 Dati generali'!N65","v":0.13869999999999999},{"$f":"'Z0.1 Dati generali'!O65","v":0.13869999999999999},{"$f":"'Z0.1 Dati generali'!P65","v":0.13869999999999999},{"$f":"'Z0.1 Dati generali'!Q65","v":0.13869999999999999},{"$f":"'Z0.1 Dati generali'!R65","v":0.13869999999999999},{"$f":"'Z0.1 Dati generali'!S65","v":0.13869999999999999},{"$f":"'Z0.1 Dati generali'!T65","v":0.13869999999999999}]
[null,null,"Tasso di remunerazione del CIN pre2026 e post2026 (WACC)","WACC",null,{"$f":"'Z0.1 Dati generali'!G66","v":7.51E-2},{"$f":"'Z0.1 Dati generali'!H66","v":7.51E-2},{"$f":"'Z0.1 Dati generali'!I66","v":7.51E-2},{"$f":"'Z0.1 Dati generali'!J66","v":7.51E-2},{"$f":"'Z0.1 Dati generali'!K66","v":7.51E-2},{"$f":"'Z0.1 Dati generali'!L66","v":7.51E-2},{"$f":"'Z0.1 Dati generali'!M66","v":7.51E-2},{"$f":"'Z0.1 Dati generali'!N66","v":7.51E-2},{"$f":"'Z0.1 Dati generali'!O66","v":7.51E-2},{"$f":"'Z0.1 Dati generali'!P66","v":7.51E-2},{"$f":"'Z0.1 Dati generali'!Q66","v":7.51E-2},{"$f":"'Z0.1 Dati generali'!R66","v":7.51E-2},{"$f":"'Z0.1 Dati generali'!S66","v":7.51E-2},{"$f":"'Z0.1 Dati generali'!T66","v":7.51E-2}]
[null,null,"Tasso di remunerazione del valore di subentro (Rtv) - CIN ante","Rtv - ante",null,{"$f":"'Z0.1 Dati generali'!G67","v":0.13869999999999999},{"$f":"'Z0.1 Dati generali'!H67","v":0.13869999999999999},{"$f":"'Z0.1 Dati generali'!I67","v":0.13869999999999999},{"$f":"'Z0.1 Dati generali'!J67","v":0.13869999999999999},{"$f":"'Z0.1 Dati generali'!K67","v":0.13869999999999999},{"$f":"'Z0.1 Dati generali'!L67","v":0.13869999999999999},{"$f":"'Z0.1 Dati generali'!M67","v":0.13869999999999999},{"$f":"'Z0.1 Dati generali'!N67","v":0.13869999999999999},{"$f":"'Z0.1 Dati generali'!O67","v":0.13869999999999999},{"$f":"'Z0.1 Dati generali'!P67","v":0.13869999999999999},{"$f":"'Z0.1 Dati generali'!Q67","v":0.13869999999999999},{"$f":"'Z0.1 Dati generali'!R67","v":0.13869999999999999},{"$f":"'Z0.1 Dati generali'!S67","v":0.13869999999999999},{"$f":"'Z0.1 Dati generali'!T67","v":0.13869999999999999}]
[null,null,"Tasso di remunerazione del valore di subentro (Rtv) - CIN pre2026 e post2026","Rtv - post",null,{"$f":"'Z0.1 Dati generali'!G68","v":7.51E-2},{"$f":"'Z0.1 Dati generali'!H68","v":7.51E-2},{"$f":"'Z0.1 Dati generali'!I68","v":7.51E-2},{"$f":"'Z0.1 Dati generali'!J68","v":7.51E-2},{"$f":"'Z0.1 Dati generali'!K68","v":7.51E-2},{"$f":"'Z0.1 Dati generali'!L68","v":7.51E-2},{"$f":"'Z0.1 Dati generali'!M68","v":7.51E-2},{"$f":"'Z0.1 Dati generali'!N68","v":7.51E-2},{"$f":"'Z0.1 Dati generali'!O68","v":7.51E-2},{"$f":"'Z0.1 Dati generali'!P68","v":7.51E-2},{"$f":"'Z0.1 Dati generali'!Q68","v":7.51E-2},{"$f":"'Z0.1 Dati generali'!R68","v":7.51E-2},{"$f":"'Z0.1 Dati generali'!S68","v":7.51E-2},{"$f":"'Z0.1 Dati generali'!T68","v":7.51E-2}]
[null,null,"Tasso di remunerazione delle lavorazioni in corso di secondo livello (vite utili)","Rlic",null,{"$f":"'Z0.1 Dati generali'!G69","v":4.3499999999999997E-2},{"$f":"'Z0.1 Dati generali'!H69","v":4.3499999999999997E-2},{"$f":"'Z0.1 Dati generali'!I69","v":4.3499999999999997E-2},{"$f":"'Z0.1 Dati generali'!J69","v":4.3499999999999997E-2},{"$f":"'Z0.1 Dati generali'!K69","v":4.3499999999999997E-2},{"$f":"'Z0.1 Dati generali'!L69","v":4.3499999999999997E-2},{"$f":"'Z0.1 Dati generali'!M69","v":4.3499999999999997E-2},{"$f":"'Z0.1 Dati generali'!N69","v":4.3499999999999997E-2},{"$f":"'Z0.1 Dati generali'!O69","v":4.3499999999999997E-2},{"$f":"'Z0.1 Dati generali'!P69","v":4.3499999999999997E-2},{"$f":"'Z0.1 Dati generali'!Q69","v":4.3499999999999997E-2},{"$f":"'Z0.1 Dati generali'!R69","v":4.3499999999999997E-2},{"$f":"'Z0.1 Dati generali'!S69","v":4.3499999999999997E-2},{"$f":"'Z0.1 Dati generali'!T69","v":4.3499999999999997E-2}]
[]
[null,null,"Tasso di inflazione","P",null,{"$f":"'Z0.1 Dati generali'!G43","v":2.1000000000000001E-2},{"$f":"'Z0.1 Dati generali'!H43","v":1.9E-2},{"$f":"'Z0.1 Dati generali'!I43","v":1.7999999999999999E-2},{"$f":"'Z0.1 Dati generali'!J43","v":0.02},{"$f":"'Z0.1 Dati generali'!K43","v":0.02},{"$f":"'Z0.1 Dati generali'!L43","v":0.02},{"$f":"'Z0.1 Dati generali'!M43","v":0.02},{"$f":"'Z0.1 Dati generali'!N43","v":0.02},{"$f":"'Z0.1 Dati generali'!O43","v":0.02},{"$f":"'Z0.1 Dati generali'!P43","v":0.02},{"$f":"'Z0.1 Dati generali'!Q43","v":0.02},{"$f":"'Z0.1 Dati generali'!R43","v":0.02},{"$f":"'Z0.1 Dati generali'!S43","v":0.02},{"$f":"'Z0.1 Dati generali'!T43","v":0.02}]
[null,null,"Indicatore di produttività annuale","X",null,null,{"$f":"'Z0.1 Dati generali'!H52","v":-6.0733238517972632E-3},{"$f":"'Z0.1 Dati generali'!I52","v":-6.0733238517972632E-3},{"$f":"'Z0.1 Dati generali'!J52","v":-6.0733238517972632E-3},{"$f":"'Z0.1 Dati generali'!K52","v":-6.0733238517972632E-3},{"$f":"'Z0.1 Dati generali'!L52","v":-6.0733238517972632E-3},{"$f":"'Z0.1 Dati generali'!M52","v":0},{"$f":"'Z0.1 Dati generali'!N52","v":0},{"$f":"'Z0.1 Dati generali'!O52","v":0},{"$f":"'Z0.1 Dati generali'!P52","v":0},{"$f":"'Z0.1 Dati generali'!Q52","v":0},{"$f":"'Z0.1 Dati generali'!R52","v":0},{"$f":"'Z0.1 Dati generali'!S52","v":0},{"$f":"'Z0.1 Dati generali'!T52","v":0}]
[]
[null,null,"Volumi di traffico previsti (000 veicoli/km) ","V",{"$f":"'Z0.1 Dati generali'!F193","v":1039148.6969304882},{"$f":"'Z0.1 Dati generali'!G193","v":1044344.4404151405},{"$f":"'Z0.1 Dati generali'!H193","v":1049566.1626172159},{"$f":"'Z0.1 Dati generali'!I193","v":1054813.993430302},{"$f":"'Z0.1 Dati generali'!J193","v":1060088.0633974536},{"$f":"'Z0.1 Dati generali'!K193","v":1065388.5037144406},{"$f":"'Z0.1 Dati generali'!L193","v":1070715.4462330127},{"$f":"'Z0.1 Dati generali'!M193","v":1076069.0234641777},{"$f":"'Z0.1 Dati generali'!N193","v":1081449.3685814985},{"$f":"'Z0.1 Dati generali'!O193","v":1086856.6154244058},{"$f":"'Z0.1 Dati generali'!P193","v":1092290.8985015275},{"$f":"'Z0.1 Dati generali'!Q193","v":1097752.3529940352},{"$f":"'Z0.1 Dati generali'!R193","v":1103241.1147590054},{"$f":"'Z0.1 Dati generali'!S193","v":1108757.3203328},{"$f":"'Z0.1 Dati generali'!T193","v":1114301.1069344641}]
[null,null,"Volumi di traffico medi annui per periodo regolatorio (000 veicoli/km)                               ","V'",{"$f":"'Z0.1 Dati generali'!F194","v":0},{"$f":"'Z0.1 Dati generali'!G194","v":1057464.180789853},{"$f":"'Z0.1 Dati generali'!H194","v":""},{"$f":"'Z0.1 Dati generali'!I194","v":""},{"$f":"'Z0.1 Dati generali'!J194","v":""},{"$f":"'Z0.1 Dati generali'!K194","v":1081476.2704409244},{"$f":"'Z0.1 Dati generali'!L194","v":""},{"$f":"'Z0.1 Dati generali'!M194","v":""},{"$f":"'Z0.1 Dati generali'!N194","v":""},{"$f":"'Z0.1 Dati generali'!O194","v":""},{"$f":"'Z0.1 Dati generali'!P194","v":1106012.9737550761},{"$f":"'Z0.1 Dati generali'!Q194","v":""},{"$f":"'Z0.1 Dati generali'!R194","v":""},{"$f":"'Z0.1 Dati generali'!S194","v":""},{"$f":"'Z0.1 Dati generali'!T194","v":""}]
[null,null,"Volumi di traffico medi annui per discontinuità di costo (000 veicoli/km)                               ","V''",{"$f":"'Z0.1 Dati generali'!F195","v":0},{"$f":"'Z0.1 Dati generali'!G195","v":1057464.180789853},{"$f":"'Z0.1 Dati generali'!H195","v":1057464.180789853},{"$f":"'Z0.1 Dati generali'!I195","v":1060096.8535140655},{"$f":"'Z0.1 Dati generali'!J195","v":1062738.2835559472},{"$f":"'Z0.1 Dati generali'!K195","v":1065388.5037144406},{"$f":"'Z0.1 Dati generali'!L195","v":1081476.2704409244},{"$f":"'Z0.1 Dati generali'!M195","v":1084166.4764929023},{"$f":"'Z0.1 Dati generali'!N195","v":1086865.6275024773},{"$f":"'Z0.1 Dati generali'!O195","v":1089573.7569629666},{"$f":"'Z0.1 Dati generali'!P195","v":1092290.8985015275},{"$f":"'Z0.1 Dati generali'!Q195","v":1106012.9737550761},{"$f":"'Z0.1 Dati generali'!R195","v":1108766.5140087565},{"$f":"'Z0.1 Dati generali'!S195","v":1111529.2136336321},{"$f":"'Z0.1 Dati generali'!T195","v":1114301.1069344641}]
[]
[]
[null,null,"Rendimento di progetto Tk - senza poste figurative"]
[]
[null,null,"CIN ante - SAL contabilizzati"]
[]
[null,null,"Cash out investimenti",null,null,{"$f":"-'C4 Tk Ricalcolo'!F41","v":-208421.05263157893},{"$f":"-('C4 Tk Ricalcolo'!G38-'C4 Tk Ricalcolo'!G39+'C4 Tk Ricalcolo'!G50)","v":2000},{"$f":"-('C4 Tk Ricalcolo'!H38-'C4 Tk Ricalcolo'!H39+'C4 Tk Ricalcolo'!H50)","v":0},{"$f":"-('C4 Tk Ricalcolo'!I38-'C4 Tk Ricalcolo'!I39+'C4 Tk Ricalcolo'!I50)","v":0},{"$f":"-('C4 Tk Ricalcolo'!J38-'C4 Tk Ricalcolo'!J39+'C4 Tk Ricalcolo'!J50)","v":0},{"$f":"-('C4 Tk Ricalcolo'!K38-'C4 Tk Ricalcolo'!K39+'C4 Tk Ricalcolo'!K50)","v":0},{"$f":"-('C4 Tk Ricalcolo'!L38-'C4 Tk Ricalcolo'!L39+'C4 Tk Ricalcolo'!L50)","v":0},{"$f":"-('C4 Tk Ricalcolo'!M38-'C4 Tk Ricalcolo'!M39+'C4 Tk Ricalcolo'!M50)","v":0},{"$f":"-('C4 Tk Ricalcolo'!N38-'C4 Tk Ricalcolo'!N39+'C4 Tk Ricalcolo'!N50)","v":0},{"$f":"-('C4 Tk Ricalcolo'!O38-'C4 Tk Ricalcolo'!O39+'C4 Tk Ricalcolo'!O50)","v":0},{"$f":"-('C4 Tk Ricalcolo'!P38-'C4 Tk Ricalcolo'!P39+'C4 Tk Ricalcolo'!P50)","v":0},{"$f":"-('C4 Tk Ricalcolo'!Q38-'C4 Tk Ricalcolo'!Q39+'C4 Tk Ricalcolo'!Q50)","v":0},{"$f":"-('C4 Tk Ricalcolo'!R38-'C4 Tk Ricalcolo'!R39+'C4 Tk Ricalcolo'!R50)","v":20},{"$f":"-('C4 Tk Ricalcolo'!S38-'C4 Tk Ricalcolo'!S39+'C4 Tk Ricalcolo'!S50)","v":0}]
[null,null,"Cash in valore di subentro",null,null,null,{"$f":"IF(G$4=ScadenzaConcessione,'C4 Tk Ricalcolo'!G92-G57,\"\")","v":""},{"$f":"IF(H$4=ScadenzaConcessione,'C4 Tk Ricalcolo'!H92-H57,\"\")","v":""},{"$f":"IF(I$4=ScadenzaConcessione,'C4 Tk Ricalcolo'!I92-I57,\"\")","v":""},{"$f":"IF(J$4=ScadenzaConcessione,'C4 Tk Ricalcolo'!J92-J57,\"\")","v":""},{"$f":"IF(K$4=ScadenzaConcessione,'C4 Tk Ricalcolo'!K92-K57,\"\")","v":""},{"$f":"IF(L$4=ScadenzaConcessione,'C4 Tk Ricalcolo'!L92-L57,\"\")","v":""},{"$f":"IF(M$4=ScadenzaConcessione,'C4 Tk Ricalcolo'!M92-M57,\"\")","v":""},{"$f":"IF(N$4=ScadenzaConcessione,'C4 Tk Ricalcolo'!N92-N57,\"\")","v":""},{"$f":"IF(O$4=ScadenzaConcessione,'C4 Tk Ricalcolo'!O92-O57,\"\")","v":""},{"$f":"IF(P$4=ScadenzaConcessione,'C4 Tk Ricalcolo'!P92-P57,\"\")","v":""},{"$f":"IF(Q$4=ScadenzaConcessione,'C4 Tk Ricalcolo'!Q92-Q57,\"\")","v":""},{"$f":"IF(R$4=ScadenzaConcessione,'C4 Tk Ricalcolo'!R92-R57,\"\")","v":""},{"$f":"IF(S$4=ScadenzaConcessione,'C4 Tk Ricalcolo'!S92-S57,\"\")","v":9980}]
[null,null,"Cash in ricavi",null,null,null,{"$f":"'C4 Tk Ricalcolo'!G40+'C4 Tk Ricalcolo'!G51+'C4 Tk Ricalcolo'!G57+'C4 Tk Ricalcolo'!G43+'C4 Tk Ricalcolo'!G47+'C4 Tk Ricalcolo'!G54+'C4 Tk Ricalcolo'!G60","v":53710.631578947359},{"$f":"'C4 Tk Ricalcolo'!H40+'C4 Tk Ricalcolo'!H51+'C4 Tk Ricalcolo'!H57+'C4 Tk Ricalcolo'!H43+'C4 Tk Ricalcolo'!H47+'C4 Tk Ricalcolo'!H54+'C4 Tk Ricalcolo'!H60","v":49707.392293233075},{"$f":"'C4 Tk Ricalcolo'!I40+'C4 Tk Ricalcolo'!I51+'C4 Tk Ricalcolo'!I57+'C4 Tk Ricalcolo'!I43+'C4 Tk Ricalcolo'!I47+'C4 Tk Ricalcolo'!I54+'C4 Tk Ricalcolo'!I60","v":46306.895864661652},{"$f":"'C4 Tk Ricalcolo'!J40+'C4 Tk Ricalcolo'!J51+'C4 Tk Ricalcolo'!J57+'C4 Tk Ricalcolo'!J43+'C4 Tk Ricalcolo'!J47+'C4 Tk Ricalcolo'!J54+'C4 Tk Ricalcolo'!J60","v":42906.399436090229},{"$f":"'C4 Tk Ricalcolo'!K40+'C4 Tk Ricalcolo'!K51+'C4 Tk Ricalcolo'!K57+'C4 Tk Ricalcolo'!K43+'C4 Tk Ricalcolo'!K47+'C4 Tk Ricalcolo'!K54+'C4 Tk Ricalcolo'!K60","v":39505.903007518798},{"$f":"'C4 Tk Ricalcolo'!L40+'C4 Tk Ricalcolo'!L51+'C4 Tk Ricalcolo'!L57+'C4 Tk Ricalcolo'!L43+'C4 Tk Ricalcolo'!L47+'C4 Tk Ricalcolo'!L54+'C4 Tk Ricalcolo'!L60","v":36105.406578947368},{"$f":"'C4 Tk Ricalcolo'!M40+'C4 Tk Ricalcolo'!M51+'C4 Tk Ricalcolo'!M57+'C4 Tk Ricalcolo'!M43+'C4 Tk Ricalcolo'!M47+'C4 Tk Ricalcolo'!M54+'C4 Tk Ricalcolo'!M60","v":32704.910150375941},{"$f":"'C4 Tk Ricalcolo'!N40+'C4 Tk Ricalcolo'!N51+'C4 Tk Ricalcolo'!N57+'C4 Tk Ricalcolo'!N43+'C4 Tk Ricalcolo'!N47+'C4 Tk Ricalcolo'!N54+'C4 Tk Ricalcolo'!N60","v":29304.413721804514},{"$f":"'C4 Tk Ricalcolo'!O40+'C4 Tk Ricalcolo'!O51+'C4 Tk Ricalcolo'!O57+'C4 Tk Ricalcolo'!O43+'C4 Tk Ricalcolo'!O47+'C4 Tk Ricalcolo'!O54+'C4 Tk Ricalcolo'!O60","v":1387},{"$f":"'C4 Tk Ricalcolo'!P40+'C4 Tk Ricalcolo'!P51+'C4 Tk Ricalcolo'!P57+'C4 Tk Ricalcolo'!P43+'C4 Tk Ricalcolo'!P47+'C4 Tk Ricalcolo'!P54+'C4 Tk Ricalcolo'!P60","v":1387},{"$f":"'C4 Tk Ricalcolo'!Q40+'C4 Tk Ricalcolo'!Q51+'C4 Tk Ricalcolo'!Q57+'C4 Tk Ricalcolo'!Q43+'C4 Tk Ricalcolo'!Q47+'C4 Tk Ricalcolo'!Q54+'C4 Tk Ricalcolo'!Q60","v":1387},{"$f":"'C4 Tk Ricalcolo'!R40+'C4 Tk Ricalcolo'!R51+'C4 Tk Ricalcolo'!R57+'C4 Tk Ricalcolo'!R43+'C4 Tk Ricalcolo'!R47+'C4 Tk Ricalcolo'!R54+'C4 Tk Ricalcolo'!R60","v":1387},{"$f":"'C4 Tk Ricalcolo'!S40+'C4 Tk Ricalcolo'!S51+'C4 Tk Ricalcolo'!S57+'C4 Tk Ricalcolo'!S43+'C4 Tk Ricalcolo'!S47+'C4 Tk Ricalcolo'!S54+'C4 Tk Ricalcolo'!S60","v":1384.2259999999999}]
[null,null,"Cash flow",null,null,{"$f":"SUM(F34:F36)","v":-208421.05263157893},55710.631578947359,49707.392293233075,{"$f":"SUM(I34:I36)","v":46306.895864661652},42906.399436090229,39505.903007518798,36105.406578947368,32704.910150375941,29304.413721804514,1387,1387,1387,1407,11364.226000000001]
[]
[null,null,"Rendimento di progetto CIN ante",null,null,{"$f":"IRR(OFFSET(F37,0,0,1,ScadenzaConcessione-AnnoPonte+1))","v":0.13869999999999916}]
[null,null,null,null,"Check TIR",{"$f":"IF(ROUND(F39,10)=ROUND(TIR,10),\"ok\", \"no\")","v":"ok"}]
[null,null,null,null,"check VAN CIN ante (senza PF - TIR previgente)",{"$f":"NPV(TIR,OFFSET(F37,0,0,1,ScadenzaConcessione-AnnoPonte+1))","v":-3.5143380063237764E-11}]
[]
[null,null,"CIN pre2026"]
[]
[null,null,"Cash out investimenti",null,null,{"$f":"'C4 Tk Ricalcolo'!F135","v":-20000},{"$f":"'C4 Tk Ricalcolo'!G135","v":-9000},{"$f":"'C4 Tk Ricalcolo'!H135","v":-10000},{"$f":"'C4 Tk Ricalcolo'!I135","v":0},{"$f":"'C4 Tk Ricalcolo'!J135","v":0},{"$f":"'C4 Tk Ricalcolo'!K135","v":0},{"$f":"'C4 Tk Ricalcolo'!L135","v":0},{"$f":"'C4 Tk Ricalcolo'!M135","v":0},{"$f":"'C4 Tk Ricalcolo'!N135","v":0},{"$f":"'C4 Tk Ricalcolo'!O135","v":0},{"$f":"'C4 Tk Ricalcolo'!P135","v":0},{"$f":"'C4 Tk Ricalcolo'!Q135","v":0},{"$f":"'C4 Tk Ricalcolo'!R135","v":20},{"$f":"'C4 Tk Ricalcolo'!S135","v":0}]
[null,null,"Cash in valore di subentro",null,null,null,{"$f":"'C4 Tk Ricalcolo'!G136","v":""},{"$f":"'C4 Tk Ricalcolo'!H136","v":""},{"$f":"'C4 Tk Ricalcolo'!I136","v":""},{"$f":"'C4 Tk Ricalcolo'!J136","v":""},{"$f":"'C4 Tk Ricalcolo'!K136","v":""},{"$f":"'C4 Tk Ricalcolo'!L136","v":""},{"$f":"'C4 Tk Ricalcolo'!M136","v":""},{"$f":"'C4 Tk Ricalcolo'!N136","v":""},{"$f":"'C4 Tk Ricalcolo'!O136","v":""},{"$f":"'C4 Tk Ricalcolo'!P136","v":""},{"$f":"'C4 Tk Ricalcolo'!Q136","v":""},{"$f":"'C4 Tk Ricalcolo'!R136","v":""},{"$f":"'C4 Tk Ricalcolo'!S136","v":1000}]
[null,null,"Cash in ricavi",null,null,null,{"$f":"'C4 Tk Ricalcolo'!G137+'C4 Tk Ricalcolo'!G138","v":1502},{"$f":"'C4 Tk Ricalcolo'!H137+'C4 Tk Ricalcolo'!H138","v":2177.9},{"$f":"'C4 Tk Ricalcolo'!I137+'C4 Tk Ricalcolo'!I138","v":2928.9},{"$f":"'C4 Tk Ricalcolo'!J137+'C4 Tk Ricalcolo'!J138","v":2928.9},{"$f":"'C4 Tk Ricalcolo'!K137+'C4 Tk Ricalcolo'!K138","v":2928.9},{"$f":"'C4 Tk Ricalcolo'!L137+'C4 Tk Ricalcolo'!L138","v":2928.9},{"$f":"'C4 Tk Ricalcolo'!M137+'C4 Tk Ricalcolo'!M138","v":2928.9},{"$f":"'C4 Tk Ricalcolo'!N137+'C4 Tk Ricalcolo'!N138","v":2928.9},{"$f":"'C4 Tk Ricalcolo'!O137+'C4 Tk Ricalcolo'!O138","v":10528.9},{"$f":"'C4 Tk Ricalcolo'!P137+'C4 Tk Ricalcolo'!P138","v":9958.14},{"$f":"'C4 Tk Ricalcolo'!Q137+'C4 Tk Ricalcolo'!Q138","v":9387.3799999999992},{"$f":"'C4 Tk Ricalcolo'!R137+'C4 Tk Ricalcolo'!R138","v":8816.619999999999},{"$f":"'C4 Tk Ricalcolo'!S137+'C4 Tk Ricalcolo'!S138","v":8224.3580000000002}]
[null,null,"Cash flow",null,null,{"$f":"SUM(F45:F47)","v":-20000},-7498,-7822.1,{"$f":"SUM(I45:I47)","v":2928.9},2928.9,2928.9,2928.9,2928.9,2928.9,10528.9,9958.14,9387.3799999999992,8836.619999999999,9224.3580000000002]
[]
[null,null,"Rendimento di progetto",null,null,{"$f":"IRR(OFFSET(F48,0,0,1,ScadenzaConcessione-AnnoPonte+1))","v":7.5100000000143607E-2}]
[null,null,null,null,"Check WACC",{"$f":"IF(ROUND(F50,10)=ROUND(WACC,10),\"ok\", \"no\")","v":"ok"}]
[null,null,"VAN cash flow CIN post (senza PF - wacc)",null,"check VAN CIN ante (senza PF - WACC)",{"$f":"NPV(WACC,OFFSET(F48,0,0,1,ScadenzaConcessione-AnnoPonte+1))","v":1.0574536110279605E-11}]
[]
[null,null,"CIN ante - SAL da contabilizzare"]
[]
[null,null,"Cash out investimenti",null,null,{"$f":"-'C4 Tk Ricalcolo'!F69","v":-10000},{"$f":"-('C4 Tk Ricalcolo'!G66-'C4 Tk Ricalcolo'!G67+'C4 Tk Ricalcolo'!G74)","v":-9000},{"$f":"-('C4 Tk Ricalcolo'!H66-'C4 Tk Ricalcolo'!H67+'C4 Tk Ricalcolo'!H74)","v":-10000},{"$f":"-('C4 Tk Ricalcolo'!I66-'C4 Tk Ricalcolo'!I67+'C4 Tk Ricalcolo'!I74)","v":0},{"$f":"-('C4 Tk Ricalcolo'!J66-'C4 Tk Ricalcolo'!J67+'C4 Tk Ricalcolo'!J74)","v":0},{"$f":"-('C4 Tk Ricalcolo'!K66-'C4 Tk Ricalcolo'!K67+'C4 Tk Ricalcolo'!K74)","v":0},{"$f":"-('C4 Tk Ricalcolo'!L66-'C4 Tk Ricalcolo'!L67+'C4 Tk Ricalcolo'!L74)","v":0},{"$f":"-('C4 Tk Ricalcolo'!M66-'C4 Tk Ricalcolo'!M67+'C4 Tk Ricalcolo'!M74)","v":0},{"$f":"-('C4 Tk Ricalcolo'!N66-'C4 Tk Ricalcolo'!N67+'C4 Tk Ricalcolo'!N74)","v":0},{"$f":"-('C4 Tk Ricalcolo'!O66-'C4 Tk Ricalcolo'!O67+'C4 Tk Ricalcolo'!O74)","v":0},{"$f":"-('C4 Tk Ricalcolo'!P66-'C4 Tk Ricalcolo'!P67+'C4 Tk Ricalcolo'!P74)","v":0},{"$f":"-('C4 Tk Ricalcolo'!Q66-'C4 Tk Ricalcolo'!Q67+'C4 Tk Ricalcolo'!Q74)","v":0},{"$f":"-('C4 Tk Ricalcolo'!R66-'C4 Tk Ricalcolo'!R67+'C4 Tk Ricalcolo'!R74)","v":20},{"$f":"-('C4 Tk Ricalcolo'!S66-'C4 Tk Ricalcolo'!S67+'C4 Tk Ricalcolo'!S74)","v":0}]
[null,null,"Cash in valore di subentro",null,null,null,{"$f":"IF(G$4=ScadenzaConcessione,-SUM(OFFSET('C4 Tk Ricalcolo'!$G$67,0,0,1,ScadenzaConcessione-AnnoPonte)),\"\")","v":""},{"$f":"IF(H$4=ScadenzaConcessione,-SUM(OFFSET('C4 Tk Ricalcolo'!$G$67,0,0,1,ScadenzaConcessione-AnnoPonte)),\"\")","v":""},{"$f":"IF(I$4=ScadenzaConcessione,-SUM(OFFSET('C4 Tk Ricalcolo'!$G$67,0,0,1,ScadenzaConcessione-AnnoPonte)),\"\")","v":""},{"$f":"IF(J$4=ScadenzaConcessione,-SUM(OFFSET('C4 Tk Ricalcolo'!$G$67,0,0,1,ScadenzaConcessione-AnnoPonte)),\"\")","v":""},{"$f":"IF(K$4=ScadenzaConcessione,-SUM(OFFSET('C4 Tk Ricalcolo'!$G$67,0,0,1,ScadenzaConcessione-AnnoPonte)),\"\")","v":""},{"$f":"IF(L$4=ScadenzaConcessione,-SUM(OFFSET('C4 Tk Ricalcolo'!$G$67,0,0,1,ScadenzaConcessione-AnnoPonte)),\"\")","v":""},{"$f":"IF(M$4=ScadenzaConcessione,-SUM(OFFSET('C4 Tk Ricalcolo'!$G$67,0,0,1,ScadenzaConcessione-AnnoPonte)),\"\")","v":""},{"$f":"IF(N$4=ScadenzaConcessione,-SUM(OFFSET('C4 Tk Ricalcolo'!$G$67,0,0,1,ScadenzaConcessione-AnnoPonte)),\"\")","v":""},{"$f":"IF(O$4=ScadenzaConcessione,-SUM(OFFSET('C4 Tk Ricalcolo'!$G$67,0,0,1,ScadenzaConcessione-AnnoPonte)),\"\")","v":""},{"$f":"IF(P$4=ScadenzaConcessione,-SUM(OFFSET('C4 Tk Ricalcolo'!$G$67,0,0,1,ScadenzaConcessione-AnnoPonte)),\"\")","v":""},{"$f":"IF(Q$4=ScadenzaConcessione,-SUM(OFFSET('C4 Tk Ricalcolo'!$G$67,0,0,1,ScadenzaConcessione-AnnoPonte)),\"\")","v":""},{"$f":"IF(R$4=ScadenzaConcessione,-SUM(OFFSET('C4 Tk Ricalcolo'!$G$67,0,0,1,ScadenzaConcessione-AnnoPonte)),\"\")","v":""},{"$f":"IF(S$4=ScadenzaConcessione,-SUM(OFFSET('C4 Tk Ricalcolo'!$G$67,0,0,1,ScadenzaConcessione-AnnoPonte)),\"\")","v":-20}]
[null,null,"Cash in ricavi",null,null,null,{"$f":"'C4 Tk Ricalcolo'!G68+'C4 Tk Ricalcolo'!G75+'C4 Tk Ricalcolo'!G71+'C4 Tk Ricalcolo'!G78","v":2637},{"$f":"'C4 Tk Ricalcolo'!H68+'C4 Tk Ricalcolo'!H75+'C4 Tk Ricalcolo'!H71+'C4 Tk Ricalcolo'!H78","v":4997.6392857142864},{"$f":"'C4 Tk Ricalcolo'!I68+'C4 Tk Ricalcolo'!I75+'C4 Tk Ricalcolo'!I71+'C4 Tk Ricalcolo'!I78","v":7699.6023809523813},{"$f":"'C4 Tk Ricalcolo'!J68+'C4 Tk Ricalcolo'!J75+'C4 Tk Ricalcolo'!J71+'C4 Tk Ricalcolo'!J78","v":7116.7321428571422},{"$f":"'C4 Tk Ricalcolo'!K68+'C4 Tk Ricalcolo'!K75+'C4 Tk Ricalcolo'!K71+'C4 Tk Ricalcolo'!K78","v":6533.861904761905},{"$f":"'C4 Tk Ricalcolo'!L68+'C4 Tk Ricalcolo'!L75+'C4 Tk Ricalcolo'!L71+'C4 Tk Ricalcolo'!L78","v":5950.9916666666668},{"$f":"'C4 Tk Ricalcolo'!M68+'C4 Tk Ricalcolo'!M75+'C4 Tk Ricalcolo'!M71+'C4 Tk Ricalcolo'!M78","v":5368.1214285714286},{"$f":"'C4 Tk Ricalcolo'!N68+'C4 Tk Ricalcolo'!N75+'C4 Tk Ricalcolo'!N71+'C4 Tk Ricalcolo'!N78","v":4785.2511904761905},{"$f":"'C4 Tk Ricalcolo'!O68+'C4 Tk Ricalcolo'!O75+'C4 Tk Ricalcolo'!O71+'C4 Tk Ricalcolo'!O78","v":0},{"$f":"'C4 Tk Ricalcolo'!P68+'C4 Tk Ricalcolo'!P75+'C4 Tk Ricalcolo'!P71+'C4 Tk Ricalcolo'!P78","v":0},{"$f":"'C4 Tk Ricalcolo'!Q68+'C4 Tk Ricalcolo'!Q75+'C4 Tk Ricalcolo'!Q71+'C4 Tk Ricalcolo'!Q78","v":0},{"$f":"'C4 Tk Ricalcolo'!R68+'C4 Tk Ricalcolo'!R75+'C4 Tk Ricalcolo'!R71+'C4 Tk Ricalcolo'!R78","v":0},{"$f":"'C4 Tk Ricalcolo'!S68+'C4 Tk Ricalcolo'!S75+'C4 Tk Ricalcolo'!S71+'C4 Tk Ricalcolo'!S78","v":-2.774}]
[null,null,"Cash flow",null,null,{"$f":"SUM(F56:F58)","v":-10000},-6363,-5002.3607142857136,{"$f":"SUM(I56:I58)","v":7699.6023809523813},7116.7321428571422,6533.861904761905,5950.9916666666668,5368.1214285714286,4785.2511904761905,0,0,0,20,-22.774000000000001]
[]
[null,null,"Rendimento di progetto",null,null,{"$f":"IRR(OFFSET(F59,0,0,1,ScadenzaConcessione-AnnoPonte+1))","v":0.13869999999999294}]
[null,null,null,null,"Check TIR",{"$f":"IF(ROUND(F61,10)=ROUND(TIR,10),\"ok\", \"no\")","v":"ok"}]
[null,null,null,null,"check VAN CIN ante (senza PF - TIR previgente)",{"$f":"NPV(TIR,OFFSET(F59,0,0,1,ScadenzaConcessione-AnnoPonte+1))","v":-2.7954961413939129E-12}]
[]
[null,null,"CIN post2026"]
[]
[null,null,"Cash out investimenti",null,null,{"$f":"'C4 Tk Ricalcolo'!F654","v":0},{"$f":"'C4 Tk Ricalcolo'!G654","v":-49000},{"$f":"'C4 Tk Ricalcolo'!H654","v":-50160},{"$f":"'C4 Tk Ricalcolo'!I654","v":-360},{"$f":"'C4 Tk Ricalcolo'!J654","v":-360},{"$f":"'C4 Tk Ricalcolo'!K654","v":-360},{"$f":"'C4 Tk Ricalcolo'!L654","v":-360},{"$f":"'C4 Tk Ricalcolo'!M654","v":-360},{"$f":"'C4 Tk Ricalcolo'!N654","v":-360},{"$f":"'C4 Tk Ricalcolo'!O654","v":-360},{"$f":"'C4 Tk Ricalcolo'!P654","v":-360},{"$f":"'C4 Tk Ricalcolo'!Q654","v":-360},{"$f":"'C4 Tk Ricalcolo'!R654","v":-180},{"$f":"'C4 Tk Ricalcolo'!S654","v":200}]
[null,null,"Cash in valore di subentro",null,null,null,{"$f":"'C4 Tk Ricalcolo'!G655","v":""},{"$f":"'C4 Tk Ricalcolo'!H655","v":""},{"$f":"'C4 Tk Ricalcolo'!I655","v":""},{"$f":"'C4 Tk Ricalcolo'!J655","v":""},{"$f":"'C4 Tk Ricalcolo'!K655","v":""},{"$f":"'C4 Tk Ricalcolo'!L655","v":""},{"$f":"'C4 Tk Ricalcolo'!M655","v":""},{"$f":"'C4 Tk Ricalcolo'!N655","v":""},{"$f":"'C4 Tk Ricalcolo'!O655","v":""},{"$f":"'C4 Tk Ricalcolo'!P655","v":""},{"$f":"'C4 Tk Ricalcolo'!Q655","v":""},{"$f":"'C4 Tk Ricalcolo'!R655","v":""},{"$f":"'C4 Tk Ricalcolo'!S655","v":2639.0666666666666}]
[null,null,"Cash in ricavi",null,null,null,{"$f":"'C4 Tk Ricalcolo'!G656+'C4 Tk Ricalcolo'!G657","v":0},{"$f":"'C4 Tk Ricalcolo'!H656+'C4 Tk Ricalcolo'!H657","v":3679.9},{"$f":"'C4 Tk Ricalcolo'!I656+'C4 Tk Ricalcolo'!I657","v":7442.7559999999994},{"$f":"'C4 Tk Ricalcolo'!J656+'C4 Tk Ricalcolo'!J657","v":7478.8670999999995},{"$f":"'C4 Tk Ricalcolo'!K656+'C4 Tk Ricalcolo'!K657","v":7513.702299999999},{"$f":"'C4 Tk Ricalcolo'!L656+'C4 Tk Ricalcolo'!L657","v":7554.1733266666661},{"$f":"'C4 Tk Ricalcolo'!M656+'C4 Tk Ricalcolo'!M657","v":7590.2095533333322},{"$f":"'C4 Tk Ricalcolo'!N656+'C4 Tk Ricalcolo'!N657","v":7632.0613133333327},{"$f":"'C4 Tk Ricalcolo'!O656+'C4 Tk Ricalcolo'!O657","v":27472.561273333333},{"$f":"'C4 Tk Ricalcolo'!P656+'C4 Tk Ricalcolo'!P657","v":26022.729433333334},{"$f":"'C4 Tk Ricalcolo'!Q656+'C4 Tk Ricalcolo'!Q657","v":24594.695993333335},{"$f":"'C4 Tk Ricalcolo'!R656+'C4 Tk Ricalcolo'!R657","v":23133.400320000001},{"$f":"'C4 Tk Ricalcolo'!S656+'C4 Tk Ricalcolo'!S657","v":21645.762446666668}]
[null,null,"Cash flow",null,null,{"$f":"SUM(F67:F69)","v":0},-49000,-46480.1,{"$f":"SUM(I67:I69)","v":7082.7559999999994},7118.8670999999995,7153.702299999999,7194.1733266666661,7230.2095533333322,7272.0613133333327,27112.561273333333,25662.729433333334,24234.695993333335,22953.400320000001,24484.829113333333]
[]
[null,null,"Rendimento di progetto",null,null,{"$f":"IRR(OFFSET(F70,0,0,1,ScadenzaConcessione-AnnoPonte+1))","v":7.5068486066097506E-2}]
[null,null,null,null,"Check WACC",{"$f":"IF(ROUND(F72,10)=ROUND(WACC,10),\"ok\", \"no\")","v":"no"}]
[null,null,null,null,"check VAN CIN ante (senza PF - WACC)",{"$f":"NPV(WACC,OFFSET(F70,0,0,1,ScadenzaConcessione-AnnoPonte+1))","v":-17.447154855484285}]
[]
[null,null,"Totale"]
[]
[null,null,"Cash out investimenti",null,null,{"$f":"IFERROR(F34+F45+F56+F67,\"\")","v":-238421.05263157893},{"$f":"IFERROR(G34+G45+G56+G67,\"\")","v":-65000},-70160,-360,-360,-360,-360,-360,-360,-360,-360,-360,-120,200]
[null,null,"Cash in valore di subentro",null,null,null,{"$f":"IFERROR(G35+G46+G57+G68,\"\")","v":""},"","","","","","","","","","","",13599.066666666666]
[null,null,"Cash in ricavi",null,null,null,{"$f":"IFERROR(G36+G47+G58+G69,\"\")","v":57849.631578947359},60562.831578947364,64378.154245614038,60430.898678947371,56482.367212280704,52539.471572280701,48592.141132280703,44650.62622561404,39388.461273333334,37367.869433333333,35369.075993333332,33337.020319999996,31251.572446666669]
[null,null,"Cash flow",null,null,{"$f":"IFERROR(F37+F48+F59+F70,\"\")","v":-238421.05263157893},-7150.3684210526408,-9597.1684210526364,64018.154245614038,60070.898678947371,56122.367212280704,52179.471572280701,48232.141132280703,44290.62622561404,39028.461273333334,37007.869433333333,35009.075993333332,33217.020319999996,45050.639113333338]
[null,null,null,null,"check",{"$f":"F81-(F70+F48+F59+F37)","v":0},{"$f":"G81-(G70+G48+G59+G37)","v":0},0,0,0,0,0,0,0,0,0,0,0,0]
[]
[null,null,"Rendimento di progetto concessione (tasso blended)",null,null,{"$f":"IRR(OFFSET(F81,0,0,1,ScadenzaConcessione-AnnoPonte+1))","v":0.10851810011692065}]
[null,null,"VAN cash in ricavi complessivo (senza PF - tasso blended)",null,null,{"$f":"NPV(TassoBlended,OFFSET(F80,0,0,1,ScadenzaConcessione-AnnoPonte+1))","v":352204.37097696163}]
[]
[]
[]
[null,null,"Capex e Tk"]
[]
[null,null,"Totale ammortamenti e remunerazioni CIN ante - SAL contabilizzati",null,null,null,{"$f":"'C4 Tk Ricalcolo'!G40+'C4 Tk Ricalcolo'!G51+'C4 Tk Ricalcolo'!G57+'C4 Tk Ricalcolo'!G43+'C4 Tk Ricalcolo'!G47+'C4 Tk Ricalcolo'!G54+'C4 Tk Ricalcolo'!G60","v":53710.631578947359},{"$f":"'C4 Tk Ricalcolo'!H40+'C4 Tk Ricalcolo'!H51+'C4 Tk Ricalcolo'!H57+'C4 Tk Ricalcolo'!H43+'C4 Tk Ricalcolo'!H47+'C4 Tk Ricalcolo'!H54+'C4 Tk Ricalcolo'!H60","v":49707.392293233075},{"$f":"'C4 Tk Ricalcolo'!I40+'C4 Tk Ricalcolo'!I51+'C4 Tk Ricalcolo'!I57+'C4 Tk Ricalcolo'!I43+'C4 Tk Ricalcolo'!I47+'C4 Tk Ricalcolo'!I54+'C4 Tk Ricalcolo'!I60","v":46306.895864661652},{"$f":"'C4 Tk Ricalcolo'!J40+'C4 Tk Ricalcolo'!J51+'C4 Tk Ricalcolo'!J57+'C4 Tk Ricalcolo'!J43+'C4 Tk Ricalcolo'!J47+'C4 Tk Ricalcolo'!J54+'C4 Tk Ricalcolo'!J60","v":42906.399436090229},{"$f":"'C4 Tk Ricalcolo'!K40+'C4 Tk Ricalcolo'!K51+'C4 Tk Ricalcolo'!K57+'C4 Tk Ricalcolo'!K43+'C4 Tk Ricalcolo'!K47+'C4 Tk Ricalcolo'!K54+'C4 Tk Ricalcolo'!K60","v":39505.903007518798},{"$f":"'C4 Tk Ricalcolo'!L40+'C4 Tk Ricalcolo'!L51+'C4 Tk Ricalcolo'!L57+'C4 Tk Ricalcolo'!L43+'C4 Tk Ricalcolo'!L47+'C4 Tk Ricalcolo'!L54+'C4 Tk Ricalcolo'!L60","v":36105.406578947368},{"$f":"'C4 Tk Ricalcolo'!M40+'C4 Tk Ricalcolo'!M51+'C4 Tk Ricalcolo'!M57+'C4 Tk Ricalcolo'!M43+'C4 Tk Ricalcolo'!M47+'C4 Tk Ricalcolo'!M54+'C4 Tk Ricalcolo'!M60","v":32704.910150375941},{"$f":"'C4 Tk Ricalcolo'!N40+'C4 Tk Ricalcolo'!N51+'C4 Tk Ricalcolo'!N57+'C4 Tk Ricalcolo'!N43+'C4 Tk Ricalcolo'!N47+'C4 Tk Ricalcolo'!N54+'C4 Tk Ricalcolo'!N60","v":29304.413721804514},{"$f":"'C4 Tk Ricalcolo'!O40+'C4 Tk Ricalcolo'!O51+'C4 Tk Ricalcolo'!O57+'C4 Tk Ricalcolo'!O43+'C4 Tk Ricalcolo'!O47+'C4 Tk Ricalcolo'!O54+'C4 Tk Ricalcolo'!O60","v":1387},{"$f":"'C4 Tk Ricalcolo'!P40+'C4 Tk Ricalcolo'!P51+'C4 Tk Ricalcolo'!P57+'C4 Tk Ricalcolo'!P43+'C4 Tk Ricalcolo'!P47+'C4 Tk Ricalcolo'!P54+'C4 Tk Ricalcolo'!P60","v":1387},{"$f":"'C4 Tk Ricalcolo'!Q40+'C4 Tk Ricalcolo'!Q51+'C4 Tk Ricalcolo'!Q57+'C4 Tk Ricalcolo'!Q43+'C4 Tk Ricalcolo'!Q47+'C4 Tk Ricalcolo'!Q54+'C4 Tk Ricalcolo'!Q60","v":1387},{"$f":"'C4 Tk Ricalcolo'!R40+'C4 Tk Ricalcolo'!R51+'C4 Tk Ricalcolo'!R57+'C4 Tk Ricalcolo'!R43+'C4 Tk Ricalcolo'!R47+'C4 Tk Ricalcolo'!R54+'C4 Tk Ricalcolo'!R60","v":1387},{"$f":"'C4 Tk Ricalcolo'!S40+'C4 Tk Ricalcolo'!S51+'C4 Tk Ricalcolo'!S57+'C4 Tk Ricalcolo'!S43+'C4 Tk Ricalcolo'!S47+'C4 Tk Ricalcolo'!S54+'C4 Tk Ricalcolo'!S60","v":1384.2259999999999}]
[null,null,"Totale ammortamenti e remunerazioni CIN pre2026",null,null,null,{"$f":"'C4 Tk Ricalcolo'!G130+'C4 Tk Ricalcolo'!G131","v":1502},{"$f":"'C4 Tk Ricalcolo'!H130+'C4 Tk Ricalcolo'!H131","v":2177.9},{"$f":"'C4 Tk Ricalcolo'!I130+'C4 Tk Ricalcolo'!I131","v":2928.9},{"$f":"'C4 Tk Ricalcolo'!J130+'C4 Tk Ricalcolo'!J131","v":2928.9},{"$f":"'C4 Tk Ricalcolo'!K130+'C4 Tk Ricalcolo'!K131","v":2928.9},{"$f":"'C4 Tk Ricalcolo'!L130+'C4 Tk Ricalcolo'!L131","v":2928.9},{"$f":"'C4 Tk Ricalcolo'!M130+'C4 Tk Ricalcolo'!M131","v":2928.9},{"$f":"'C4 Tk Ricalcolo'!N130+'C4 Tk Ricalcolo'!N131","v":2928.9},{"$f":"'C4 Tk Ricalcolo'!O130+'C4 Tk Ricalcolo'!O131","v":10528.9},{"$f":"'C4 Tk Ricalcolo'!P130+'C4 Tk Ricalcolo'!P131","v":9958.14},{"$f":"'C4 Tk Ricalcolo'!Q130+'C4 Tk Ricalcolo'!Q131","v":9387.3799999999992},{"$f":"'C4 Tk Ricalcolo'!R130+'C4 Tk Ricalcolo'!R131","v":8816.619999999999},{"$f":"'C4 Tk Ricalcolo'!S130+'C4 Tk Ricalcolo'!S131","v":8224.3580000000002}]
[null,null,"Totale ammortamenti CIN ante - SAL da contabilizzare",null,null,null,{"$f":"'C4 Tk Ricalcolo'!G68+'C4 Tk Ricalcolo'!G75","v":1250},{"$f":"'C4 Tk Ricalcolo'!H68+'C4 Tk Ricalcolo'!H75","v":2535.7142857142858},{"$f":"'C4 Tk Ricalcolo'!I68+'C4 Tk Ricalcolo'!I75","v":4202.3809523809523},{"$f":"'C4 Tk Ricalcolo'!J68+'C4 Tk Ricalcolo'!J75","v":4202.3809523809523},{"$f":"'C4 Tk Ricalcolo'!K68+'C4 Tk Ricalcolo'!K75","v":4202.3809523809523},{"$f":"'C4 Tk Ricalcolo'!L68+'C4 Tk Ricalcolo'!L75","v":4202.3809523809523},{"$f":"'C4 Tk Ricalcolo'!M68+'C4 Tk Ricalcolo'!M75","v":4202.3809523809523},{"$f":"'C4 Tk Ricalcolo'!N68+'C4 Tk Ricalcolo'!N75","v":4202.3809523809523},{"$f":"'C4 Tk Ricalcolo'!O68+'C4 Tk Ricalcolo'!O75","v":0},{"$f":"'C4 Tk Ricalcolo'!P68+'C4 Tk Ricalcolo'!P75","v":0},{"$f":"'C4 Tk Ricalcolo'!Q68+'C4 Tk Ricalcolo'!Q75","v":0},{"$f":"'C4 Tk Ricalcolo'!R68+'C4 Tk Ricalcolo'!R75","v":0},{"$f":"'C4 Tk Ricalcolo'!S68+'C4 Tk Ricalcolo'!S75","v":0}]
[null,null,"Totale remunerazioni CIN ante - SAL da contabilizzare",null,null,null,{"$f":"'C4 Tk Ricalcolo'!G71+'C4 Tk Ricalcolo'!G78","v":1387},{"$f":"'C4 Tk Ricalcolo'!H71+'C4 Tk Ricalcolo'!H78","v":2461.9250000000002},{"$f":"'C4 Tk Ricalcolo'!I71+'C4 Tk Ricalcolo'!I78","v":3497.2214285714285},{"$f":"'C4 Tk Ricalcolo'!J71+'C4 Tk Ricalcolo'!J78","v":2914.3511904761904},{"$f":"'C4 Tk Ricalcolo'!K71+'C4 Tk Ricalcolo'!K78","v":2331.4809523809522},{"$f":"'C4 Tk Ricalcolo'!L71+'C4 Tk Ricalcolo'!L78","v":1748.6107142857143},{"$f":"'C4 Tk Ricalcolo'!M71+'C4 Tk Ricalcolo'!M78","v":1165.7404761904761},{"$f":"'C4 Tk Ricalcolo'!N71+'C4 Tk Ricalcolo'!N78","v":582.87023809523805},{"$f":"'C4 Tk Ricalcolo'!O71+'C4 Tk Ricalcolo'!O78","v":0},{"$f":"'C4 Tk Ricalcolo'!P71+'C4 Tk Ricalcolo'!P78","v":0},{"$f":"'C4 Tk Ricalcolo'!Q71+'C4 Tk Ricalcolo'!Q78","v":0},{"$f":"'C4 Tk Ricalcolo'!R71+'C4 Tk Ricalcolo'!R78","v":0},{"$f":"'C4 Tk Ricalcolo'!S71+'C4 Tk Ricalcolo'!S78","v":-2.774}]
[null,null,"Totale ammortamenti CIN post2026",null,null,null,{"$f":"'C4 Tk Ricalcolo'!G649","v":0},{"$f":"'C4 Tk Ricalcolo'!H649","v":0},{"$f":"'C4 Tk Ricalcolo'!I649","v":-1},{"$f":"'C4 Tk Ricalcolo'!J649","v":8},{"$f":"'C4 Tk Ricalcolo'!K649","v":16.399999999999999},{"$f":"'C4 Tk Ricalcolo'!L649","v":31.066666666666666},{"$f":"'C4 Tk Ricalcolo'!M649","v":42.400000000000006},{"$f":"'C4 Tk Ricalcolo'!N649","v":60.400000000000006},{"$f":"'C4 Tk Ricalcolo'!O649","v":19878.400000000001},{"$f":"'C4 Tk Ricalcolo'!P649","v":19894.400000000001},{"$f":"'C4 Tk Ricalcolo'!Q649","v":19933.400000000001},{"$f":"'C4 Tk Ricalcolo'!R649","v":19942.066666666666},{"$f":"'C4 Tk Ricalcolo'!S649","v":19935.400000000001}]
[null,null,"Totale remunerazioni CIN post2026",null,null,null,{"$f":"'C4 Tk Ricalcolo'!G650","v":0},{"$f":"'C4 Tk Ricalcolo'!H650","v":3679.9},{"$f":"'C4 Tk Ricalcolo'!I650","v":7443.7560000000003},{"$f":"'C4 Tk Ricalcolo'!J650","v":7470.8671000000004},{"$f":"'C4 Tk Ricalcolo'!K650","v":7497.3023000000003},{"$f":"'C4 Tk Ricalcolo'!L650","v":7523.1066600000004},{"$f":"'C4 Tk Ricalcolo'!M650","v":7547.8095533333335},{"$f":"'C4 Tk Ricalcolo'!N650","v":7571.6613133333331},{"$f":"'C4 Tk Ricalcolo'!O650","v":7594.1612733333332},{"$f":"'C4 Tk Ricalcolo'!P650","v":6128.3294333333333},{"$f":"'C4 Tk Ricalcolo'!Q650","v":4661.2959933333332},{"$f":"'C4 Tk Ricalcolo'!R650","v":3191.3336533333331},{"$f":"'C4 Tk Ricalcolo'!S650","v":1710.3624466666668}]
[null,null,"Totale capex",null,null,null,{"$f":"SUM(G91:G96)","v":57849.631578947359},60562.831578947364,{"$f":"SUM(I91:I96)","v":64378.154245614038},60430.898678947378,56482.367212280711,52539.471572280701,48592.141132280703,44650.62622561404,39388.461273333334,37367.869433333333,35369.075993333332,33337.020319999996,31251.572446666669]
[]
[null,null,"Tk",null,null,null,{"$f":"G97/(G25*G10)","v":5.511766064817919E-2},5.7415650490182012E-2,6.0729062488723687E-2,5.6721936146539143E-2,5.2751986917716348E-2,4.8825373118855264E-2,4.4932423601132074E-2,4.1082352163057362E-2,3.6060413327043989E-2,3.4040345558281282E-2,3.2059243913384647E-2,3.0067012599288807E-2,2.8045895541324885E-2]
[]
[]
[]
[null,null,"Poste figurative"]
[]
[null,null,"Calcolo poste figurative totali"]
[]
[null,null,"mu",{"$f":"'Z0.1 Dati generali'!E117","v":1.3}]
[null,null,"tau",{"$f":"'Z0.1 Dati generali'!E118","v":1}]
[]
[null,null,"Tk iniziale",null,null,{"$f":"OFFSET(RifTkIni,0,AnnoPonte-UltimoAnnoRTP+2,1,1)","v":4.7768406777044997E-2}]
[null,null,"Tk iniziale + inflazione",null,null,{"$f":"F110","v":4.7768406777044997E-2},{"$f":"F111*(1+G22)","v":4.8676006505808847E-2},4.9552174622913406E-2,5.0543218115371671E-2,5.1554082477679106E-2,5.2585164127232686E-2,5.3636867409777342E-2,5.4709604757972888E-2,5.5803796853132345E-2,5.6919872790194996E-2,5.8058270245998897E-2,5.9219435650918875E-2,6.0403824363937257E-2,6.1611900851216005E-2]
[]
[null,null,"Variazione tariffaria nominale bloccata",null,null,null,{"$f":"IF('Z0.1 Dati generali'!H120=\"\",\"\",'Z0.1 Dati generali'!H120)","v":1.4999999999999999E-2},{"$f":"IF('Z0.1 Dati generali'!I120=\"\",\"\",'Z0.1 Dati generali'!I120)","v":""},{"$f":"IF('Z0.1 Dati generali'!J120=\"\",\"\",'Z0.1 Dati generali'!J120)","v":""},{"$f":"IF('Z0.1 Dati generali'!K120=\"\",\"\",'Z0.1 Dati generali'!K120)","v":""},{"$f":"IF('Z0.1 Dati generali'!L120=\"\",\"\",'Z0.1 Dati generali'!L120)","v":""},{"$f":"IF('Z0.1 Dati generali'!M120=\"\",\"\",'Z0.1 Dati generali'!M120)","v":""},{"$f":"IF('Z0.1 Dati generali'!N120=\"\",\"\",'Z0.1 Dati generali'!N120)","v":""},{"$f":"IF('Z0.1 Dati generali'!O120=\"\",\"\",'Z0.1 Dati generali'!O120)","v":""},{"$f":"IF('Z0.1 Dati generali'!P120=\"\",\"\",'Z0.1 Dati generali'!P120)","v":""},{"$f":"IF('Z0.1 Dati generali'!Q120=\"\",\"\",'Z0.1 Dati generali'!Q120)","v":""},{"$f":"IF('Z0.1 Dati generali'!R120=\"\",\"\",'Z0.1 Dati generali'!R120)","v":""},{"$f":"IF('Z0.1 Dati generali'!S120=\"\",\"\",'Z0.1 Dati generali'!S120)","v":""},{"$f":"IF('Z0.1 Dati generali'!T120=\"\",\"\",'Z0.1 Dati generali'!T120)","v":""}]
[]
[null,null,null,null,null,"Linearizzazione",false]
[null,null,"Incremento percentuale linearizzato teorico",null,null,null,4.1230877468383026E-2]
[null,null,"Incremento percentuale tariffario annuo",null,null,null,7.7770519030931851E-2]
[null,null,"Incremento percentuale tariffario annuo applicabile",null,null,null,{"$f":"IF(G113<>\"\",G113,IF(G133<=PFanniPost2026,IncremPF,G99/F119-1))","v":1.4999999999999999E-2},{"$f":"IF(H113<>\"\",H113,\n  IF(H133<=PFanniPre2026,\n   IF(G113<>\"\",IncremPF,IF(Lin,IncremPF,IF(IncremPF_lin<(tau*H$22),G118,MAX(G118/mu,H$22*tau)))),\n    IF(AND(H133>PFanniPre2026,H133<=PFanniPost2026),\n     IF(G113<>\"\",IncremPF,IF(Lin,IncremPF,IF(IncremPF_lin<(tau*H$22),G118,MAX(G118/mu,H$22*tau)))),\n     H99/G119-1)))","v":7.7770519030931851E-2},5.9823476177639882E-2,4.6018058598184523E-2,3.5398506613988093E-2,2.7229620472298533E-2,2.0945861901768101E-2,0.02,0.02,0.02,0.02,0.02,0.02]
[null,null,"Tk con poste figurative",null,null,{"$f":"F110","v":4.7768406777044997E-2},{"$f":"F119*(1+G118)","v":4.8484932878700669E-2},5.2255631273857114E-2,5.5381744786516245E-2,5.7930305163371845E-2,5.9980951453847811E-2,6.1614209997503451E-2,6.2904772731297701E-2,6.4162868185923649E-2,6.5446125549642117E-2,6.6755048060634967E-2,6.8090149021847665E-2,6.9451952002284614E-2,7.0840991042330312E-2]
[]
[null,null,"Totale ricavi da Tk con PF",null,null,null,{"$f":"G119*G25","v":50888.144946251145},55119.971103198601,58709.526578310033,61718.281137725666,64222.531201387334,66301.142783530318,68028.326751024564,69735.837752475258,71486.207280062357,73280.511082791942,75119.851910970014,77005.360193935339,78938.194734803124]
[]
[null,null,"Totale PF",null,null,null,{"$f":"G121-G97","v":-6961.4866326962147},-5442.8604757487628,-5668.6276673040047,1287.3824587782874,7740.1639891066225,13761.671211249617,19436.185618743861,25085.211526861218,32097.746006729023,35912.641649458608,39750.775917636682,43668.339873935343,47686.622288136452]
[null,null,"PF unitaria",null,null,null,{"$f":"G119-G99","v":-6.6327277694785206E-3},-5.1600192163248973E-3,-5.3473177022074422E-3,1.2083690168327027E-3,7.2289645361314631E-3,1.2788836878648187E-2,1.7972349130165627E-2,2.3080516022866288E-2,2.9385712222598129E-2,3.2714702502353685E-2,3.6030905108463018E-2,3.9384939402995811E-2,4.2795095501005423E-2]
[null,null,"PF a debito",null,null,null,{"$f":"IF(G123>=0,TRUE,FALSE)","v":false},{"$f":"IF(H123>=0,TRUE,FALSE)","v":false},false,true,true,true,true,true,true,true,true,true,true]
[]
[null,null,"Scomposizione"]
[]
[null,null,"Identificazione fase di accumulo"]
[null,null,"PF totali a debito e SaldoPF totale positivo",null,null,null,{"$f":"AND(G$123>0,G$197>=0)","v":false},false,false,false,false,false,false,false,false,false,false,false,false]
[null,null,"PF totali a credito e Saldo PF totale negativo",null,null,null,{"$f":"AND(G$123<=0,G$197<=0)","v":true},true,true,false,false,false,false,false,false,false,false,false,false]
[null,null,"Annualità di avvio ciclo di accumulo/recupero",2025]
[null,null,"Durata ciclo di accumulo/recupero",null,null,null,{"$f":"IF(G5=AnnoInversione,1,F133+1)","v":1},2,3,4,5,6,7,8,9,10,11,12,13]
[]
[null,null,"Componente CIN ante (i saldi includono la parte residua a EOP Anno ponte del credito di PF maturato prima dell'entrata in vigore del Sistema tariffario ART)"]
[null,null,"tasso di attualizzazione",null,null,null,{"$f":"INDEX('Z0.1 Dati generali'!$122:$122,MATCH(G$4,'Z0.1 Dati generali'!$23:$23,0))","v":0.13869999999999999},{"$f":"INDEX('Z0.1 Dati generali'!$122:$122,MATCH(H$4,'Z0.1 Dati generali'!$23:$23,0))","v":0.13869999999999999},{"$f":"INDEX('Z0.1 Dati generali'!$122:$122,MATCH(I$4,'Z0.1 Dati generali'!$23:$23,0))","v":0.13869999999999999},{"$f":"INDEX('Z0.1 Dati generali'!$122:$122,MATCH(J$4,'Z0.1 Dati generali'!$23:$23,0))","v":0.13869999999999999},{"$f":"INDEX('Z0.1 Dati generali'!$122:$122,MATCH(K$4,'Z0.1 Dati generali'!$23:$23,0))","v":0.13869999999999999},{"$f":"INDEX('Z0.1 Dati generali'!$122:$122,MATCH(L$4,'Z0.1 Dati generali'!$23:$23,0))","v":0.13869999999999999},{"$f":"INDEX('Z0.1 Dati generali'!$122:$122,MATCH(M$4,'Z0.1 Dati generali'!$23:$23,0))","v":0.13869999999999999},{"$f":"INDEX('Z0.1 Dati generali'!$122:$122,MATCH(N$4,'Z0.1 Dati generali'!$23:$23,0))","v":0.13869999999999999},{"$f":"INDEX('Z0.1 Dati generali'!$122:$122,MATCH(O$4,'Z0.1 Dati generali'!$23:$23,0))","v":0.13869999999999999},{"$f":"INDEX('Z0.1 Dati generali'!$122:$122,MATCH(P$4,'Z0.1 Dati generali'!$23:$23,0))","v":0.13869999999999999},{"$f":"INDEX('Z0.1 Dati generali'!$122:$122,MATCH(Q$4,'Z0.1 Dati generali'!$23:$23,0))","v":0.13869999999999999},{"$f":"INDEX('Z0.1 Dati generali'!$122:$122,MATCH(R$4,'Z0.1 Dati generali'!$23:$23,0))","v":0.13869999999999999},{"$f":"INDEX('Z0.1 Dati generali'!$122:$122,MATCH(S$4,'Z0.1 Dati generali'!$23:$23,0))","v":0.13869999999999999}]
[null,null,"Esclusione recupero",null,null,null,{"$f":"IF(OR(G$133>PFanniPre2026,AND(NOT(PFderogaCINpre2026),AmmAnticipo,G$133>AmmAnticipoAnniCINante)),TRUE,FALSE)","v":false},false,false,false,false,false,false,true,true,true,true,true,true]
[]
[null,null,"Saldo PF CIN ante - BOP",null,null,null,{"$f":"(F141)*(1+G136)","v":-93620.377501792071},{"$f":"(G141)*(1+H136)","v":-113965.40797257387},-134859.28815560363,-158207.22563953081,-178684.62542992292,-194654.45824265751,-205982.61659266416,0,0,0,0,0,0]
[null,null,"Componente PF CIN ante","VAN",{"$f":"NPV(AVERAGE(OFFSET(G136,0,0,1,ScadenzaConcessione-AnnoPonte)),\nOFFSET(G140,0,0,1,ScadenzaConcessione-AnnoPonte))+F141","v":0},null,{"$f":"IF(G137,0,\nIF(AND(NOT(G137),H137),-G139,IF(OR(G$130,G$131),G$123*G$91/G$97,\nIF(G139=0,0,\nIF(OR(AND(G$123>=0,G$123+G139<=0),AND(G$123<0,G$123+G139>0)),G123,-G139)))))","v":-6463.4092485142992},-4467.26802251143,-4077.416542324524,1287.3824587782874,7740.1639891066225,13761.671211249617,205982.61659266416,0,0,0,0,0,0]
[null,null,"Saldo PF CIN ante - EOP",null,null,{"$f":"(OFFSET('Z0.2.a PR Pregressi'!E$759,0,AnnoPonte-UltimoAnnoRTP,1,1))","v":-82216.89426696414},{"$f":"(G140+G139)","v":-100083.78675030638},-118432.6759950853,-138936.70469792816,-156919.84318075253,-170944.46144081629,-180892.78703140788,0,0,0,0,0,0,0]
[]
[null,null,"Residuo PF",null,null,null,{"$f":"G123-G140","v":-498.07738418191548},-975.59245323733285,-1591.2111249794807,0,0,0,-186546.4309739203,25085.211526861218,32097.746006729023,35912.641649458608,39750.775917636682,43668.339873935343,47686.622288136452]
[]
[null,null,"Componente CIN pre2026"]
[null,null,"tasso di attualizzazione",null,null,null,{"$f":"INDEX('Z0.1 Dati generali'!$123:$123,MATCH(G$4,'Z0.1 Dati generali'!$23:$23,0))","v":7.51E-2},{"$f":"INDEX('Z0.1 Dati generali'!$123:$123,MATCH(H$4,'Z0.1 Dati generali'!$23:$23,0))","v":7.51E-2},{"$f":"INDEX('Z0.1 Dati generali'!$123:$123,MATCH(I$4,'Z0.1 Dati generali'!$23:$23,0))","v":7.51E-2},{"$f":"INDEX('Z0.1 Dati generali'!$123:$123,MATCH(J$4,'Z0.1 Dati generali'!$23:$23,0))","v":7.51E-2},{"$f":"INDEX('Z0.1 Dati generali'!$123:$123,MATCH(K$4,'Z0.1 Dati generali'!$23:$23,0))","v":7.51E-2},{"$f":"INDEX('Z0.1 Dati generali'!$123:$123,MATCH(L$4,'Z0.1 Dati generali'!$23:$23,0))","v":7.51E-2},{"$f":"INDEX('Z0.1 Dati generali'!$123:$123,MATCH(M$4,'Z0.1 Dati generali'!$23:$23,0))","v":7.51E-2},{"$f":"INDEX('Z0.1 Dati generali'!$123:$123,MATCH(N$4,'Z0.1 Dati generali'!$23:$23,0))","v":7.51E-2},{"$f":"INDEX('Z0.1 Dati generali'!$123:$123,MATCH(O$4,'Z0.1 Dati generali'!$23:$23,0))","v":7.51E-2},{"$f":"INDEX('Z0.1 Dati generali'!$123:$123,MATCH(P$4,'Z0.1 Dati generali'!$23:$23,0))","v":7.51E-2},{"$f":"INDEX('Z0.1 Dati generali'!$123:$123,MATCH(Q$4,'Z0.1 Dati generali'!$23:$23,0))","v":7.51E-2},{"$f":"INDEX('Z0.1 Dati generali'!$123:$123,MATCH(R$4,'Z0.1 Dati generali'!$23:$23,0))","v":7.51E-2},{"$f":"INDEX('Z0.1 Dati generali'!$123:$123,MATCH(S$4,'Z0.1 Dati generali'!$23:$23,0))","v":7.51E-2}]
[null,null,"Esclusione recupero",null,null,null,{"$f":"IF(G$133>PFanniPre2026,TRUE,FALSE)","v":false},false,false,false,false,false,false,false,false,false,true,true,true]
[]
[null,null,"Saldo PF CIN pre2026 - BOP",null,null,null,{"$f":"(F151)*(1+G146)","v":0},{"$f":"(G151)*(1+H146)","v":-194.32120309070643},-419.3448083124303,-728.1011773168068,-782.78157573329895,-841.56847207086969,-904.77026432339198,0,0,0,0,0,0]
[null,null,"Componente PF CIN pre2026","VAN",{"$f":"NPV(AVERAGE(OFFSET(G146,0,0,1,ScadenzaConcessione-AnnoPonte)),\nOFFSET(G150,0,0,1,ScadenzaConcessione-AnnoPonte))+F151","v":1.0574536110279605E-13},null,{"$f":"IF(G147,0,\n IF(AND(NOT(G147),H147),-G149,IF(OR(G$130,G$131),G$123*G$92/G$97,\n    IF(G149=0,0,\n     IF(OR(AND(G143>=0,G143+G149<=0),AND(G143<0,G143+G149>0)),G143,-G149)))))","v":-180.74709616845544},-195.73070678970498,-257.89561333839919,0,0,0,904.77026432339198,0,0,0,0,0,0]
[null,null,"Saldo PF CIN pre2026 - EOP",null,null,{"$f":"(OFFSET('Z0.2.a PR Pregressi'!E$760,0,AnnoPonte-UltimoAnnoRTP,1,1))","v":0},{"$f":"(G150+G149)","v":-180.74709616845544},-390.05190988041142,-677.24042165082949,-728.1011773168068,-782.78157573329895,-841.56847207086969,0,0,0,0,0,0,0]
[]
[null,null,"Residuo PF",null,null,null,{"$f":"G143-G150","v":-317.33028801346006},{"$f":"H143-H150","v":-779.86174644762787},-1333.3155116410815,0,0,0,-187451.2012382437,25085.211526861218,32097.746006729023,35912.641649458608,39750.775917636682,43668.339873935343,47686.622288136452]
[]
[null,null,"Componente ammortamenti CIN ante - SAL da contabilizzare"]
[null,null,"tasso di attualizzazione",null,null,null,{"$f":"INDEX('Z0.1 Dati generali'!$122:$122,MATCH(G$4,'Z0.1 Dati generali'!$23:$23,0))","v":0.13869999999999999},{"$f":"INDEX('Z0.1 Dati generali'!$122:$122,MATCH(H$4,'Z0.1 Dati generali'!$23:$23,0))","v":0.13869999999999999},{"$f":"INDEX('Z0.1 Dati generali'!$122:$122,MATCH(I$4,'Z0.1 Dati generali'!$23:$23,0))","v":0.13869999999999999},{"$f":"INDEX('Z0.1 Dati generali'!$122:$122,MATCH(J$4,'Z0.1 Dati generali'!$23:$23,0))","v":0.13869999999999999},{"$f":"INDEX('Z0.1 Dati generali'!$122:$122,MATCH(K$4,'Z0.1 Dati generali'!$23:$23,0))","v":0.13869999999999999},{"$f":"INDEX('Z0.1 Dati generali'!$122:$122,MATCH(L$4,'Z0.1 Dati generali'!$23:$23,0))","v":0.13869999999999999},{"$f":"INDEX('Z0.1 Dati generali'!$122:$122,MATCH(M$4,'Z0.1 Dati generali'!$23:$23,0))","v":0.13869999999999999},{"$f":"INDEX('Z0.1 Dati generali'!$122:$122,MATCH(N$4,'Z0.1 Dati generali'!$23:$23,0))","v":0.13869999999999999},{"$f":"INDEX('Z0.1 Dati generali'!$122:$122,MATCH(O$4,'Z0.1 Dati generali'!$23:$23,0))","v":0.13869999999999999},{"$f":"INDEX('Z0.1 Dati generali'!$122:$122,MATCH(P$4,'Z0.1 Dati generali'!$23:$23,0))","v":0.13869999999999999},{"$f":"INDEX('Z0.1 Dati generali'!$122:$122,MATCH(Q$4,'Z0.1 Dati generali'!$23:$23,0))","v":0.13869999999999999},{"$f":"INDEX('Z0.1 Dati generali'!$122:$122,MATCH(R$4,'Z0.1 Dati generali'!$23:$23,0))","v":0.13869999999999999},{"$f":"INDEX('Z0.1 Dati generali'!$122:$122,MATCH(S$4,'Z0.1 Dati generali'!$23:$23,0))","v":0.13869999999999999}]
[null,null,"Esclusione recupero",null,null,null,{"$f":"IF(OR(G$133>PFanniPre2026,AND(NOT(PFderogaCINpre2026),AmmAnticipo,G$133>AmmAnticipoAnniCINante)),TRUE,FALSE)","v":false},false,false,false,false,false,false,true,true,true,true,true,true]
[]
[null,null,"Saldo PF ammortamenti CIN post2026 -BOP",null,null,null,{"$f":"(F161)*(1+G156)","v":0},{"$f":"(G161)*(1+H156)","v":-171.2855512708224},-454.53885703730464,-938.9345149303673,-1069.1647321512094,-1217.4578805005822,-1386.319288526013,0,0,0,0,0,0]
[null,null,"Componente PF ammortamenti CIN post2026","VAN",{"$f":"NPV(AVERAGE(OFFSET(G156,0,0,1,ScadenzaConcessione-AnnoPonte)),\nOFFSET(G160,0,0,1,ScadenzaConcessione-AnnoPonte))+F161","v":9.9839147906925466E-14},null,{"$f":"IF(G157,0,\n IF(OR(G$130,G$131),G$123*G$93/G$97,\n IF(G159=0,0,\n IF(OR(AND(G153>=0,G153+G159<=0),AND(G153<0,G153+G159>0)),G153,-G159))))","v":-150.42201745044559},-227.88794221938977,-370.0282062193628,0,0,0,1386.319288526013,0,0,0,0,0,0]
[null,null,"Saldo PF ammortamenti CIN post2026 - EOP",null,null,{"$f":"(OFFSET('Z0.2.a PR Pregressi'!E$761,0,AnnoPonte-UltimoAnnoRTP,1,1))","v":0},{"$f":"(G160+G159)","v":-150.42201745044559},-399.17349349021219,-824.56706325666744,-938.9345149303673,-1069.1647321512094,-1217.4578805005822,0,0,0,0,0,0,0]
[]
[null,null,"Residuo PF",null,null,null,{"$f":"G153-G160","v":-166.90827056301447},{"$f":"H153-H160","v":-551.97380422823812},-963.28730542171866,0,0,0,-188837.52052676972,25085.211526861218,32097.746006729023,35912.641649458608,39750.775917636682,43668.339873935343,47686.622288136452]
[]
[null,null,"Componente ammortamenti CIN post2026"]
[null,null,"tasso di attualizzazione",null,null,null,{"$f":"INDEX('Z0.1 Dati generali'!$124:$124,MATCH(G$4,'Z0.1 Dati generali'!$23:$23,0))","v":7.51E-2},{"$f":"INDEX('Z0.1 Dati generali'!$124:$124,MATCH(H$4,'Z0.1 Dati generali'!$23:$23,0))","v":7.51E-2},{"$f":"INDEX('Z0.1 Dati generali'!$124:$124,MATCH(I$4,'Z0.1 Dati generali'!$23:$23,0))","v":7.51E-2},{"$f":"INDEX('Z0.1 Dati generali'!$124:$124,MATCH(J$4,'Z0.1 Dati generali'!$23:$23,0))","v":7.51E-2},{"$f":"INDEX('Z0.1 Dati generali'!$124:$124,MATCH(K$4,'Z0.1 Dati generali'!$23:$23,0))","v":7.51E-2},{"$f":"INDEX('Z0.1 Dati generali'!$124:$124,MATCH(L$4,'Z0.1 Dati generali'!$23:$23,0))","v":7.51E-2},{"$f":"INDEX('Z0.1 Dati generali'!$124:$124,MATCH(M$4,'Z0.1 Dati generali'!$23:$23,0))","v":7.51E-2},{"$f":"INDEX('Z0.1 Dati generali'!$124:$124,MATCH(N$4,'Z0.1 Dati generali'!$23:$23,0))","v":7.51E-2},{"$f":"INDEX('Z0.1 Dati generali'!$124:$124,MATCH(O$4,'Z0.1 Dati generali'!$23:$23,0))","v":7.51E-2},{"$f":"INDEX('Z0.1 Dati generali'!$124:$124,MATCH(P$4,'Z0.1 Dati generali'!$23:$23,0))","v":7.51E-2},{"$f":"INDEX('Z0.1 Dati generali'!$124:$124,MATCH(Q$4,'Z0.1 Dati generali'!$23:$23,0))","v":7.51E-2},{"$f":"INDEX('Z0.1 Dati generali'!$124:$124,MATCH(R$4,'Z0.1 Dati generali'!$23:$23,0))","v":7.51E-2},{"$f":"INDEX('Z0.1 Dati generali'!$124:$124,MATCH(S$4,'Z0.1 Dati generali'!$23:$23,0))","v":7.51E-2}]
[null,null,"Esclusione recupero",null,null,null,{"$f":"IF(G$133>PFanniPost2026,TRUE,FALSE)","v":false},false,false,false,false,false,false,false,false,false,false,false,false]
[]
[null,null,"Saldo PF ammortamenti CIN post2026 -BOP",null,null,null,{"$f":"(F171)*(1+G166)","v":0},0,0,9.4664745774902845E-2,0,0,0,0,0,0,0,0,0]
[null,null,"Componente PF ammortamenti CIN post2026","VAN",{"$f":"NPV(AVERAGE(OFFSET(G166,0,0,1,ScadenzaConcessione-AnnoPonte)),\nOFFSET(G170,0,0,1,ScadenzaConcessione-AnnoPonte))+F171","v":1.2908369275243658E-17},null,{"$f":"IF(OR(G$130,G$131),G$123*G$95/G$97,\n    IF(G169=0,0,\n     IF(OR(AND(G163>=0,G163+G169<=0),AND(G163<0,G163+G169>0)),G163,-G169)))","v":0},0,8.8052037740584926E-2,-9.4664745774902845E-2,0,0,0,0,0,0,0,0,0]
[null,null,"Saldo PF ammortamenti CIN post2026 - EOP",null,null,{"$f":"(OFFSET('Z0.2.a PR Pregressi'!E$762,0,AnnoPonte-UltimoAnnoRTP,1,1))","v":0},{"$f":"(G170+G169)","v":0},0,8.8052037740584926E-2,0,0,0,0,0,0,0,0,0,0]
[]
[null,null,"Residuo PF",null,null,null,{"$f":"G163-G170","v":-166.90827056301447},{"$f":"H163-H170","v":-551.97380422823812},-963.37535745945922,9.4664745774902845E-2,0,0,-188837.52052676972,25085.211526861218,32097.746006729023,35912.641649458608,39750.775917636682,43668.339873935343,47686.622288136452]
[]
[null,null,"Componente remuneraizone CIN ante - SAL da contabilizzare"]
[null,null,"tasso di attualizzazione",null,null,null,{"$f":"INDEX('Z0.1 Dati generali'!$125:$125,MATCH(G$4,'Z0.1 Dati generali'!$23:$23,0))","v":4.3499999999999997E-2},{"$f":"INDEX('Z0.1 Dati generali'!$125:$125,MATCH(H$4,'Z0.1 Dati generali'!$23:$23,0))","v":4.3499999999999997E-2},{"$f":"INDEX('Z0.1 Dati generali'!$125:$125,MATCH(I$4,'Z0.1 Dati generali'!$23:$23,0))","v":4.3499999999999997E-2},{"$f":"INDEX('Z0.1 Dati generali'!$125:$125,MATCH(J$4,'Z0.1 Dati generali'!$23:$23,0))","v":4.3499999999999997E-2},{"$f":"INDEX('Z0.1 Dati generali'!$125:$125,MATCH(K$4,'Z0.1 Dati generali'!$23:$23,0))","v":4.3499999999999997E-2},{"$f":"INDEX('Z0.1 Dati generali'!$125:$125,MATCH(L$4,'Z0.1 Dati generali'!$23:$23,0))","v":4.3499999999999997E-2},{"$f":"INDEX('Z0.1 Dati generali'!$125:$125,MATCH(M$4,'Z0.1 Dati generali'!$23:$23,0))","v":4.3499999999999997E-2},{"$f":"INDEX('Z0.1 Dati generali'!$125:$125,MATCH(N$4,'Z0.1 Dati generali'!$23:$23,0))","v":4.3499999999999997E-2},{"$f":"INDEX('Z0.1 Dati generali'!$125:$125,MATCH(O$4,'Z0.1 Dati generali'!$23:$23,0))","v":4.3499999999999997E-2},{"$f":"INDEX('Z0.1 Dati generali'!$125:$125,MATCH(P$4,'Z0.1 Dati generali'!$23:$23,0))","v":4.3499999999999997E-2},{"$f":"INDEX('Z0.1 Dati generali'!$125:$125,MATCH(Q$4,'Z0.1 Dati generali'!$23:$23,0))","v":4.3499999999999997E-2},{"$f":"INDEX('Z0.1 Dati generali'!$125:$125,MATCH(R$4,'Z0.1 Dati generali'!$23:$23,0))","v":4.3499999999999997E-2},{"$f":"INDEX('Z0.1 Dati generali'!$125:$125,MATCH(S$4,'Z0.1 Dati generali'!$23:$23,0))","v":4.3499999999999997E-2}]
[null,null,"Esclusione recupero",null,null,null,{"$f":"IF(OR(G$133>PFanniPre2026,AND(NOT(PFderogaCINpre2026),AmmAnticipo,G$133>AmmAnticipoAnniCINante)),TRUE,FALSE)","v":false},false,false,false,false,false,false,true,true,true,true,true,true]
[]
[null,null,"Saldo PF remunerazioni CIN post2026 - BOP",null,null,null,{"$f":"(F181)*(1+G176)","v":0},{"$f":"(G181)*(1+H176)","v":-174.16878033250558},-412.62617891266012,-751.90817099599997,-784.51739377210993,-818.64390040119679,-854.25491006864888,0,0,0,0,0,0]
[null,null,"Componente PF remunerazioni CIN post2026","VAN",{"$f":"NPV(AVERAGE(OFFSET(G176,0,0,1,ScadenzaConcessione-AnnoPonte)),\nOFFSET(G180,0,0,1,ScadenzaConcessione-AnnoPonte))+F181","v":0},null,{"$f":"IF(G167,0,\n IF(OR(G$130,G$131),G$123*G$94/G$97,\n IF(G179=0,0,\n IF(OR(AND(G173>=0,G173+G179<=0),AND(G173<0,G173+G179>0)),G173,-G179))))","v":-166.90827056301444},{"$f":"IF(H137,0,\n IF(OR(H$130,H$131),H$123*H$94/H$97,\n IF(H179=0,0,\n IF(OR(AND(H173>=0,H173+H179<=0),AND(H173<0,H173+H179>0)),H173,-H179))))","v":-221.25640310080553},-307.93747321575376,9.4664745774902845E-2,0,0,854.25491006864888,0,0,0,0,0,0]
[null,null,"Saldo PF remunerazioni CIN post2026 - EOP",null,null,{"$f":"(OFFSET('Z0.2.a PR Pregressi'!E$763,0,AnnoPonte-UltimoAnnoRTP,1,1))","v":0},{"$f":"(G180+G179)","v":-166.90827056301444},-395.42518343331108,-720.56365212841388,-751.81350625022503,-784.51739377210993,-818.64390040119679,0,0,0,0,0,0,0]
[]
[null,null,"Residuo PF",null,null,null,{"$f":"G173-G180","v":0},{"$f":"H173-H180","v":-330.71740112743259},-655.43788424370541,0,0,0,-189691.77543683836,25085.211526861218,32097.746006729023,35912.641649458608,39750.775917636682,43668.339873935343,47686.622288136452]
[]
[null,null,"Componente remuneraizone CIN post2026"]
[null,null,"tasso di attualizzazione",null,null,null,{"$f":"INDEX('Z0.1 Dati generali'!$125:$125,MATCH(G$4,'Z0.1 Dati generali'!$23:$23,0))","v":4.3499999999999997E-2},{"$f":"INDEX('Z0.1 Dati generali'!$125:$125,MATCH(H$4,'Z0.1 Dati generali'!$23:$23,0))","v":4.3499999999999997E-2},{"$f":"INDEX('Z0.1 Dati generali'!$125:$125,MATCH(I$4,'Z0.1 Dati generali'!$23:$23,0))","v":4.3499999999999997E-2},{"$f":"INDEX('Z0.1 Dati generali'!$125:$125,MATCH(J$4,'Z0.1 Dati generali'!$23:$23,0))","v":4.3499999999999997E-2},{"$f":"INDEX('Z0.1 Dati generali'!$125:$125,MATCH(K$4,'Z0.1 Dati generali'!$23:$23,0))","v":4.3499999999999997E-2},{"$f":"INDEX('Z0.1 Dati generali'!$125:$125,MATCH(L$4,'Z0.1 Dati generali'!$23:$23,0))","v":4.3499999999999997E-2},{"$f":"INDEX('Z0.1 Dati generali'!$125:$125,MATCH(M$4,'Z0.1 Dati generali'!$23:$23,0))","v":4.3499999999999997E-2},{"$f":"INDEX('Z0.1 Dati generali'!$125:$125,MATCH(N$4,'Z0.1 Dati generali'!$23:$23,0))","v":4.3499999999999997E-2},{"$f":"INDEX('Z0.1 Dati generali'!$125:$125,MATCH(O$4,'Z0.1 Dati generali'!$23:$23,0))","v":4.3499999999999997E-2},{"$f":"INDEX('Z0.1 Dati generali'!$125:$125,MATCH(P$4,'Z0.1 Dati generali'!$23:$23,0))","v":4.3499999999999997E-2},{"$f":"INDEX('Z0.1 Dati generali'!$125:$125,MATCH(Q$4,'Z0.1 Dati generali'!$23:$23,0))","v":4.3499999999999997E-2},{"$f":"INDEX('Z0.1 Dati generali'!$125:$125,MATCH(R$4,'Z0.1 Dati generali'!$23:$23,0))","v":4.3499999999999997E-2},{"$f":"INDEX('Z0.1 Dati generali'!$125:$125,MATCH(S$4,'Z0.1 Dati generali'!$23:$23,0))","v":4.3499999999999997E-2}]
[null,null,"Esclusione recupero",null,null,null,{"$f":"IF(G$133>PFanniPost2026,TRUE,FALSE)","v":false},false,false,false,false,false,false,false,false,false,false,false,false]
[]
[null,null,"Saldo PF remunerazioni CIN post2026 - BOP",null,null,null,{"$f":"(F191)*(1+G186)","v":0},{"$f":"(G191)*(1+H186)","v":0},-345.10360807647595,-1044.0650472361092,-1089.4818767908801,-1136.8743384312834,-1186.3283721530443,-199181.30132468254,-181669.26970402658,-156077.88497813002,-125392.43141346863,-89367.067509900648,-47686.622288129802]
[null,null,"Componente PF remunerazioni CIN post2026","VAN",{"$f":"NPV(AVERAGE(OFFSET(G186,0,0,1,ScadenzaConcessione-AnnoPonte)),\nOFFSET(G190,0,0,1,ScadenzaConcessione-AnnoPonte))+F191","v":3.8244971263819922E-9},null,{"$f":"G183","v":0},{"$f":"H183","v":-330.71740112743259},-655.43788424370541,0,0,0,-189691.77543683836,25085.211526861218,32097.746006729023,35912.641649458608,39750.775917636682,43668.339873935343,47686.622288136452]
[null,null,"Saldo PF remunerazioni CIN post2026 - EOP",null,null,{"$f":"(OFFSET('Z0.2.a PR Pregressi'!E$764,0,AnnoPonte-UltimoAnnoRTP,1,1))","v":0},{"$f":"(G190+G189)","v":0},-330.71740112743259,-1000.5414923201813,-1044.0650472361092,-1089.4818767908801,-1136.8743384312834,-190878.10380899141,-174096.08979782133,-149571.52369729755,-120165.24332867141,-85641.655495831947,-45698.727635965304,6.6502252593636513E-9]
[]
[]
[null,null,"Verifica PF totale",null,null,null,{"$f":"G140+G150+G160+G170+G180+G190","v":-6961.4866326962147},{"$f":"H140+H150+H160+H170+H180+H190","v":-5442.8604757487628},-5668.6276673040047,1287.3824587782874,7740.1639891066225,13761.671211249617,19436.185618743853,25085.211526861218,32097.746006729023,35912.641649458608,39750.775917636682,43668.339873935343,47686.622288136452]
[null,null,null,null,null,"check",{"$f":"G194-G123","v":0},0,0,0,0,0,0,0,0,0,0,0,0]
[]
[null,null,"Saldo PF totale - BOP",null,null,null,{"$f":"G139+G149+G169+G189","v":-93620.377501792071},-114159.72917566457,-135623.73657199254,-159979.29719933795,-180556.88888244709,-196632.90105315967,-208073.71522914059,-199181.30132468254,-181669.26970402658,-156077.88497813002,-125392.43141346863,-89367.067509900648,-47686.622288129802]
[null,null,"Totale PF",null,null,null,{"$f":"G123","v":-6961.4866326962147},-5442.8604757487628,-5668.6276673040047,1287.3824587782874,7740.1639891066225,13761.671211249617,19436.185618743861,25085.211526861218,32097.746006729023,35912.641649458608,39750.775917636682,43668.339873935343,47686.622288136452]
[null,null,"Saldo PF totale",null,null,{"$f":"F141+F151+F161+F171+F181+F191","v":-82216.89426696414},{"$f":"G171+G141+G151+G191","v":-100264.53384647483},-119153.44530609314,-140614.39855986144,-158692.00940530543,-172816.72489334046,-182871.22984191004,-190878.10380899141,-174096.08979782133,-149571.52369729755,-120165.24332867141,-85641.655495831947,-45698.727635965304,6.6502252593636513E-9]
[null,null,null,null,"check",{"$f":"F199-(OFFSET('Z0.2.a PR Pregressi'!E766,0,AnnoPonte-UltimoAnnoRTP,1,1))","v":0}]
[]
[null,null,"Saldo PF a scadenza concessione",null,{"$f":"INDEX(199:199,MATCH(ScadenzaConcessione,4:4,0))","v":6.6502252593636513E-9}]
[]
[]
[]
[]
[null,null,"TIR di progetto - Tk - con poste figurative"]
[]
[null,null,"CIN ante - SAL contabilizzati"]
[]
[null,null,"Cash out investimenti",null,null,{"$f":"F34","v":-208421.05263157893},2000,0,0,0,0,0,0,0,0,0,0,20,0]
[null,null,"Cash in valore di subentro",null,null,{"$f":"IF(F35=\"\",\"\",0)","v":""},{"$f":"G35","v":""},"","","","","","","","","","","",9980]
[null,null,"Cash in ricavi (senza PF)",null,null,{"$f":"F36","v":0},{"$f":"G36","v":53710.631578947359},49707.392293233075,46306.895864661652,42906.399436090229,39505.903007518798,36105.406578947368,32704.910150375941,29304.413721804514,1387,1387,1387,1387,1384.2259999999999]
[null,null,"Cash in PF",null,null,{"$f":"+F141","v":-82216.89426696414},{"$f":"+G140","v":-6463.4092485142992},-4467.26802251143,-4077.416542324524,1287.3824587782874,7740.1639891066225,13761.671211249617,205982.61659266416,0,0,0,0,0,0]
[null,null,"Cash flow",null,null,{"$f":"SUM(F211:F214)","v":-290637.94689854304},{"$f":"SUM(G211:G214)","v":49247.222330433062},45240.124270721644,42229.479322337131,44193.781894868516,47246.066996625421,49867.077790196985,238687.5267430401,29304.413721804514,1387,1387,1387,1407,11364.226000000001]
[]
[null,null,"Rendimento di progetto CIN ante (con PF)",null,null,{"$f":"IRR(OFFSET(F215,0,0,1,ScadenzaConcessione-AnnoPonte+1))","v":0.1386999999999925}]
[null,null,null,null,"Delta su TIR",{"$f":"ROUND(F217,10)-ROUND(TIR,10)","v":0}]
[null,null,null,null,"check VAN CIN ante (con PF - tir previgente)",{"$f":"NPV(F39,OFFSET(F215,0,0,1,ScadenzaConcessione-AnnoPonte+1))","v":9.6404681218927292E-10}]
[]
[null,null,"CIN pre2026"]
[]
[null,null,"Cash out investimenti",null,null,{"$f":"F45","v":-20000},-9000,-10000,0,0,0,0,0,0,0,0,0,20,0]
[null,null,"Cash in valore di subentro",null,null,{"$f":"IF(F46=\"\",\"\",0)","v":""},{"$f":"G46","v":""},"","","","","","","","","","","",1000]
[null,null,"Cash in ricavi (senza PF)",null,null,{"$f":"F47","v":0},{"$f":"G47","v":1502},2177.9,2928.9,2928.9,2928.9,2928.9,2928.9,2928.9,10528.9,9958.14,9387.3799999999992,8816.619999999999,8224.3580000000002]
[null,null,"Cash in PF",null,null,{"$f":"F151","v":0},{"$f":"G150","v":-180.74709616845544},-195.73070678970498,-257.89561333839919,0,0,0,904.77026432339198,0,0,0,0,0,0]
[null,null,"Cash flow",null,null,{"$f":"SUM(F223:F226)","v":-20000},-7678.7470961684558,-8017.8307067897058,2671.0043866616011,2928.9,2928.9,2928.9,3833.6702643233921,2928.9,10528.9,9958.14,9387.3799999999992,8836.619999999999,9224.3580000000002]
[]
[null,null,"Rendimento di progetto CIN pre2026 (con PF)",null,null,{"$f":"IRR(OFFSET(F227,0,0,1,ScadenzaConcessione-AnnoPonte+1))","v":7.5100000000141165E-2}]
[null,null,null,null,"Delta su WACC",{"$f":"ROUND(F229,10)-ROUND(WACC,10)","v":0}]
[null,null,null,null,"check VAN CIN pre2026 (con PF - WACC)",{"$f":"NPV(F50,OFFSET(F227,0,0,1,ScadenzaConcessione-AnnoPonte+1))","v":-3.4860015741143086E-8}]
[]
[null,null,"CIN ante - SAL da contabilizzare"]
[]
[null,null,"Cash out investimenti",null,null,{"$f":"F56","v":-10000},-9000,-10000,0,0,0,0,0,0,0,0,0,20,0]
[null,null,"Cash in ricavi (senza PF)",null,null,{"$f":"F58","v":0},2637,4997.6392857142864,7699.6023809523813,7116.7321428571422,6533.861904761905,5950.9916666666668,5368.1214285714286,4785.2511904761905,0,0,0,0,-2.774]
[null,null,"Cash in PF",null,null,{"$f":"F161+F181","v":0},{"$f":"G160+G180","v":-317.33028801346006},{"$f":"H160+H180","v":-449.14434532019527},-677.9656794351165,9.4664745774902845E-2,0,0,2240.574198594662,0,0,0,0,0,0]
[null,null,"Cash flow",null,null,{"$f":"SUM(F235:F237)","v":-10000},-6680.3302880134597,-5451.5050596059091,7021.6367015172646,7116.8268076029171,6533.861904761905,5950.9916666666668,7608.6956271660911,4785.2511904761905,0,0,0,20,-2.774]
[]
[null,null,"Rendimento di progetto CIN ante (con PF)",null,null,{"$f":"IRR(OFFSET(F238,0,0,1,ScadenzaConcessione-AnnoPonte+1))","v":0.13634589919823847}]
[null,null,null,null,"Delta su TIR",{"$f":"ROUND(F240,10)-ROUND(TIR,10)","v":-2.3541007999999808E-3}]
[null,null,null,null,"check VAN CIN ante (con PF - tir previgente)",{"$f":"NPV(F61,OFFSET(F238,0,0,1,ScadenzaConcessione-AnnoPonte+1))","v":-156.22755876884196}]
[]
[null,null,"CIN post2026"]
[]
[null,null,"Cash out investimenti",null,null,{"$f":"F67","v":0},-49000,-50160,-360,-360,-360,-360,-360,-360,-360,-360,-360,-180,200]
[null,null,"Cash in valore di subentro",null,null,{"$f":"IF(F68=\"\",\"\",0)","v":""},{"$f":"G68","v":""},"","","","","","","","","","","",2639.0666666666666]
[null,null,"Cash in ricavi (senza PF)",null,null,{"$f":"F69","v":0},{"$f":"G69","v":0},3679.9,7442.7559999999994,7478.8670999999995,7513.702299999999,7554.1733266666661,7590.2095533333322,7632.0613133333327,27472.561273333333,26022.729433333334,24594.695993333335,23133.400320000001,21645.762446666668]
[null,null,"Cash in PF",null,null,{"$f":"F171+F191","v":0},{"$f":"G170+G190","v":0},-330.71740112743259,-655.34983220596484,-9.4664745774902845E-2,0,0,-189691.77543683836,25085.211526861218,32097.746006729023,35912.641649458608,39750.775917636682,43668.339873935343,47686.622288136452]
[null,null,"Cash flow",null,null,{"$f":"SUM(F246:F249)","v":0},-49000,-46810.817401127431,6427.4061677940344,7118.7724352542245,7153.702299999999,7194.1733266666661,-182461.56588350504,32357.27284019455,59210.307280062356,61575.371082791942,63985.471910970016,66621.740193935344,72171.451401469792]
[]
[null,null,"Rendimento di progetto CIN post2026 (con PF)",null,null,{"$f":"IRR(OFFSET(F250,0,0,1,ScadenzaConcessione-AnnoPonte+1))","v":6.2447569402343639E-2}]
[null,null,null,null,"Delta su WACC",{"$f":"ROUND(F252,10)-ROUND(WACC,10)","v":-1.26524306E-2}]
[null,null,null,null,"check VAN CIN post2026 (con PF - WACC)",{"$f":"NPV(F72,OFFSET(F250,0,0,1,ScadenzaConcessione-AnnoPonte+1))","v":-11197.828195475275}]
[]
[null,null,"Totale"]
[]
[]
[null,null,"Cash out investimenti",null,null,{"$f":"F211+F235+F223+F246","v":-238421.05263157893},{"$f":"G211+G235+G223+G246","v":-65000},-70160,-360,-360,-360,-360,-360,-360,-360,-360,-360,-120,200]
[null,null,"Cash in valore di subentro",null,null,{"$f":"IFERROR(F212+F224+F247,\"\")","v":""},"","","","","","","","","","","","",13619.066666666666]
[null,null,"Cash in ricavi (senza PF)",null,null,{"$f":"IFERROR(F213+F236+F225+F248,\"\")","v":0},{"$f":"IFERROR(G213+G236+G225+G248,\"\")","v":57849.631578947359},60562.831578947364,64378.154245614038,60430.898678947371,56482.367212280704,52539.471572280701,48592.141132280703,44650.62622561404,39388.461273333334,37367.869433333333,35369.075993333332,33337.020319999996,31251.572446666665]
[null,null,"Cash in PF",null,null,{"$f":"F214+F237+F226+F249","v":-82216.89426696414},{"$f":"G214+G237+G226+G249","v":-6961.4866326962147},-5442.8604757487628,-5668.6276673040047,1287.3824587782874,7740.1639891066225,13761.671211249617,19436.185618743853,25085.211526861218,32097.746006729023,35912.641649458608,39750.775917636682,43668.339873935343,47686.622288136452]
[null,null,"Cash flow",null,null,{"$f":"F227+F238+F215+F250","v":-320637.94689854304},{"$f":"G227+G238+G215+G250","v":-14111.855053748855},-15040.028896801403,58349.526578310033,61358.281137725658,63862.531201387326,65941.142783530318,67668.32675102455,69375.837752475258,71126.207280062357,72920.511082791942,74759.851910970014,76885.360193935339,92757.26140146979]
[]
[null,null,"Rendimento di progetto CIN totale (con PF)",null,null,{"$f":"IRR(OFFSET(F263,0,0,1,ScadenzaConcessione-AnnoPonte+1))","v":0.1084106877502713}]
[null,null,null,null,"Delta su tasso blended",{"$f":"ROUND(F265,10)-TassoBlended","v":-1.0741231692064368E-4}]
[null,null,null,null,"check VAN CIN totale (con PF - tasso blended)",{"$f":"NPV(TassoBlended,OFFSET(F263,0,0,1,ScadenzaConcessione-AnnoPonte+1))","v":-218.0921728347235}]

{"sheet":"Z2 PFR aggiornato","index":23,"n_rows":225,"n_cols":19,"rows_kept":225,"cut":false,"hidden":false,"merged":[]}
[]
[null,null,"Piano finanziario regolatorio (PFR) di periodo - aggiornamento"]
[]
[null,null,"Anno",null,2024,2025,2026,2027,2028,2029,2030,2031,2032,2033,2034,2035,2036,2037,2038]
[]
[null,null,"Anno base",null,1,0,0,0,1,0,0,0,0,1,0,0,0,0,0]
[null,null,"Anno ponte",null,0,1,0,0,0,1,0,0,0,0,1,0,0,0,0]
[null,null,"Periodo regolatorio",null,0,0,1,1,1,1,2,2,2,2,2,3,3,3,3]
[null,null,"Anno del periodo regolatorio",null,0,0,1,2,3,4,1,2,3,4,5,1,2,3,4]
[null,null,"Frazione di anno significativa",null,null,null,1,1,1,1,1,1,1,1,1,1,1,1,1]
[]
[null,null,null,null,null,"Ultimo adattamento schema: 03/11/2025 14:33:02"]
[]
[null,null,"Informazioni generali"]
[]
[null,null,"Tasso di remunerazione del CIN ante (TIR previgente)","TIR",null,{"$f":"'Z0.1 Dati generali'!G65","v":0.13869999999999999},{"$f":"'Z0.1 Dati generali'!H65","v":0.13869999999999999},{"$f":"'Z0.1 Dati generali'!I65","v":0.13869999999999999},{"$f":"'Z0.1 Dati generali'!J65","v":0.13869999999999999},{"$f":"'Z0.1 Dati generali'!K65","v":0.13869999999999999},{"$f":"'Z0.1 Dati generali'!L65","v":0.13869999999999999},{"$f":"'Z0.1 Dati generali'!M65","v":0.13869999999999999},{"$f":"'Z0.1 Dati generali'!N65","v":0.13869999999999999},{"$f":"'Z0.1 Dati generali'!O65","v":0.13869999999999999},{"$f":"'Z0.1 Dati generali'!P65","v":0.13869999999999999},{"$f":"'Z0.1 Dati generali'!Q65","v":0.13869999999999999},{"$f":"'Z0.1 Dati generali'!R65","v":0.13869999999999999},{"$f":"'Z0.1 Dati generali'!S65","v":0.13869999999999999},{"$f":"'Z0.1 Dati generali'!T65","v":0.13869999999999999}]
[null,null,"Tasso di remunerazione del CIN post (WACC)","WACC",null,{"$f":"'Z0.1 Dati generali'!G66","v":7.51E-2},{"$f":"'Z0.1 Dati generali'!H66","v":7.51E-2},{"$f":"'Z0.1 Dati generali'!I66","v":7.51E-2},{"$f":"'Z0.1 Dati generali'!J66","v":7.51E-2},{"$f":"'Z0.1 Dati generali'!K66","v":7.51E-2},{"$f":"'Z0.1 Dati generali'!L66","v":7.51E-2},{"$f":"'Z0.1 Dati generali'!M66","v":7.51E-2},{"$f":"'Z0.1 Dati generali'!N66","v":7.51E-2},{"$f":"'Z0.1 Dati generali'!O66","v":7.51E-2},{"$f":"'Z0.1 Dati generali'!P66","v":7.51E-2},{"$f":"'Z0.1 Dati generali'!Q66","v":7.51E-2},{"$f":"'Z0.1 Dati generali'!R66","v":7.51E-2},{"$f":"'Z0.1 Dati generali'!S66","v":7.51E-2},{"$f":"'Z0.1 Dati generali'!T66","v":7.51E-2}]
[null,null,"Tasso di remunerazione del valore di subentro (Rtv) - CIN ante","Rtv - ante",null,{"$f":"'Z0.1 Dati generali'!G67","v":0.13869999999999999},{"$f":"'Z0.1 Dati generali'!H67","v":0.13869999999999999},{"$f":"'Z0.1 Dati generali'!I67","v":0.13869999999999999},{"$f":"'Z0.1 Dati generali'!J67","v":0.13869999999999999},{"$f":"'Z0.1 Dati generali'!K67","v":0.13869999999999999},{"$f":"'Z0.1 Dati generali'!L67","v":0.13869999999999999},{"$f":"'Z0.1 Dati generali'!M67","v":0.13869999999999999},{"$f":"'Z0.1 Dati generali'!N67","v":0.13869999999999999},{"$f":"'Z0.1 Dati generali'!O67","v":0.13869999999999999},{"$f":"'Z0.1 Dati generali'!P67","v":0.13869999999999999},{"$f":"'Z0.1 Dati generali'!Q67","v":0.13869999999999999},{"$f":"'Z0.1 Dati generali'!R67","v":0.13869999999999999},{"$f":"'Z0.1 Dati generali'!S67","v":0.13869999999999999},{"$f":"'Z0.1 Dati generali'!T67","v":0.13869999999999999}]
[null,null,"Tasso di remunerazione del valore di subentro (Rtv) - CIN post","Rtv - post",null,{"$f":"'Z0.1 Dati generali'!G68","v":7.51E-2},{"$f":"'Z0.1 Dati generali'!H68","v":7.51E-2},{"$f":"'Z0.1 Dati generali'!I68","v":7.51E-2},{"$f":"'Z0.1 Dati generali'!J68","v":7.51E-2},{"$f":"'Z0.1 Dati generali'!K68","v":7.51E-2},{"$f":"'Z0.1 Dati generali'!L68","v":7.51E-2},{"$f":"'Z0.1 Dati generali'!M68","v":7.51E-2},{"$f":"'Z0.1 Dati generali'!N68","v":7.51E-2},{"$f":"'Z0.1 Dati generali'!O68","v":7.51E-2},{"$f":"'Z0.1 Dati generali'!P68","v":7.51E-2},{"$f":"'Z0.1 Dati generali'!Q68","v":7.51E-2},{"$f":"'Z0.1 Dati generali'!R68","v":7.51E-2},{"$f":"'Z0.1 Dati generali'!S68","v":7.51E-2},{"$f":"'Z0.1 Dati generali'!T68","v":7.51E-2}]
[null,null,"Tasso di remunerazione delle lavorazioni in corso di secondo livello (vite utili)","Rlic",null,{"$f":"'Z0.1 Dati generali'!G69","v":4.3499999999999997E-2},{"$f":"'Z0.1 Dati generali'!H69","v":4.3499999999999997E-2},{"$f":"'Z0.1 Dati generali'!I69","v":4.3499999999999997E-2},{"$f":"'Z0.1 Dati generali'!J69","v":4.3499999999999997E-2},{"$f":"'Z0.1 Dati generali'!K69","v":4.3499999999999997E-2},{"$f":"'Z0.1 Dati generali'!L69","v":4.3499999999999997E-2},{"$f":"'Z0.1 Dati generali'!M69","v":4.3499999999999997E-2},{"$f":"'Z0.1 Dati generali'!N69","v":4.3499999999999997E-2},{"$f":"'Z0.1 Dati generali'!O69","v":4.3499999999999997E-2},{"$f":"'Z0.1 Dati generali'!P69","v":4.3499999999999997E-2},{"$f":"'Z0.1 Dati generali'!Q69","v":4.3499999999999997E-2},{"$f":"'Z0.1 Dati generali'!R69","v":4.3499999999999997E-2},{"$f":"'Z0.1 Dati generali'!S69","v":4.3499999999999997E-2},{"$f":"'Z0.1 Dati generali'!T69","v":4.3499999999999997E-2}]
[]
[null,null,"Tasso di inflazione","P",null,{"$f":"'Z0.1 Dati generali'!G43","v":2.1000000000000001E-2},{"$f":"'Z0.1 Dati generali'!H43","v":1.9E-2},{"$f":"'Z0.1 Dati generali'!I43","v":1.7999999999999999E-2},{"$f":"'Z0.1 Dati generali'!J43","v":0.02},{"$f":"'Z0.1 Dati generali'!K43","v":0.02},{"$f":"'Z0.1 Dati generali'!L43","v":0.02},{"$f":"'Z0.1 Dati generali'!M43","v":0.02},{"$f":"'Z0.1 Dati generali'!N43","v":0.02},{"$f":"'Z0.1 Dati generali'!O43","v":0.02},{"$f":"'Z0.1 Dati generali'!P43","v":0.02},{"$f":"'Z0.1 Dati generali'!Q43","v":0.02},{"$f":"'Z0.1 Dati generali'!R43","v":0.02},{"$f":"'Z0.1 Dati generali'!S43","v":0.02},{"$f":"'Z0.1 Dati generali'!T43","v":0.02}]
[null,null,"Indicatore di produttività annuale","X",null,null,{"$f":"'Z0.1 Dati generali'!H52","v":-6.0733238517972632E-3},{"$f":"'Z0.1 Dati generali'!I52","v":-6.0733238517972632E-3},{"$f":"'Z0.1 Dati generali'!J52","v":-6.0733238517972632E-3},{"$f":"'Z0.1 Dati generali'!K52","v":-6.0733238517972632E-3},{"$f":"'Z0.1 Dati generali'!L52","v":-6.0733238517972632E-3},{"$f":"'Z0.1 Dati generali'!M52","v":0},{"$f":"'Z0.1 Dati generali'!N52","v":0},{"$f":"'Z0.1 Dati generali'!O52","v":0},{"$f":"'Z0.1 Dati generali'!P52","v":0},{"$f":"'Z0.1 Dati generali'!Q52","v":0},{"$f":"'Z0.1 Dati generali'!R52","v":0},{"$f":"'Z0.1 Dati generali'!S52","v":0},{"$f":"'Z0.1 Dati generali'!T52","v":0}]
[]
[null,null,"Volumi di traffico previsti (000 veicoli/km) ","V",{"$f":"'Z0.1 Dati generali'!F193","v":1039148.6969304882},{"$f":"'Z0.1 Dati generali'!G193","v":1044344.4404151405},{"$f":"'Z0.1 Dati generali'!H193","v":1049566.1626172159},{"$f":"'Z0.1 Dati generali'!I193","v":1054813.993430302},{"$f":"'Z0.1 Dati generali'!J193","v":1060088.0633974536},{"$f":"'Z0.1 Dati generali'!K193","v":1065388.5037144406},{"$f":"'Z0.1 Dati generali'!L193","v":1070715.4462330127},{"$f":"'Z0.1 Dati generali'!M193","v":1076069.0234641777},{"$f":"'Z0.1 Dati generali'!N193","v":1081449.3685814985},{"$f":"'Z0.1 Dati generali'!O193","v":1086856.6154244058},{"$f":"'Z0.1 Dati generali'!P193","v":1092290.8985015275},{"$f":"'Z0.1 Dati generali'!Q193","v":1097752.3529940352},{"$f":"'Z0.1 Dati generali'!R193","v":1103241.1147590054},{"$f":"'Z0.1 Dati generali'!S193","v":1108757.3203328},{"$f":"'Z0.1 Dati generali'!T193","v":1114301.1069344641}]
[null,null,"Volumi di traffico medi annui per periodo regolatorio (000 veicoli/km)                               ","V'",{"$f":"'Z0.1 Dati generali'!F194","v":0},{"$f":"'Z0.1 Dati generali'!G194","v":1057464.180789853},{"$f":"'Z0.1 Dati generali'!H194","v":""},{"$f":"'Z0.1 Dati generali'!I194","v":""},{"$f":"'Z0.1 Dati generali'!J194","v":""},{"$f":"'Z0.1 Dati generali'!K194","v":1081476.2704409244},{"$f":"'Z0.1 Dati generali'!L194","v":""},{"$f":"'Z0.1 Dati generali'!M194","v":""},{"$f":"'Z0.1 Dati generali'!N194","v":""},{"$f":"'Z0.1 Dati generali'!O194","v":""},{"$f":"'Z0.1 Dati generali'!P194","v":1106012.9737550761},{"$f":"'Z0.1 Dati generali'!Q194","v":""},{"$f":"'Z0.1 Dati generali'!R194","v":""},{"$f":"'Z0.1 Dati generali'!S194","v":""},{"$f":"'Z0.1 Dati generali'!T194","v":""}]
[null,null,"Volumi di traffico medi annui per discontinuità di costo (000 veicoli/km)                               ","V''",{"$f":"'Z0.1 Dati generali'!F195","v":0},{"$f":"'Z0.1 Dati generali'!G195","v":1057464.180789853},{"$f":"'Z0.1 Dati generali'!H195","v":1057464.180789853},{"$f":"'Z0.1 Dati generali'!I195","v":1060096.8535140655},{"$f":"'Z0.1 Dati generali'!J195","v":1062738.2835559472},{"$f":"'Z0.1 Dati generali'!K195","v":1065388.5037144406},{"$f":"'Z0.1 Dati generali'!L195","v":1081476.2704409244},{"$f":"'Z0.1 Dati generali'!M195","v":1084166.4764929023},{"$f":"'Z0.1 Dati generali'!N195","v":1086865.6275024773},{"$f":"'Z0.1 Dati generali'!O195","v":1089573.7569629666},{"$f":"'Z0.1 Dati generali'!P195","v":1092290.8985015275},{"$f":"'Z0.1 Dati generali'!Q195","v":1106012.9737550761},{"$f":"'Z0.1 Dati generali'!R195","v":1108766.5140087565},{"$f":"'Z0.1 Dati generali'!S195","v":1111529.2136336321},{"$f":"'Z0.1 Dati generali'!T195","v":1114301.1069344641}]
[]
[]
[null,null,"COMPONENTE TARIFFARIA DI GESTIONE - Tg"]
[]
[null,null,"Costi operativi totali ammessi","A",{"$f":"'Z0.2 UltimoAggPFR'!E32","v":37640}]
[null,null,"Utilizzo di fondo accantonamento per rinnovi","A''",{"$f":"'Z0.2 UltimoAggPFR'!E33","v":340}]
[null,null,"Extraprofitto da attività accessorie (in deduzione)","A'''",{"$f":"'Z0.2 UltimoAggPFR'!E34","v":571.16499999999996}]
[null,null,"Costi operativi totali ammessi netti","B = A+A'-A''",{"$f":"+E32+E33-E34","v":37408.834999999999}]
[]
[null,null,"Immobilizzazioni non reversibili al 31/12","C",{"$f":"'Z0.2 UltimoAggPFR'!E37","v":810}]
[null,null,"Ammortamento annuo CIN","C'",{"$f":"'Z0.2 UltimoAggPFR'!E38","v":210}]
[null,null,"Remunerazione annua opere in esercizio","C''",{"$f":"'Z0.2 UltimoAggPFR'!E39","v":76.602000000000004}]
[null,null,"Costi totali afferenti a componente tariffaria di gestione","D = B+C'+C''",{"$f":"+E35+E38+E39","v":37695.436999999998},{"$f":"+E40*(1+F22)","v":38487.041176999992},{"$f":"F40*(1+G$22+G$23)+\n IF(G7,\n  (((((B$46*(1+C$22+C$23)+C$46)*(1+D$22+D$23)+D$46)*(1+E$22+E$23)+E$46)*(1+F$22+F$23)+F$46)*(1+G$22+G$23)),0)","v":38984.550694197605},39449.50680511049,39998.907310591589,41010.923395489423,41582.069244157159,42413.710629040303,43261.98484162111,44127.224538453534,45592.939199458524,46504.797983447694,47434.893943116651,48383.591821978982,49351.26365841856]
[]
[null,null,"Componente tariffaria di gestione unitaria","G = D/V' -->   G ∙ (1+P-X)",null,{"$f":"IFERROR(\nIF(AND(F$8=0,F$7=1),\n(F$40/F$26),\nIF(AND(E$8>0,E$7=1),\n(F$40/F$26)*(1+F$22+F$23),\nE42*(1+F$22+F$23))),0)","v":3.6395597956096086E-2},{"$f":"IFERROR(\nIF(AND(G$8=0,G$7=1),\n(G$40/G$26),\nIF(AND(F$8>0,F$7=1),\n(F$40/F$26)*(1+G$22+G$23),\nF42*(1+G$22+G$23))),0)","v":3.6866072064094722E-2},3.7305761766459479E-2,3.7825307029042972E-2,3.8352087830242798E-2,3.844935888163676E-2,3.9218346059269493E-2,4.0002712980454887E-2,4.0802767240063986E-2,4.1618822584865267E-2,4.204724455044781E-2,4.2888189441456767E-2,4.3745953230285906E-2,4.4620872294891624E-2]
[]
[null,null,"Discontinuità di costo da nuovi investimenti","I*",null,{"$f":"'Z0.3.a DiscontinuitaCosto Tg'!F30","v":10},{"$f":"'Z0.3.a DiscontinuitaCosto Tg'!G30","v":10},{"$f":"'Z0.3.a DiscontinuitaCosto Tg'!H30","v":10},{"$f":"'Z0.3.a DiscontinuitaCosto Tg'!I30","v":10},{"$f":"'Z0.3.a DiscontinuitaCosto Tg'!J30","v":10},{"$f":"'Z0.3.a DiscontinuitaCosto Tg'!K30","v":10},{"$f":"'Z0.3.a DiscontinuitaCosto Tg'!L30","v":10},{"$f":"'Z0.3.a DiscontinuitaCosto Tg'!M30","v":10},{"$f":"'Z0.3.a DiscontinuitaCosto Tg'!N30","v":10},{"$f":"'Z0.3.a DiscontinuitaCosto Tg'!O30","v":10},{"$f":"'Z0.3.a DiscontinuitaCosto Tg'!P30","v":10},{"$f":"'Z0.3.a DiscontinuitaCosto Tg'!Q30","v":10},{"$f":"'Z0.3.a DiscontinuitaCosto Tg'!R30","v":10},{"$f":"'Z0.3.a DiscontinuitaCosto Tg'!S30","v":10}]
[null,null,"Discontinuità di costo da sopravvenienze normative","I**",null,{"$f":"'Z0.3.a DiscontinuitaCosto Tg'!F44","v":100},{"$f":"'Z0.3.a DiscontinuitaCosto Tg'!G44","v":100},{"$f":"'Z0.3.a DiscontinuitaCosto Tg'!H44","v":100},{"$f":"'Z0.3.a DiscontinuitaCosto Tg'!I44","v":100},{"$f":"'Z0.3.a DiscontinuitaCosto Tg'!J44","v":100},{"$f":"'Z0.3.a DiscontinuitaCosto Tg'!K44","v":100},{"$f":"'Z0.3.a DiscontinuitaCosto Tg'!L44","v":100},{"$f":"'Z0.3.a DiscontinuitaCosto Tg'!M44","v":100},{"$f":"'Z0.3.a DiscontinuitaCosto Tg'!N44","v":100},{"$f":"'Z0.3.a DiscontinuitaCosto Tg'!O44","v":100},{"$f":"'Z0.3.a DiscontinuitaCosto Tg'!P44","v":100},{"$f":"'Z0.3.a DiscontinuitaCosto Tg'!Q44","v":100},{"$f":"'Z0.3.a DiscontinuitaCosto Tg'!R44","v":100},{"$f":"'Z0.3.a DiscontinuitaCosto Tg'!S44","v":100}]
[null,null,"Totale discontinuità di costo","E=I*+I**",null,{"$f":"+F44+F45","v":110},{"$f":"+G44+G45","v":110},110,{"$f":"+I44+I45","v":110},110,110,110,110,110,110,110,110,110,110]
[]
[null,null,"Sub-componente tariffaria di gestione unitaria - discontinuità di costo anno ponte","I1=E/V''   -->   I1 ∙ (1+P-X)",null,{"$f":"IFERROR(IF(F9=1,(E$46/E$26)*(1+F$22+F$23),E48*(1+F$22+F$23)),0)","v":0},1.0536710027669946E-4,1.0662377955837484E-4,1.0810869440598171E-4,1.0961428918177885E-4,1.0312934035143468E-4,1.0519192715846337E-4,1.0729576570163264E-4,1.094416810156653E-4,1.1163051463597861E-4,1.0144546462150853E-4,1.034743739139387E-4,1.0554386139221749E-4,1.0765473862006184E-4]
[null,null,"Sub-componente tariffaria di gestione unitaria - discontinuità di costo 1° anno","I2=E/V''   -->   I2 ∙ (1+P-X)",null,{"$f":"IF(F$8>0,IF(F$9=1,F$46/F$27,E49*(1+F$22+F$23)),\"\")","v":""},1.0402243593521775E-4,1.0526307784076424E-4,1.0672904263621563E-4,1.0821542344861795E-4,1.0171281886300874E-4,1.0374707524026891E-4,1.0582201674507428E-4,1.0793845707997577E-4,1.1009722622157529E-4,9.9456337864224043E-5,1.0144546462150853E-4,1.034743739139387E-4,1.0554386139221749E-4]
[null,null,"Sub-componente tariffaria di gestione unitaria - discontinuità di costo 2° anno","I3=E/V''   -->   I3 ∙ (1+P-X)",null,{"$f":"IF(F$8>0,IF(F$9<2,\"\",IF(F$9=2,F$46/F$27,E50*(1+F$22+F$23))),\"\")","v":""},"",1.0376410385085678E-4,1.0520919292099616E-4,1.0667440727862066E-4,"",1.0146043286251725E-4,1.034896415197676E-4,1.0555943435016296E-4,1.0767062303716622E-4,"",9.9209345349269152E-5,1.0119353225625454E-4,1.0321740290137963E-4]
[null,null,"Sub-componente tariffaria di gestione unitaria - discontinuità di costo 3° anno","I4=E/V''   -->   I4 ∙ (1+P-X)",null,{"$f":"IF(F$8>0,IF(F$9<3,\"\",IF(F$9=3,F$46/F$27,E51*(1+F$22+F$23))),\"\")","v":""},"","",1.0350619875284573E-4,1.0494769606220814E-4,"","",1.012084633247354E-4,1.0323263259123011E-4,1.0529728524305471E-4,"","",9.8962761077961902E-5,1.0094201629952114E-4]
[null,null,"Sub-componente tariffaria di gestione unitaria - discontinuità di costo 4° anno","I5=E/V''   -->   I5 ∙ (1+P-X)",null,{"$f":"IF(F$8>0,IF(F$9<4,\"\",IF(F$9=4,F$46/F$27,E52*(1+F$22+F$23))),\"\")","v":""},"","","",1.032487206464954E-4,"","","",1.0095691025691505E-4,1.0297604846205335E-4,"","","",9.871658505537991E-5]
[null,null,"Sub-componente tariffaria di gestione unitaria - discontinuità di costo 5° anno","I6=E/V''   -->   I6 ∙ (1+P-X)",null,{"$f":"IF(F$8>0,IF(F$9<5,\"\",IF(F$9=5,F$46/F$27,E53*(1+F$22+F$23))),\"\")","v":""},"","","","","","","","",1.0070577366423618E-4,"","","",""]
[null,null,"Sub-componente tariffaria di gestione da discontinuità di costo","G'= I1+I2+I3+I4+I5+I6",null,{"$f":"IFERROR(SUM(F48:F53),0)","v":0},{"$f":"IFERROR(SUM(G48:G53),0)","v":2.0938953621191719E-4},3.1565096124999589E-4,{"$f":"IFERROR(SUM(I48:I53),0)","v":4.2355312871603925E-4},5.3270053661772106E-4,2.0484215921444342E-4,3.1039943526124951E-4,4.1781588729120994E-4,5.2712911529394918E-4,6.3837747126406432E-4,2.0090180248573256E-4,3.0412918388471636E-4,4.0917452864037263E-4,5.1607460426856004E-4]
[]
[null,null,"Componente tariffaria di gestione (comprensiva delle discontinuità di costo)","Tg= G+G'",null,{"$f":"+F42+F54","v":3.6395597956096086E-2},3.7075461600306642E-2,{"$f":"+H42+H54","v":3.7621412727709476E-2},3.824886015775901E-2,3.8884788366860518E-2,3.8654201040851204E-2,3.952874549453074E-2,4.0420528867746094E-2,4.1329896355357935E-2,4.2257200056129332E-2,4.2248146352933544E-2,4.319231862534148E-2,4.4155127758926278E-2,4.5136946899160181E-2]
[null,null,"Totale ricavi da componente tariffaria di gestione (comprensivi delle discontinuità di costo)","G*= Tg ∙ V",null,{"$f":"+F56*F25","v":38009.540381033599},38913.149959095783,39683.592597804825,40547.160091798774,41427.406495422212,41387.650116235578,42535.658563063706,43712.755421754249,44919.671268625811,46157.155017468307,46378.002068569163,47651.541749247888,48957.321132939534,50296.149893376314]
[]
[null,null,"Effetto meccanismo premialità/penalità da qualità dei servizi"]
[]
[null,null,"Indicatore sintetico di qualità anni precedenti","Qt",null,null,{"$f":"IF('Z0.2 UltimoAggPFR'!G61=\"\",\"\",'Z0.2 UltimoAggPFR'!G61)","v":-5.0000000000000001E-3},{"$f":"IF('Z0.2 UltimoAggPFR'!H61=\"\",\"\",'Z0.2 UltimoAggPFR'!H61)","v":-4.0000000000000001E-3},{"$f":"IF('Z0.2 UltimoAggPFR'!I61=\"\",\"\",'Z0.2 UltimoAggPFR'!I61)","v":""},{"$f":"IF('Z0.2 UltimoAggPFR'!J61=\"\",\"\",'Z0.2 UltimoAggPFR'!J61)","v":""},{"$f":"IF('Z0.2 UltimoAggPFR'!K61=\"\",\"\",'Z0.2 UltimoAggPFR'!K61)","v":""},{"$f":"IF('Z0.2 UltimoAggPFR'!L61=\"\",\"\",'Z0.2 UltimoAggPFR'!L61)","v":""},{"$f":"IF('Z0.2 UltimoAggPFR'!M61=\"\",\"\",'Z0.2 UltimoAggPFR'!M61)","v":""},{"$f":"IF('Z0.2 UltimoAggPFR'!N61=\"\",\"\",'Z0.2 UltimoAggPFR'!N61)","v":""},{"$f":"IF('Z0.2 UltimoAggPFR'!O61=\"\",\"\",'Z0.2 UltimoAggPFR'!O61)","v":""},{"$f":"IF('Z0.2 UltimoAggPFR'!P61=\"\",\"\",'Z0.2 UltimoAggPFR'!P61)","v":""},{"$f":"IF('Z0.2 UltimoAggPFR'!Q61=\"\",\"\",'Z0.2 UltimoAggPFR'!Q61)","v":""},{"$f":"IF('Z0.2 UltimoAggPFR'!R61=\"\",\"\",'Z0.2 UltimoAggPFR'!R61)","v":""},{"$f":"IF('Z0.2 UltimoAggPFR'!S61=\"\",\"\",'Z0.2 UltimoAggPFR'!S61)","v":""}]
[null,null,"Indicatore sintetico di qualità per l'anno t-2","Qt",null,null,{"$f":"IF(G4='Z0.3.b Qualita'!$E$319,'Z0.3.b Qualita'!$N$336,\"\")","v":""},{"$f":"IF(H4='Z0.3.b Qualita'!$E$319,'Z0.3.b Qualita'!$N$336,\"\")","v":""},{"$f":"IF(I4='Z0.3.b Qualita'!$E$319,'Z0.3.b Qualita'!$N$336,\"\")","v":0},{"$f":"IF(J4='Z0.3.b Qualita'!$E$319,'Z0.3.b Qualita'!$N$336,\"\")","v":""},{"$f":"IF(K4='Z0.3.b Qualita'!$E$319,'Z0.3.b Qualita'!$N$336,\"\")","v":""},{"$f":"IF(L4='Z0.3.b Qualita'!$E$319,'Z0.3.b Qualita'!$N$336,\"\")","v":""},{"$f":"IF(M4='Z0.3.b Qualita'!$E$319,'Z0.3.b Qualita'!$N$336,\"\")","v":""},{"$f":"IF(N4='Z0.3.b Qualita'!$E$319,'Z0.3.b Qualita'!$N$336,\"\")","v":""},{"$f":"IF(O4='Z0.3.b Qualita'!$E$319,'Z0.3.b Qualita'!$N$336,\"\")","v":""},{"$f":"IF(P4='Z0.3.b Qualita'!$E$319,'Z0.3.b Qualita'!$N$336,\"\")","v":""},{"$f":"IF(Q4='Z0.3.b Qualita'!$E$319,'Z0.3.b Qualita'!$N$336,\"\")","v":""},{"$f":"IF(R4='Z0.3.b Qualita'!$E$319,'Z0.3.b Qualita'!$N$336,\"\")","v":""},{"$f":"IF(S4='Z0.3.b Qualita'!$E$319,'Z0.3.b Qualita'!$N$336,\"\")","v":""}]
[null,null,"Indicatore sintetico di qualità applicabile",null,null,null,{"$f":"IF(G62=\"\",IF(G61=\"\",\"\",G61),IF(G61=\"\",G62,G61+G62))","v":-5.0000000000000001E-3},{"$f":"IF(H62=\"\",IF(H61=\"\",\"\",H61),IF(H61=\"\",H62,H61+H62))","v":-4.0000000000000001E-3},0,"","","","","","","","","",""]
[]
[null,null,"Componente tariffaria di gestione unitaria (comprensiva delle discontinuità di costo effettive)","G**= G*· (1+Qt)",{"$f":"IF(OR(E62<>\"\",E61<>\"\"),E56*(1+E63),\"\")","v":""},{"$f":"IF(OR(F62<>\"\",F61<>\"\"),F56*(1+F63),\"\")","v":""},3.6890084292305107E-2,{"$f":"IF(OR(H62<>\"\",H61<>\"\"),H56*(1+H63),\"\")","v":3.7470927076798638E-2},3.824886015775901E-2,"","","","","","","","","",""]
[null,null,"Scostamento componente tariffaria di gestione, rispetto ad ultimo aggiornamento",null,{"$f":"IF(OR(E62<>\"\",E61<>\"\"),E65-E56,\"\")","v":""},{"$f":"IF(OR(F62<>\"\",F61<>\"\"),F65-F56,\"\")","v":""},{"$f":"IF(OR(G62<>\"\",G61<>\"\"),G65-G56,\"\")","v":-1.8537730800153446E-4},{"$f":"IF(OR(H62<>\"\",H61<>\"\"),H65-H56,\"\")","v":-1.5048565091083793E-4},0,"","","","","","","","","",""]
[]
[null,null,"Componente tariffaria di gestione unitaria (comprensiva delle discontinuità di costo) aggiornata","Tg= G+G'",null,{"$f":"IF(F65=\"\",F56,F65)","v":3.6395597956096086E-2},3.6890084292305107E-2,{"$f":"IF(H65=\"\",H56,H65)","v":3.7470927076798638E-2},3.824886015775901E-2,3.8884788366860518E-2,3.8654201040851204E-2,3.952874549453074E-2,4.0420528867746094E-2,4.1329896355357935E-2,4.2257200056129332E-2,4.2248146352933544E-2,4.319231862534148E-2,4.4155127758926278E-2,4.5136946899160181E-2]
[null,null,"Totale ricavi da componente tariffaria di gestione (comprensivi delle discontinuità di costo) aggiornati","G*= Tg ∙ V",null,{"$f":"+F68*F25","v":38009.540381033599},38718.584209300301,39524.858227413606,40547.160091798774,41427.406495422212,41387.650116235578,42535.658563063706,43712.755421754249,44919.671268625811,46157.155017468307,46378.002068569163,47651.541749247888,48957.321132939534,50296.149893376314]
[null,null,"Scostamento ricavi da componente tariffaria di gestione, rispetto ad ultimo aggiornamento",null,{"$f":"IF(OR(E66<>\"\",E65<>\"\"),E69-E61,\"\")","v":""},{"$f":"IF(OR(F66<>\"\",F65<>\"\"),F69-F61,\"\")","v":""},{"$f":"IF(OR(G66<>\"\",G65<>\"\"),G69-G57,\"\")","v":-194.56574979548168},-158.73437039121927,{"$f":"IF(OR(I66<>\"\",I65<>\"\"),I69-I57,\"\")","v":0},"","","","","","","","","",""]
[null,null,null,null,null,null,{"$f":"G69-'Z0.2 UltimoAggPFR'!G69","v":0},{"$f":"H69-'Z0.2 UltimoAggPFR'!H69","v":0},{"$f":"I69-'Z0.2 UltimoAggPFR'!I69","v":0},{"$f":"J69-'Z0.2 UltimoAggPFR'!J69","v":0},{"$f":"K69-'Z0.2 UltimoAggPFR'!K69","v":0},{"$f":"L69-'Z0.2 UltimoAggPFR'!L69","v":0},{"$f":"M69-'Z0.2 UltimoAggPFR'!M69","v":0},{"$f":"N69-'Z0.2 UltimoAggPFR'!N69","v":0},{"$f":"O69-'Z0.2 UltimoAggPFR'!O69","v":0},{"$f":"P69-'Z0.2 UltimoAggPFR'!P69","v":0},{"$f":"Q69-'Z0.2 UltimoAggPFR'!Q69","v":0},{"$f":"R69-'Z0.2 UltimoAggPFR'!R69","v":0},{"$f":"S69-'Z0.2 UltimoAggPFR'!S69","v":0}]
[]
[null,null,"COMPONENTE TARIFFARIA DI COSTRUZIONE - Tk"]
[null,null,null,null,null,null,{"$f":"SUMIFS(INDEX('C4 Tk Ricalcolo'!$F:$BZ, ,MATCH(G$4, 'C4 Tk Ricalcolo'!$F$4:$BZ$4, 0)), 'C4 Tk Ricalcolo'!$B:$B, $B74)","v":0}]
[null,null,"CIN ante (TIR)"]
[null,"1a","CIN ante - investimenti (opere) (01/01) - SAL contabilizzati","H1a",null,null,{"$f":"SUMIFS(INDEX('C4 Tk Ricalcolo'!$F:$BZ, ,MATCH(G$4, 'C4 Tk Ricalcolo'!$F$4:$BZ$4, 0)), 'C4 Tk Ricalcolo'!$B:$B, $B76)","v":208421.05263157893},{"$f":"SUMIFS(INDEX('C4 Tk Ricalcolo'!$F:$BZ, ,MATCH(H$4, 'C4 Tk Ricalcolo'!$F$4:$BZ$4, 0)), 'C4 Tk Ricalcolo'!$B:$B, $B76)","v":183618.42105263157},{"$f":"SUMIFS(INDEX('C4 Tk Ricalcolo'!$F:$BZ, ,MATCH(I$4, 'C4 Tk Ricalcolo'!$F$4:$BZ$4, 0)), 'C4 Tk Ricalcolo'!$B:$B, $B76)","v":158815.78947368421},{"$f":"SUMIFS(INDEX('C4 Tk Ricalcolo'!$F:$BZ, ,MATCH(J$4, 'C4 Tk Ricalcolo'!$F$4:$BZ$4, 0)), 'C4 Tk Ricalcolo'!$B:$B, $B76)","v":134013.15789473685},{"$f":"SUMIFS(INDEX('C4 Tk Ricalcolo'!$F:$BZ, ,MATCH(K$4, 'C4 Tk Ricalcolo'!$F$4:$BZ$4, 0)), 'C4 Tk Ricalcolo'!$B:$B, $B76)","v":109210.52631578948},{"$f":"SUMIFS(INDEX('C4 Tk Ricalcolo'!$F:$BZ, ,MATCH(L$4, 'C4 Tk Ricalcolo'!$F$4:$BZ$4, 0)), 'C4 Tk Ricalcolo'!$B:$B, $B76)","v":84407.894736842107},{"$f":"SUMIFS(INDEX('C4 Tk Ricalcolo'!$F:$BZ, ,MATCH(M$4, 'C4 Tk Ricalcolo'!$F$4:$BZ$4, 0)), 'C4 Tk Ricalcolo'!$B:$B, $B76)","v":59605.26315789474},{"$f":"SUMIFS(INDEX('C4 Tk Ricalcolo'!$F:$BZ, ,MATCH(N$4, 'C4 Tk Ricalcolo'!$F$4:$BZ$4, 0)), 'C4 Tk Ricalcolo'!$B:$B, $B76)","v":34802.631578947374},{"$f":"SUMIFS(INDEX('C4 Tk Ricalcolo'!$F:$BZ, ,MATCH(O$4, 'C4 Tk Ricalcolo'!$F$4:$BZ$4, 0)), 'C4 Tk Ricalcolo'!$B:$B, $B76)","v":10000},{"$f":"SUMIFS(INDEX('C4 Tk Ricalcolo'!$F:$BZ, ,MATCH(P$4, 'C4 Tk Ricalcolo'!$F$4:$BZ$4, 0)), 'C4 Tk Ricalcolo'!$B:$B, $B76)","v":10000},{"$f":"SUMIFS(INDEX('C4 Tk Ricalcolo'!$F:$BZ, ,MATCH(Q$4, 'C4 Tk Ricalcolo'!$F$4:$BZ$4, 0)), 'C4 Tk Ricalcolo'!$B:$B, $B76)","v":10000},{"$f":"SUMIFS(INDEX('C4 Tk Ricalcolo'!$F:$BZ, ,MATCH(R$4, 'C4 Tk Ricalcolo'!$F$4:$BZ$4, 0)), 'C4 Tk Ricalcolo'!$B:$B, $B76)","v":10000},{"$f":"SUMIFS(INDEX('C4 Tk Ricalcolo'!$F:$BZ, ,MATCH(S$4, 'C4 Tk Ricalcolo'!$F$4:$BZ$4, 0)), 'C4 Tk Ricalcolo'!$B:$B, $B76)","v":9980}]
[null,"1b","CIN ante - investimenti (opere) (01/01) - SAL da contabilizzare","H1b",null,null,{"$f":"SUMIFS(INDEX('C4 Tk Ricalcolo'!$F:$BZ, ,MATCH(G$4, 'C4 Tk Ricalcolo'!$F$4:$BZ$4, 0)), 'C4 Tk Ricalcolo'!$B:$B, $B77)","v":10000},{"$f":"SUMIFS(INDEX('C4 Tk Ricalcolo'!$F:$BZ, ,MATCH(H$4, 'C4 Tk Ricalcolo'!$F$4:$BZ$4, 0)), 'C4 Tk Ricalcolo'!$B:$B, $B77)","v":18750},{"$f":"SUMIFS(INDEX('C4 Tk Ricalcolo'!$F:$BZ, ,MATCH(I$4, 'C4 Tk Ricalcolo'!$F$4:$BZ$4, 0)), 'C4 Tk Ricalcolo'!$B:$B, $B77)","v":26071.428571428572},{"$f":"SUMIFS(INDEX('C4 Tk Ricalcolo'!$F:$BZ, ,MATCH(J$4, 'C4 Tk Ricalcolo'!$F$4:$BZ$4, 0)), 'C4 Tk Ricalcolo'!$B:$B, $B77)","v":21726.190476190477},{"$f":"SUMIFS(INDEX('C4 Tk Ricalcolo'!$F:$BZ, ,MATCH(K$4, 'C4 Tk Ricalcolo'!$F$4:$BZ$4, 0)), 'C4 Tk Ricalcolo'!$B:$B, $B77)","v":17380.952380952382},{"$f":"SUMIFS(INDEX('C4 Tk Ricalcolo'!$F:$BZ, ,MATCH(L$4, 'C4 Tk Ricalcolo'!$F$4:$BZ$4, 0)), 'C4 Tk Ricalcolo'!$B:$B, $B77)","v":13035.714285714286},{"$f":"SUMIFS(INDEX('C4 Tk Ricalcolo'!$F:$BZ, ,MATCH(M$4, 'C4 Tk Ricalcolo'!$F$4:$BZ$4, 0)), 'C4 Tk Ricalcolo'!$B:$B, $B77)","v":8690.4761904761908},{"$f":"SUMIFS(INDEX('C4 Tk Ricalcolo'!$F:$BZ, ,MATCH(N$4, 'C4 Tk Ricalcolo'!$F$4:$BZ$4, 0)), 'C4 Tk Ricalcolo'!$B:$B, $B77)","v":4345.2380952380954},{"$f":"SUMIFS(INDEX('C4 Tk Ricalcolo'!$F:$BZ, ,MATCH(O$4, 'C4 Tk Ricalcolo'!$F$4:$BZ$4, 0)), 'C4 Tk Ricalcolo'!$B:$B, $B77)","v":0},{"$f":"SUMIFS(INDEX('C4 Tk Ricalcolo'!$F:$BZ, ,MATCH(P$4, 'C4 Tk Ricalcolo'!$F$4:$BZ$4, 0)), 'C4 Tk Ricalcolo'!$B:$B, $B77)","v":0},{"$f":"SUMIFS(INDEX('C4 Tk Ricalcolo'!$F:$BZ, ,MATCH(Q$4, 'C4 Tk Ricalcolo'!$F$4:$BZ$4, 0)), 'C4 Tk Ricalcolo'!$B:$B, $B77)","v":0},{"$f":"SUMIFS(INDEX('C4 Tk Ricalcolo'!$F:$BZ, ,MATCH(R$4, 'C4 Tk Ricalcolo'!$F$4:$BZ$4, 0)), 'C4 Tk Ricalcolo'!$B:$B, $B77)","v":0},{"$f":"SUMIFS(INDEX('C4 Tk Ricalcolo'!$F:$BZ, ,MATCH(S$4, 'C4 Tk Ricalcolo'!$F$4:$BZ$4, 0)), 'C4 Tk Ricalcolo'!$B:$B, $B77)","v":-20}]
[null,"2a","CIN ante - investimenti (contributo) (01/01)  - SAL contabilizzati","F1a",null,null,{"$f":"SUMIFS(INDEX('C4 Tk Ricalcolo'!$F:$BZ, ,MATCH(G$4, 'C4 Tk Ricalcolo'!$F$4:$BZ$4, 0)), 'C4 Tk Ricalcolo'!$B:$B, $B78)","v":0},{"$f":"SUMIFS(INDEX('C4 Tk Ricalcolo'!$F:$BZ, ,MATCH(H$4, 'C4 Tk Ricalcolo'!$F$4:$BZ$4, 0)), 'C4 Tk Ricalcolo'!$B:$B, $B78)","v":-2000},{"$f":"SUMIFS(INDEX('C4 Tk Ricalcolo'!$F:$BZ, ,MATCH(I$4, 'C4 Tk Ricalcolo'!$F$4:$BZ$4, 0)), 'C4 Tk Ricalcolo'!$B:$B, $B78)","v":-1714.2857142857142},{"$f":"SUMIFS(INDEX('C4 Tk Ricalcolo'!$F:$BZ, ,MATCH(J$4, 'C4 Tk Ricalcolo'!$F$4:$BZ$4, 0)), 'C4 Tk Ricalcolo'!$B:$B, $B78)","v":-1428.5714285714284},{"$f":"SUMIFS(INDEX('C4 Tk Ricalcolo'!$F:$BZ, ,MATCH(K$4, 'C4 Tk Ricalcolo'!$F$4:$BZ$4, 0)), 'C4 Tk Ricalcolo'!$B:$B, $B78)","v":-1142.8571428571427},{"$f":"SUMIFS(INDEX('C4 Tk Ricalcolo'!$F:$BZ, ,MATCH(L$4, 'C4 Tk Ricalcolo'!$F$4:$BZ$4, 0)), 'C4 Tk Ricalcolo'!$B:$B, $B78)","v":-857.142857142857},{"$f":"SUMIFS(INDEX('C4 Tk Ricalcolo'!$F:$BZ, ,MATCH(M$4, 'C4 Tk Ricalcolo'!$F$4:$BZ$4, 0)), 'C4 Tk Ricalcolo'!$B:$B, $B78)","v":-571.42857142857133},{"$f":"SUMIFS(INDEX('C4 Tk Ricalcolo'!$F:$BZ, ,MATCH(N$4, 'C4 Tk Ricalcolo'!$F$4:$BZ$4, 0)), 'C4 Tk Ricalcolo'!$B:$B, $B78)","v":-285.71428571428567},{"$f":"SUMIFS(INDEX('C4 Tk Ricalcolo'!$F:$BZ, ,MATCH(O$4, 'C4 Tk Ricalcolo'!$F$4:$BZ$4, 0)), 'C4 Tk Ricalcolo'!$B:$B, $B78)","v":0},{"$f":"SUMIFS(INDEX('C4 Tk Ricalcolo'!$F:$BZ, ,MATCH(P$4, 'C4 Tk Ricalcolo'!$F$4:$BZ$4, 0)), 'C4 Tk Ricalcolo'!$B:$B, $B78)","v":0},{"$f":"SUMIFS(INDEX('C4 Tk Ricalcolo'!$F:$BZ, ,MATCH(Q$4, 'C4 Tk Ricalcolo'!$F$4:$BZ$4, 0)), 'C4 Tk Ricalcolo'!$B:$B, $B78)","v":0},{"$f":"SUMIFS(INDEX('C4 Tk Ricalcolo'!$F:$BZ, ,MATCH(R$4, 'C4 Tk Ricalcolo'!$F$4:$BZ$4, 0)), 'C4 Tk Ricalcolo'!$B:$B, $B78)","v":0},{"$f":"SUMIFS(INDEX('C4 Tk Ricalcolo'!$F:$BZ, ,MATCH(S$4, 'C4 Tk Ricalcolo'!$F$4:$BZ$4, 0)), 'C4 Tk Ricalcolo'!$B:$B, $B78)","v":0}]
[null,"2b","CIN ante - investimenti (contributo) (01/01)  - SAL da contabilizzare","F1b",null,null,{"$f":"SUMIFS(INDEX('C4 Tk Ricalcolo'!$F:$BZ, ,MATCH(G$4, 'C4 Tk Ricalcolo'!$F$4:$BZ$4, 0)), 'C4 Tk Ricalcolo'!$B:$B, $B79)","v":0},{"$f":"SUMIFS(INDEX('C4 Tk Ricalcolo'!$F:$BZ, ,MATCH(H$4, 'C4 Tk Ricalcolo'!$F$4:$BZ$4, 0)), 'C4 Tk Ricalcolo'!$B:$B, $B79)","v":-1000},{"$f":"SUMIFS(INDEX('C4 Tk Ricalcolo'!$F:$BZ, ,MATCH(I$4, 'C4 Tk Ricalcolo'!$F$4:$BZ$4, 0)), 'C4 Tk Ricalcolo'!$B:$B, $B79)","v":-857.14285714285711},{"$f":"SUMIFS(INDEX('C4 Tk Ricalcolo'!$F:$BZ, ,MATCH(J$4, 'C4 Tk Ricalcolo'!$F$4:$BZ$4, 0)), 'C4 Tk Ricalcolo'!$B:$B, $B79)","v":-714.28571428571422},{"$f":"SUMIFS(INDEX('C4 Tk Ricalcolo'!$F:$BZ, ,MATCH(K$4, 'C4 Tk Ricalcolo'!$F$4:$BZ$4, 0)), 'C4 Tk Ricalcolo'!$B:$B, $B79)","v":-571.42857142857133},{"$f":"SUMIFS(INDEX('C4 Tk Ricalcolo'!$F:$BZ, ,MATCH(L$4, 'C4 Tk Ricalcolo'!$F$4:$BZ$4, 0)), 'C4 Tk Ricalcolo'!$B:$B, $B79)","v":-428.5714285714285},{"$f":"SUMIFS(INDEX('C4 Tk Ricalcolo'!$F:$BZ, ,MATCH(M$4, 'C4 Tk Ricalcolo'!$F$4:$BZ$4, 0)), 'C4 Tk Ricalcolo'!$B:$B, $B79)","v":-285.71428571428567},{"$f":"SUMIFS(INDEX('C4 Tk Ricalcolo'!$F:$BZ, ,MATCH(N$4, 'C4 Tk Ricalcolo'!$F$4:$BZ$4, 0)), 'C4 Tk Ricalcolo'!$B:$B, $B79)","v":-142.85714285714283},{"$f":"SUMIFS(INDEX('C4 Tk Ricalcolo'!$F:$BZ, ,MATCH(O$4, 'C4 Tk Ricalcolo'!$F$4:$BZ$4, 0)), 'C4 Tk Ricalcolo'!$B:$B, $B79)","v":0},{"$f":"SUMIFS(INDEX('C4 Tk Ricalcolo'!$F:$BZ, ,MATCH(P$4, 'C4 Tk Ricalcolo'!$F$4:$BZ$4, 0)), 'C4 Tk Ricalcolo'!$B:$B, $B79)","v":0},{"$f":"SUMIFS(INDEX('C4 Tk Ricalcolo'!$F:$BZ, ,MATCH(Q$4, 'C4 Tk Ricalcolo'!$F$4:$BZ$4, 0)), 'C4 Tk Ricalcolo'!$B:$B, $B79)","v":0},{"$f":"SUMIFS(INDEX('C4 Tk Ricalcolo'!$F:$BZ, ,MATCH(R$4, 'C4 Tk Ricalcolo'!$F$4:$BZ$4, 0)), 'C4 Tk Ricalcolo'!$B:$B, $B79)","v":0},{"$f":"SUMIFS(INDEX('C4 Tk Ricalcolo'!$F:$BZ, ,MATCH(S$4, 'C4 Tk Ricalcolo'!$F$4:$BZ$4, 0)), 'C4 Tk Ricalcolo'!$B:$B, $B79)","v":0}]
[null,3,"CIN ante - avviamento (01/01)","H1'",null,null,{"$f":"SUMIFS(INDEX('C4 Tk Ricalcolo'!$F:$BZ, ,MATCH(G$4, 'C4 Tk Ricalcolo'!$F$4:$BZ$4, 0)), 'C4 Tk Ricalcolo'!$B:$B, $B80)","v":0},{"$f":"SUMIFS(INDEX('C4 Tk Ricalcolo'!$F:$BZ, ,MATCH(H$4, 'C4 Tk Ricalcolo'!$F$4:$BZ$4, 0)), 'C4 Tk Ricalcolo'!$B:$B, $B80)","v":0},{"$f":"SUMIFS(INDEX('C4 Tk Ricalcolo'!$F:$BZ, ,MATCH(I$4, 'C4 Tk Ricalcolo'!$F$4:$BZ$4, 0)), 'C4 Tk Ricalcolo'!$B:$B, $B80)","v":0},{"$f":"SUMIFS(INDEX('C4 Tk Ricalcolo'!$F:$BZ, ,MATCH(J$4, 'C4 Tk Ricalcolo'!$F$4:$BZ$4, 0)), 'C4 Tk Ricalcolo'!$B:$B, $B80)","v":0},{"$f":"SUMIFS(INDEX('C4 Tk Ricalcolo'!$F:$BZ, ,MATCH(K$4, 'C4 Tk Ricalcolo'!$F$4:$BZ$4, 0)), 'C4 Tk Ricalcolo'!$B:$B, $B80)","v":0},{"$f":"SUMIFS(INDEX('C4 Tk Ricalcolo'!$F:$BZ, ,MATCH(L$4, 'C4 Tk Ricalcolo'!$F$4:$BZ$4, 0)), 'C4 Tk Ricalcolo'!$B:$B, $B80)","v":0},{"$f":"SUMIFS(INDEX('C4 Tk Ricalcolo'!$F:$BZ, ,MATCH(M$4, 'C4 Tk Ricalcolo'!$F$4:$BZ$4, 0)), 'C4 Tk Ricalcolo'!$B:$B, $B80)","v":0},{"$f":"SUMIFS(INDEX('C4 Tk Ricalcolo'!$F:$BZ, ,MATCH(N$4, 'C4 Tk Ricalcolo'!$F$4:$BZ$4, 0)), 'C4 Tk Ricalcolo'!$B:$B, $B80)","v":0},{"$f":"SUMIFS(INDEX('C4 Tk Ricalcolo'!$F:$BZ, ,MATCH(O$4, 'C4 Tk Ricalcolo'!$F$4:$BZ$4, 0)), 'C4 Tk Ricalcolo'!$B:$B, $B80)","v":0},{"$f":"SUMIFS(INDEX('C4 Tk Ricalcolo'!$F:$BZ, ,MATCH(P$4, 'C4 Tk Ricalcolo'!$F$4:$BZ$4, 0)), 'C4 Tk Ricalcolo'!$B:$B, $B80)","v":0},{"$f":"SUMIFS(INDEX('C4 Tk Ricalcolo'!$F:$BZ, ,MATCH(Q$4, 'C4 Tk Ricalcolo'!$F$4:$BZ$4, 0)), 'C4 Tk Ricalcolo'!$B:$B, $B80)","v":0},{"$f":"SUMIFS(INDEX('C4 Tk Ricalcolo'!$F:$BZ, ,MATCH(R$4, 'C4 Tk Ricalcolo'!$F$4:$BZ$4, 0)), 'C4 Tk Ricalcolo'!$B:$B, $B80)","v":0},{"$f":"SUMIFS(INDEX('C4 Tk Ricalcolo'!$F:$BZ, ,MATCH(S$4, 'C4 Tk Ricalcolo'!$F$4:$BZ$4, 0)), 'C4 Tk Ricalcolo'!$B:$B, $B80)","v":0}]
[]
[null,null,"CIN pre2026 (WACC) - ammortamento finanziario"]
[null,4,"CIN post - finanziario - investimenti (opere) (01/01)","H2",null,null,{"$f":"SUMIFS(INDEX('C4 Tk Ricalcolo'!$F:$BZ, ,MATCH(G$4, 'C4 Tk Ricalcolo'!$F$4:$BZ$4, 0)), 'C4 Tk Ricalcolo'!$B:$B, $B83)","v":20000},{"$f":"SUMIFS(INDEX('C4 Tk Ricalcolo'!$F:$BZ, ,MATCH(H$4, 'C4 Tk Ricalcolo'!$F$4:$BZ$4, 0)), 'C4 Tk Ricalcolo'!$B:$B, $B83)","v":30000},{"$f":"SUMIFS(INDEX('C4 Tk Ricalcolo'!$F:$BZ, ,MATCH(I$4, 'C4 Tk Ricalcolo'!$F$4:$BZ$4, 0)), 'C4 Tk Ricalcolo'!$B:$B, $B83)","v":40000},{"$f":"SUMIFS(INDEX('C4 Tk Ricalcolo'!$F:$BZ, ,MATCH(J$4, 'C4 Tk Ricalcolo'!$F$4:$BZ$4, 0)), 'C4 Tk Ricalcolo'!$B:$B, $B83)","v":40000},{"$f":"SUMIFS(INDEX('C4 Tk Ricalcolo'!$F:$BZ, ,MATCH(K$4, 'C4 Tk Ricalcolo'!$F$4:$BZ$4, 0)), 'C4 Tk Ricalcolo'!$B:$B, $B83)","v":40000},{"$f":"SUMIFS(INDEX('C4 Tk Ricalcolo'!$F:$BZ, ,MATCH(L$4, 'C4 Tk Ricalcolo'!$F$4:$BZ$4, 0)), 'C4 Tk Ricalcolo'!$B:$B, $B83)","v":40000},{"$f":"SUMIFS(INDEX('C4 Tk Ricalcolo'!$F:$BZ, ,MATCH(M$4, 'C4 Tk Ricalcolo'!$F$4:$BZ$4, 0)), 'C4 Tk Ricalcolo'!$B:$B, $B83)","v":40000},{"$f":"SUMIFS(INDEX('C4 Tk Ricalcolo'!$F:$BZ, ,MATCH(N$4, 'C4 Tk Ricalcolo'!$F$4:$BZ$4, 0)), 'C4 Tk Ricalcolo'!$B:$B, $B83)","v":40000},{"$f":"SUMIFS(INDEX('C4 Tk Ricalcolo'!$F:$BZ, ,MATCH(O$4, 'C4 Tk Ricalcolo'!$F$4:$BZ$4, 0)), 'C4 Tk Ricalcolo'!$B:$B, $B83)","v":40000},{"$f":"SUMIFS(INDEX('C4 Tk Ricalcolo'!$F:$BZ, ,MATCH(P$4, 'C4 Tk Ricalcolo'!$F$4:$BZ$4, 0)), 'C4 Tk Ricalcolo'!$B:$B, $B83)","v":32200},{"$f":"SUMIFS(INDEX('C4 Tk Ricalcolo'!$F:$BZ, ,MATCH(Q$4, 'C4 Tk Ricalcolo'!$F$4:$BZ$4, 0)), 'C4 Tk Ricalcolo'!$B:$B, $B83)","v":24400},{"$f":"SUMIFS(INDEX('C4 Tk Ricalcolo'!$F:$BZ, ,MATCH(R$4, 'C4 Tk Ricalcolo'!$F$4:$BZ$4, 0)), 'C4 Tk Ricalcolo'!$B:$B, $B83)","v":16600},{"$f":"SUMIFS(INDEX('C4 Tk Ricalcolo'!$F:$BZ, ,MATCH(S$4, 'C4 Tk Ricalcolo'!$F$4:$BZ$4, 0)), 'C4 Tk Ricalcolo'!$B:$B, $B83)","v":8780}]
[null,5,"CIN post - finanziario - investimenti (contributo) (01/01)","F2",null,null,{"$f":"SUMIFS(INDEX('C4 Tk Ricalcolo'!$F:$BZ, ,MATCH(G$4, 'C4 Tk Ricalcolo'!$F$4:$BZ$4, 0)), 'C4 Tk Ricalcolo'!$B:$B, $B84)","v":0},{"$f":"SUMIFS(INDEX('C4 Tk Ricalcolo'!$F:$BZ, ,MATCH(H$4, 'C4 Tk Ricalcolo'!$F$4:$BZ$4, 0)), 'C4 Tk Ricalcolo'!$B:$B, $B84)","v":-1000},{"$f":"SUMIFS(INDEX('C4 Tk Ricalcolo'!$F:$BZ, ,MATCH(I$4, 'C4 Tk Ricalcolo'!$F$4:$BZ$4, 0)), 'C4 Tk Ricalcolo'!$B:$B, $B84)","v":-1000},{"$f":"SUMIFS(INDEX('C4 Tk Ricalcolo'!$F:$BZ, ,MATCH(J$4, 'C4 Tk Ricalcolo'!$F$4:$BZ$4, 0)), 'C4 Tk Ricalcolo'!$B:$B, $B84)","v":-1000},{"$f":"SUMIFS(INDEX('C4 Tk Ricalcolo'!$F:$BZ, ,MATCH(K$4, 'C4 Tk Ricalcolo'!$F$4:$BZ$4, 0)), 'C4 Tk Ricalcolo'!$B:$B, $B84)","v":-1000},{"$f":"SUMIFS(INDEX('C4 Tk Ricalcolo'!$F:$BZ, ,MATCH(L$4, 'C4 Tk Ricalcolo'!$F$4:$BZ$4, 0)), 'C4 Tk Ricalcolo'!$B:$B, $B84)","v":-1000},{"$f":"SUMIFS(INDEX('C4 Tk Ricalcolo'!$F:$BZ, ,MATCH(M$4, 'C4 Tk Ricalcolo'!$F$4:$BZ$4, 0)), 'C4 Tk Ricalcolo'!$B:$B, $B84)","v":-1000},{"$f":"SUMIFS(INDEX('C4 Tk Ricalcolo'!$F:$BZ, ,MATCH(N$4, 'C4 Tk Ricalcolo'!$F$4:$BZ$4, 0)), 'C4 Tk Ricalcolo'!$B:$B, $B84)","v":-1000},{"$f":"SUMIFS(INDEX('C4 Tk Ricalcolo'!$F:$BZ, ,MATCH(O$4, 'C4 Tk Ricalcolo'!$F$4:$BZ$4, 0)), 'C4 Tk Ricalcolo'!$B:$B, $B84)","v":-1000},{"$f":"SUMIFS(INDEX('C4 Tk Ricalcolo'!$F:$BZ, ,MATCH(P$4, 'C4 Tk Ricalcolo'!$F$4:$BZ$4, 0)), 'C4 Tk Ricalcolo'!$B:$B, $B84)","v":-800},{"$f":"SUMIFS(INDEX('C4 Tk Ricalcolo'!$F:$BZ, ,MATCH(Q$4, 'C4 Tk Ricalcolo'!$F$4:$BZ$4, 0)), 'C4 Tk Ricalcolo'!$B:$B, $B84)","v":-600},{"$f":"SUMIFS(INDEX('C4 Tk Ricalcolo'!$F:$BZ, ,MATCH(R$4, 'C4 Tk Ricalcolo'!$F$4:$BZ$4, 0)), 'C4 Tk Ricalcolo'!$B:$B, $B84)","v":-400},{"$f":"SUMIFS(INDEX('C4 Tk Ricalcolo'!$F:$BZ, ,MATCH(S$4, 'C4 Tk Ricalcolo'!$F$4:$BZ$4, 0)), 'C4 Tk Ricalcolo'!$B:$B, $B84)","v":-200}]
[]
[null,null,"CIN post2026 (WACC) - ammortamento finanziario"]
[null,9,"CIN post - finanziario - investimenti (opere) (01/01)","H2",null,null,{"$f":"SUMIFS(INDEX('C4 Tk Ricalcolo'!$F:$BZ, ,MATCH(G$4, 'C4 Tk Ricalcolo'!$F$4:$BZ$4, 0)), 'C4 Tk Ricalcolo'!$B:$B, $B87)","v":0},{"$f":"SUMIFS(INDEX('C4 Tk Ricalcolo'!$F:$BZ, ,MATCH(H$4, 'C4 Tk Ricalcolo'!$F$4:$BZ$4, 0)), 'C4 Tk Ricalcolo'!$B:$B, $B87)","v":50000},{"$f":"SUMIFS(INDEX('C4 Tk Ricalcolo'!$F:$BZ, ,MATCH(I$4, 'C4 Tk Ricalcolo'!$F$4:$BZ$4, 0)), 'C4 Tk Ricalcolo'!$B:$B, $B87)","v":100000},{"$f":"SUMIFS(INDEX('C4 Tk Ricalcolo'!$F:$BZ, ,MATCH(J$4, 'C4 Tk Ricalcolo'!$F$4:$BZ$4, 0)), 'C4 Tk Ricalcolo'!$B:$B, $B87)","v":100000},{"$f":"SUMIFS(INDEX('C4 Tk Ricalcolo'!$F:$BZ, ,MATCH(K$4, 'C4 Tk Ricalcolo'!$F$4:$BZ$4, 0)), 'C4 Tk Ricalcolo'!$B:$B, $B87)","v":100000},{"$f":"SUMIFS(INDEX('C4 Tk Ricalcolo'!$F:$BZ, ,MATCH(L$4, 'C4 Tk Ricalcolo'!$F$4:$BZ$4, 0)), 'C4 Tk Ricalcolo'!$B:$B, $B87)","v":100000},{"$f":"SUMIFS(INDEX('C4 Tk Ricalcolo'!$F:$BZ, ,MATCH(M$4, 'C4 Tk Ricalcolo'!$F$4:$BZ$4, 0)), 'C4 Tk Ricalcolo'!$B:$B, $B87)","v":100000},{"$f":"SUMIFS(INDEX('C4 Tk Ricalcolo'!$F:$BZ, ,MATCH(N$4, 'C4 Tk Ricalcolo'!$F$4:$BZ$4, 0)), 'C4 Tk Ricalcolo'!$B:$B, $B87)","v":100000},{"$f":"SUMIFS(INDEX('C4 Tk Ricalcolo'!$F:$BZ, ,MATCH(O$4, 'C4 Tk Ricalcolo'!$F$4:$BZ$4, 0)), 'C4 Tk Ricalcolo'!$B:$B, $B87)","v":100000},{"$f":"SUMIFS(INDEX('C4 Tk Ricalcolo'!$F:$BZ, ,MATCH(P$4, 'C4 Tk Ricalcolo'!$F$4:$BZ$4, 0)), 'C4 Tk Ricalcolo'!$B:$B, $B87)","v":80000},{"$f":"SUMIFS(INDEX('C4 Tk Ricalcolo'!$F:$BZ, ,MATCH(Q$4, 'C4 Tk Ricalcolo'!$F$4:$BZ$4, 0)), 'C4 Tk Ricalcolo'!$B:$B, $B87)","v":60000},{"$f":"SUMIFS(INDEX('C4 Tk Ricalcolo'!$F:$BZ, ,MATCH(R$4, 'C4 Tk Ricalcolo'!$F$4:$BZ$4, 0)), 'C4 Tk Ricalcolo'!$B:$B, $B87)","v":40000},{"$f":"SUMIFS(INDEX('C4 Tk Ricalcolo'!$F:$BZ, ,MATCH(S$4, 'C4 Tk Ricalcolo'!$F$4:$BZ$4, 0)), 'C4 Tk Ricalcolo'!$B:$B, $B87)","v":19980}]
[null,10,"CIN post - finanziario - investimenti (contributo) (01/01)","F2",null,null,{"$f":"SUMIFS(INDEX('C4 Tk Ricalcolo'!$F:$BZ, ,MATCH(G$4, 'C4 Tk Ricalcolo'!$F$4:$BZ$4, 0)), 'C4 Tk Ricalcolo'!$B:$B, $B88)","v":0},{"$f":"SUMIFS(INDEX('C4 Tk Ricalcolo'!$F:$BZ, ,MATCH(H$4, 'C4 Tk Ricalcolo'!$F$4:$BZ$4, 0)), 'C4 Tk Ricalcolo'!$B:$B, $B88)","v":-1000},{"$f":"SUMIFS(INDEX('C4 Tk Ricalcolo'!$F:$BZ, ,MATCH(I$4, 'C4 Tk Ricalcolo'!$F$4:$BZ$4, 0)), 'C4 Tk Ricalcolo'!$B:$B, $B88)","v":-1000},{"$f":"SUMIFS(INDEX('C4 Tk Ricalcolo'!$F:$BZ, ,MATCH(J$4, 'C4 Tk Ricalcolo'!$F$4:$BZ$4, 0)), 'C4 Tk Ricalcolo'!$B:$B, $B88)","v":-1000},{"$f":"SUMIFS(INDEX('C4 Tk Ricalcolo'!$F:$BZ, ,MATCH(K$4, 'C4 Tk Ricalcolo'!$F$4:$BZ$4, 0)), 'C4 Tk Ricalcolo'!$B:$B, $B88)","v":-1000},{"$f":"SUMIFS(INDEX('C4 Tk Ricalcolo'!$F:$BZ, ,MATCH(L$4, 'C4 Tk Ricalcolo'!$F$4:$BZ$4, 0)), 'C4 Tk Ricalcolo'!$B:$B, $B88)","v":-1000},{"$f":"SUMIFS(INDEX('C4 Tk Ricalcolo'!$F:$BZ, ,MATCH(M$4, 'C4 Tk Ricalcolo'!$F$4:$BZ$4, 0)), 'C4 Tk Ricalcolo'!$B:$B, $B88)","v":-1000},{"$f":"SUMIFS(INDEX('C4 Tk Ricalcolo'!$F:$BZ, ,MATCH(N$4, 'C4 Tk Ricalcolo'!$F$4:$BZ$4, 0)), 'C4 Tk Ricalcolo'!$B:$B, $B88)","v":-1000},{"$f":"SUMIFS(INDEX('C4 Tk Ricalcolo'!$F:$BZ, ,MATCH(O$4, 'C4 Tk Ricalcolo'!$F$4:$BZ$4, 0)), 'C4 Tk Ricalcolo'!$B:$B, $B88)","v":-1000},{"$f":"SUMIFS(INDEX('C4 Tk Ricalcolo'!$F:$BZ, ,MATCH(P$4, 'C4 Tk Ricalcolo'!$F$4:$BZ$4, 0)), 'C4 Tk Ricalcolo'!$B:$B, $B88)","v":-800},{"$f":"SUMIFS(INDEX('C4 Tk Ricalcolo'!$F:$BZ, ,MATCH(Q$4, 'C4 Tk Ricalcolo'!$F$4:$BZ$4, 0)), 'C4 Tk Ricalcolo'!$B:$B, $B88)","v":-600},{"$f":"SUMIFS(INDEX('C4 Tk Ricalcolo'!$F:$BZ, ,MATCH(R$4, 'C4 Tk Ricalcolo'!$F$4:$BZ$4, 0)), 'C4 Tk Ricalcolo'!$B:$B, $B88)","v":-400},{"$f":"SUMIFS(INDEX('C4 Tk Ricalcolo'!$F:$BZ, ,MATCH(S$4, 'C4 Tk Ricalcolo'!$F$4:$BZ$4, 0)), 'C4 Tk Ricalcolo'!$B:$B, $B88)","v":-200}]
[]
[null,null,"CIN post2026 (WACC) - ammortamento a vite utili"]
[null,"12a","CIN post - vite utili - LIC di primo livello (01/01)","L1",null,null,{"$f":"SUMIFS(INDEX('C4 Tk Ricalcolo'!$F:$BZ, ,MATCH(G$4, 'C4 Tk Ricalcolo'!$F$4:$BZ$4, 0)), 'C4 Tk Ricalcolo'!$B:$B, $B91)","v":0},{"$f":"SUMIFS(INDEX('C4 Tk Ricalcolo'!$F:$BZ, ,MATCH(H$4, 'C4 Tk Ricalcolo'!$F$4:$BZ$4, 0)), 'C4 Tk Ricalcolo'!$B:$B, $B91)","v":0},{"$f":"SUMIFS(INDEX('C4 Tk Ricalcolo'!$F:$BZ, ,MATCH(I$4, 'C4 Tk Ricalcolo'!$F$4:$BZ$4, 0)), 'C4 Tk Ricalcolo'!$B:$B, $B91)","v":100},{"$f":"SUMIFS(INDEX('C4 Tk Ricalcolo'!$F:$BZ, ,MATCH(J$4, 'C4 Tk Ricalcolo'!$F$4:$BZ$4, 0)), 'C4 Tk Ricalcolo'!$B:$B, $B91)","v":100},{"$f":"SUMIFS(INDEX('C4 Tk Ricalcolo'!$F:$BZ, ,MATCH(K$4, 'C4 Tk Ricalcolo'!$F$4:$BZ$4, 0)), 'C4 Tk Ricalcolo'!$B:$B, $B91)","v":100},{"$f":"SUMIFS(INDEX('C4 Tk Ricalcolo'!$F:$BZ, ,MATCH(L$4, 'C4 Tk Ricalcolo'!$F$4:$BZ$4, 0)), 'C4 Tk Ricalcolo'!$B:$B, $B91)","v":100},{"$f":"SUMIFS(INDEX('C4 Tk Ricalcolo'!$F:$BZ, ,MATCH(M$4, 'C4 Tk Ricalcolo'!$F$4:$BZ$4, 0)), 'C4 Tk Ricalcolo'!$B:$B, $B91)","v":100},{"$f":"SUMIFS(INDEX('C4 Tk Ricalcolo'!$F:$BZ, ,MATCH(N$4, 'C4 Tk Ricalcolo'!$F$4:$BZ$4, 0)), 'C4 Tk Ricalcolo'!$B:$B, $B91)","v":100},{"$f":"SUMIFS(INDEX('C4 Tk Ricalcolo'!$F:$BZ, ,MATCH(O$4, 'C4 Tk Ricalcolo'!$F$4:$BZ$4, 0)), 'C4 Tk Ricalcolo'!$B:$B, $B91)","v":100},{"$f":"SUMIFS(INDEX('C4 Tk Ricalcolo'!$F:$BZ, ,MATCH(P$4, 'C4 Tk Ricalcolo'!$F$4:$BZ$4, 0)), 'C4 Tk Ricalcolo'!$B:$B, $B91)","v":100},{"$f":"SUMIFS(INDEX('C4 Tk Ricalcolo'!$F:$BZ, ,MATCH(Q$4, 'C4 Tk Ricalcolo'!$F$4:$BZ$4, 0)), 'C4 Tk Ricalcolo'!$B:$B, $B91)","v":100},{"$f":"SUMIFS(INDEX('C4 Tk Ricalcolo'!$F:$BZ, ,MATCH(R$4, 'C4 Tk Ricalcolo'!$F$4:$BZ$4, 0)), 'C4 Tk Ricalcolo'!$B:$B, $B91)","v":100},{"$f":"SUMIFS(INDEX('C4 Tk Ricalcolo'!$F:$BZ, ,MATCH(S$4, 'C4 Tk Ricalcolo'!$F$4:$BZ$4, 0)), 'C4 Tk Ricalcolo'!$B:$B, $B91)","v":0}]
[null,"12b","CIN post - vite utili - LIC di secondo livello (01/01)","L2",null,null,{"$f":"SUMIFS(INDEX('C4 Tk Ricalcolo'!$F:$BZ, ,MATCH(G$4, 'C4 Tk Ricalcolo'!$F$4:$BZ$4, 0)), 'C4 Tk Ricalcolo'!$B:$B, $B92)","v":0},{"$f":"SUMIFS(INDEX('C4 Tk Ricalcolo'!$F:$BZ, ,MATCH(H$4, 'C4 Tk Ricalcolo'!$F$4:$BZ$4, 0)), 'C4 Tk Ricalcolo'!$B:$B, $B92)","v":0},{"$f":"SUMIFS(INDEX('C4 Tk Ricalcolo'!$F:$BZ, ,MATCH(I$4, 'C4 Tk Ricalcolo'!$F$4:$BZ$4, 0)), 'C4 Tk Ricalcolo'!$B:$B, $B92)","v":100},{"$f":"SUMIFS(INDEX('C4 Tk Ricalcolo'!$F:$BZ, ,MATCH(J$4, 'C4 Tk Ricalcolo'!$F$4:$BZ$4, 0)), 'C4 Tk Ricalcolo'!$B:$B, $B92)","v":100},{"$f":"SUMIFS(INDEX('C4 Tk Ricalcolo'!$F:$BZ, ,MATCH(K$4, 'C4 Tk Ricalcolo'!$F$4:$BZ$4, 0)), 'C4 Tk Ricalcolo'!$B:$B, $B92)","v":100},{"$f":"SUMIFS(INDEX('C4 Tk Ricalcolo'!$F:$BZ, ,MATCH(L$4, 'C4 Tk Ricalcolo'!$F$4:$BZ$4, 0)), 'C4 Tk Ricalcolo'!$B:$B, $B92)","v":100},{"$f":"SUMIFS(INDEX('C4 Tk Ricalcolo'!$F:$BZ, ,MATCH(M$4, 'C4 Tk Ricalcolo'!$F$4:$BZ$4, 0)), 'C4 Tk Ricalcolo'!$B:$B, $B92)","v":100},{"$f":"SUMIFS(INDEX('C4 Tk Ricalcolo'!$F:$BZ, ,MATCH(N$4, 'C4 Tk Ricalcolo'!$F$4:$BZ$4, 0)), 'C4 Tk Ricalcolo'!$B:$B, $B92)","v":100},{"$f":"SUMIFS(INDEX('C4 Tk Ricalcolo'!$F:$BZ, ,MATCH(O$4, 'C4 Tk Ricalcolo'!$F$4:$BZ$4, 0)), 'C4 Tk Ricalcolo'!$B:$B, $B92)","v":100},{"$f":"SUMIFS(INDEX('C4 Tk Ricalcolo'!$F:$BZ, ,MATCH(P$4, 'C4 Tk Ricalcolo'!$F$4:$BZ$4, 0)), 'C4 Tk Ricalcolo'!$B:$B, $B92)","v":100},{"$f":"SUMIFS(INDEX('C4 Tk Ricalcolo'!$F:$BZ, ,MATCH(Q$4, 'C4 Tk Ricalcolo'!$F$4:$BZ$4, 0)), 'C4 Tk Ricalcolo'!$B:$B, $B92)","v":100},{"$f":"SUMIFS(INDEX('C4 Tk Ricalcolo'!$F:$BZ, ,MATCH(R$4, 'C4 Tk Ricalcolo'!$F$4:$BZ$4, 0)), 'C4 Tk Ricalcolo'!$B:$B, $B92)","v":100},{"$f":"SUMIFS(INDEX('C4 Tk Ricalcolo'!$F:$BZ, ,MATCH(S$4, 'C4 Tk Ricalcolo'!$F$4:$BZ$4, 0)), 'C4 Tk Ricalcolo'!$B:$B, $B92)","v":0}]
[null,14,"CIN post - vite utili - investimenti (opere) (01/01)","H4",null,null,{"$f":"SUMIFS(INDEX('C4 Tk Ricalcolo'!$F:$BZ, ,MATCH(G$4, 'C4 Tk Ricalcolo'!$F$4:$BZ$4, 0)), 'C4 Tk Ricalcolo'!$B:$B, $B93)","v":0},{"$f":"SUMIFS(INDEX('C4 Tk Ricalcolo'!$F:$BZ, ,MATCH(H$4, 'C4 Tk Ricalcolo'!$F$4:$BZ$4, 0)), 'C4 Tk Ricalcolo'!$B:$B, $B93)","v":0},{"$f":"SUMIFS(INDEX('C4 Tk Ricalcolo'!$F:$BZ, ,MATCH(I$4, 'C4 Tk Ricalcolo'!$F$4:$BZ$4, 0)), 'C4 Tk Ricalcolo'!$B:$B, $B93)","v":0},{"$f":"SUMIFS(INDEX('C4 Tk Ricalcolo'!$F:$BZ, ,MATCH(J$4, 'C4 Tk Ricalcolo'!$F$4:$BZ$4, 0)), 'C4 Tk Ricalcolo'!$B:$B, $B93)","v":400},{"$f":"SUMIFS(INDEX('C4 Tk Ricalcolo'!$F:$BZ, ,MATCH(K$4, 'C4 Tk Ricalcolo'!$F$4:$BZ$4, 0)), 'C4 Tk Ricalcolo'!$B:$B, $B93)","v":790},{"$f":"SUMIFS(INDEX('C4 Tk Ricalcolo'!$F:$BZ, ,MATCH(L$4, 'C4 Tk Ricalcolo'!$F$4:$BZ$4, 0)), 'C4 Tk Ricalcolo'!$B:$B, $B93)","v":1170},{"$f":"SUMIFS(INDEX('C4 Tk Ricalcolo'!$F:$BZ, ,MATCH(M$4, 'C4 Tk Ricalcolo'!$F$4:$BZ$4, 0)), 'C4 Tk Ricalcolo'!$B:$B, $B93)","v":1534},{"$f":"SUMIFS(INDEX('C4 Tk Ricalcolo'!$F:$BZ, ,MATCH(N$4, 'C4 Tk Ricalcolo'!$F$4:$BZ$4, 0)), 'C4 Tk Ricalcolo'!$B:$B, $B93)","v":1884.6666666666667},{"$f":"SUMIFS(INDEX('C4 Tk Ricalcolo'!$F:$BZ, ,MATCH(O$4, 'C4 Tk Ricalcolo'!$F$4:$BZ$4, 0)), 'C4 Tk Ricalcolo'!$B:$B, $B93)","v":2215.3333333333335},{"$f":"SUMIFS(INDEX('C4 Tk Ricalcolo'!$F:$BZ, ,MATCH(P$4, 'C4 Tk Ricalcolo'!$F$4:$BZ$4, 0)), 'C4 Tk Ricalcolo'!$B:$B, $B93)","v":2526},{"$f":"SUMIFS(INDEX('C4 Tk Ricalcolo'!$F:$BZ, ,MATCH(Q$4, 'C4 Tk Ricalcolo'!$F$4:$BZ$4, 0)), 'C4 Tk Ricalcolo'!$B:$B, $B93)","v":2816.666666666667},{"$f":"SUMIFS(INDEX('C4 Tk Ricalcolo'!$F:$BZ, ,MATCH(R$4, 'C4 Tk Ricalcolo'!$F$4:$BZ$4, 0)), 'C4 Tk Ricalcolo'!$B:$B, $B93)","v":3067.3333333333335},{"$f":"SUMIFS(INDEX('C4 Tk Ricalcolo'!$F:$BZ, ,MATCH(S$4, 'C4 Tk Ricalcolo'!$F$4:$BZ$4, 0)), 'C4 Tk Ricalcolo'!$B:$B, $B93)","v":3308}]
[null,15,"CIN post - vite utili - investimenti (contributo) (01/01)","F4",null,null,{"$f":"SUMIFS(INDEX('C4 Tk Ricalcolo'!$F:$BZ, ,MATCH(G$4, 'C4 Tk Ricalcolo'!$F$4:$BZ$4, 0)), 'C4 Tk Ricalcolo'!$B:$B, $B94)","v":0},{"$f":"SUMIFS(INDEX('C4 Tk Ricalcolo'!$F:$BZ, ,MATCH(H$4, 'C4 Tk Ricalcolo'!$F$4:$BZ$4, 0)), 'C4 Tk Ricalcolo'!$B:$B, $B94)","v":0},{"$f":"SUMIFS(INDEX('C4 Tk Ricalcolo'!$F:$BZ, ,MATCH(I$4, 'C4 Tk Ricalcolo'!$F$4:$BZ$4, 0)), 'C4 Tk Ricalcolo'!$B:$B, $B94)","v":-40},{"$f":"SUMIFS(INDEX('C4 Tk Ricalcolo'!$F:$BZ, ,MATCH(J$4, 'C4 Tk Ricalcolo'!$F$4:$BZ$4, 0)), 'C4 Tk Ricalcolo'!$B:$B, $B94)","v":-79},{"$f":"SUMIFS(INDEX('C4 Tk Ricalcolo'!$F:$BZ, ,MATCH(K$4, 'C4 Tk Ricalcolo'!$F$4:$BZ$4, 0)), 'C4 Tk Ricalcolo'!$B:$B, $B94)","v":-117},{"$f":"SUMIFS(INDEX('C4 Tk Ricalcolo'!$F:$BZ, ,MATCH(L$4, 'C4 Tk Ricalcolo'!$F$4:$BZ$4, 0)), 'C4 Tk Ricalcolo'!$B:$B, $B94)","v":-153.4},{"$f":"SUMIFS(INDEX('C4 Tk Ricalcolo'!$F:$BZ, ,MATCH(M$4, 'C4 Tk Ricalcolo'!$F$4:$BZ$4, 0)), 'C4 Tk Ricalcolo'!$B:$B, $B94)","v":-188.46666666666667},{"$f":"SUMIFS(INDEX('C4 Tk Ricalcolo'!$F:$BZ, ,MATCH(N$4, 'C4 Tk Ricalcolo'!$F$4:$BZ$4, 0)), 'C4 Tk Ricalcolo'!$B:$B, $B94)","v":-221.5333333333333},{"$f":"SUMIFS(INDEX('C4 Tk Ricalcolo'!$F:$BZ, ,MATCH(O$4, 'C4 Tk Ricalcolo'!$F$4:$BZ$4, 0)), 'C4 Tk Ricalcolo'!$B:$B, $B94)","v":-252.6},{"$f":"SUMIFS(INDEX('C4 Tk Ricalcolo'!$F:$BZ, ,MATCH(P$4, 'C4 Tk Ricalcolo'!$F$4:$BZ$4, 0)), 'C4 Tk Ricalcolo'!$B:$B, $B94)","v":-281.66666666666663},{"$f":"SUMIFS(INDEX('C4 Tk Ricalcolo'!$F:$BZ, ,MATCH(Q$4, 'C4 Tk Ricalcolo'!$F$4:$BZ$4, 0)), 'C4 Tk Ricalcolo'!$B:$B, $B94)","v":-306.73333333333335},{"$f":"SUMIFS(INDEX('C4 Tk Ricalcolo'!$F:$BZ, ,MATCH(R$4, 'C4 Tk Ricalcolo'!$F$4:$BZ$4, 0)), 'C4 Tk Ricalcolo'!$B:$B, $B94)","v":-330.79999999999995},{"$f":"SUMIFS(INDEX('C4 Tk Ricalcolo'!$F:$BZ, ,MATCH(S$4, 'C4 Tk Ricalcolo'!$F$4:$BZ$4, 0)), 'C4 Tk Ricalcolo'!$B:$B, $B94)","v":-313.53333333333336}]
[]
[null,null,"Valore di subentro"]
[null,6,"CIN ante - valore di subentro investimenti (cumulato)","N1",null,null,{"$f":"SUMIFS(INDEX('C4 Tk Ricalcolo'!$F:$BZ, ,MATCH(G$4, 'C4 Tk Ricalcolo'!$F$4:$BZ$4, 0)), 'C4 Tk Ricalcolo'!$B:$B, $B97)","v":10000},{"$f":"SUMIFS(INDEX('C4 Tk Ricalcolo'!$F:$BZ, ,MATCH(H$4, 'C4 Tk Ricalcolo'!$F$4:$BZ$4, 0)), 'C4 Tk Ricalcolo'!$B:$B, $B97)","v":10000},{"$f":"SUMIFS(INDEX('C4 Tk Ricalcolo'!$F:$BZ, ,MATCH(I$4, 'C4 Tk Ricalcolo'!$F$4:$BZ$4, 0)), 'C4 Tk Ricalcolo'!$B:$B, $B97)","v":10000},{"$f":"SUMIFS(INDEX('C4 Tk Ricalcolo'!$F:$BZ, ,MATCH(J$4, 'C4 Tk Ricalcolo'!$F$4:$BZ$4, 0)), 'C4 Tk Ricalcolo'!$B:$B, $B97)","v":10000},{"$f":"SUMIFS(INDEX('C4 Tk Ricalcolo'!$F:$BZ, ,MATCH(K$4, 'C4 Tk Ricalcolo'!$F$4:$BZ$4, 0)), 'C4 Tk Ricalcolo'!$B:$B, $B97)","v":10000},{"$f":"SUMIFS(INDEX('C4 Tk Ricalcolo'!$F:$BZ, ,MATCH(L$4, 'C4 Tk Ricalcolo'!$F$4:$BZ$4, 0)), 'C4 Tk Ricalcolo'!$B:$B, $B97)","v":10000},{"$f":"SUMIFS(INDEX('C4 Tk Ricalcolo'!$F:$BZ, ,MATCH(M$4, 'C4 Tk Ricalcolo'!$F$4:$BZ$4, 0)), 'C4 Tk Ricalcolo'!$B:$B, $B97)","v":10000},{"$f":"SUMIFS(INDEX('C4 Tk Ricalcolo'!$F:$BZ, ,MATCH(N$4, 'C4 Tk Ricalcolo'!$F$4:$BZ$4, 0)), 'C4 Tk Ricalcolo'!$B:$B, $B97)","v":10000},{"$f":"SUMIFS(INDEX('C4 Tk Ricalcolo'!$F:$BZ, ,MATCH(O$4, 'C4 Tk Ricalcolo'!$F$4:$BZ$4, 0)), 'C4 Tk Ricalcolo'!$B:$B, $B97)","v":10000},{"$f":"SUMIFS(INDEX('C4 Tk Ricalcolo'!$F:$BZ, ,MATCH(P$4, 'C4 Tk Ricalcolo'!$F$4:$BZ$4, 0)), 'C4 Tk Ricalcolo'!$B:$B, $B97)","v":10000},{"$f":"SUMIFS(INDEX('C4 Tk Ricalcolo'!$F:$BZ, ,MATCH(Q$4, 'C4 Tk Ricalcolo'!$F$4:$BZ$4, 0)), 'C4 Tk Ricalcolo'!$B:$B, $B97)","v":10000},{"$f":"SUMIFS(INDEX('C4 Tk Ricalcolo'!$F:$BZ, ,MATCH(R$4, 'C4 Tk Ricalcolo'!$F$4:$BZ$4, 0)), 'C4 Tk Ricalcolo'!$B:$B, $B97)","v":10000},{"$f":"SUMIFS(INDEX('C4 Tk Ricalcolo'!$F:$BZ, ,MATCH(S$4, 'C4 Tk Ricalcolo'!$F$4:$BZ$4, 0)), 'C4 Tk Ricalcolo'!$B:$B, $B97)","v":9960}]
[null,7,"CIN pre2026 - valore di subentro investimenti (cumulato)","N2",null,null,{"$f":"SUMIFS(INDEX('C4 Tk Ricalcolo'!$F:$BZ, ,MATCH(G$4, 'C4 Tk Ricalcolo'!$F$4:$BZ$4, 0)), 'C4 Tk Ricalcolo'!$B:$B, $B98)","v":1000},{"$f":"SUMIFS(INDEX('C4 Tk Ricalcolo'!$F:$BZ, ,MATCH(H$4, 'C4 Tk Ricalcolo'!$F$4:$BZ$4, 0)), 'C4 Tk Ricalcolo'!$B:$B, $B98)","v":1000},{"$f":"SUMIFS(INDEX('C4 Tk Ricalcolo'!$F:$BZ, ,MATCH(I$4, 'C4 Tk Ricalcolo'!$F$4:$BZ$4, 0)), 'C4 Tk Ricalcolo'!$B:$B, $B98)","v":1000},{"$f":"SUMIFS(INDEX('C4 Tk Ricalcolo'!$F:$BZ, ,MATCH(J$4, 'C4 Tk Ricalcolo'!$F$4:$BZ$4, 0)), 'C4 Tk Ricalcolo'!$B:$B, $B98)","v":1000},{"$f":"SUMIFS(INDEX('C4 Tk Ricalcolo'!$F:$BZ, ,MATCH(K$4, 'C4 Tk Ricalcolo'!$F$4:$BZ$4, 0)), 'C4 Tk Ricalcolo'!$B:$B, $B98)","v":1000},{"$f":"SUMIFS(INDEX('C4 Tk Ricalcolo'!$F:$BZ, ,MATCH(L$4, 'C4 Tk Ricalcolo'!$F$4:$BZ$4, 0)), 'C4 Tk Ricalcolo'!$B:$B, $B98)","v":1000},{"$f":"SUMIFS(INDEX('C4 Tk Ricalcolo'!$F:$BZ, ,MATCH(M$4, 'C4 Tk Ricalcolo'!$F$4:$BZ$4, 0)), 'C4 Tk Ricalcolo'!$B:$B, $B98)","v":1000},{"$f":"SUMIFS(INDEX('C4 Tk Ricalcolo'!$F:$BZ, ,MATCH(N$4, 'C4 Tk Ricalcolo'!$F$4:$BZ$4, 0)), 'C4 Tk Ricalcolo'!$B:$B, $B98)","v":1000},{"$f":"SUMIFS(INDEX('C4 Tk Ricalcolo'!$F:$BZ, ,MATCH(O$4, 'C4 Tk Ricalcolo'!$F$4:$BZ$4, 0)), 'C4 Tk Ricalcolo'!$B:$B, $B98)","v":1000},{"$f":"SUMIFS(INDEX('C4 Tk Ricalcolo'!$F:$BZ, ,MATCH(P$4, 'C4 Tk Ricalcolo'!$F$4:$BZ$4, 0)), 'C4 Tk Ricalcolo'!$B:$B, $B98)","v":1000},{"$f":"SUMIFS(INDEX('C4 Tk Ricalcolo'!$F:$BZ, ,MATCH(Q$4, 'C4 Tk Ricalcolo'!$F$4:$BZ$4, 0)), 'C4 Tk Ricalcolo'!$B:$B, $B98)","v":1000},{"$f":"SUMIFS(INDEX('C4 Tk Ricalcolo'!$F:$BZ, ,MATCH(R$4, 'C4 Tk Ricalcolo'!$F$4:$BZ$4, 0)), 'C4 Tk Ricalcolo'!$B:$B, $B98)","v":1000},{"$f":"SUMIFS(INDEX('C4 Tk Ricalcolo'!$F:$BZ, ,MATCH(S$4, 'C4 Tk Ricalcolo'!$F$4:$BZ$4, 0)), 'C4 Tk Ricalcolo'!$B:$B, $B98)","v":1000}]
[null,8,"CIN post - finanziario - valore di subentro LIC","N3",null,null,{"$f":"SUMIFS(INDEX('C4 Tk Ricalcolo'!$F:$BZ, ,MATCH(G$4, 'C4 Tk Ricalcolo'!$F$4:$BZ$4, 0)), 'C4 Tk Ricalcolo'!$B:$B, $B99)","v":0},{"$f":"SUMIFS(INDEX('C4 Tk Ricalcolo'!$F:$BZ, ,MATCH(H$4, 'C4 Tk Ricalcolo'!$F$4:$BZ$4, 0)), 'C4 Tk Ricalcolo'!$B:$B, $B99)","v":0},{"$f":"SUMIFS(INDEX('C4 Tk Ricalcolo'!$F:$BZ, ,MATCH(I$4, 'C4 Tk Ricalcolo'!$F$4:$BZ$4, 0)), 'C4 Tk Ricalcolo'!$B:$B, $B99)","v":0},{"$f":"SUMIFS(INDEX('C4 Tk Ricalcolo'!$F:$BZ, ,MATCH(J$4, 'C4 Tk Ricalcolo'!$F$4:$BZ$4, 0)), 'C4 Tk Ricalcolo'!$B:$B, $B99)","v":0},{"$f":"SUMIFS(INDEX('C4 Tk Ricalcolo'!$F:$BZ, ,MATCH(K$4, 'C4 Tk Ricalcolo'!$F$4:$BZ$4, 0)), 'C4 Tk Ricalcolo'!$B:$B, $B99)","v":0},{"$f":"SUMIFS(INDEX('C4 Tk Ricalcolo'!$F:$BZ, ,MATCH(L$4, 'C4 Tk Ricalcolo'!$F$4:$BZ$4, 0)), 'C4 Tk Ricalcolo'!$B:$B, $B99)","v":0},{"$f":"SUMIFS(INDEX('C4 Tk Ricalcolo'!$F:$BZ, ,MATCH(M$4, 'C4 Tk Ricalcolo'!$F$4:$BZ$4, 0)), 'C4 Tk Ricalcolo'!$B:$B, $B99)","v":0},{"$f":"SUMIFS(INDEX('C4 Tk Ricalcolo'!$F:$BZ, ,MATCH(N$4, 'C4 Tk Ricalcolo'!$F$4:$BZ$4, 0)), 'C4 Tk Ricalcolo'!$B:$B, $B99)","v":0},{"$f":"SUMIFS(INDEX('C4 Tk Ricalcolo'!$F:$BZ, ,MATCH(O$4, 'C4 Tk Ricalcolo'!$F$4:$BZ$4, 0)), 'C4 Tk Ricalcolo'!$B:$B, $B99)","v":0},{"$f":"SUMIFS(INDEX('C4 Tk Ricalcolo'!$F:$BZ, ,MATCH(P$4, 'C4 Tk Ricalcolo'!$F$4:$BZ$4, 0)), 'C4 Tk Ricalcolo'!$B:$B, $B99)","v":0},{"$f":"SUMIFS(INDEX('C4 Tk Ricalcolo'!$F:$BZ, ,MATCH(Q$4, 'C4 Tk Ricalcolo'!$F$4:$BZ$4, 0)), 'C4 Tk Ricalcolo'!$B:$B, $B99)","v":0},{"$f":"SUMIFS(INDEX('C4 Tk Ricalcolo'!$F:$BZ, ,MATCH(R$4, 'C4 Tk Ricalcolo'!$F$4:$BZ$4, 0)), 'C4 Tk Ricalcolo'!$B:$B, $B99)","v":0},{"$f":"SUMIFS(INDEX('C4 Tk Ricalcolo'!$F:$BZ, ,MATCH(S$4, 'C4 Tk Ricalcolo'!$F$4:$BZ$4, 0)), 'C4 Tk Ricalcolo'!$B:$B, $B99)","v":0}]
[null,11,"CIN post - finanziario - valore di subentro investimenti (cumulato)","N4",null,null,{"$f":"SUMIFS(INDEX('C4 Tk Ricalcolo'!$F:$BZ, ,MATCH(G$4, 'C4 Tk Ricalcolo'!$F$4:$BZ$4, 0)), 'C4 Tk Ricalcolo'!$B:$B, $B100)","v":0},{"$f":"SUMIFS(INDEX('C4 Tk Ricalcolo'!$F:$BZ, ,MATCH(H$4, 'C4 Tk Ricalcolo'!$F$4:$BZ$4, 0)), 'C4 Tk Ricalcolo'!$B:$B, $B100)","v":0},{"$f":"SUMIFS(INDEX('C4 Tk Ricalcolo'!$F:$BZ, ,MATCH(I$4, 'C4 Tk Ricalcolo'!$F$4:$BZ$4, 0)), 'C4 Tk Ricalcolo'!$B:$B, $B100)","v":0},{"$f":"SUMIFS(INDEX('C4 Tk Ricalcolo'!$F:$BZ, ,MATCH(J$4, 'C4 Tk Ricalcolo'!$F$4:$BZ$4, 0)), 'C4 Tk Ricalcolo'!$B:$B, $B100)","v":0},{"$f":"SUMIFS(INDEX('C4 Tk Ricalcolo'!$F:$BZ, ,MATCH(K$4, 'C4 Tk Ricalcolo'!$F$4:$BZ$4, 0)), 'C4 Tk Ricalcolo'!$B:$B, $B100)","v":0},{"$f":"SUMIFS(INDEX('C4 Tk Ricalcolo'!$F:$BZ, ,MATCH(L$4, 'C4 Tk Ricalcolo'!$F$4:$BZ$4, 0)), 'C4 Tk Ricalcolo'!$B:$B, $B100)","v":0},{"$f":"SUMIFS(INDEX('C4 Tk Ricalcolo'!$F:$BZ, ,MATCH(M$4, 'C4 Tk Ricalcolo'!$F$4:$BZ$4, 0)), 'C4 Tk Ricalcolo'!$B:$B, $B100)","v":0},{"$f":"SUMIFS(INDEX('C4 Tk Ricalcolo'!$F:$BZ, ,MATCH(N$4, 'C4 Tk Ricalcolo'!$F$4:$BZ$4, 0)), 'C4 Tk Ricalcolo'!$B:$B, $B100)","v":0},{"$f":"SUMIFS(INDEX('C4 Tk Ricalcolo'!$F:$BZ, ,MATCH(O$4, 'C4 Tk Ricalcolo'!$F$4:$BZ$4, 0)), 'C4 Tk Ricalcolo'!$B:$B, $B100)","v":0},{"$f":"SUMIFS(INDEX('C4 Tk Ricalcolo'!$F:$BZ, ,MATCH(P$4, 'C4 Tk Ricalcolo'!$F$4:$BZ$4, 0)), 'C4 Tk Ricalcolo'!$B:$B, $B100)","v":0},{"$f":"SUMIFS(INDEX('C4 Tk Ricalcolo'!$F:$BZ, ,MATCH(Q$4, 'C4 Tk Ricalcolo'!$F$4:$BZ$4, 0)), 'C4 Tk Ricalcolo'!$B:$B, $B100)","v":0},{"$f":"SUMIFS(INDEX('C4 Tk Ricalcolo'!$F:$BZ, ,MATCH(R$4, 'C4 Tk Ricalcolo'!$F$4:$BZ$4, 0)), 'C4 Tk Ricalcolo'!$B:$B, $B100)","v":0},{"$f":"SUMIFS(INDEX('C4 Tk Ricalcolo'!$F:$BZ, ,MATCH(S$4, 'C4 Tk Ricalcolo'!$F$4:$BZ$4, 0)), 'C4 Tk Ricalcolo'!$B:$B, $B100)","v":0}]
[null,"13a","CIN post - vite utili - valore di subentro LIC di primo livello","N51",null,null,{"$f":"SUMIFS(INDEX('C4 Tk Ricalcolo'!$F:$BZ, ,MATCH(G$4, 'C4 Tk Ricalcolo'!$F$4:$BZ$4, 0)), 'C4 Tk Ricalcolo'!$B:$B, $B101)","v":0},{"$f":"SUMIFS(INDEX('C4 Tk Ricalcolo'!$F:$BZ, ,MATCH(H$4, 'C4 Tk Ricalcolo'!$F$4:$BZ$4, 0)), 'C4 Tk Ricalcolo'!$B:$B, $B101)","v":0},{"$f":"SUMIFS(INDEX('C4 Tk Ricalcolo'!$F:$BZ, ,MATCH(I$4, 'C4 Tk Ricalcolo'!$F$4:$BZ$4, 0)), 'C4 Tk Ricalcolo'!$B:$B, $B101)","v":0},{"$f":"SUMIFS(INDEX('C4 Tk Ricalcolo'!$F:$BZ, ,MATCH(J$4, 'C4 Tk Ricalcolo'!$F$4:$BZ$4, 0)), 'C4 Tk Ricalcolo'!$B:$B, $B101)","v":0},{"$f":"SUMIFS(INDEX('C4 Tk Ricalcolo'!$F:$BZ, ,MATCH(K$4, 'C4 Tk Ricalcolo'!$F$4:$BZ$4, 0)), 'C4 Tk Ricalcolo'!$B:$B, $B101)","v":0},{"$f":"SUMIFS(INDEX('C4 Tk Ricalcolo'!$F:$BZ, ,MATCH(L$4, 'C4 Tk Ricalcolo'!$F$4:$BZ$4, 0)), 'C4 Tk Ricalcolo'!$B:$B, $B101)","v":0},{"$f":"SUMIFS(INDEX('C4 Tk Ricalcolo'!$F:$BZ, ,MATCH(M$4, 'C4 Tk Ricalcolo'!$F$4:$BZ$4, 0)), 'C4 Tk Ricalcolo'!$B:$B, $B101)","v":0},{"$f":"SUMIFS(INDEX('C4 Tk Ricalcolo'!$F:$BZ, ,MATCH(N$4, 'C4 Tk Ricalcolo'!$F$4:$BZ$4, 0)), 'C4 Tk Ricalcolo'!$B:$B, $B101)","v":0},{"$f":"SUMIFS(INDEX('C4 Tk Ricalcolo'!$F:$BZ, ,MATCH(O$4, 'C4 Tk Ricalcolo'!$F$4:$BZ$4, 0)), 'C4 Tk Ricalcolo'!$B:$B, $B101)","v":0},{"$f":"SUMIFS(INDEX('C4 Tk Ricalcolo'!$F:$BZ, ,MATCH(P$4, 'C4 Tk Ricalcolo'!$F$4:$BZ$4, 0)), 'C4 Tk Ricalcolo'!$B:$B, $B101)","v":0},{"$f":"SUMIFS(INDEX('C4 Tk Ricalcolo'!$F:$BZ, ,MATCH(Q$4, 'C4 Tk Ricalcolo'!$F$4:$BZ$4, 0)), 'C4 Tk Ricalcolo'!$B:$B, $B101)","v":0},{"$f":"SUMIFS(INDEX('C4 Tk Ricalcolo'!$F:$BZ, ,MATCH(R$4, 'C4 Tk Ricalcolo'!$F$4:$BZ$4, 0)), 'C4 Tk Ricalcolo'!$B:$B, $B101)","v":0},{"$f":"SUMIFS(INDEX('C4 Tk Ricalcolo'!$F:$BZ, ,MATCH(S$4, 'C4 Tk Ricalcolo'!$F$4:$BZ$4, 0)), 'C4 Tk Ricalcolo'!$B:$B, $B101)","v":0}]
[null,"13b","CIN post - vite utili - valore di subentro LIC di secondo livello","N52",null,null,{"$f":"SUMIFS(INDEX('C4 Tk Ricalcolo'!$F:$BZ, ,MATCH(G$4, 'C4 Tk Ricalcolo'!$F$4:$BZ$4, 0)), 'C4 Tk Ricalcolo'!$B:$B, $B102)","v":0},{"$f":"SUMIFS(INDEX('C4 Tk Ricalcolo'!$F:$BZ, ,MATCH(H$4, 'C4 Tk Ricalcolo'!$F$4:$BZ$4, 0)), 'C4 Tk Ricalcolo'!$B:$B, $B102)","v":0},{"$f":"SUMIFS(INDEX('C4 Tk Ricalcolo'!$F:$BZ, ,MATCH(I$4, 'C4 Tk Ricalcolo'!$F$4:$BZ$4, 0)), 'C4 Tk Ricalcolo'!$B:$B, $B102)","v":0},{"$f":"SUMIFS(INDEX('C4 Tk Ricalcolo'!$F:$BZ, ,MATCH(J$4, 'C4 Tk Ricalcolo'!$F$4:$BZ$4, 0)), 'C4 Tk Ricalcolo'!$B:$B, $B102)","v":0},{"$f":"SUMIFS(INDEX('C4 Tk Ricalcolo'!$F:$BZ, ,MATCH(K$4, 'C4 Tk Ricalcolo'!$F$4:$BZ$4, 0)), 'C4 Tk Ricalcolo'!$B:$B, $B102)","v":0},{"$f":"SUMIFS(INDEX('C4 Tk Ricalcolo'!$F:$BZ, ,MATCH(L$4, 'C4 Tk Ricalcolo'!$F$4:$BZ$4, 0)), 'C4 Tk Ricalcolo'!$B:$B, $B102)","v":0},{"$f":"SUMIFS(INDEX('C4 Tk Ricalcolo'!$F:$BZ, ,MATCH(M$4, 'C4 Tk Ricalcolo'!$F$4:$BZ$4, 0)), 'C4 Tk Ricalcolo'!$B:$B, $B102)","v":0},{"$f":"SUMIFS(INDEX('C4 Tk Ricalcolo'!$F:$BZ, ,MATCH(N$4, 'C4 Tk Ricalcolo'!$F$4:$BZ$4, 0)), 'C4 Tk Ricalcolo'!$B:$B, $B102)","v":0},{"$f":"SUMIFS(INDEX('C4 Tk Ricalcolo'!$F:$BZ, ,MATCH(O$4, 'C4 Tk Ricalcolo'!$F$4:$BZ$4, 0)), 'C4 Tk Ricalcolo'!$B:$B, $B102)","v":0},{"$f":"SUMIFS(INDEX('C4 Tk Ricalcolo'!$F:$BZ, ,MATCH(P$4, 'C4 Tk Ricalcolo'!$F$4:$BZ$4, 0)), 'C4 Tk Ricalcolo'!$B:$B, $B102)","v":0},{"$f":"SUMIFS(INDEX('C4 Tk Ricalcolo'!$F:$BZ, ,MATCH(Q$4, 'C4 Tk Ricalcolo'!$F$4:$BZ$4, 0)), 'C4 Tk Ricalcolo'!$B:$B, $B102)","v":0},{"$f":"SUMIFS(INDEX('C4 Tk Ricalcolo'!$F:$BZ, ,MATCH(R$4, 'C4 Tk Ricalcolo'!$F$4:$BZ$4, 0)), 'C4 Tk Ricalcolo'!$B:$B, $B102)","v":0},{"$f":"SUMIFS(INDEX('C4 Tk Ricalcolo'!$F:$BZ, ,MATCH(S$4, 'C4 Tk Ricalcolo'!$F$4:$BZ$4, 0)), 'C4 Tk Ricalcolo'!$B:$B, $B102)","v":0}]
[null,16,"CIN post - vite utili - valore di subentro investimenti (opere) (cumulato)","N6",null,null,{"$f":"SUMIFS(INDEX('C4 Tk Ricalcolo'!$F:$BZ, ,MATCH(G$4, 'C4 Tk Ricalcolo'!$F$4:$BZ$4, 0)), 'C4 Tk Ricalcolo'!$B:$B, $B103)","v":0},{"$f":"SUMIFS(INDEX('C4 Tk Ricalcolo'!$F:$BZ, ,MATCH(H$4, 'C4 Tk Ricalcolo'!$F$4:$BZ$4, 0)), 'C4 Tk Ricalcolo'!$B:$B, $B103)","v":0},{"$f":"SUMIFS(INDEX('C4 Tk Ricalcolo'!$F:$BZ, ,MATCH(I$4, 'C4 Tk Ricalcolo'!$F$4:$BZ$4, 0)), 'C4 Tk Ricalcolo'!$B:$B, $B103)","v":300},{"$f":"SUMIFS(INDEX('C4 Tk Ricalcolo'!$F:$BZ, ,MATCH(J$4, 'C4 Tk Ricalcolo'!$F$4:$BZ$4, 0)), 'C4 Tk Ricalcolo'!$B:$B, $B103)","v":610},{"$f":"SUMIFS(INDEX('C4 Tk Ricalcolo'!$F:$BZ, ,MATCH(K$4, 'C4 Tk Ricalcolo'!$F$4:$BZ$4, 0)), 'C4 Tk Ricalcolo'!$B:$B, $B103)","v":882},{"$f":"SUMIFS(INDEX('C4 Tk Ricalcolo'!$F:$BZ, ,MATCH(L$4, 'C4 Tk Ricalcolo'!$F$4:$BZ$4, 0)), 'C4 Tk Ricalcolo'!$B:$B, $B103)","v":1188.6666666666667},{"$f":"SUMIFS(INDEX('C4 Tk Ricalcolo'!$F:$BZ, ,MATCH(M$4, 'C4 Tk Ricalcolo'!$F$4:$BZ$4, 0)), 'C4 Tk Ricalcolo'!$B:$B, $B103)","v":1468.6666666666667},{"$f":"SUMIFS(INDEX('C4 Tk Ricalcolo'!$F:$BZ, ,MATCH(N$4, 'C4 Tk Ricalcolo'!$F$4:$BZ$4, 0)), 'C4 Tk Ricalcolo'!$B:$B, $B103)","v":1768.6666666666667},{"$f":"SUMIFS(INDEX('C4 Tk Ricalcolo'!$F:$BZ, ,MATCH(O$4, 'C4 Tk Ricalcolo'!$F$4:$BZ$4, 0)), 'C4 Tk Ricalcolo'!$B:$B, $B103)","v":2088.666666666667},{"$f":"SUMIFS(INDEX('C4 Tk Ricalcolo'!$F:$BZ, ,MATCH(P$4, 'C4 Tk Ricalcolo'!$F$4:$BZ$4, 0)), 'C4 Tk Ricalcolo'!$B:$B, $B103)","v":2368.666666666667},{"$f":"SUMIFS(INDEX('C4 Tk Ricalcolo'!$F:$BZ, ,MATCH(Q$4, 'C4 Tk Ricalcolo'!$F$4:$BZ$4, 0)), 'C4 Tk Ricalcolo'!$B:$B, $B103)","v":2748.666666666667},{"$f":"SUMIFS(INDEX('C4 Tk Ricalcolo'!$F:$BZ, ,MATCH(R$4, 'C4 Tk Ricalcolo'!$F$4:$BZ$4, 0)), 'C4 Tk Ricalcolo'!$B:$B, $B103)","v":3135.3333333333335},{"$f":"SUMIFS(INDEX('C4 Tk Ricalcolo'!$F:$BZ, ,MATCH(S$4, 'C4 Tk Ricalcolo'!$F$4:$BZ$4, 0)), 'C4 Tk Ricalcolo'!$B:$B, $B103)","v":2935.3333333333335}]
[null,17,"CIN post - vite utili - valore di subentro investimenti (contributo) (cumulato)","N7",null,null,{"$f":"SUMIFS(INDEX('C4 Tk Ricalcolo'!$F:$BZ, ,MATCH(G$4, 'C4 Tk Ricalcolo'!$F$4:$BZ$4, 0)), 'C4 Tk Ricalcolo'!$B:$B, $B104)","v":0},{"$f":"SUMIFS(INDEX('C4 Tk Ricalcolo'!$F:$BZ, ,MATCH(H$4, 'C4 Tk Ricalcolo'!$F$4:$BZ$4, 0)), 'C4 Tk Ricalcolo'!$B:$B, $B104)","v":-29},{"$f":"SUMIFS(INDEX('C4 Tk Ricalcolo'!$F:$BZ, ,MATCH(I$4, 'C4 Tk Ricalcolo'!$F$4:$BZ$4, 0)), 'C4 Tk Ricalcolo'!$B:$B, $B104)","v":-59},{"$f":"SUMIFS(INDEX('C4 Tk Ricalcolo'!$F:$BZ, ,MATCH(J$4, 'C4 Tk Ricalcolo'!$F$4:$BZ$4, 0)), 'C4 Tk Ricalcolo'!$B:$B, $B104)","v":-84.6},{"$f":"SUMIFS(INDEX('C4 Tk Ricalcolo'!$F:$BZ, ,MATCH(K$4, 'C4 Tk Ricalcolo'!$F$4:$BZ$4, 0)), 'C4 Tk Ricalcolo'!$B:$B, $B104)","v":-113.93333333333332},{"$f":"SUMIFS(INDEX('C4 Tk Ricalcolo'!$F:$BZ, ,MATCH(L$4, 'C4 Tk Ricalcolo'!$F$4:$BZ$4, 0)), 'C4 Tk Ricalcolo'!$B:$B, $B104)","v":-139.93333333333334},{"$f":"SUMIFS(INDEX('C4 Tk Ricalcolo'!$F:$BZ, ,MATCH(M$4, 'C4 Tk Ricalcolo'!$F$4:$BZ$4, 0)), 'C4 Tk Ricalcolo'!$B:$B, $B104)","v":-167.93333333333334},{"$f":"SUMIFS(INDEX('C4 Tk Ricalcolo'!$F:$BZ, ,MATCH(N$4, 'C4 Tk Ricalcolo'!$F$4:$BZ$4, 0)), 'C4 Tk Ricalcolo'!$B:$B, $B104)","v":-197.93333333333334},{"$f":"SUMIFS(INDEX('C4 Tk Ricalcolo'!$F:$BZ, ,MATCH(O$4, 'C4 Tk Ricalcolo'!$F$4:$BZ$4, 0)), 'C4 Tk Ricalcolo'!$B:$B, $B104)","v":-221.93333333333334},{"$f":"SUMIFS(INDEX('C4 Tk Ricalcolo'!$F:$BZ, ,MATCH(P$4, 'C4 Tk Ricalcolo'!$F$4:$BZ$4, 0)), 'C4 Tk Ricalcolo'!$B:$B, $B104)","v":-258.93333333333334},{"$f":"SUMIFS(INDEX('C4 Tk Ricalcolo'!$F:$BZ, ,MATCH(Q$4, 'C4 Tk Ricalcolo'!$F$4:$BZ$4, 0)), 'C4 Tk Ricalcolo'!$B:$B, $B104)","v":-296.26666666666665},{"$f":"SUMIFS(INDEX('C4 Tk Ricalcolo'!$F:$BZ, ,MATCH(R$4, 'C4 Tk Ricalcolo'!$F$4:$BZ$4, 0)), 'C4 Tk Ricalcolo'!$B:$B, $B104)","v":-296.26666666666665},{"$f":"SUMIFS(INDEX('C4 Tk Ricalcolo'!$F:$BZ, ,MATCH(S$4, 'C4 Tk Ricalcolo'!$F$4:$BZ$4, 0)), 'C4 Tk Ricalcolo'!$B:$B, $B104)","v":-296.26666666666665}]
[]
[]
[null,null,"Totale ammortamenti"]
[null,"22a","Ammortamento CIN ante - investimenti (opere) - SAL contabilizzati","J1a",null,null,{"$f":"SUMIFS(INDEX('C4 Tk Ricalcolo'!$F:$BZ, ,MATCH(G$4, 'C4 Tk Ricalcolo'!$F$4:$BZ$4, 0)), 'C4 Tk Ricalcolo'!$B:$B, $B108)","v":24802.631578947367},{"$f":"SUMIFS(INDEX('C4 Tk Ricalcolo'!$F:$BZ, ,MATCH(H$4, 'C4 Tk Ricalcolo'!$F$4:$BZ$4, 0)), 'C4 Tk Ricalcolo'!$B:$B, $B108)","v":24802.631578947367},{"$f":"SUMIFS(INDEX('C4 Tk Ricalcolo'!$F:$BZ, ,MATCH(I$4, 'C4 Tk Ricalcolo'!$F$4:$BZ$4, 0)), 'C4 Tk Ricalcolo'!$B:$B, $B108)","v":24802.631578947367},{"$f":"SUMIFS(INDEX('C4 Tk Ricalcolo'!$F:$BZ, ,MATCH(J$4, 'C4 Tk Ricalcolo'!$F$4:$BZ$4, 0)), 'C4 Tk Ricalcolo'!$B:$B, $B108)","v":24802.631578947374},{"$f":"SUMIFS(INDEX('C4 Tk Ricalcolo'!$F:$BZ, ,MATCH(K$4, 'C4 Tk Ricalcolo'!$F$4:$BZ$4, 0)), 'C4 Tk Ricalcolo'!$B:$B, $B108)","v":24802.63157894737},{"$f":"SUMIFS(INDEX('C4 Tk Ricalcolo'!$F:$BZ, ,MATCH(L$4, 'C4 Tk Ricalcolo'!$F$4:$BZ$4, 0)), 'C4 Tk Ricalcolo'!$B:$B, $B108)","v":24802.631578947367},{"$f":"SUMIFS(INDEX('C4 Tk Ricalcolo'!$F:$BZ, ,MATCH(M$4, 'C4 Tk Ricalcolo'!$F$4:$BZ$4, 0)), 'C4 Tk Ricalcolo'!$B:$B, $B108)","v":24802.63157894737},{"$f":"SUMIFS(INDEX('C4 Tk Ricalcolo'!$F:$BZ, ,MATCH(N$4, 'C4 Tk Ricalcolo'!$F$4:$BZ$4, 0)), 'C4 Tk Ricalcolo'!$B:$B, $B108)","v":24802.631578947374},{"$f":"SUMIFS(INDEX('C4 Tk Ricalcolo'!$F:$BZ, ,MATCH(O$4, 'C4 Tk Ricalcolo'!$F$4:$BZ$4, 0)), 'C4 Tk Ricalcolo'!$B:$B, $B108)","v":0},{"$f":"SUMIFS(INDEX('C4 Tk Ricalcolo'!$F:$BZ, ,MATCH(P$4, 'C4 Tk Ricalcolo'!$F$4:$BZ$4, 0)), 'C4 Tk Ricalcolo'!$B:$B, $B108)","v":0},{"$f":"SUMIFS(INDEX('C4 Tk Ricalcolo'!$F:$BZ, ,MATCH(Q$4, 'C4 Tk Ricalcolo'!$F$4:$BZ$4, 0)), 'C4 Tk Ricalcolo'!$B:$B, $B108)","v":0},{"$f":"SUMIFS(INDEX('C4 Tk Ricalcolo'!$F:$BZ, ,MATCH(R$4, 'C4 Tk Ricalcolo'!$F$4:$BZ$4, 0)), 'C4 Tk Ricalcolo'!$B:$B, $B108)","v":0},{"$f":"SUMIFS(INDEX('C4 Tk Ricalcolo'!$F:$BZ, ,MATCH(S$4, 'C4 Tk Ricalcolo'!$F$4:$BZ$4, 0)), 'C4 Tk Ricalcolo'!$B:$B, $B108)","v":0}]
[null,"22b","Ammortamento CIN ante - investimenti (opere) - SAL da contabilizzare","J1b",null,null,{"$f":"SUMIFS(INDEX('C4 Tk Ricalcolo'!$F:$BZ, ,MATCH(G$4, 'C4 Tk Ricalcolo'!$F$4:$BZ$4, 0)), 'C4 Tk Ricalcolo'!$B:$B, $B109)","v":1250},{"$f":"SUMIFS(INDEX('C4 Tk Ricalcolo'!$F:$BZ, ,MATCH(H$4, 'C4 Tk Ricalcolo'!$F$4:$BZ$4, 0)), 'C4 Tk Ricalcolo'!$B:$B, $B109)","v":2678.5714285714284},{"$f":"SUMIFS(INDEX('C4 Tk Ricalcolo'!$F:$BZ, ,MATCH(I$4, 'C4 Tk Ricalcolo'!$F$4:$BZ$4, 0)), 'C4 Tk Ricalcolo'!$B:$B, $B109)","v":4345.2380952380954},{"$f":"SUMIFS(INDEX('C4 Tk Ricalcolo'!$F:$BZ, ,MATCH(J$4, 'C4 Tk Ricalcolo'!$F$4:$BZ$4, 0)), 'C4 Tk Ricalcolo'!$B:$B, $B109)","v":4345.2380952380954},{"$f":"SUMIFS(INDEX('C4 Tk Ricalcolo'!$F:$BZ, ,MATCH(K$4, 'C4 Tk Ricalcolo'!$F$4:$BZ$4, 0)), 'C4 Tk Ricalcolo'!$B:$B, $B109)","v":4345.2380952380954},{"$f":"SUMIFS(INDEX('C4 Tk Ricalcolo'!$F:$BZ, ,MATCH(L$4, 'C4 Tk Ricalcolo'!$F$4:$BZ$4, 0)), 'C4 Tk Ricalcolo'!$B:$B, $B109)","v":4345.2380952380954},{"$f":"SUMIFS(INDEX('C4 Tk Ricalcolo'!$F:$BZ, ,MATCH(M$4, 'C4 Tk Ricalcolo'!$F$4:$BZ$4, 0)), 'C4 Tk Ricalcolo'!$B:$B, $B109)","v":4345.2380952380954},{"$f":"SUMIFS(INDEX('C4 Tk Ricalcolo'!$F:$BZ, ,MATCH(N$4, 'C4 Tk Ricalcolo'!$F$4:$BZ$4, 0)), 'C4 Tk Ricalcolo'!$B:$B, $B109)","v":4345.2380952380954},{"$f":"SUMIFS(INDEX('C4 Tk Ricalcolo'!$F:$BZ, ,MATCH(O$4, 'C4 Tk Ricalcolo'!$F$4:$BZ$4, 0)), 'C4 Tk Ricalcolo'!$B:$B, $B109)","v":0},{"$f":"SUMIFS(INDEX('C4 Tk Ricalcolo'!$F:$BZ, ,MATCH(P$4, 'C4 Tk Ricalcolo'!$F$4:$BZ$4, 0)), 'C4 Tk Ricalcolo'!$B:$B, $B109)","v":0},{"$f":"SUMIFS(INDEX('C4 Tk Ricalcolo'!$F:$BZ, ,MATCH(Q$4, 'C4 Tk Ricalcolo'!$F$4:$BZ$4, 0)), 'C4 Tk Ricalcolo'!$B:$B, $B109)","v":0},{"$f":"SUMIFS(INDEX('C4 Tk Ricalcolo'!$F:$BZ, ,MATCH(R$4, 'C4 Tk Ricalcolo'!$F$4:$BZ$4, 0)), 'C4 Tk Ricalcolo'!$B:$B, $B109)","v":0},{"$f":"SUMIFS(INDEX('C4 Tk Ricalcolo'!$F:$BZ, ,MATCH(S$4, 'C4 Tk Ricalcolo'!$F$4:$BZ$4, 0)), 'C4 Tk Ricalcolo'!$B:$B, $B109)","v":0}]
[null,"23a","Ammortamento CIN ante - investimenti (contributo) - SAL contabilizzati","K1a",null,null,{"$f":"SUMIFS(INDEX('C4 Tk Ricalcolo'!$F:$BZ, ,MATCH(G$4, 'C4 Tk Ricalcolo'!$F$4:$BZ$4, 0)), 'C4 Tk Ricalcolo'!$B:$B, $B110)","v":0},{"$f":"SUMIFS(INDEX('C4 Tk Ricalcolo'!$F:$BZ, ,MATCH(H$4, 'C4 Tk Ricalcolo'!$F$4:$BZ$4, 0)), 'C4 Tk Ricalcolo'!$B:$B, $B110)","v":-285.71428571428572},{"$f":"SUMIFS(INDEX('C4 Tk Ricalcolo'!$F:$BZ, ,MATCH(I$4, 'C4 Tk Ricalcolo'!$F$4:$BZ$4, 0)), 'C4 Tk Ricalcolo'!$B:$B, $B110)","v":-285.71428571428567},{"$f":"SUMIFS(INDEX('C4 Tk Ricalcolo'!$F:$BZ, ,MATCH(J$4, 'C4 Tk Ricalcolo'!$F$4:$BZ$4, 0)), 'C4 Tk Ricalcolo'!$B:$B, $B110)","v":-285.71428571428572},{"$f":"SUMIFS(INDEX('C4 Tk Ricalcolo'!$F:$BZ, ,MATCH(K$4, 'C4 Tk Ricalcolo'!$F$4:$BZ$4, 0)), 'C4 Tk Ricalcolo'!$B:$B, $B110)","v":-285.71428571428567},{"$f":"SUMIFS(INDEX('C4 Tk Ricalcolo'!$F:$BZ, ,MATCH(L$4, 'C4 Tk Ricalcolo'!$F$4:$BZ$4, 0)), 'C4 Tk Ricalcolo'!$B:$B, $B110)","v":-285.71428571428567},{"$f":"SUMIFS(INDEX('C4 Tk Ricalcolo'!$F:$BZ, ,MATCH(M$4, 'C4 Tk Ricalcolo'!$F$4:$BZ$4, 0)), 'C4 Tk Ricalcolo'!$B:$B, $B110)","v":-285.71428571428567},{"$f":"SUMIFS(INDEX('C4 Tk Ricalcolo'!$F:$BZ, ,MATCH(N$4, 'C4 Tk Ricalcolo'!$F$4:$BZ$4, 0)), 'C4 Tk Ricalcolo'!$B:$B, $B110)","v":-285.71428571428567},{"$f":"SUMIFS(INDEX('C4 Tk Ricalcolo'!$F:$BZ, ,MATCH(O$4, 'C4 Tk Ricalcolo'!$F$4:$BZ$4, 0)), 'C4 Tk Ricalcolo'!$B:$B, $B110)","v":0},{"$f":"SUMIFS(INDEX('C4 Tk Ricalcolo'!$F:$BZ, ,MATCH(P$4, 'C4 Tk Ricalcolo'!$F$4:$BZ$4, 0)), 'C4 Tk Ricalcolo'!$B:$B, $B110)","v":0},{"$f":"SUMIFS(INDEX('C4 Tk Ricalcolo'!$F:$BZ, ,MATCH(Q$4, 'C4 Tk Ricalcolo'!$F$4:$BZ$4, 0)), 'C4 Tk Ricalcolo'!$B:$B, $B110)","v":0},{"$f":"SUMIFS(INDEX('C4 Tk Ricalcolo'!$F:$BZ, ,MATCH(R$4, 'C4 Tk Ricalcolo'!$F$4:$BZ$4, 0)), 'C4 Tk Ricalcolo'!$B:$B, $B110)","v":0},{"$f":"SUMIFS(INDEX('C4 Tk Ricalcolo'!$F:$BZ, ,MATCH(S$4, 'C4 Tk Ricalcolo'!$F$4:$BZ$4, 0)), 'C4 Tk Ricalcolo'!$B:$B, $B110)","v":0}]
[null,"23b","Ammortamento CIN ante - investimenti (contributo) - SAL da contabilizzare","K1b",null,null,{"$f":"SUMIFS(INDEX('C4 Tk Ricalcolo'!$F:$BZ, ,MATCH(G$4, 'C4 Tk Ricalcolo'!$F$4:$BZ$4, 0)), 'C4 Tk Ricalcolo'!$B:$B, $B111)","v":0},{"$f":"SUMIFS(INDEX('C4 Tk Ricalcolo'!$F:$BZ, ,MATCH(H$4, 'C4 Tk Ricalcolo'!$F$4:$BZ$4, 0)), 'C4 Tk Ricalcolo'!$B:$B, $B111)","v":-142.85714285714286},{"$f":"SUMIFS(INDEX('C4 Tk Ricalcolo'!$F:$BZ, ,MATCH(I$4, 'C4 Tk Ricalcolo'!$F$4:$BZ$4, 0)), 'C4 Tk Ricalcolo'!$B:$B, $B111)","v":-142.85714285714283},{"$f":"SUMIFS(INDEX('C4 Tk Ricalcolo'!$F:$BZ, ,MATCH(J$4, 'C4 Tk Ricalcolo'!$F$4:$BZ$4, 0)), 'C4 Tk Ricalcolo'!$B:$B, $B111)","v":-142.85714285714286},{"$f":"SUMIFS(INDEX('C4 Tk Ricalcolo'!$F:$BZ, ,MATCH(K$4, 'C4 Tk Ricalcolo'!$F$4:$BZ$4, 0)), 'C4 Tk Ricalcolo'!$B:$B, $B111)","v":-142.85714285714283},{"$f":"SUMIFS(INDEX('C4 Tk Ricalcolo'!$F:$BZ, ,MATCH(L$4, 'C4 Tk Ricalcolo'!$F$4:$BZ$4, 0)), 'C4 Tk Ricalcolo'!$B:$B, $B111)","v":-142.85714285714283},{"$f":"SUMIFS(INDEX('C4 Tk Ricalcolo'!$F:$BZ, ,MATCH(M$4, 'C4 Tk Ricalcolo'!$F$4:$BZ$4, 0)), 'C4 Tk Ricalcolo'!$B:$B, $B111)","v":-142.85714285714283},{"$f":"SUMIFS(INDEX('C4 Tk Ricalcolo'!$F:$BZ, ,MATCH(N$4, 'C4 Tk Ricalcolo'!$F$4:$BZ$4, 0)), 'C4 Tk Ricalcolo'!$B:$B, $B111)","v":-142.85714285714283},{"$f":"SUMIFS(INDEX('C4 Tk Ricalcolo'!$F:$BZ, ,MATCH(O$4, 'C4 Tk Ricalcolo'!$F$4:$BZ$4, 0)), 'C4 Tk Ricalcolo'!$B:$B, $B111)","v":0},{"$f":"SUMIFS(INDEX('C4 Tk Ricalcolo'!$F:$BZ, ,MATCH(P$4, 'C4 Tk Ricalcolo'!$F$4:$BZ$4, 0)), 'C4 Tk Ricalcolo'!$B:$B, $B111)","v":0},{"$f":"SUMIFS(INDEX('C4 Tk Ricalcolo'!$F:$BZ, ,MATCH(Q$4, 'C4 Tk Ricalcolo'!$F$4:$BZ$4, 0)), 'C4 Tk Ricalcolo'!$B:$B, $B111)","v":0},{"$f":"SUMIFS(INDEX('C4 Tk Ricalcolo'!$F:$BZ, ,MATCH(R$4, 'C4 Tk Ricalcolo'!$F$4:$BZ$4, 0)), 'C4 Tk Ricalcolo'!$B:$B, $B111)","v":0},{"$f":"SUMIFS(INDEX('C4 Tk Ricalcolo'!$F:$BZ, ,MATCH(S$4, 'C4 Tk Ricalcolo'!$F$4:$BZ$4, 0)), 'C4 Tk Ricalcolo'!$B:$B, $B111)","v":0}]
[null,24,"Ammortamento CIN ante - avviamento","J1'",null,null,{"$f":"SUMIFS(INDEX('C4 Tk Ricalcolo'!$F:$BZ, ,MATCH(G$4, 'C4 Tk Ricalcolo'!$F$4:$BZ$4, 0)), 'C4 Tk Ricalcolo'!$B:$B, $B112)","v":0},{"$f":"SUMIFS(INDEX('C4 Tk Ricalcolo'!$F:$BZ, ,MATCH(H$4, 'C4 Tk Ricalcolo'!$F$4:$BZ$4, 0)), 'C4 Tk Ricalcolo'!$B:$B, $B112)","v":0},{"$f":"SUMIFS(INDEX('C4 Tk Ricalcolo'!$F:$BZ, ,MATCH(I$4, 'C4 Tk Ricalcolo'!$F$4:$BZ$4, 0)), 'C4 Tk Ricalcolo'!$B:$B, $B112)","v":0},{"$f":"SUMIFS(INDEX('C4 Tk Ricalcolo'!$F:$BZ, ,MATCH(J$4, 'C4 Tk Ricalcolo'!$F$4:$BZ$4, 0)), 'C4 Tk Ricalcolo'!$B:$B, $B112)","v":0},{"$f":"SUMIFS(INDEX('C4 Tk Ricalcolo'!$F:$BZ, ,MATCH(K$4, 'C4 Tk Ricalcolo'!$F$4:$BZ$4, 0)), 'C4 Tk Ricalcolo'!$B:$B, $B112)","v":0},{"$f":"SUMIFS(INDEX('C4 Tk Ricalcolo'!$F:$BZ, ,MATCH(L$4, 'C4 Tk Ricalcolo'!$F$4:$BZ$4, 0)), 'C4 Tk Ricalcolo'!$B:$B, $B112)","v":0},{"$f":"SUMIFS(INDEX('C4 Tk Ricalcolo'!$F:$BZ, ,MATCH(M$4, 'C4 Tk Ricalcolo'!$F$4:$BZ$4, 0)), 'C4 Tk Ricalcolo'!$B:$B, $B112)","v":0},{"$f":"SUMIFS(INDEX('C4 Tk Ricalcolo'!$F:$BZ, ,MATCH(N$4, 'C4 Tk Ricalcolo'!$F$4:$BZ$4, 0)), 'C4 Tk Ricalcolo'!$B:$B, $B112)","v":0},{"$f":"SUMIFS(INDEX('C4 Tk Ricalcolo'!$F:$BZ, ,MATCH(O$4, 'C4 Tk Ricalcolo'!$F$4:$BZ$4, 0)), 'C4 Tk Ricalcolo'!$B:$B, $B112)","v":0},{"$f":"SUMIFS(INDEX('C4 Tk Ricalcolo'!$F:$BZ, ,MATCH(P$4, 'C4 Tk Ricalcolo'!$F$4:$BZ$4, 0)), 'C4 Tk Ricalcolo'!$B:$B, $B112)","v":0},{"$f":"SUMIFS(INDEX('C4 Tk Ricalcolo'!$F:$BZ, ,MATCH(Q$4, 'C4 Tk Ricalcolo'!$F$4:$BZ$4, 0)), 'C4 Tk Ricalcolo'!$B:$B, $B112)","v":0},{"$f":"SUMIFS(INDEX('C4 Tk Ricalcolo'!$F:$BZ, ,MATCH(R$4, 'C4 Tk Ricalcolo'!$F$4:$BZ$4, 0)), 'C4 Tk Ricalcolo'!$B:$B, $B112)","v":0},{"$f":"SUMIFS(INDEX('C4 Tk Ricalcolo'!$F:$BZ, ,MATCH(S$4, 'C4 Tk Ricalcolo'!$F$4:$BZ$4, 0)), 'C4 Tk Ricalcolo'!$B:$B, $B112)","v":0}]
[null,25,"Ammortamento CIN pre2026 - investimenti (opere)","J2",null,null,{"$f":"SUMIFS(INDEX('C4 Tk Ricalcolo'!$F:$BZ, ,MATCH(G$4, 'C4 Tk Ricalcolo'!$F$4:$BZ$4, 0)), 'C4 Tk Ricalcolo'!$B:$B, $B113)","v":0},{"$f":"SUMIFS(INDEX('C4 Tk Ricalcolo'!$F:$BZ, ,MATCH(H$4, 'C4 Tk Ricalcolo'!$F$4:$BZ$4, 0)), 'C4 Tk Ricalcolo'!$B:$B, $B113)","v":0},{"$f":"SUMIFS(INDEX('C4 Tk Ricalcolo'!$F:$BZ, ,MATCH(I$4, 'C4 Tk Ricalcolo'!$F$4:$BZ$4, 0)), 'C4 Tk Ricalcolo'!$B:$B, $B113)","v":0},{"$f":"SUMIFS(INDEX('C4 Tk Ricalcolo'!$F:$BZ, ,MATCH(J$4, 'C4 Tk Ricalcolo'!$F$4:$BZ$4, 0)), 'C4 Tk Ricalcolo'!$B:$B, $B113)","v":0},{"$f":"SUMIFS(INDEX('C4 Tk Ricalcolo'!$F:$BZ, ,MATCH(K$4, 'C4 Tk Ricalcolo'!$F$4:$BZ$4, 0)), 'C4 Tk Ricalcolo'!$B:$B, $B113)","v":0},{"$f":"SUMIFS(INDEX('C4 Tk Ricalcolo'!$F:$BZ, ,MATCH(L$4, 'C4 Tk Ricalcolo'!$F$4:$BZ$4, 0)), 'C4 Tk Ricalcolo'!$B:$B, $B113)","v":0},{"$f":"SUMIFS(INDEX('C4 Tk Ricalcolo'!$F:$BZ, ,MATCH(M$4, 'C4 Tk Ricalcolo'!$F$4:$BZ$4, 0)), 'C4 Tk Ricalcolo'!$B:$B, $B113)","v":0},{"$f":"SUMIFS(INDEX('C4 Tk Ricalcolo'!$F:$BZ, ,MATCH(N$4, 'C4 Tk Ricalcolo'!$F$4:$BZ$4, 0)), 'C4 Tk Ricalcolo'!$B:$B, $B113)","v":0},{"$f":"SUMIFS(INDEX('C4 Tk Ricalcolo'!$F:$BZ, ,MATCH(O$4, 'C4 Tk Ricalcolo'!$F$4:$BZ$4, 0)), 'C4 Tk Ricalcolo'!$B:$B, $B113)","v":7800},{"$f":"SUMIFS(INDEX('C4 Tk Ricalcolo'!$F:$BZ, ,MATCH(P$4, 'C4 Tk Ricalcolo'!$F$4:$BZ$4, 0)), 'C4 Tk Ricalcolo'!$B:$B, $B113)","v":7800},{"$f":"SUMIFS(INDEX('C4 Tk Ricalcolo'!$F:$BZ, ,MATCH(Q$4, 'C4 Tk Ricalcolo'!$F$4:$BZ$4, 0)), 'C4 Tk Ricalcolo'!$B:$B, $B113)","v":7800},{"$f":"SUMIFS(INDEX('C4 Tk Ricalcolo'!$F:$BZ, ,MATCH(R$4, 'C4 Tk Ricalcolo'!$F$4:$BZ$4, 0)), 'C4 Tk Ricalcolo'!$B:$B, $B113)","v":7800},{"$f":"SUMIFS(INDEX('C4 Tk Ricalcolo'!$F:$BZ, ,MATCH(S$4, 'C4 Tk Ricalcolo'!$F$4:$BZ$4, 0)), 'C4 Tk Ricalcolo'!$B:$B, $B113)","v":7780}]
[null,26,"Ammortamento CIN pre2026 - investimenti (contributo)","K2",null,null,{"$f":"SUMIFS(INDEX('C4 Tk Ricalcolo'!$F:$BZ, ,MATCH(G$4, 'C4 Tk Ricalcolo'!$F$4:$BZ$4, 0)), 'C4 Tk Ricalcolo'!$B:$B, $B114)","v":0},{"$f":"SUMIFS(INDEX('C4 Tk Ricalcolo'!$F:$BZ, ,MATCH(H$4, 'C4 Tk Ricalcolo'!$F$4:$BZ$4, 0)), 'C4 Tk Ricalcolo'!$B:$B, $B114)","v":0},{"$f":"SUMIFS(INDEX('C4 Tk Ricalcolo'!$F:$BZ, ,MATCH(I$4, 'C4 Tk Ricalcolo'!$F$4:$BZ$4, 0)), 'C4 Tk Ricalcolo'!$B:$B, $B114)","v":0},{"$f":"SUMIFS(INDEX('C4 Tk Ricalcolo'!$F:$BZ, ,MATCH(J$4, 'C4 Tk Ricalcolo'!$F$4:$BZ$4, 0)), 'C4 Tk Ricalcolo'!$B:$B, $B114)","v":0},{"$f":"SUMIFS(INDEX('C4 Tk Ricalcolo'!$F:$BZ, ,MATCH(K$4, 'C4 Tk Ricalcolo'!$F$4:$BZ$4, 0)), 'C4 Tk Ricalcolo'!$B:$B, $B114)","v":0},{"$f":"SUMIFS(INDEX('C4 Tk Ricalcolo'!$F:$BZ, ,MATCH(L$4, 'C4 Tk Ricalcolo'!$F$4:$BZ$4, 0)), 'C4 Tk Ricalcolo'!$B:$B, $B114)","v":0},{"$f":"SUMIFS(INDEX('C4 Tk Ricalcolo'!$F:$BZ, ,MATCH(M$4, 'C4 Tk Ricalcolo'!$F$4:$BZ$4, 0)), 'C4 Tk Ricalcolo'!$B:$B, $B114)","v":0},{"$f":"SUMIFS(INDEX('C4 Tk Ricalcolo'!$F:$BZ, ,MATCH(N$4, 'C4 Tk Ricalcolo'!$F$4:$BZ$4, 0)), 'C4 Tk Ricalcolo'!$B:$B, $B114)","v":0},{"$f":"SUMIFS(INDEX('C4 Tk Ricalcolo'!$F:$BZ, ,MATCH(O$4, 'C4 Tk Ricalcolo'!$F$4:$BZ$4, 0)), 'C4 Tk Ricalcolo'!$B:$B, $B114)","v":-200},{"$f":"SUMIFS(INDEX('C4 Tk Ricalcolo'!$F:$BZ, ,MATCH(P$4, 'C4 Tk Ricalcolo'!$F$4:$BZ$4, 0)), 'C4 Tk Ricalcolo'!$B:$B, $B114)","v":-200},{"$f":"SUMIFS(INDEX('C4 Tk Ricalcolo'!$F:$BZ, ,MATCH(Q$4, 'C4 Tk Ricalcolo'!$F$4:$BZ$4, 0)), 'C4 Tk Ricalcolo'!$B:$B, $B114)","v":-200},{"$f":"SUMIFS(INDEX('C4 Tk Ricalcolo'!$F:$BZ, ,MATCH(R$4, 'C4 Tk Ricalcolo'!$F$4:$BZ$4, 0)), 'C4 Tk Ricalcolo'!$B:$B, $B114)","v":-200},{"$f":"SUMIFS(INDEX('C4 Tk Ricalcolo'!$F:$BZ, ,MATCH(S$4, 'C4 Tk Ricalcolo'!$F$4:$BZ$4, 0)), 'C4 Tk Ricalcolo'!$B:$B, $B114)","v":-200}]
[null,29,"Ammortamento CIN post2026 - finanziario - investimenti (opere)","J3",null,null,{"$f":"SUMIFS(INDEX('C4 Tk Ricalcolo'!$F:$BZ, ,MATCH(G$4, 'C4 Tk Ricalcolo'!$F$4:$BZ$4, 0)), 'C4 Tk Ricalcolo'!$B:$B, $B115)","v":0},{"$f":"SUMIFS(INDEX('C4 Tk Ricalcolo'!$F:$BZ, ,MATCH(H$4, 'C4 Tk Ricalcolo'!$F$4:$BZ$4, 0)), 'C4 Tk Ricalcolo'!$B:$B, $B115)","v":0},{"$f":"SUMIFS(INDEX('C4 Tk Ricalcolo'!$F:$BZ, ,MATCH(I$4, 'C4 Tk Ricalcolo'!$F$4:$BZ$4, 0)), 'C4 Tk Ricalcolo'!$B:$B, $B115)","v":0},{"$f":"SUMIFS(INDEX('C4 Tk Ricalcolo'!$F:$BZ, ,MATCH(J$4, 'C4 Tk Ricalcolo'!$F$4:$BZ$4, 0)), 'C4 Tk Ricalcolo'!$B:$B, $B115)","v":0},{"$f":"SUMIFS(INDEX('C4 Tk Ricalcolo'!$F:$BZ, ,MATCH(K$4, 'C4 Tk Ricalcolo'!$F$4:$BZ$4, 0)), 'C4 Tk Ricalcolo'!$B:$B, $B115)","v":0},{"$f":"SUMIFS(INDEX('C4 Tk Ricalcolo'!$F:$BZ, ,MATCH(L$4, 'C4 Tk Ricalcolo'!$F$4:$BZ$4, 0)), 'C4 Tk Ricalcolo'!$B:$B, $B115)","v":0},{"$f":"SUMIFS(INDEX('C4 Tk Ricalcolo'!$F:$BZ, ,MATCH(M$4, 'C4 Tk Ricalcolo'!$F$4:$BZ$4, 0)), 'C4 Tk Ricalcolo'!$B:$B, $B115)","v":0},{"$f":"SUMIFS(INDEX('C4 Tk Ricalcolo'!$F:$BZ, ,MATCH(N$4, 'C4 Tk Ricalcolo'!$F$4:$BZ$4, 0)), 'C4 Tk Ricalcolo'!$B:$B, $B115)","v":0},{"$f":"SUMIFS(INDEX('C4 Tk Ricalcolo'!$F:$BZ, ,MATCH(O$4, 'C4 Tk Ricalcolo'!$F$4:$BZ$4, 0)), 'C4 Tk Ricalcolo'!$B:$B, $B115)","v":20000},{"$f":"SUMIFS(INDEX('C4 Tk Ricalcolo'!$F:$BZ, ,MATCH(P$4, 'C4 Tk Ricalcolo'!$F$4:$BZ$4, 0)), 'C4 Tk Ricalcolo'!$B:$B, $B115)","v":20000},{"$f":"SUMIFS(INDEX('C4 Tk Ricalcolo'!$F:$BZ, ,MATCH(Q$4, 'C4 Tk Ricalcolo'!$F$4:$BZ$4, 0)), 'C4 Tk Ricalcolo'!$B:$B, $B115)","v":20000},{"$f":"SUMIFS(INDEX('C4 Tk Ricalcolo'!$F:$BZ, ,MATCH(R$4, 'C4 Tk Ricalcolo'!$F$4:$BZ$4, 0)), 'C4 Tk Ricalcolo'!$B:$B, $B115)","v":20000},{"$f":"SUMIFS(INDEX('C4 Tk Ricalcolo'!$F:$BZ, ,MATCH(S$4, 'C4 Tk Ricalcolo'!$F$4:$BZ$4, 0)), 'C4 Tk Ricalcolo'!$B:$B, $B115)","v":19980}]
[null,30,"Ammortamento CIN post2026 - finanziario - investimenti (contributo)","K3",null,null,{"$f":"SUMIFS(INDEX('C4 Tk Ricalcolo'!$F:$BZ, ,MATCH(G$4, 'C4 Tk Ricalcolo'!$F$4:$BZ$4, 0)), 'C4 Tk Ricalcolo'!$B:$B, $B116)","v":0},{"$f":"SUMIFS(INDEX('C4 Tk Ricalcolo'!$F:$BZ, ,MATCH(H$4, 'C4 Tk Ricalcolo'!$F$4:$BZ$4, 0)), 'C4 Tk Ricalcolo'!$B:$B, $B116)","v":0},{"$f":"SUMIFS(INDEX('C4 Tk Ricalcolo'!$F:$BZ, ,MATCH(I$4, 'C4 Tk Ricalcolo'!$F$4:$BZ$4, 0)), 'C4 Tk Ricalcolo'!$B:$B, $B116)","v":0},{"$f":"SUMIFS(INDEX('C4 Tk Ricalcolo'!$F:$BZ, ,MATCH(J$4, 'C4 Tk Ricalcolo'!$F$4:$BZ$4, 0)), 'C4 Tk Ricalcolo'!$B:$B, $B116)","v":0},{"$f":"SUMIFS(INDEX('C4 Tk Ricalcolo'!$F:$BZ, ,MATCH(K$4, 'C4 Tk Ricalcolo'!$F$4:$BZ$4, 0)), 'C4 Tk Ricalcolo'!$B:$B, $B116)","v":0},{"$f":"SUMIFS(INDEX('C4 Tk Ricalcolo'!$F:$BZ, ,MATCH(L$4, 'C4 Tk Ricalcolo'!$F$4:$BZ$4, 0)), 'C4 Tk Ricalcolo'!$B:$B, $B116)","v":0},{"$f":"SUMIFS(INDEX('C4 Tk Ricalcolo'!$F:$BZ, ,MATCH(M$4, 'C4 Tk Ricalcolo'!$F$4:$BZ$4, 0)), 'C4 Tk Ricalcolo'!$B:$B, $B116)","v":0},{"$f":"SUMIFS(INDEX('C4 Tk Ricalcolo'!$F:$BZ, ,MATCH(N$4, 'C4 Tk Ricalcolo'!$F$4:$BZ$4, 0)), 'C4 Tk Ricalcolo'!$B:$B, $B116)","v":0},{"$f":"SUMIFS(INDEX('C4 Tk Ricalcolo'!$F:$BZ, ,MATCH(O$4, 'C4 Tk Ricalcolo'!$F$4:$BZ$4, 0)), 'C4 Tk Ricalcolo'!$B:$B, $B116)","v":-200},{"$f":"SUMIFS(INDEX('C4 Tk Ricalcolo'!$F:$BZ, ,MATCH(P$4, 'C4 Tk Ricalcolo'!$F$4:$BZ$4, 0)), 'C4 Tk Ricalcolo'!$B:$B, $B116)","v":-200},{"$f":"SUMIFS(INDEX('C4 Tk Ricalcolo'!$F:$BZ, ,MATCH(Q$4, 'C4 Tk Ricalcolo'!$F$4:$BZ$4, 0)), 'C4 Tk Ricalcolo'!$B:$B, $B116)","v":-200},{"$f":"SUMIFS(INDEX('C4 Tk Ricalcolo'!$F:$BZ, ,MATCH(R$4, 'C4 Tk Ricalcolo'!$F$4:$BZ$4, 0)), 'C4 Tk Ricalcolo'!$B:$B, $B116)","v":-200},{"$f":"SUMIFS(INDEX('C4 Tk Ricalcolo'!$F:$BZ, ,MATCH(S$4, 'C4 Tk Ricalcolo'!$F$4:$BZ$4, 0)), 'C4 Tk Ricalcolo'!$B:$B, $B116)","v":-200}]
[null,34,"Ammortamento CIN post2026 - vite utili - investimenti (opere)","J4",null,null,{"$f":"SUMIFS(INDEX('C4 Tk Ricalcolo'!$F:$BZ, ,MATCH(G$4, 'C4 Tk Ricalcolo'!$F$4:$BZ$4, 0)), 'C4 Tk Ricalcolo'!$B:$B, $B117)","v":0},{"$f":"SUMIFS(INDEX('C4 Tk Ricalcolo'!$F:$BZ, ,MATCH(H$4, 'C4 Tk Ricalcolo'!$F$4:$BZ$4, 0)), 'C4 Tk Ricalcolo'!$B:$B, $B117)","v":0},{"$f":"SUMIFS(INDEX('C4 Tk Ricalcolo'!$F:$BZ, ,MATCH(I$4, 'C4 Tk Ricalcolo'!$F$4:$BZ$4, 0)), 'C4 Tk Ricalcolo'!$B:$B, $B117)","v":0},{"$f":"SUMIFS(INDEX('C4 Tk Ricalcolo'!$F:$BZ, ,MATCH(J$4, 'C4 Tk Ricalcolo'!$F$4:$BZ$4, 0)), 'C4 Tk Ricalcolo'!$B:$B, $B117)","v":10},{"$f":"SUMIFS(INDEX('C4 Tk Ricalcolo'!$F:$BZ, ,MATCH(K$4, 'C4 Tk Ricalcolo'!$F$4:$BZ$4, 0)), 'C4 Tk Ricalcolo'!$B:$B, $B117)","v":20},{"$f":"SUMIFS(INDEX('C4 Tk Ricalcolo'!$F:$BZ, ,MATCH(L$4, 'C4 Tk Ricalcolo'!$F$4:$BZ$4, 0)), 'C4 Tk Ricalcolo'!$B:$B, $B117)","v":36},{"$f":"SUMIFS(INDEX('C4 Tk Ricalcolo'!$F:$BZ, ,MATCH(M$4, 'C4 Tk Ricalcolo'!$F$4:$BZ$4, 0)), 'C4 Tk Ricalcolo'!$B:$B, $B117)","v":49.333333333333336},{"$f":"SUMIFS(INDEX('C4 Tk Ricalcolo'!$F:$BZ, ,MATCH(N$4, 'C4 Tk Ricalcolo'!$F$4:$BZ$4, 0)), 'C4 Tk Ricalcolo'!$B:$B, $B117)","v":69.333333333333343},{"$f":"SUMIFS(INDEX('C4 Tk Ricalcolo'!$F:$BZ, ,MATCH(O$4, 'C4 Tk Ricalcolo'!$F$4:$BZ$4, 0)), 'C4 Tk Ricalcolo'!$B:$B, $B117)","v":89.333333333333343},{"$f":"SUMIFS(INDEX('C4 Tk Ricalcolo'!$F:$BZ, ,MATCH(P$4, 'C4 Tk Ricalcolo'!$F$4:$BZ$4, 0)), 'C4 Tk Ricalcolo'!$B:$B, $B117)","v":109.33333333333334},{"$f":"SUMIFS(INDEX('C4 Tk Ricalcolo'!$F:$BZ, ,MATCH(Q$4, 'C4 Tk Ricalcolo'!$F$4:$BZ$4, 0)), 'C4 Tk Ricalcolo'!$B:$B, $B117)","v":149.33333333333334},{"$f":"SUMIFS(INDEX('C4 Tk Ricalcolo'!$F:$BZ, ,MATCH(R$4, 'C4 Tk Ricalcolo'!$F$4:$BZ$4, 0)), 'C4 Tk Ricalcolo'!$B:$B, $B117)","v":159.33333333333334},{"$f":"SUMIFS(INDEX('C4 Tk Ricalcolo'!$F:$BZ, ,MATCH(S$4, 'C4 Tk Ricalcolo'!$F$4:$BZ$4, 0)), 'C4 Tk Ricalcolo'!$B:$B, $B117)","v":172.66666666666669}]
[null,35,"Ammortamento CIN post2026 - vite utili - investimenti (contributo)","K4",null,null,{"$f":"SUMIFS(INDEX('C4 Tk Ricalcolo'!$F:$BZ, ,MATCH(G$4, 'C4 Tk Ricalcolo'!$F$4:$BZ$4, 0)), 'C4 Tk Ricalcolo'!$B:$B, $B118)","v":0},{"$f":"SUMIFS(INDEX('C4 Tk Ricalcolo'!$F:$BZ, ,MATCH(H$4, 'C4 Tk Ricalcolo'!$F$4:$BZ$4, 0)), 'C4 Tk Ricalcolo'!$B:$B, $B118)","v":0},{"$f":"SUMIFS(INDEX('C4 Tk Ricalcolo'!$F:$BZ, ,MATCH(I$4, 'C4 Tk Ricalcolo'!$F$4:$BZ$4, 0)), 'C4 Tk Ricalcolo'!$B:$B, $B118)","v":-1},{"$f":"SUMIFS(INDEX('C4 Tk Ricalcolo'!$F:$BZ, ,MATCH(J$4, 'C4 Tk Ricalcolo'!$F$4:$BZ$4, 0)), 'C4 Tk Ricalcolo'!$B:$B, $B118)","v":-2},{"$f":"SUMIFS(INDEX('C4 Tk Ricalcolo'!$F:$BZ, ,MATCH(K$4, 'C4 Tk Ricalcolo'!$F$4:$BZ$4, 0)), 'C4 Tk Ricalcolo'!$B:$B, $B118)","v":-3.6},{"$f":"SUMIFS(INDEX('C4 Tk Ricalcolo'!$F:$BZ, ,MATCH(L$4, 'C4 Tk Ricalcolo'!$F$4:$BZ$4, 0)), 'C4 Tk Ricalcolo'!$B:$B, $B118)","v":-4.9333333333333336},{"$f":"SUMIFS(INDEX('C4 Tk Ricalcolo'!$F:$BZ, ,MATCH(M$4, 'C4 Tk Ricalcolo'!$F$4:$BZ$4, 0)), 'C4 Tk Ricalcolo'!$B:$B, $B118)","v":-6.9333333333333336},{"$f":"SUMIFS(INDEX('C4 Tk Ricalcolo'!$F:$BZ, ,MATCH(N$4, 'C4 Tk Ricalcolo'!$F$4:$BZ$4, 0)), 'C4 Tk Ricalcolo'!$B:$B, $B118)","v":-8.9333333333333336},{"$f":"SUMIFS(INDEX('C4 Tk Ricalcolo'!$F:$BZ, ,MATCH(O$4, 'C4 Tk Ricalcolo'!$F$4:$BZ$4, 0)), 'C4 Tk Ricalcolo'!$B:$B, $B118)","v":-10.933333333333334},{"$f":"SUMIFS(INDEX('C4 Tk Ricalcolo'!$F:$BZ, ,MATCH(P$4, 'C4 Tk Ricalcolo'!$F$4:$BZ$4, 0)), 'C4 Tk Ricalcolo'!$B:$B, $B118)","v":-14.933333333333334},{"$f":"SUMIFS(INDEX('C4 Tk Ricalcolo'!$F:$BZ, ,MATCH(Q$4, 'C4 Tk Ricalcolo'!$F$4:$BZ$4, 0)), 'C4 Tk Ricalcolo'!$B:$B, $B118)","v":-15.933333333333334},{"$f":"SUMIFS(INDEX('C4 Tk Ricalcolo'!$F:$BZ, ,MATCH(R$4, 'C4 Tk Ricalcolo'!$F$4:$BZ$4, 0)), 'C4 Tk Ricalcolo'!$B:$B, $B118)","v":-17.266666666666666},{"$f":"SUMIFS(INDEX('C4 Tk Ricalcolo'!$F:$BZ, ,MATCH(S$4, 'C4 Tk Ricalcolo'!$F$4:$BZ$4, 0)), 'C4 Tk Ricalcolo'!$B:$B, $B118)","v":-17.266666666666666}]
[null,null,"Totale","Amm =somma (Jx+Kx)",null,null,{"$f":"SUM(G108:G118)","v":26052.631578947367},27052.631578947367,28718.298245614034,28727.298245614042,28735.698245614039,28750.3649122807,28761.698245614036,28779.698245614039,27478.399999999998,27494.399999999998,27533.399999999998,27542.066666666666,27515.4]
[]
[null,null,"Totale remunerazioni"]
[null,"42a","Remunerazione CIN ante - investimenti (opere) - SAL contabilizzati","O1a",null,null,{"$f":"SUMIFS(INDEX('C4 Tk Ricalcolo'!$F:$BZ, ,MATCH(G$4, 'C4 Tk Ricalcolo'!$F$4:$BZ$4, 0)), 'C4 Tk Ricalcolo'!$B:$B, $B122)","v":27520.999999999996},{"$f":"SUMIFS(INDEX('C4 Tk Ricalcolo'!$F:$BZ, ,MATCH(H$4, 'C4 Tk Ricalcolo'!$F$4:$BZ$4, 0)), 'C4 Tk Ricalcolo'!$B:$B, $B122)","v":24080.874999999996},{"$f":"SUMIFS(INDEX('C4 Tk Ricalcolo'!$F:$BZ, ,MATCH(I$4, 'C4 Tk Ricalcolo'!$F$4:$BZ$4, 0)), 'C4 Tk Ricalcolo'!$B:$B, $B122)","v":20640.75},{"$f":"SUMIFS(INDEX('C4 Tk Ricalcolo'!$F:$BZ, ,MATCH(J$4, 'C4 Tk Ricalcolo'!$F$4:$BZ$4, 0)), 'C4 Tk Ricalcolo'!$B:$B, $B122)","v":17200.625},{"$f":"SUMIFS(INDEX('C4 Tk Ricalcolo'!$F:$BZ, ,MATCH(K$4, 'C4 Tk Ricalcolo'!$F$4:$BZ$4, 0)), 'C4 Tk Ricalcolo'!$B:$B, $B122)","v":13760.5},{"$f":"SUMIFS(INDEX('C4 Tk Ricalcolo'!$F:$BZ, ,MATCH(L$4, 'C4 Tk Ricalcolo'!$F$4:$BZ$4, 0)), 'C4 Tk Ricalcolo'!$B:$B, $B122)","v":10320.375},{"$f":"SUMIFS(INDEX('C4 Tk Ricalcolo'!$F:$BZ, ,MATCH(M$4, 'C4 Tk Ricalcolo'!$F$4:$BZ$4, 0)), 'C4 Tk Ricalcolo'!$B:$B, $B122)","v":6880.25},{"$f":"SUMIFS(INDEX('C4 Tk Ricalcolo'!$F:$BZ, ,MATCH(N$4, 'C4 Tk Ricalcolo'!$F$4:$BZ$4, 0)), 'C4 Tk Ricalcolo'!$B:$B, $B122)","v":3440.1250000000005},{"$f":"SUMIFS(INDEX('C4 Tk Ricalcolo'!$F:$BZ, ,MATCH(O$4, 'C4 Tk Ricalcolo'!$F$4:$BZ$4, 0)), 'C4 Tk Ricalcolo'!$B:$B, $B122)","v":0},{"$f":"SUMIFS(INDEX('C4 Tk Ricalcolo'!$F:$BZ, ,MATCH(P$4, 'C4 Tk Ricalcolo'!$F$4:$BZ$4, 0)), 'C4 Tk Ricalcolo'!$B:$B, $B122)","v":0},{"$f":"SUMIFS(INDEX('C4 Tk Ricalcolo'!$F:$BZ, ,MATCH(Q$4, 'C4 Tk Ricalcolo'!$F$4:$BZ$4, 0)), 'C4 Tk Ricalcolo'!$B:$B, $B122)","v":0},{"$f":"SUMIFS(INDEX('C4 Tk Ricalcolo'!$F:$BZ, ,MATCH(R$4, 'C4 Tk Ricalcolo'!$F$4:$BZ$4, 0)), 'C4 Tk Ricalcolo'!$B:$B, $B122)","v":0},{"$f":"SUMIFS(INDEX('C4 Tk Ricalcolo'!$F:$BZ, ,MATCH(S$4, 'C4 Tk Ricalcolo'!$F$4:$BZ$4, 0)), 'C4 Tk Ricalcolo'!$B:$B, $B122)","v":2.774}]
[null,"42b","Remunerazione CIN ante - investimenti (opere) - SAL da contabilizzare","O1b",null,null,{"$f":"SUMIFS(INDEX('C4 Tk Ricalcolo'!$F:$BZ, ,MATCH(G$4, 'C4 Tk Ricalcolo'!$F$4:$BZ$4, 0)), 'C4 Tk Ricalcolo'!$B:$B, $B123)","v":1387},{"$f":"SUMIFS(INDEX('C4 Tk Ricalcolo'!$F:$BZ, ,MATCH(H$4, 'C4 Tk Ricalcolo'!$F$4:$BZ$4, 0)), 'C4 Tk Ricalcolo'!$B:$B, $B123)","v":2600.625},{"$f":"SUMIFS(INDEX('C4 Tk Ricalcolo'!$F:$BZ, ,MATCH(I$4, 'C4 Tk Ricalcolo'!$F$4:$BZ$4, 0)), 'C4 Tk Ricalcolo'!$B:$B, $B123)","v":3616.1071428571427},{"$f":"SUMIFS(INDEX('C4 Tk Ricalcolo'!$F:$BZ, ,MATCH(J$4, 'C4 Tk Ricalcolo'!$F$4:$BZ$4, 0)), 'C4 Tk Ricalcolo'!$B:$B, $B123)","v":3013.4226190476188},{"$f":"SUMIFS(INDEX('C4 Tk Ricalcolo'!$F:$BZ, ,MATCH(K$4, 'C4 Tk Ricalcolo'!$F$4:$BZ$4, 0)), 'C4 Tk Ricalcolo'!$B:$B, $B123)","v":2410.738095238095},{"$f":"SUMIFS(INDEX('C4 Tk Ricalcolo'!$F:$BZ, ,MATCH(L$4, 'C4 Tk Ricalcolo'!$F$4:$BZ$4, 0)), 'C4 Tk Ricalcolo'!$B:$B, $B123)","v":1808.0535714285713},{"$f":"SUMIFS(INDEX('C4 Tk Ricalcolo'!$F:$BZ, ,MATCH(M$4, 'C4 Tk Ricalcolo'!$F$4:$BZ$4, 0)), 'C4 Tk Ricalcolo'!$B:$B, $B123)","v":1205.3690476190475},{"$f":"SUMIFS(INDEX('C4 Tk Ricalcolo'!$F:$BZ, ,MATCH(N$4, 'C4 Tk Ricalcolo'!$F$4:$BZ$4, 0)), 'C4 Tk Ricalcolo'!$B:$B, $B123)","v":602.68452380952374},{"$f":"SUMIFS(INDEX('C4 Tk Ricalcolo'!$F:$BZ, ,MATCH(O$4, 'C4 Tk Ricalcolo'!$F$4:$BZ$4, 0)), 'C4 Tk Ricalcolo'!$B:$B, $B123)","v":0},{"$f":"SUMIFS(INDEX('C4 Tk Ricalcolo'!$F:$BZ, ,MATCH(P$4, 'C4 Tk Ricalcolo'!$F$4:$BZ$4, 0)), 'C4 Tk Ricalcolo'!$B:$B, $B123)","v":0},{"$f":"SUMIFS(INDEX('C4 Tk Ricalcolo'!$F:$BZ, ,MATCH(Q$4, 'C4 Tk Ricalcolo'!$F$4:$BZ$4, 0)), 'C4 Tk Ricalcolo'!$B:$B, $B123)","v":0},{"$f":"SUMIFS(INDEX('C4 Tk Ricalcolo'!$F:$BZ, ,MATCH(R$4, 'C4 Tk Ricalcolo'!$F$4:$BZ$4, 0)), 'C4 Tk Ricalcolo'!$B:$B, $B123)","v":0},{"$f":"SUMIFS(INDEX('C4 Tk Ricalcolo'!$F:$BZ, ,MATCH(S$4, 'C4 Tk Ricalcolo'!$F$4:$BZ$4, 0)), 'C4 Tk Ricalcolo'!$B:$B, $B123)","v":-2.774}]
[null,"43a","Remunerazione CIN ante - investimenti (contributo) - SAL contabilizzati","P1a",null,null,{"$f":"SUMIFS(INDEX('C4 Tk Ricalcolo'!$F:$BZ, ,MATCH(G$4, 'C4 Tk Ricalcolo'!$F$4:$BZ$4, 0)), 'C4 Tk Ricalcolo'!$B:$B, $B124)","v":0},{"$f":"SUMIFS(INDEX('C4 Tk Ricalcolo'!$F:$BZ, ,MATCH(H$4, 'C4 Tk Ricalcolo'!$F$4:$BZ$4, 0)), 'C4 Tk Ricalcolo'!$B:$B, $B124)","v":-277.39999999999998},{"$f":"SUMIFS(INDEX('C4 Tk Ricalcolo'!$F:$BZ, ,MATCH(I$4, 'C4 Tk Ricalcolo'!$F$4:$BZ$4, 0)), 'C4 Tk Ricalcolo'!$B:$B, $B124)","v":-237.77142857142854},{"$f":"SUMIFS(INDEX('C4 Tk Ricalcolo'!$F:$BZ, ,MATCH(J$4, 'C4 Tk Ricalcolo'!$F$4:$BZ$4, 0)), 'C4 Tk Ricalcolo'!$B:$B, $B124)","v":-198.14285714285711},{"$f":"SUMIFS(INDEX('C4 Tk Ricalcolo'!$F:$BZ, ,MATCH(K$4, 'C4 Tk Ricalcolo'!$F$4:$BZ$4, 0)), 'C4 Tk Ricalcolo'!$B:$B, $B124)","v":-158.51428571428568},{"$f":"SUMIFS(INDEX('C4 Tk Ricalcolo'!$F:$BZ, ,MATCH(L$4, 'C4 Tk Ricalcolo'!$F$4:$BZ$4, 0)), 'C4 Tk Ricalcolo'!$B:$B, $B124)","v":-118.88571428571426},{"$f":"SUMIFS(INDEX('C4 Tk Ricalcolo'!$F:$BZ, ,MATCH(M$4, 'C4 Tk Ricalcolo'!$F$4:$BZ$4, 0)), 'C4 Tk Ricalcolo'!$B:$B, $B124)","v":-79.257142857142838},{"$f":"SUMIFS(INDEX('C4 Tk Ricalcolo'!$F:$BZ, ,MATCH(N$4, 'C4 Tk Ricalcolo'!$F$4:$BZ$4, 0)), 'C4 Tk Ricalcolo'!$B:$B, $B124)","v":-39.628571428571419},{"$f":"SUMIFS(INDEX('C4 Tk Ricalcolo'!$F:$BZ, ,MATCH(O$4, 'C4 Tk Ricalcolo'!$F$4:$BZ$4, 0)), 'C4 Tk Ricalcolo'!$B:$B, $B124)","v":0},{"$f":"SUMIFS(INDEX('C4 Tk Ricalcolo'!$F:$BZ, ,MATCH(P$4, 'C4 Tk Ricalcolo'!$F$4:$BZ$4, 0)), 'C4 Tk Ricalcolo'!$B:$B, $B124)","v":0},{"$f":"SUMIFS(INDEX('C4 Tk Ricalcolo'!$F:$BZ, ,MATCH(Q$4, 'C4 Tk Ricalcolo'!$F$4:$BZ$4, 0)), 'C4 Tk Ricalcolo'!$B:$B, $B124)","v":0},{"$f":"SUMIFS(INDEX('C4 Tk Ricalcolo'!$F:$BZ, ,MATCH(R$4, 'C4 Tk Ricalcolo'!$F$4:$BZ$4, 0)), 'C4 Tk Ricalcolo'!$B:$B, $B124)","v":0},{"$f":"SUMIFS(INDEX('C4 Tk Ricalcolo'!$F:$BZ, ,MATCH(S$4, 'C4 Tk Ricalcolo'!$F$4:$BZ$4, 0)), 'C4 Tk Ricalcolo'!$B:$B, $B124)","v":0}]
[null,"43b","Remunerazione CIN ante - investimenti (contributo) - SAL da contabilizzare","P1b",null,null,{"$f":"SUMIFS(INDEX('C4 Tk Ricalcolo'!$F:$BZ, ,MATCH(G$4, 'C4 Tk Ricalcolo'!$F$4:$BZ$4, 0)), 'C4 Tk Ricalcolo'!$B:$B, $B125)","v":0},{"$f":"SUMIFS(INDEX('C4 Tk Ricalcolo'!$F:$BZ, ,MATCH(H$4, 'C4 Tk Ricalcolo'!$F$4:$BZ$4, 0)), 'C4 Tk Ricalcolo'!$B:$B, $B125)","v":-138.69999999999999},{"$f":"SUMIFS(INDEX('C4 Tk Ricalcolo'!$F:$BZ, ,MATCH(I$4, 'C4 Tk Ricalcolo'!$F$4:$BZ$4, 0)), 'C4 Tk Ricalcolo'!$B:$B, $B125)","v":-118.88571428571427},{"$f":"SUMIFS(INDEX('C4 Tk Ricalcolo'!$F:$BZ, ,MATCH(J$4, 'C4 Tk Ricalcolo'!$F$4:$BZ$4, 0)), 'C4 Tk Ricalcolo'!$B:$B, $B125)","v":-99.071428571428555},{"$f":"SUMIFS(INDEX('C4 Tk Ricalcolo'!$F:$BZ, ,MATCH(K$4, 'C4 Tk Ricalcolo'!$F$4:$BZ$4, 0)), 'C4 Tk Ricalcolo'!$B:$B, $B125)","v":-79.257142857142838},{"$f":"SUMIFS(INDEX('C4 Tk Ricalcolo'!$F:$BZ, ,MATCH(L$4, 'C4 Tk Ricalcolo'!$F$4:$BZ$4, 0)), 'C4 Tk Ricalcolo'!$B:$B, $B125)","v":-59.442857142857129},{"$f":"SUMIFS(INDEX('C4 Tk Ricalcolo'!$F:$BZ, ,MATCH(M$4, 'C4 Tk Ricalcolo'!$F$4:$BZ$4, 0)), 'C4 Tk Ricalcolo'!$B:$B, $B125)","v":-39.628571428571419},{"$f":"SUMIFS(INDEX('C4 Tk Ricalcolo'!$F:$BZ, ,MATCH(N$4, 'C4 Tk Ricalcolo'!$F$4:$BZ$4, 0)), 'C4 Tk Ricalcolo'!$B:$B, $B125)","v":-19.81428571428571},{"$f":"SUMIFS(INDEX('C4 Tk Ricalcolo'!$F:$BZ, ,MATCH(O$4, 'C4 Tk Ricalcolo'!$F$4:$BZ$4, 0)), 'C4 Tk Ricalcolo'!$B:$B, $B125)","v":0},{"$f":"SUMIFS(INDEX('C4 Tk Ricalcolo'!$F:$BZ, ,MATCH(P$4, 'C4 Tk Ricalcolo'!$F$4:$BZ$4, 0)), 'C4 Tk Ricalcolo'!$B:$B, $B125)","v":0},{"$f":"SUMIFS(INDEX('C4 Tk Ricalcolo'!$F:$BZ, ,MATCH(Q$4, 'C4 Tk Ricalcolo'!$F$4:$BZ$4, 0)), 'C4 Tk Ricalcolo'!$B:$B, $B125)","v":0},{"$f":"SUMIFS(INDEX('C4 Tk Ricalcolo'!$F:$BZ, ,MATCH(R$4, 'C4 Tk Ricalcolo'!$F$4:$BZ$4, 0)), 'C4 Tk Ricalcolo'!$B:$B, $B125)","v":0},{"$f":"SUMIFS(INDEX('C4 Tk Ricalcolo'!$F:$BZ, ,MATCH(S$4, 'C4 Tk Ricalcolo'!$F$4:$BZ$4, 0)), 'C4 Tk Ricalcolo'!$B:$B, $B125)","v":0}]
[null,46,"Remunerazione CIN ante - valore di subentro investimenti","Q1",null,null,{"$f":"SUMIFS(INDEX('C4 Tk Ricalcolo'!$F:$BZ, ,MATCH(G$4, 'C4 Tk Ricalcolo'!$F$4:$BZ$4, 0)), 'C4 Tk Ricalcolo'!$B:$B, $B126)","v":1387},{"$f":"SUMIFS(INDEX('C4 Tk Ricalcolo'!$F:$BZ, ,MATCH(H$4, 'C4 Tk Ricalcolo'!$F$4:$BZ$4, 0)), 'C4 Tk Ricalcolo'!$B:$B, $B126)","v":1387},{"$f":"SUMIFS(INDEX('C4 Tk Ricalcolo'!$F:$BZ, ,MATCH(I$4, 'C4 Tk Ricalcolo'!$F$4:$BZ$4, 0)), 'C4 Tk Ricalcolo'!$B:$B, $B126)","v":1387},{"$f":"SUMIFS(INDEX('C4 Tk Ricalcolo'!$F:$BZ, ,MATCH(J$4, 'C4 Tk Ricalcolo'!$F$4:$BZ$4, 0)), 'C4 Tk Ricalcolo'!$B:$B, $B126)","v":1387},{"$f":"SUMIFS(INDEX('C4 Tk Ricalcolo'!$F:$BZ, ,MATCH(K$4, 'C4 Tk Ricalcolo'!$F$4:$BZ$4, 0)), 'C4 Tk Ricalcolo'!$B:$B, $B126)","v":1387},{"$f":"SUMIFS(INDEX('C4 Tk Ricalcolo'!$F:$BZ, ,MATCH(L$4, 'C4 Tk Ricalcolo'!$F$4:$BZ$4, 0)), 'C4 Tk Ricalcolo'!$B:$B, $B126)","v":1387},{"$f":"SUMIFS(INDEX('C4 Tk Ricalcolo'!$F:$BZ, ,MATCH(M$4, 'C4 Tk Ricalcolo'!$F$4:$BZ$4, 0)), 'C4 Tk Ricalcolo'!$B:$B, $B126)","v":1387},{"$f":"SUMIFS(INDEX('C4 Tk Ricalcolo'!$F:$BZ, ,MATCH(N$4, 'C4 Tk Ricalcolo'!$F$4:$BZ$4, 0)), 'C4 Tk Ricalcolo'!$B:$B, $B126)","v":1387},{"$f":"SUMIFS(INDEX('C4 Tk Ricalcolo'!$F:$BZ, ,MATCH(O$4, 'C4 Tk Ricalcolo'!$F$4:$BZ$4, 0)), 'C4 Tk Ricalcolo'!$B:$B, $B126)","v":1387},{"$f":"SUMIFS(INDEX('C4 Tk Ricalcolo'!$F:$BZ, ,MATCH(P$4, 'C4 Tk Ricalcolo'!$F$4:$BZ$4, 0)), 'C4 Tk Ricalcolo'!$B:$B, $B126)","v":1387},{"$f":"SUMIFS(INDEX('C4 Tk Ricalcolo'!$F:$BZ, ,MATCH(Q$4, 'C4 Tk Ricalcolo'!$F$4:$BZ$4, 0)), 'C4 Tk Ricalcolo'!$B:$B, $B126)","v":1387},{"$f":"SUMIFS(INDEX('C4 Tk Ricalcolo'!$F:$BZ, ,MATCH(R$4, 'C4 Tk Ricalcolo'!$F$4:$BZ$4, 0)), 'C4 Tk Ricalcolo'!$B:$B, $B126)","v":1387},{"$f":"SUMIFS(INDEX('C4 Tk Ricalcolo'!$F:$BZ, ,MATCH(S$4, 'C4 Tk Ricalcolo'!$F$4:$BZ$4, 0)), 'C4 Tk Ricalcolo'!$B:$B, $B126)","v":1381.452}]
[null,44,"Remunerazione CIN ante - avviamento","O1'",null,null,{"$f":"SUMIFS(INDEX('C4 Tk Ricalcolo'!$F:$BZ, ,MATCH(G$4, 'C4 Tk Ricalcolo'!$F$4:$BZ$4, 0)), 'C4 Tk Ricalcolo'!$B:$B, $B127)","v":0},{"$f":"SUMIFS(INDEX('C4 Tk Ricalcolo'!$F:$BZ, ,MATCH(H$4, 'C4 Tk Ricalcolo'!$F$4:$BZ$4, 0)), 'C4 Tk Ricalcolo'!$B:$B, $B127)","v":0},{"$f":"SUMIFS(INDEX('C4 Tk Ricalcolo'!$F:$BZ, ,MATCH(I$4, 'C4 Tk Ricalcolo'!$F$4:$BZ$4, 0)), 'C4 Tk Ricalcolo'!$B:$B, $B127)","v":0},{"$f":"SUMIFS(INDEX('C4 Tk Ricalcolo'!$F:$BZ, ,MATCH(J$4, 'C4 Tk Ricalcolo'!$F$4:$BZ$4, 0)), 'C4 Tk Ricalcolo'!$B:$B, $B127)","v":0},{"$f":"SUMIFS(INDEX('C4 Tk Ricalcolo'!$F:$BZ, ,MATCH(K$4, 'C4 Tk Ricalcolo'!$F$4:$BZ$4, 0)), 'C4 Tk Ricalcolo'!$B:$B, $B127)","v":0},{"$f":"SUMIFS(INDEX('C4 Tk Ricalcolo'!$F:$BZ, ,MATCH(L$4, 'C4 Tk Ricalcolo'!$F$4:$BZ$4, 0)), 'C4 Tk Ricalcolo'!$B:$B, $B127)","v":0},{"$f":"SUMIFS(INDEX('C4 Tk Ricalcolo'!$F:$BZ, ,MATCH(M$4, 'C4 Tk Ricalcolo'!$F$4:$BZ$4, 0)), 'C4 Tk Ricalcolo'!$B:$B, $B127)","v":0},{"$f":"SUMIFS(INDEX('C4 Tk Ricalcolo'!$F:$BZ, ,MATCH(N$4, 'C4 Tk Ricalcolo'!$F$4:$BZ$4, 0)), 'C4 Tk Ricalcolo'!$B:$B, $B127)","v":0},{"$f":"SUMIFS(INDEX('C4 Tk Ricalcolo'!$F:$BZ, ,MATCH(O$4, 'C4 Tk Ricalcolo'!$F$4:$BZ$4, 0)), 'C4 Tk Ricalcolo'!$B:$B, $B127)","v":0},{"$f":"SUMIFS(INDEX('C4 Tk Ricalcolo'!$F:$BZ, ,MATCH(P$4, 'C4 Tk Ricalcolo'!$F$4:$BZ$4, 0)), 'C4 Tk Ricalcolo'!$B:$B, $B127)","v":0},{"$f":"SUMIFS(INDEX('C4 Tk Ricalcolo'!$F:$BZ, ,MATCH(Q$4, 'C4 Tk Ricalcolo'!$F$4:$BZ$4, 0)), 'C4 Tk Ricalcolo'!$B:$B, $B127)","v":0},{"$f":"SUMIFS(INDEX('C4 Tk Ricalcolo'!$F:$BZ, ,MATCH(R$4, 'C4 Tk Ricalcolo'!$F$4:$BZ$4, 0)), 'C4 Tk Ricalcolo'!$B:$B, $B127)","v":0},{"$f":"SUMIFS(INDEX('C4 Tk Ricalcolo'!$F:$BZ, ,MATCH(S$4, 'C4 Tk Ricalcolo'!$F$4:$BZ$4, 0)), 'C4 Tk Ricalcolo'!$B:$B, $B127)","v":0}]
[null,45,"Remunerazione CIN pre2026 - finanziario - investimenti (opere)","O2",null,null,{"$f":"SUMIFS(INDEX('C4 Tk Ricalcolo'!$F:$BZ, ,MATCH(G$4, 'C4 Tk Ricalcolo'!$F$4:$BZ$4, 0)), 'C4 Tk Ricalcolo'!$B:$B, $B128)","v":1426.9},{"$f":"SUMIFS(INDEX('C4 Tk Ricalcolo'!$F:$BZ, ,MATCH(H$4, 'C4 Tk Ricalcolo'!$F$4:$BZ$4, 0)), 'C4 Tk Ricalcolo'!$B:$B, $B128)","v":2177.9},{"$f":"SUMIFS(INDEX('C4 Tk Ricalcolo'!$F:$BZ, ,MATCH(I$4, 'C4 Tk Ricalcolo'!$F$4:$BZ$4, 0)), 'C4 Tk Ricalcolo'!$B:$B, $B128)","v":2928.9},{"$f":"SUMIFS(INDEX('C4 Tk Ricalcolo'!$F:$BZ, ,MATCH(J$4, 'C4 Tk Ricalcolo'!$F$4:$BZ$4, 0)), 'C4 Tk Ricalcolo'!$B:$B, $B128)","v":2928.9},{"$f":"SUMIFS(INDEX('C4 Tk Ricalcolo'!$F:$BZ, ,MATCH(K$4, 'C4 Tk Ricalcolo'!$F$4:$BZ$4, 0)), 'C4 Tk Ricalcolo'!$B:$B, $B128)","v":2928.9},{"$f":"SUMIFS(INDEX('C4 Tk Ricalcolo'!$F:$BZ, ,MATCH(L$4, 'C4 Tk Ricalcolo'!$F$4:$BZ$4, 0)), 'C4 Tk Ricalcolo'!$B:$B, $B128)","v":2928.9},{"$f":"SUMIFS(INDEX('C4 Tk Ricalcolo'!$F:$BZ, ,MATCH(M$4, 'C4 Tk Ricalcolo'!$F$4:$BZ$4, 0)), 'C4 Tk Ricalcolo'!$B:$B, $B128)","v":2928.9},{"$f":"SUMIFS(INDEX('C4 Tk Ricalcolo'!$F:$BZ, ,MATCH(N$4, 'C4 Tk Ricalcolo'!$F$4:$BZ$4, 0)), 'C4 Tk Ricalcolo'!$B:$B, $B128)","v":2928.9},{"$f":"SUMIFS(INDEX('C4 Tk Ricalcolo'!$F:$BZ, ,MATCH(O$4, 'C4 Tk Ricalcolo'!$F$4:$BZ$4, 0)), 'C4 Tk Ricalcolo'!$B:$B, $B128)","v":2928.9},{"$f":"SUMIFS(INDEX('C4 Tk Ricalcolo'!$F:$BZ, ,MATCH(P$4, 'C4 Tk Ricalcolo'!$F$4:$BZ$4, 0)), 'C4 Tk Ricalcolo'!$B:$B, $B128)","v":2343.12},{"$f":"SUMIFS(INDEX('C4 Tk Ricalcolo'!$F:$BZ, ,MATCH(Q$4, 'C4 Tk Ricalcolo'!$F$4:$BZ$4, 0)), 'C4 Tk Ricalcolo'!$B:$B, $B128)","v":1757.34},{"$f":"SUMIFS(INDEX('C4 Tk Ricalcolo'!$F:$BZ, ,MATCH(R$4, 'C4 Tk Ricalcolo'!$F$4:$BZ$4, 0)), 'C4 Tk Ricalcolo'!$B:$B, $B128)","v":1171.56},{"$f":"SUMIFS(INDEX('C4 Tk Ricalcolo'!$F:$BZ, ,MATCH(S$4, 'C4 Tk Ricalcolo'!$F$4:$BZ$4, 0)), 'C4 Tk Ricalcolo'!$B:$B, $B128)","v":584.27800000000002}]
[null,48,"Remunerazione CIN pre2026 - finanziario - investimenti (contributo)","P2",null,null,{"$f":"SUMIFS(INDEX('C4 Tk Ricalcolo'!$F:$BZ, ,MATCH(G$4, 'C4 Tk Ricalcolo'!$F$4:$BZ$4, 0)), 'C4 Tk Ricalcolo'!$B:$B, $B129)","v":0},{"$f":"SUMIFS(INDEX('C4 Tk Ricalcolo'!$F:$BZ, ,MATCH(H$4, 'C4 Tk Ricalcolo'!$F$4:$BZ$4, 0)), 'C4 Tk Ricalcolo'!$B:$B, $B129)","v":-75.099999999999994},{"$f":"SUMIFS(INDEX('C4 Tk Ricalcolo'!$F:$BZ, ,MATCH(I$4, 'C4 Tk Ricalcolo'!$F$4:$BZ$4, 0)), 'C4 Tk Ricalcolo'!$B:$B, $B129)","v":-75.099999999999994},{"$f":"SUMIFS(INDEX('C4 Tk Ricalcolo'!$F:$BZ, ,MATCH(J$4, 'C4 Tk Ricalcolo'!$F$4:$BZ$4, 0)), 'C4 Tk Ricalcolo'!$B:$B, $B129)","v":-75.099999999999994},{"$f":"SUMIFS(INDEX('C4 Tk Ricalcolo'!$F:$BZ, ,MATCH(K$4, 'C4 Tk Ricalcolo'!$F$4:$BZ$4, 0)), 'C4 Tk Ricalcolo'!$B:$B, $B129)","v":-75.099999999999994},{"$f":"SUMIFS(INDEX('C4 Tk Ricalcolo'!$F:$BZ, ,MATCH(L$4, 'C4 Tk Ricalcolo'!$F$4:$BZ$4, 0)), 'C4 Tk Ricalcolo'!$B:$B, $B129)","v":-75.099999999999994},{"$f":"SUMIFS(INDEX('C4 Tk Ricalcolo'!$F:$BZ, ,MATCH(M$4, 'C4 Tk Ricalcolo'!$F$4:$BZ$4, 0)), 'C4 Tk Ricalcolo'!$B:$B, $B129)","v":-75.099999999999994},{"$f":"SUMIFS(INDEX('C4 Tk Ricalcolo'!$F:$BZ, ,MATCH(N$4, 'C4 Tk Ricalcolo'!$F$4:$BZ$4, 0)), 'C4 Tk Ricalcolo'!$B:$B, $B129)","v":-75.099999999999994},{"$f":"SUMIFS(INDEX('C4 Tk Ricalcolo'!$F:$BZ, ,MATCH(O$4, 'C4 Tk Ricalcolo'!$F$4:$BZ$4, 0)), 'C4 Tk Ricalcolo'!$B:$B, $B129)","v":-75.099999999999994},{"$f":"SUMIFS(INDEX('C4 Tk Ricalcolo'!$F:$BZ, ,MATCH(P$4, 'C4 Tk Ricalcolo'!$F$4:$BZ$4, 0)), 'C4 Tk Ricalcolo'!$B:$B, $B129)","v":-60.08},{"$f":"SUMIFS(INDEX('C4 Tk Ricalcolo'!$F:$BZ, ,MATCH(Q$4, 'C4 Tk Ricalcolo'!$F$4:$BZ$4, 0)), 'C4 Tk Ricalcolo'!$B:$B, $B129)","v":-45.06},{"$f":"SUMIFS(INDEX('C4 Tk Ricalcolo'!$F:$BZ, ,MATCH(R$4, 'C4 Tk Ricalcolo'!$F$4:$BZ$4, 0)), 'C4 Tk Ricalcolo'!$B:$B, $B129)","v":-30.04},{"$f":"SUMIFS(INDEX('C4 Tk Ricalcolo'!$F:$BZ, ,MATCH(S$4, 'C4 Tk Ricalcolo'!$F$4:$BZ$4, 0)), 'C4 Tk Ricalcolo'!$B:$B, $B129)","v":-15.02}]
[null,47,"Remunerazione CIN pre2026 - finanziario - valore di subentro investimenti","Q2",null,null,{"$f":"SUMIFS(INDEX('C4 Tk Ricalcolo'!$F:$BZ, ,MATCH(G$4, 'C4 Tk Ricalcolo'!$F$4:$BZ$4, 0)), 'C4 Tk Ricalcolo'!$B:$B, $B130)","v":75.099999999999994},{"$f":"SUMIFS(INDEX('C4 Tk Ricalcolo'!$F:$BZ, ,MATCH(H$4, 'C4 Tk Ricalcolo'!$F$4:$BZ$4, 0)), 'C4 Tk Ricalcolo'!$B:$B, $B130)","v":75.099999999999994},{"$f":"SUMIFS(INDEX('C4 Tk Ricalcolo'!$F:$BZ, ,MATCH(I$4, 'C4 Tk Ricalcolo'!$F$4:$BZ$4, 0)), 'C4 Tk Ricalcolo'!$B:$B, $B130)","v":75.099999999999994},{"$f":"SUMIFS(INDEX('C4 Tk Ricalcolo'!$F:$BZ, ,MATCH(J$4, 'C4 Tk Ricalcolo'!$F$4:$BZ$4, 0)), 'C4 Tk Ricalcolo'!$B:$B, $B130)","v":75.099999999999994},{"$f":"SUMIFS(INDEX('C4 Tk Ricalcolo'!$F:$BZ, ,MATCH(K$4, 'C4 Tk Ricalcolo'!$F$4:$BZ$4, 0)), 'C4 Tk Ricalcolo'!$B:$B, $B130)","v":75.099999999999994},{"$f":"SUMIFS(INDEX('C4 Tk Ricalcolo'!$F:$BZ, ,MATCH(L$4, 'C4 Tk Ricalcolo'!$F$4:$BZ$4, 0)), 'C4 Tk Ricalcolo'!$B:$B, $B130)","v":75.099999999999994},{"$f":"SUMIFS(INDEX('C4 Tk Ricalcolo'!$F:$BZ, ,MATCH(M$4, 'C4 Tk Ricalcolo'!$F$4:$BZ$4, 0)), 'C4 Tk Ricalcolo'!$B:$B, $B130)","v":75.099999999999994},{"$f":"SUMIFS(INDEX('C4 Tk Ricalcolo'!$F:$BZ, ,MATCH(N$4, 'C4 Tk Ricalcolo'!$F$4:$BZ$4, 0)), 'C4 Tk Ricalcolo'!$B:$B, $B130)","v":75.099999999999994},{"$f":"SUMIFS(INDEX('C4 Tk Ricalcolo'!$F:$BZ, ,MATCH(O$4, 'C4 Tk Ricalcolo'!$F$4:$BZ$4, 0)), 'C4 Tk Ricalcolo'!$B:$B, $B130)","v":75.099999999999994},{"$f":"SUMIFS(INDEX('C4 Tk Ricalcolo'!$F:$BZ, ,MATCH(P$4, 'C4 Tk Ricalcolo'!$F$4:$BZ$4, 0)), 'C4 Tk Ricalcolo'!$B:$B, $B130)","v":75.099999999999994},{"$f":"SUMIFS(INDEX('C4 Tk Ricalcolo'!$F:$BZ, ,MATCH(Q$4, 'C4 Tk Ricalcolo'!$F$4:$BZ$4, 0)), 'C4 Tk Ricalcolo'!$B:$B, $B130)","v":75.099999999999994},{"$f":"SUMIFS(INDEX('C4 Tk Ricalcolo'!$F:$BZ, ,MATCH(R$4, 'C4 Tk Ricalcolo'!$F$4:$BZ$4, 0)), 'C4 Tk Ricalcolo'!$B:$B, $B130)","v":75.099999999999994},{"$f":"SUMIFS(INDEX('C4 Tk Ricalcolo'!$F:$BZ, ,MATCH(S$4, 'C4 Tk Ricalcolo'!$F$4:$BZ$4, 0)), 'C4 Tk Ricalcolo'!$B:$B, $B130)","v":75.099999999999994}]
[null,49,"Remunerazione CIN post2026 - finanziario - investimenti (opere)","O3",null,null,{"$f":"SUMIFS(INDEX('C4 Tk Ricalcolo'!$F:$BZ, ,MATCH(G$4, 'C4 Tk Ricalcolo'!$F$4:$BZ$4, 0)), 'C4 Tk Ricalcolo'!$B:$B, $B131)","v":0},{"$f":"SUMIFS(INDEX('C4 Tk Ricalcolo'!$F:$BZ, ,MATCH(H$4, 'C4 Tk Ricalcolo'!$F$4:$BZ$4, 0)), 'C4 Tk Ricalcolo'!$B:$B, $B131)","v":3755},{"$f":"SUMIFS(INDEX('C4 Tk Ricalcolo'!$F:$BZ, ,MATCH(I$4, 'C4 Tk Ricalcolo'!$F$4:$BZ$4, 0)), 'C4 Tk Ricalcolo'!$B:$B, $B131)","v":7510},{"$f":"SUMIFS(INDEX('C4 Tk Ricalcolo'!$F:$BZ, ,MATCH(J$4, 'C4 Tk Ricalcolo'!$F$4:$BZ$4, 0)), 'C4 Tk Ricalcolo'!$B:$B, $B131)","v":7510},{"$f":"SUMIFS(INDEX('C4 Tk Ricalcolo'!$F:$BZ, ,MATCH(K$4, 'C4 Tk Ricalcolo'!$F$4:$BZ$4, 0)), 'C4 Tk Ricalcolo'!$B:$B, $B131)","v":7510},{"$f":"SUMIFS(INDEX('C4 Tk Ricalcolo'!$F:$BZ, ,MATCH(L$4, 'C4 Tk Ricalcolo'!$F$4:$BZ$4, 0)), 'C4 Tk Ricalcolo'!$B:$B, $B131)","v":7510},{"$f":"SUMIFS(INDEX('C4 Tk Ricalcolo'!$F:$BZ, ,MATCH(M$4, 'C4 Tk Ricalcolo'!$F$4:$BZ$4, 0)), 'C4 Tk Ricalcolo'!$B:$B, $B131)","v":7510},{"$f":"SUMIFS(INDEX('C4 Tk Ricalcolo'!$F:$BZ, ,MATCH(N$4, 'C4 Tk Ricalcolo'!$F$4:$BZ$4, 0)), 'C4 Tk Ricalcolo'!$B:$B, $B131)","v":7510},{"$f":"SUMIFS(INDEX('C4 Tk Ricalcolo'!$F:$BZ, ,MATCH(O$4, 'C4 Tk Ricalcolo'!$F$4:$BZ$4, 0)), 'C4 Tk Ricalcolo'!$B:$B, $B131)","v":7510},{"$f":"SUMIFS(INDEX('C4 Tk Ricalcolo'!$F:$BZ, ,MATCH(P$4, 'C4 Tk Ricalcolo'!$F$4:$BZ$4, 0)), 'C4 Tk Ricalcolo'!$B:$B, $B131)","v":6008},{"$f":"SUMIFS(INDEX('C4 Tk Ricalcolo'!$F:$BZ, ,MATCH(Q$4, 'C4 Tk Ricalcolo'!$F$4:$BZ$4, 0)), 'C4 Tk Ricalcolo'!$B:$B, $B131)","v":4506},{"$f":"SUMIFS(INDEX('C4 Tk Ricalcolo'!$F:$BZ, ,MATCH(R$4, 'C4 Tk Ricalcolo'!$F$4:$BZ$4, 0)), 'C4 Tk Ricalcolo'!$B:$B, $B131)","v":3004},{"$f":"SUMIFS(INDEX('C4 Tk Ricalcolo'!$F:$BZ, ,MATCH(S$4, 'C4 Tk Ricalcolo'!$F$4:$BZ$4, 0)), 'C4 Tk Ricalcolo'!$B:$B, $B131)","v":1500.498}]
[null,50,"Remunerazione CIN post2026 - finanziario - investimenti (contributo)","P3",null,null,{"$f":"SUMIFS(INDEX('C4 Tk Ricalcolo'!$F:$BZ, ,MATCH(G$4, 'C4 Tk Ricalcolo'!$F$4:$BZ$4, 0)), 'C4 Tk Ricalcolo'!$B:$B, $B132)","v":0},{"$f":"SUMIFS(INDEX('C4 Tk Ricalcolo'!$F:$BZ, ,MATCH(H$4, 'C4 Tk Ricalcolo'!$F$4:$BZ$4, 0)), 'C4 Tk Ricalcolo'!$B:$B, $B132)","v":-75.099999999999994},{"$f":"SUMIFS(INDEX('C4 Tk Ricalcolo'!$F:$BZ, ,MATCH(I$4, 'C4 Tk Ricalcolo'!$F$4:$BZ$4, 0)), 'C4 Tk Ricalcolo'!$B:$B, $B132)","v":-75.099999999999994},{"$f":"SUMIFS(INDEX('C4 Tk Ricalcolo'!$F:$BZ, ,MATCH(J$4, 'C4 Tk Ricalcolo'!$F$4:$BZ$4, 0)), 'C4 Tk Ricalcolo'!$B:$B, $B132)","v":-75.099999999999994},{"$f":"SUMIFS(INDEX('C4 Tk Ricalcolo'!$F:$BZ, ,MATCH(K$4, 'C4 Tk Ricalcolo'!$F$4:$BZ$4, 0)), 'C4 Tk Ricalcolo'!$B:$B, $B132)","v":-75.099999999999994},{"$f":"SUMIFS(INDEX('C4 Tk Ricalcolo'!$F:$BZ, ,MATCH(L$4, 'C4 Tk Ricalcolo'!$F$4:$BZ$4, 0)), 'C4 Tk Ricalcolo'!$B:$B, $B132)","v":-75.099999999999994},{"$f":"SUMIFS(INDEX('C4 Tk Ricalcolo'!$F:$BZ, ,MATCH(M$4, 'C4 Tk Ricalcolo'!$F$4:$BZ$4, 0)), 'C4 Tk Ricalcolo'!$B:$B, $B132)","v":-75.099999999999994},{"$f":"SUMIFS(INDEX('C4 Tk Ricalcolo'!$F:$BZ, ,MATCH(N$4, 'C4 Tk Ricalcolo'!$F$4:$BZ$4, 0)), 'C4 Tk Ricalcolo'!$B:$B, $B132)","v":-75.099999999999994},{"$f":"SUMIFS(INDEX('C4 Tk Ricalcolo'!$F:$BZ, ,MATCH(O$4, 'C4 Tk Ricalcolo'!$F$4:$BZ$4, 0)), 'C4 Tk Ricalcolo'!$B:$B, $B132)","v":-75.099999999999994},{"$f":"SUMIFS(INDEX('C4 Tk Ricalcolo'!$F:$BZ, ,MATCH(P$4, 'C4 Tk Ricalcolo'!$F$4:$BZ$4, 0)), 'C4 Tk Ricalcolo'!$B:$B, $B132)","v":-60.08},{"$f":"SUMIFS(INDEX('C4 Tk Ricalcolo'!$F:$BZ, ,MATCH(Q$4, 'C4 Tk Ricalcolo'!$F$4:$BZ$4, 0)), 'C4 Tk Ricalcolo'!$B:$B, $B132)","v":-45.06},{"$f":"SUMIFS(INDEX('C4 Tk Ricalcolo'!$F:$BZ, ,MATCH(R$4, 'C4 Tk Ricalcolo'!$F$4:$BZ$4, 0)), 'C4 Tk Ricalcolo'!$B:$B, $B132)","v":-30.04},{"$f":"SUMIFS(INDEX('C4 Tk Ricalcolo'!$F:$BZ, ,MATCH(S$4, 'C4 Tk Ricalcolo'!$F$4:$BZ$4, 0)), 'C4 Tk Ricalcolo'!$B:$B, $B132)","v":-15.02}]
[null,51,"Remunerazione CIN post2026 - finanziario - valore di subentro investimenti","Q3",null,null,{"$f":"SUMIFS(INDEX('C4 Tk Ricalcolo'!$F:$BZ, ,MATCH(G$4, 'C4 Tk Ricalcolo'!$F$4:$BZ$4, 0)), 'C4 Tk Ricalcolo'!$B:$B, $B133)","v":0},{"$f":"SUMIFS(INDEX('C4 Tk Ricalcolo'!$F:$BZ, ,MATCH(H$4, 'C4 Tk Ricalcolo'!$F$4:$BZ$4, 0)), 'C4 Tk Ricalcolo'!$B:$B, $B133)","v":0},{"$f":"SUMIFS(INDEX('C4 Tk Ricalcolo'!$F:$BZ, ,MATCH(I$4, 'C4 Tk Ricalcolo'!$F$4:$BZ$4, 0)), 'C4 Tk Ricalcolo'!$B:$B, $B133)","v":0},{"$f":"SUMIFS(INDEX('C4 Tk Ricalcolo'!$F:$BZ, ,MATCH(J$4, 'C4 Tk Ricalcolo'!$F$4:$BZ$4, 0)), 'C4 Tk Ricalcolo'!$B:$B, $B133)","v":0},{"$f":"SUMIFS(INDEX('C4 Tk Ricalcolo'!$F:$BZ, ,MATCH(K$4, 'C4 Tk Ricalcolo'!$F$4:$BZ$4, 0)), 'C4 Tk Ricalcolo'!$B:$B, $B133)","v":0},{"$f":"SUMIFS(INDEX('C4 Tk Ricalcolo'!$F:$BZ, ,MATCH(L$4, 'C4 Tk Ricalcolo'!$F$4:$BZ$4, 0)), 'C4 Tk Ricalcolo'!$B:$B, $B133)","v":0},{"$f":"SUMIFS(INDEX('C4 Tk Ricalcolo'!$F:$BZ, ,MATCH(M$4, 'C4 Tk Ricalcolo'!$F$4:$BZ$4, 0)), 'C4 Tk Ricalcolo'!$B:$B, $B133)","v":0},{"$f":"SUMIFS(INDEX('C4 Tk Ricalcolo'!$F:$BZ, ,MATCH(N$4, 'C4 Tk Ricalcolo'!$F$4:$BZ$4, 0)), 'C4 Tk Ricalcolo'!$B:$B, $B133)","v":0},{"$f":"SUMIFS(INDEX('C4 Tk Ricalcolo'!$F:$BZ, ,MATCH(O$4, 'C4 Tk Ricalcolo'!$F$4:$BZ$4, 0)), 'C4 Tk Ricalcolo'!$B:$B, $B133)","v":0},{"$f":"SUMIFS(INDEX('C4 Tk Ricalcolo'!$F:$BZ, ,MATCH(P$4, 'C4 Tk Ricalcolo'!$F$4:$BZ$4, 0)), 'C4 Tk Ricalcolo'!$B:$B, $B133)","v":0},{"$f":"SUMIFS(INDEX('C4 Tk Ricalcolo'!$F:$BZ, ,MATCH(Q$4, 'C4 Tk Ricalcolo'!$F$4:$BZ$4, 0)), 'C4 Tk Ricalcolo'!$B:$B, $B133)","v":0},{"$f":"SUMIFS(INDEX('C4 Tk Ricalcolo'!$F:$BZ, ,MATCH(R$4, 'C4 Tk Ricalcolo'!$F$4:$BZ$4, 0)), 'C4 Tk Ricalcolo'!$B:$B, $B133)","v":0},{"$f":"SUMIFS(INDEX('C4 Tk Ricalcolo'!$F:$BZ, ,MATCH(S$4, 'C4 Tk Ricalcolo'!$F$4:$BZ$4, 0)), 'C4 Tk Ricalcolo'!$B:$B, $B133)","v":0}]
[null,"52a","Remunerazione CIN post2026 - vite utili - LIC di primo livello","O41",null,null,{"$f":"SUMIFS(INDEX('C4 Tk Ricalcolo'!$F:$BZ, ,MATCH(G$4, 'C4 Tk Ricalcolo'!$F$4:$BZ$4, 0)), 'C4 Tk Ricalcolo'!$B:$B, $B134)","v":0},{"$f":"SUMIFS(INDEX('C4 Tk Ricalcolo'!$F:$BZ, ,MATCH(H$4, 'C4 Tk Ricalcolo'!$F$4:$BZ$4, 0)), 'C4 Tk Ricalcolo'!$B:$B, $B134)","v":0},{"$f":"SUMIFS(INDEX('C4 Tk Ricalcolo'!$F:$BZ, ,MATCH(I$4, 'C4 Tk Ricalcolo'!$F$4:$BZ$4, 0)), 'C4 Tk Ricalcolo'!$B:$B, $B134)","v":7.51},{"$f":"SUMIFS(INDEX('C4 Tk Ricalcolo'!$F:$BZ, ,MATCH(J$4, 'C4 Tk Ricalcolo'!$F$4:$BZ$4, 0)), 'C4 Tk Ricalcolo'!$B:$B, $B134)","v":7.51},{"$f":"SUMIFS(INDEX('C4 Tk Ricalcolo'!$F:$BZ, ,MATCH(K$4, 'C4 Tk Ricalcolo'!$F$4:$BZ$4, 0)), 'C4 Tk Ricalcolo'!$B:$B, $B134)","v":7.51},{"$f":"SUMIFS(INDEX('C4 Tk Ricalcolo'!$F:$BZ, ,MATCH(L$4, 'C4 Tk Ricalcolo'!$F$4:$BZ$4, 0)), 'C4 Tk Ricalcolo'!$B:$B, $B134)","v":7.51},{"$f":"SUMIFS(INDEX('C4 Tk Ricalcolo'!$F:$BZ, ,MATCH(M$4, 'C4 Tk Ricalcolo'!$F$4:$BZ$4, 0)), 'C4 Tk Ricalcolo'!$B:$B, $B134)","v":7.51},{"$f":"SUMIFS(INDEX('C4 Tk Ricalcolo'!$F:$BZ, ,MATCH(N$4, 'C4 Tk Ricalcolo'!$F$4:$BZ$4, 0)), 'C4 Tk Ricalcolo'!$B:$B, $B134)","v":7.51},{"$f":"SUMIFS(INDEX('C4 Tk Ricalcolo'!$F:$BZ, ,MATCH(O$4, 'C4 Tk Ricalcolo'!$F$4:$BZ$4, 0)), 'C4 Tk Ricalcolo'!$B:$B, $B134)","v":7.51},{"$f":"SUMIFS(INDEX('C4 Tk Ricalcolo'!$F:$BZ, ,MATCH(P$4, 'C4 Tk Ricalcolo'!$F$4:$BZ$4, 0)), 'C4 Tk Ricalcolo'!$B:$B, $B134)","v":7.51},{"$f":"SUMIFS(INDEX('C4 Tk Ricalcolo'!$F:$BZ, ,MATCH(Q$4, 'C4 Tk Ricalcolo'!$F$4:$BZ$4, 0)), 'C4 Tk Ricalcolo'!$B:$B, $B134)","v":7.51},{"$f":"SUMIFS(INDEX('C4 Tk Ricalcolo'!$F:$BZ, ,MATCH(R$4, 'C4 Tk Ricalcolo'!$F$4:$BZ$4, 0)), 'C4 Tk Ricalcolo'!$B:$B, $B134)","v":7.51},{"$f":"SUMIFS(INDEX('C4 Tk Ricalcolo'!$F:$BZ, ,MATCH(S$4, 'C4 Tk Ricalcolo'!$F$4:$BZ$4, 0)), 'C4 Tk Ricalcolo'!$B:$B, $B134)","v":0}]
[null,"52b","Remunerazione CIN post2026 - vite utili - LIC di secondo livello","O42",null,null,{"$f":"SUMIFS(INDEX('C4 Tk Ricalcolo'!$F:$BZ, ,MATCH(G$4, 'C4 Tk Ricalcolo'!$F$4:$BZ$4, 0)), 'C4 Tk Ricalcolo'!$B:$B, $B135)","v":0},{"$f":"SUMIFS(INDEX('C4 Tk Ricalcolo'!$F:$BZ, ,MATCH(H$4, 'C4 Tk Ricalcolo'!$F$4:$BZ$4, 0)), 'C4 Tk Ricalcolo'!$B:$B, $B135)","v":0},{"$f":"SUMIFS(INDEX('C4 Tk Ricalcolo'!$F:$BZ, ,MATCH(I$4, 'C4 Tk Ricalcolo'!$F$4:$BZ$4, 0)), 'C4 Tk Ricalcolo'!$B:$B, $B135)","v":4.3499999999999996},{"$f":"SUMIFS(INDEX('C4 Tk Ricalcolo'!$F:$BZ, ,MATCH(J$4, 'C4 Tk Ricalcolo'!$F$4:$BZ$4, 0)), 'C4 Tk Ricalcolo'!$B:$B, $B135)","v":4.3499999999999996},{"$f":"SUMIFS(INDEX('C4 Tk Ricalcolo'!$F:$BZ, ,MATCH(K$4, 'C4 Tk Ricalcolo'!$F$4:$BZ$4, 0)), 'C4 Tk Ricalcolo'!$B:$B, $B135)","v":4.3499999999999996},{"$f":"SUMIFS(INDEX('C4 Tk Ricalcolo'!$F:$BZ, ,MATCH(L$4, 'C4 Tk Ricalcolo'!$F$4:$BZ$4, 0)), 'C4 Tk Ricalcolo'!$B:$B, $B135)","v":4.3499999999999996},{"$f":"SUMIFS(INDEX('C4 Tk Ricalcolo'!$F:$BZ, ,MATCH(M$4, 'C4 Tk Ricalcolo'!$F$4:$BZ$4, 0)), 'C4 Tk Ricalcolo'!$B:$B, $B135)","v":4.3499999999999996},{"$f":"SUMIFS(INDEX('C4 Tk Ricalcolo'!$F:$BZ, ,MATCH(N$4, 'C4 Tk Ricalcolo'!$F$4:$BZ$4, 0)), 'C4 Tk Ricalcolo'!$B:$B, $B135)","v":4.3499999999999996},{"$f":"SUMIFS(INDEX('C4 Tk Ricalcolo'!$F:$BZ, ,MATCH(O$4, 'C4 Tk Ricalcolo'!$F$4:$BZ$4, 0)), 'C4 Tk Ricalcolo'!$B:$B, $B135)","v":4.3499999999999996},{"$f":"SUMIFS(INDEX('C4 Tk Ricalcolo'!$F:$BZ, ,MATCH(P$4, 'C4 Tk Ricalcolo'!$F$4:$BZ$4, 0)), 'C4 Tk Ricalcolo'!$B:$B, $B135)","v":4.3499999999999996},{"$f":"SUMIFS(INDEX('C4 Tk Ricalcolo'!$F:$BZ, ,MATCH(Q$4, 'C4 Tk Ricalcolo'!$F$4:$BZ$4, 0)), 'C4 Tk Ricalcolo'!$B:$B, $B135)","v":4.3499999999999996},{"$f":"SUMIFS(INDEX('C4 Tk Ricalcolo'!$F:$BZ, ,MATCH(R$4, 'C4 Tk Ricalcolo'!$F$4:$BZ$4, 0)), 'C4 Tk Ricalcolo'!$B:$B, $B135)","v":4.3499999999999996},{"$f":"SUMIFS(INDEX('C4 Tk Ricalcolo'!$F:$BZ, ,MATCH(S$4, 'C4 Tk Ricalcolo'!$F$4:$BZ$4, 0)), 'C4 Tk Ricalcolo'!$B:$B, $B135)","v":0}]
[null,54,"Remunerazione CIN post2026 - vite utili - investimenti (opere)","O5",null,null,{"$f":"SUMIFS(INDEX('C4 Tk Ricalcolo'!$F:$BZ, ,MATCH(G$4, 'C4 Tk Ricalcolo'!$F$4:$BZ$4, 0)), 'C4 Tk Ricalcolo'!$B:$B, $B136)","v":0},{"$f":"SUMIFS(INDEX('C4 Tk Ricalcolo'!$F:$BZ, ,MATCH(H$4, 'C4 Tk Ricalcolo'!$F$4:$BZ$4, 0)), 'C4 Tk Ricalcolo'!$B:$B, $B136)","v":0},{"$f":"SUMIFS(INDEX('C4 Tk Ricalcolo'!$F:$BZ, ,MATCH(I$4, 'C4 Tk Ricalcolo'!$F$4:$BZ$4, 0)), 'C4 Tk Ricalcolo'!$B:$B, $B136)","v":0},{"$f":"SUMIFS(INDEX('C4 Tk Ricalcolo'!$F:$BZ, ,MATCH(J$4, 'C4 Tk Ricalcolo'!$F$4:$BZ$4, 0)), 'C4 Tk Ricalcolo'!$B:$B, $B136)","v":7.51},{"$f":"SUMIFS(INDEX('C4 Tk Ricalcolo'!$F:$BZ, ,MATCH(K$4, 'C4 Tk Ricalcolo'!$F$4:$BZ$4, 0)), 'C4 Tk Ricalcolo'!$B:$B, $B136)","v":13.518000000000001},{"$f":"SUMIFS(INDEX('C4 Tk Ricalcolo'!$F:$BZ, ,MATCH(L$4, 'C4 Tk Ricalcolo'!$F$4:$BZ$4, 0)), 'C4 Tk Ricalcolo'!$B:$B, $B136)","v":21.628799999999998},{"$f":"SUMIFS(INDEX('C4 Tk Ricalcolo'!$F:$BZ, ,MATCH(M$4, 'C4 Tk Ricalcolo'!$F$4:$BZ$4, 0)), 'C4 Tk Ricalcolo'!$B:$B, $B136)","v":25.934533333333334},{"$f":"SUMIFS(INDEX('C4 Tk Ricalcolo'!$F:$BZ, ,MATCH(N$4, 'C4 Tk Ricalcolo'!$F$4:$BZ$4, 0)), 'C4 Tk Ricalcolo'!$B:$B, $B136)","v":31.241600000000002},{"$f":"SUMIFS(INDEX('C4 Tk Ricalcolo'!$F:$BZ, ,MATCH(O$4, 'C4 Tk Ricalcolo'!$F$4:$BZ$4, 0)), 'C4 Tk Ricalcolo'!$B:$B, $B136)","v":33.544666666666664},{"$f":"SUMIFS(INDEX('C4 Tk Ricalcolo'!$F:$BZ, ,MATCH(P$4, 'C4 Tk Ricalcolo'!$F$4:$BZ$4, 0)), 'C4 Tk Ricalcolo'!$B:$B, $B136)","v":32.843733333333333},{"$f":"SUMIFS(INDEX('C4 Tk Ricalcolo'!$F:$BZ, ,MATCH(Q$4, 'C4 Tk Ricalcolo'!$F$4:$BZ$4, 0)), 'C4 Tk Ricalcolo'!$B:$B, $B136)","v":33.644800000000004},{"$f":"SUMIFS(INDEX('C4 Tk Ricalcolo'!$F:$BZ, ,MATCH(R$4, 'C4 Tk Ricalcolo'!$F$4:$BZ$4, 0)), 'C4 Tk Ricalcolo'!$B:$B, $B136)","v":23.931866666666668},{"$f":"SUMIFS(INDEX('C4 Tk Ricalcolo'!$F:$BZ, ,MATCH(S$4, 'C4 Tk Ricalcolo'!$F$4:$BZ$4, 0)), 'C4 Tk Ricalcolo'!$B:$B, $B136)","v":12.967266666666671}]
[null,55,"Remunerazione CIN post2026 - vite utili - investimenti (contributo)","P5",null,null,{"$f":"SUMIFS(INDEX('C4 Tk Ricalcolo'!$F:$BZ, ,MATCH(G$4, 'C4 Tk Ricalcolo'!$F$4:$BZ$4, 0)), 'C4 Tk Ricalcolo'!$B:$B, $B137)","v":0},{"$f":"SUMIFS(INDEX('C4 Tk Ricalcolo'!$F:$BZ, ,MATCH(H$4, 'C4 Tk Ricalcolo'!$F$4:$BZ$4, 0)), 'C4 Tk Ricalcolo'!$B:$B, $B137)","v":0},{"$f":"SUMIFS(INDEX('C4 Tk Ricalcolo'!$F:$BZ, ,MATCH(I$4, 'C4 Tk Ricalcolo'!$F$4:$BZ$4, 0)), 'C4 Tk Ricalcolo'!$B:$B, $B137)","v":-0.82610000000000006},{"$f":"SUMIFS(INDEX('C4 Tk Ricalcolo'!$F:$BZ, ,MATCH(J$4, 'C4 Tk Ricalcolo'!$F$4:$BZ$4, 0)), 'C4 Tk Ricalcolo'!$B:$B, $B137)","v":-1.502},{"$f":"SUMIFS(INDEX('C4 Tk Ricalcolo'!$F:$BZ, ,MATCH(K$4, 'C4 Tk Ricalcolo'!$F$4:$BZ$4, 0)), 'C4 Tk Ricalcolo'!$B:$B, $B137)","v":-2.4332399999999996},{"$f":"SUMIFS(INDEX('C4 Tk Ricalcolo'!$F:$BZ, ,MATCH(L$4, 'C4 Tk Ricalcolo'!$F$4:$BZ$4, 0)), 'C4 Tk Ricalcolo'!$B:$B, $B137)","v":-2.9639466666666667},{"$f":"SUMIFS(INDEX('C4 Tk Ricalcolo'!$F:$BZ, ,MATCH(M$4, 'C4 Tk Ricalcolo'!$F$4:$BZ$4, 0)), 'C4 Tk Ricalcolo'!$B:$B, $B137)","v":-3.6448533333333333},{"$f":"SUMIFS(INDEX('C4 Tk Ricalcolo'!$F:$BZ, ,MATCH(N$4, 'C4 Tk Ricalcolo'!$F$4:$BZ$4, 0)), 'C4 Tk Ricalcolo'!$B:$B, $B137)","v":-4.02536},{"$f":"SUMIFS(INDEX('C4 Tk Ricalcolo'!$F:$BZ, ,MATCH(O$4, 'C4 Tk Ricalcolo'!$F$4:$BZ$4, 0)), 'C4 Tk Ricalcolo'!$B:$B, $B137)","v":-4.1054666666666657},{"$f":"SUMIFS(INDEX('C4 Tk Ricalcolo'!$F:$BZ, ,MATCH(P$4, 'C4 Tk Ricalcolo'!$F$4:$BZ$4, 0)), 'C4 Tk Ricalcolo'!$B:$B, $B137)","v":-4.485973333333332},{"$f":"SUMIFS(INDEX('C4 Tk Ricalcolo'!$F:$BZ, ,MATCH(Q$4, 'C4 Tk Ricalcolo'!$F$4:$BZ$4, 0)), 'C4 Tk Ricalcolo'!$B:$B, $B137)","v":-3.5897799999999984},{"$f":"SUMIFS(INDEX('C4 Tk Ricalcolo'!$F:$BZ, ,MATCH(R$4, 'C4 Tk Ricalcolo'!$F$4:$BZ$4, 0)), 'C4 Tk Ricalcolo'!$B:$B, $B137)","v":-2.5934533333333318},{"$f":"SUMIFS(INDEX('C4 Tk Ricalcolo'!$F:$BZ, ,MATCH(S$4, 'C4 Tk Ricalcolo'!$F$4:$BZ$4, 0)), 'C4 Tk Ricalcolo'!$B:$B, $B137)","v":-1.296726666666665}]
[null,56,"Remunerazione CIN post2026 - vite utili - valore di subentro investimenti","Q5",null,null,{"$f":"SUMIFS(INDEX('C4 Tk Ricalcolo'!$F:$BZ, ,MATCH(G$4, 'C4 Tk Ricalcolo'!$F$4:$BZ$4, 0)), 'C4 Tk Ricalcolo'!$B:$B, $B138)","v":0},{"$f":"SUMIFS(INDEX('C4 Tk Ricalcolo'!$F:$BZ, ,MATCH(H$4, 'C4 Tk Ricalcolo'!$F$4:$BZ$4, 0)), 'C4 Tk Ricalcolo'!$B:$B, $B138)","v":0},{"$f":"SUMIFS(INDEX('C4 Tk Ricalcolo'!$F:$BZ, ,MATCH(I$4, 'C4 Tk Ricalcolo'!$F$4:$BZ$4, 0)), 'C4 Tk Ricalcolo'!$B:$B, $B138)","v":0},{"$f":"SUMIFS(INDEX('C4 Tk Ricalcolo'!$F:$BZ, ,MATCH(J$4, 'C4 Tk Ricalcolo'!$F$4:$BZ$4, 0)), 'C4 Tk Ricalcolo'!$B:$B, $B138)","v":22.53},{"$f":"SUMIFS(INDEX('C4 Tk Ricalcolo'!$F:$BZ, ,MATCH(K$4, 'C4 Tk Ricalcolo'!$F$4:$BZ$4, 0)), 'C4 Tk Ricalcolo'!$B:$B, $B138)","v":45.811},{"$f":"SUMIFS(INDEX('C4 Tk Ricalcolo'!$F:$BZ, ,MATCH(L$4, 'C4 Tk Ricalcolo'!$F$4:$BZ$4, 0)), 'C4 Tk Ricalcolo'!$B:$B, $B138)","v":66.238200000000006},{"$f":"SUMIFS(INDEX('C4 Tk Ricalcolo'!$F:$BZ, ,MATCH(M$4, 'C4 Tk Ricalcolo'!$F$4:$BZ$4, 0)), 'C4 Tk Ricalcolo'!$B:$B, $B138)","v":89.268866666666668},{"$f":"SUMIFS(INDEX('C4 Tk Ricalcolo'!$F:$BZ, ,MATCH(N$4, 'C4 Tk Ricalcolo'!$F$4:$BZ$4, 0)), 'C4 Tk Ricalcolo'!$B:$B, $B138)","v":110.29686666666666},{"$f":"SUMIFS(INDEX('C4 Tk Ricalcolo'!$F:$BZ, ,MATCH(O$4, 'C4 Tk Ricalcolo'!$F$4:$BZ$4, 0)), 'C4 Tk Ricalcolo'!$B:$B, $B138)","v":132.82686666666666},{"$f":"SUMIFS(INDEX('C4 Tk Ricalcolo'!$F:$BZ, ,MATCH(P$4, 'C4 Tk Ricalcolo'!$F$4:$BZ$4, 0)), 'C4 Tk Ricalcolo'!$B:$B, $B138)","v":156.85886666666667},{"$f":"SUMIFS(INDEX('C4 Tk Ricalcolo'!$F:$BZ, ,MATCH(Q$4, 'C4 Tk Ricalcolo'!$F$4:$BZ$4, 0)), 'C4 Tk Ricalcolo'!$B:$B, $B138)","v":177.88686666666666},{"$f":"SUMIFS(INDEX('C4 Tk Ricalcolo'!$F:$BZ, ,MATCH(R$4, 'C4 Tk Ricalcolo'!$F$4:$BZ$4, 0)), 'C4 Tk Ricalcolo'!$B:$B, $B138)","v":206.42486666666667},{"$f":"SUMIFS(INDEX('C4 Tk Ricalcolo'!$F:$BZ, ,MATCH(S$4, 'C4 Tk Ricalcolo'!$F$4:$BZ$4, 0)), 'C4 Tk Ricalcolo'!$B:$B, $B138)","v":235.46353333333334}]
[null,57,"Remunerazione CIN post2026 - vite utili - valore di subentro investimenti (contributo)","R5",null,null,{"$f":"SUMIFS(INDEX('C4 Tk Ricalcolo'!$F:$BZ, ,MATCH(G$4, 'C4 Tk Ricalcolo'!$F$4:$BZ$4, 0)), 'C4 Tk Ricalcolo'!$B:$B, $B139)","v":0},{"$f":"SUMIFS(INDEX('C4 Tk Ricalcolo'!$F:$BZ, ,MATCH(H$4, 'C4 Tk Ricalcolo'!$F$4:$BZ$4, 0)), 'C4 Tk Ricalcolo'!$B:$B, $B139)","v":0},{"$f":"SUMIFS(INDEX('C4 Tk Ricalcolo'!$F:$BZ, ,MATCH(I$4, 'C4 Tk Ricalcolo'!$F$4:$BZ$4, 0)), 'C4 Tk Ricalcolo'!$B:$B, $B139)","v":-2.1779000000000002},{"$f":"SUMIFS(INDEX('C4 Tk Ricalcolo'!$F:$BZ, ,MATCH(J$4, 'C4 Tk Ricalcolo'!$F$4:$BZ$4, 0)), 'C4 Tk Ricalcolo'!$B:$B, $B139)","v":-4.4309000000000003},{"$f":"SUMIFS(INDEX('C4 Tk Ricalcolo'!$F:$BZ, ,MATCH(K$4, 'C4 Tk Ricalcolo'!$F$4:$BZ$4, 0)), 'C4 Tk Ricalcolo'!$B:$B, $B139)","v":-6.3534600000000001},{"$f":"SUMIFS(INDEX('C4 Tk Ricalcolo'!$F:$BZ, ,MATCH(L$4, 'C4 Tk Ricalcolo'!$F$4:$BZ$4, 0)), 'C4 Tk Ricalcolo'!$B:$B, $B139)","v":-8.5563933333333324},{"$f":"SUMIFS(INDEX('C4 Tk Ricalcolo'!$F:$BZ, ,MATCH(M$4, 'C4 Tk Ricalcolo'!$F$4:$BZ$4, 0)), 'C4 Tk Ricalcolo'!$B:$B, $B139)","v":-10.508993333333333},{"$f":"SUMIFS(INDEX('C4 Tk Ricalcolo'!$F:$BZ, ,MATCH(N$4, 'C4 Tk Ricalcolo'!$F$4:$BZ$4, 0)), 'C4 Tk Ricalcolo'!$B:$B, $B139)","v":-12.611793333333333},{"$f":"SUMIFS(INDEX('C4 Tk Ricalcolo'!$F:$BZ, ,MATCH(O$4, 'C4 Tk Ricalcolo'!$F$4:$BZ$4, 0)), 'C4 Tk Ricalcolo'!$B:$B, $B139)","v":-14.864793333333333},{"$f":"SUMIFS(INDEX('C4 Tk Ricalcolo'!$F:$BZ, ,MATCH(P$4, 'C4 Tk Ricalcolo'!$F$4:$BZ$4, 0)), 'C4 Tk Ricalcolo'!$B:$B, $B139)","v":-16.667193333333334},{"$f":"SUMIFS(INDEX('C4 Tk Ricalcolo'!$F:$BZ, ,MATCH(Q$4, 'C4 Tk Ricalcolo'!$F$4:$BZ$4, 0)), 'C4 Tk Ricalcolo'!$B:$B, $B139)","v":-19.445893333333334},{"$f":"SUMIFS(INDEX('C4 Tk Ricalcolo'!$F:$BZ, ,MATCH(R$4, 'C4 Tk Ricalcolo'!$F$4:$BZ$4, 0)), 'C4 Tk Ricalcolo'!$B:$B, $B139)","v":-22.249626666666668},{"$f":"SUMIFS(INDEX('C4 Tk Ricalcolo'!$F:$BZ, ,MATCH(S$4, 'C4 Tk Ricalcolo'!$F$4:$BZ$4, 0)), 'C4 Tk Ricalcolo'!$B:$B, $B139)","v":-22.249626666666668}]
[null,null,"Totale","Rem = somma (Ox+Px+Qx+Rx)",null,null,{"$f":"SUM(G122:G139)","v":31796.999999999996},33510.199999999997,35659.856,31703.600433333329,27746.668966666672,23789.106659999998,19830.44288666666,15870.92798,11910.061273333333,9873.4694333333337,7835.6759933333333,5794.9536533333339,3736.1724466666669]
[]
[null,null,"Totale costi ammessi di costruzione","M = Amm + Rem",null,null,{"$f":"+G119+G140","v":57849.631578947359},60562.831578947364,64378.154245614031,60430.898678947371,56482.367212280711,52539.471572280701,48592.141132280696,44650.62622561404,39388.461273333334,37367.869433333333,35369.075993333332,33337.020319999996,31251.572446666669]
[]
[]
[null,null,"Calcolo della sub-componente tariffaria correlata alla effettiva realizzazione del Programma degli investimenti"]
[]
[null,null,"Componente tariffaria di costruzione (senza poste figurative) da ultimo aggiornamento del PFR",null,null,null,{"$f":"(INDEX('Z0.2 UltimoAggPFR'!$143:$143,MATCH(G$4,'Z0.2 UltimoAggPFR'!$4:$4,0)))","v":5.511766064817919E-2},{"$f":"(INDEX('Z0.2 UltimoAggPFR'!$143:$143,MATCH(H$4,'Z0.2 UltimoAggPFR'!$4:$4,0)))","v":5.7415650490182012E-2},{"$f":"(INDEX('Z0.2 UltimoAggPFR'!$143:$143,MATCH(I$4,'Z0.2 UltimoAggPFR'!$4:$4,0)))","v":6.072906248872368E-2},{"$f":"(INDEX('Z0.2 UltimoAggPFR'!$143:$143,MATCH(J$4,'Z0.2 UltimoAggPFR'!$4:$4,0)))","v":5.6721936146539136E-2},{"$f":"(INDEX('Z0.2 UltimoAggPFR'!$143:$143,MATCH(K$4,'Z0.2 UltimoAggPFR'!$4:$4,0)))","v":5.2751986917716348E-2},{"$f":"(INDEX('Z0.2 UltimoAggPFR'!$143:$143,MATCH(L$4,'Z0.2 UltimoAggPFR'!$4:$4,0)))","v":4.8825373118855264E-2},{"$f":"(INDEX('Z0.2 UltimoAggPFR'!$143:$143,MATCH(M$4,'Z0.2 UltimoAggPFR'!$4:$4,0)))","v":4.4932423601132067E-2},{"$f":"(INDEX('Z0.2 UltimoAggPFR'!$143:$143,MATCH(N$4,'Z0.2 UltimoAggPFR'!$4:$4,0)))","v":4.1082352163057362E-2},{"$f":"(INDEX('Z0.2 UltimoAggPFR'!$143:$143,MATCH(O$4,'Z0.2 UltimoAggPFR'!$4:$4,0)))","v":3.6060413327043989E-2},{"$f":"(INDEX('Z0.2 UltimoAggPFR'!$143:$143,MATCH(P$4,'Z0.2 UltimoAggPFR'!$4:$4,0)))","v":3.4040345558281282E-2},{"$f":"(INDEX('Z0.2 UltimoAggPFR'!$143:$143,MATCH(Q$4,'Z0.2 UltimoAggPFR'!$4:$4,0)))","v":3.2059243913384647E-2},{"$f":"(INDEX('Z0.2 UltimoAggPFR'!$143:$143,MATCH(R$4,'Z0.2 UltimoAggPFR'!$4:$4,0)))","v":3.0067012599288807E-2},{"$f":"(INDEX('Z0.2 UltimoAggPFR'!$143:$143,MATCH(S$4,'Z0.2 UltimoAggPFR'!$4:$4,0)))","v":2.8045895541324885E-2}]
[null,null,"Totale costi ammessi di costruzione da ultimo aggiornamento del PFR ",null,null,null,{"$f":"(INDEX('Z0.2 UltimoAggPFR'!$141:$141,MATCH(G$4,'Z0.2 UltimoAggPFR'!$4:$4,0)))","v":57849.631578947359},{"$f":"(INDEX('Z0.2 UltimoAggPFR'!$141:$141,MATCH(H$4,'Z0.2 UltimoAggPFR'!$4:$4,0)))","v":60562.831578947364},{"$f":"(INDEX('Z0.2 UltimoAggPFR'!$141:$141,MATCH(I$4,'Z0.2 UltimoAggPFR'!$4:$4,0)))","v":64378.154245614031},{"$f":"(INDEX('Z0.2 UltimoAggPFR'!$141:$141,MATCH(J$4,'Z0.2 UltimoAggPFR'!$4:$4,0)))","v":60430.898678947371},{"$f":"(INDEX('Z0.2 UltimoAggPFR'!$141:$141,MATCH(K$4,'Z0.2 UltimoAggPFR'!$4:$4,0)))","v":56482.367212280711},{"$f":"(INDEX('Z0.2 UltimoAggPFR'!$141:$141,MATCH(L$4,'Z0.2 UltimoAggPFR'!$4:$4,0)))","v":52539.471572280701},{"$f":"(INDEX('Z0.2 UltimoAggPFR'!$141:$141,MATCH(M$4,'Z0.2 UltimoAggPFR'!$4:$4,0)))","v":48592.141132280696},{"$f":"(INDEX('Z0.2 UltimoAggPFR'!$141:$141,MATCH(N$4,'Z0.2 UltimoAggPFR'!$4:$4,0)))","v":44650.62622561404},{"$f":"(INDEX('Z0.2 UltimoAggPFR'!$141:$141,MATCH(O$4,'Z0.2 UltimoAggPFR'!$4:$4,0)))","v":39388.461273333334},{"$f":"(INDEX('Z0.2 UltimoAggPFR'!$141:$141,MATCH(P$4,'Z0.2 UltimoAggPFR'!$4:$4,0)))","v":37367.869433333333},{"$f":"(INDEX('Z0.2 UltimoAggPFR'!$141:$141,MATCH(Q$4,'Z0.2 UltimoAggPFR'!$4:$4,0)))","v":35369.075993333332},{"$f":"(INDEX('Z0.2 UltimoAggPFR'!$141:$141,MATCH(R$4,'Z0.2 UltimoAggPFR'!$4:$4,0)))","v":33337.020319999996},{"$f":"(INDEX('Z0.2 UltimoAggPFR'!$141:$141,MATCH(S$4,'Z0.2 UltimoAggPFR'!$4:$4,0)))","v":31251.572446666669}]
[]
[null,null,"Coefficiente alfa(t)",null,null,null,{"$f":"G142/G148","v":1},1,1,1,1,1,1,1,1,1,1,1,1]
[null,null,"Calcolo sub-componente (deltaTk) correlata all’importo degli investimenti effettivamente realizzati rispetto a quanto programmato",null,null,null,{"$f":"-(1-G150)*G147","v":0},{"$f":"-(1-H150)*H147","v":0},0,0,0,0,0,0,0,0,0,0,0]
[]
[null,null,"Componente tariffaria di costruzione (senza poste figurative)","Tk = M / V",null,null,{"$f":"G147+G151","v":5.511766064817919E-2},{"$f":"H147+H151","v":5.7415650490182012E-2},6.072906248872368E-2,5.6721936146539136E-2,5.2751986917716348E-2,4.8825373118855264E-2,4.4932423601132067E-2,4.1082352163057362E-2,3.6060413327043989E-2,3.4040345558281282E-2,3.2059243913384647E-2,3.0067012599288807E-2,2.8045895541324885E-2]
[null,null,"Ricavi da Tk",null,null,null,{"$f":"G153*G$25*G$10","v":57849.631578947359},60562.831578947364,64378.154245614031,60430.898678947371,56482.367212280711,52539.471572280701,48592.141132280696,44650.62622561404,39388.461273333334,37367.869433333333,35369.075993333339,33337.020319999996,31251.572446666669]
[null,null,null,null,null,null,{"$f":"G153-+G142/(G$25*G$10)","v":0},0,0,0,0,0,0,0,0,0,0,0,0]
[]
[]
[null,null,"Rialcolo poste figurative"]
[]
[null,null,"Poste figurative annue","PF",null,null,{"$f":"'C5 Tk RicalcoloPF'!G123","v":-6961.4866326962147},{"$f":"'C5 Tk RicalcoloPF'!H123","v":-5442.8604757487628},{"$f":"'C5 Tk RicalcoloPF'!I123","v":-5668.6276673040047},{"$f":"'C5 Tk RicalcoloPF'!J123","v":1287.3824587782874},{"$f":"'C5 Tk RicalcoloPF'!K123","v":7740.1639891066225},{"$f":"'C5 Tk RicalcoloPF'!L123","v":13761.671211249617},{"$f":"'C5 Tk RicalcoloPF'!M123","v":19436.185618743861},{"$f":"'C5 Tk RicalcoloPF'!N123","v":25085.211526861218},{"$f":"'C5 Tk RicalcoloPF'!O123","v":32097.746006729023},{"$f":"'C5 Tk RicalcoloPF'!P123","v":35912.641649458608},{"$f":"'C5 Tk RicalcoloPF'!Q123","v":39750.775917636682},{"$f":"'C5 Tk RicalcoloPF'!R123","v":43668.339873935343},{"$f":"'C5 Tk RicalcoloPF'!S123","v":47686.622288136452}]
[null,null,"Poste figurative annue unitarie","TPF = PF / V",null,null,{"$f":"+G160/(G$25*G$10)","v":-6.6327277694785188E-3},{"$f":"+H160/(H$25*H$10)","v":-5.1600192163248982E-3},-5.3473177022074379E-3,1.208369016832707E-3,7.2289645361314622E-3,1.2788836878648187E-2,1.7972349130165627E-2,2.3080516022866284E-2,2.9385712222598125E-2,3.2714702502353685E-2,3.6030905108463018E-2,3.9384939402995811E-2,4.279509550100543E-2]
[null,null,"Saldo poste figurative","SPF = SPF(t-1) ∙ (1+Tasso) + PF",null,{"$f":"'C5 Tk RicalcoloPF'!F199","v":-82216.89426696414},{"$f":"'C5 Tk RicalcoloPF'!G199","v":-100264.53384647483},{"$f":"'C5 Tk RicalcoloPF'!H199","v":-119153.44530609314},{"$f":"'C5 Tk RicalcoloPF'!I199","v":-140614.39855986144},{"$f":"'C5 Tk RicalcoloPF'!J199","v":-158692.00940530543},{"$f":"'C5 Tk RicalcoloPF'!K199","v":-172816.72489334046},{"$f":"'C5 Tk RicalcoloPF'!L199","v":-182871.22984191004},{"$f":"'C5 Tk RicalcoloPF'!M199","v":-190878.10380899141},{"$f":"'C5 Tk RicalcoloPF'!N199","v":-174096.08979782133},{"$f":"'C5 Tk RicalcoloPF'!O199","v":-149571.52369729755},{"$f":"'C5 Tk RicalcoloPF'!P199","v":-120165.24332867141},{"$f":"'C5 Tk RicalcoloPF'!Q199","v":-85641.655495831947},{"$f":"'C5 Tk RicalcoloPF'!R199","v":-45698.727635965304},{"$f":"'C5 Tk RicalcoloPF'!S199","v":6.6502252593636513E-9}]
[null,null,null,"Check azzermento saldo PF alla scadenza della concessione",{"$f":"+IF(ROUND(OFFSET(G162,0,ScadenzaConcessione-AnnoPonte-1,1,1),5)=0,\"Ok\",\"Verificare\")","v":"Ok"}]
[]
[null,null,"Componente tariffaria di costruzione (con poste figurative)","Tk' = Tk + TPF",null,null,{"$f":"+G153+G161","v":4.8484932878700669E-2},5.2255631273857114E-2,5.5381744786516245E-2,5.7930305163371845E-2,5.9980951453847811E-2,6.1614209997503451E-2,6.2904772731297687E-2,6.4162868185923649E-2,6.5446125549642117E-2,6.6755048060634967E-2,6.8090149021847665E-2,6.9451952002284614E-2,7.0840991042330312E-2]
[null,null,"Ricavi da Tk (con poste figurative)",null,null,null,{"$f":"G165*G$25*G$10","v":50888.144946251145},55119.971103198601,58709.526578310033,61718.281137725666,64222.531201387334,66301.142783530318,68028.32675102455,69735.837752475258,71486.207280062357,73280.511082791942,75119.851910970014,77005.360193935339,78938.194734803124]
[null,null,null,null,null,null,{"$f":"G166-'Z0.2 UltimoAggPFR'!G152","v":0},{"$f":"H166-'Z0.2 UltimoAggPFR'!H152","v":0},{"$f":"I166-'Z0.2 UltimoAggPFR'!I152","v":0},{"$f":"J166-'Z0.2 UltimoAggPFR'!J152","v":0},{"$f":"K166-'Z0.2 UltimoAggPFR'!K152","v":0},{"$f":"L166-'Z0.2 UltimoAggPFR'!L152","v":0},{"$f":"M166-'Z0.2 UltimoAggPFR'!M152","v":0},{"$f":"N166-'Z0.2 UltimoAggPFR'!N152","v":0},{"$f":"O166-'Z0.2 UltimoAggPFR'!O152","v":0},{"$f":"P166-'Z0.2 UltimoAggPFR'!P152","v":0},{"$f":"Q166-'Z0.2 UltimoAggPFR'!Q152","v":0},{"$f":"R166-'Z0.2 UltimoAggPFR'!R152","v":0},{"$f":"S166-'Z0.2 UltimoAggPFR'!S152","v":0}]
[]
[]
[]
[null,null,"COMPONENTE TARIFFARIA PER ONERI INTEGRATIVI (in migliaia di euro)"]
[]
[null,null,"Costi totali afferenti a componente tariffaria per oneri integrativi                              ","U",null,null,{"$f":"'Z0.2 UltimoAggPFR'!G157","v":508.75637332527299},{"$f":"'Z0.2 UltimoAggPFR'!H157","v":453.08897696200097},{"$f":"'Z0.2 UltimoAggPFR'!I157","v":393.24095913184726},{"$f":"'Z0.2 UltimoAggPFR'!J157","v":328.89835516264907},{"$f":"'Z0.2 UltimoAggPFR'!K157","v":1250},{"$f":"'Z0.2 UltimoAggPFR'!L157","v":1250},{"$f":"'Z0.2 UltimoAggPFR'!M157","v":1250},{"$f":"'Z0.2 UltimoAggPFR'!N157","v":1250},{"$f":"'Z0.2 UltimoAggPFR'!O157","v":1250},{"$f":"'Z0.2 UltimoAggPFR'!P157","v":1250},{"$f":"'Z0.2 UltimoAggPFR'!Q157","v":1250},{"$f":"'Z0.2 UltimoAggPFR'!R157","v":1250},{"$f":"'Z0.2 UltimoAggPFR'!S157","v":1250}]
[]
[null,null,"Componente tariffaria per oneri integrativi           ","Toi = U / V",null,null,{"$f":"+IFERROR(G173/G25,0)","v":4.8473015941808708E-4},4.2954395730808941E-4,3.7095121878040743E-4,3.0871213084800164E-4,1.1674436979477092E-3,1.1616355203459795E-3,1.1558562391502283E-3,1.1501057105972423E-3,1.1443837916390474E-3,1.1386903399393507E-3,1.1330252138700007E-3,1.1273882725074636E-3,1.1217793756293172E-3]
[null,null,null,null,null,null,{"$f":"G175-'Z0.2 UltimoAggPFR'!G159","v":0},{"$f":"H175-'Z0.2 UltimoAggPFR'!H159","v":0},{"$f":"I175-'Z0.2 UltimoAggPFR'!I159","v":0},{"$f":"J175-'Z0.2 UltimoAggPFR'!J159","v":0},{"$f":"K175-'Z0.2 UltimoAggPFR'!K159","v":0},{"$f":"L175-'Z0.2 UltimoAggPFR'!L159","v":0},{"$f":"M175-'Z0.2 UltimoAggPFR'!M159","v":0},{"$f":"N175-'Z0.2 UltimoAggPFR'!N159","v":0},{"$f":"O175-'Z0.2 UltimoAggPFR'!O159","v":0},{"$f":"P175-'Z0.2 UltimoAggPFR'!P159","v":0},{"$f":"Q175-'Z0.2 UltimoAggPFR'!Q159","v":0},{"$f":"R175-'Z0.2 UltimoAggPFR'!R159","v":0},{"$f":"S175-'Z0.2 UltimoAggPFR'!S159","v":0}]
[]
[null,null,"TARIFFA UNITARIA MEDIA INTEGRATA"]
[]
[null,null,"Tariffa unitaria media (con poste figurative)  ","Tumi = Tg + Tk' + Toi",null,{"$f":"'Z0.2 UltimoAggPFR'!F164","v":8.6637302685775991E-2},{"$f":"+G68+G165+G175","v":8.5859747330423869E-2},9.0156102307963837E-2,9.4001556163055652E-2,9.7123805661080365E-2,9.9802596192646711E-2,0.10230459101238018,0.10448115783819401,0.10664287025187884,0.10884770939741049,0.11014188475350786,0.11241549286105915,0.11473446803371837,0.11709971731711982]
[null,null,"Ricavi da traffico previsti (con poste figurative)"," Y = Tumi · T",null,null,{"$f":"G180*G$25*G$10","v":90115.485528876728},95097.918307574204,99649.927629240643,103474.58598831053,106860.1813176229,110086.80134659403,112991.08217277878,115905.50902110108,118893.36229753066,120908.51315136111,124021.3936602179,127212.68132687488,130484.34462817945]
[null,null,null,null,null,null,{"$f":"G181-'Z0.2 UltimoAggPFR'!G165","v":0},{"$f":"H181-'Z0.2 UltimoAggPFR'!H165","v":0},{"$f":"I181-'Z0.2 UltimoAggPFR'!I165","v":0},{"$f":"J181-'Z0.2 UltimoAggPFR'!J165","v":0},{"$f":"K181-'Z0.2 UltimoAggPFR'!K165","v":0},{"$f":"L181-'Z0.2 UltimoAggPFR'!L165","v":0},{"$f":"M181-'Z0.2 UltimoAggPFR'!M165","v":0},{"$f":"N181-'Z0.2 UltimoAggPFR'!N165","v":0},{"$f":"O181-'Z0.2 UltimoAggPFR'!O165","v":0},{"$f":"P181-'Z0.2 UltimoAggPFR'!P165","v":0},{"$f":"Q181-'Z0.2 UltimoAggPFR'!Q165","v":0},{"$f":"R181-'Z0.2 UltimoAggPFR'!R165","v":0},{"$f":"S181-'Z0.2 UltimoAggPFR'!S165","v":0}]
[]
[]
[null,null,"RENDIMENTO PFR"]
[]
[null,null,"Flusso di cassa per costi di gestione efficientati","Cash out: gestione",null,null,{"$f":"-(G40+G46)*G10","v":-39094.550694197605},-39559.50680511049,-40108.907310591589,-41120.923395489423,-41692.069244157159,-42523.710629040303,-43371.98484162111,-44237.224538453534,-45702.939199458524,-46614.797983447694,-47544.893943116651,-48493.591821978982,-49461.26365841856]
[null,null,"Flusso di cassa da CIN residuo","CIN residuo",null,{"$f":"-(OFFSET('Z0.2.a PR Pregressi'!E671,0,AnnoPonte-UltimoAnnoRTP,1,1))","v":-238421.05263157893}]
[null,null,"Flusso di cassa per investimenti in beni reversibili","Cash out: investimenti reversibili",null,null,{"$f":"'C4 Tk Ricalcolo'!G676","v":-65000},{"$f":"'C4 Tk Ricalcolo'!H676","v":-70160},{"$f":"'C4 Tk Ricalcolo'!I676","v":-360},{"$f":"'C4 Tk Ricalcolo'!J676","v":-360},{"$f":"'C4 Tk Ricalcolo'!K676","v":-360},{"$f":"'C4 Tk Ricalcolo'!L676","v":-360},{"$f":"'C4 Tk Ricalcolo'!M676","v":-360},{"$f":"'C4 Tk Ricalcolo'!N676","v":-360},{"$f":"'C4 Tk Ricalcolo'!O676","v":-360},{"$f":"'C4 Tk Ricalcolo'!P676","v":-360},{"$f":"'C4 Tk Ricalcolo'!Q676","v":-360},{"$f":"'C4 Tk Ricalcolo'!R676","v":-120},{"$f":"'C4 Tk Ricalcolo'!S676","v":200}]
[null,null,"Valore di subentro","Cash in: valore di subentro",null,null,{"$f":"IF(G$4=ScadenzaConcessione,SUM(G97:G104),\"\")","v":""},"","","","","","","","","","","",13599.066666666668]
[null,null,"Saldo poste figurative (inizio periodo regolatorio)","Cash out: saldo iniziale PF",null,{"$f":"F162","v":-82216.89426696414}]
[null,null,"Flusso di cassa per oneri integrativi","Cash out: oneri integrativi",null,null,{"$f":"-G173","v":-508.75637332527299},-453.08897696200097,-393.24095913184726,-328.89835516264907,-1250,-1250,-1250,-1250,-1250,-1250,-1250,-1250,-1250]
[null,null,"Flusso di cassa per ricavi tariffari (con remunerazione annualizzata)","Cash in: ricavi da traffico",null,null,{"$f":"G181+G140*(1/$G10-1)","v":90115.485528876728},95097.918307574204,99649.927629240643,103474.58598831053,106860.1813176229,110086.80134659403,112991.08217277878,115905.50902110108,118893.36229753066,120908.51315136111,124021.3936602179,127212.68132687488,130484.34462817945]
[]
[null,null,"Flusso di cassa regolatorio complessivo","Cash flow complessivo",null,{"$f":"SUM(F187:F193)","v":-320637.94689854304},-14487.821538646152,{"$f":"SUM(H187:H193)","v":-15074.677474498283},58787.779359517204,61664.764237658455,63558.112073465745,65953.090717553729,68009.097331157682,70058.284482647548,71580.423098072148,72683.715167913411,74866.499717101251,77349.089504895906,93572.147636427544]
[]
[null,null,"Tasso interno di rendimento PFR",null,{"$f":"IRR(OFFSET(F195,,,,ScadenzaConcessione-AnnoPonte+1))","v":0.10882089121295624}]
[]
[]
[]
[null,null,"Riepilogo componenti tariffarie"]
[]
[null,null,"Anno",null,null,{"$f":"OFFSET($F$4,0,0,1,ScadenzaConcessione-AnnoPonte+1)","v":2025},2026,2027,2028,2029,2030,2031,2032,2033,2034,2035,2036,2037,2038]
[null,null,"Componente tariffaria di gestione (Tg)","Tg - base",null,null,{"$f":"IF(G63=\"\",G42,G42*(1+G63))","v":3.6681741703774251E-2},3.7156538719393638E-2,3.7825307029042972E-2,3.8352087830242798E-2,3.844935888163676E-2,3.9218346059269493E-2,4.0002712980454887E-2,4.0802767240063986E-2,4.1618822584865267E-2,4.204724455044781E-2,4.2888189441456767E-2,4.3745953230285906E-2,4.4620872294891624E-2]
[null,null,"Componente tariffaria di gestione da discontinuità di costo (Tg')","Tg - discontinuità costo",null,null,{"$f":"IF(G63=\"\",G54,G54*(1+G63))","v":2.083425885308576E-4},3.1438835740499592E-4,4.2355312871603925E-4,5.3270053661772106E-4,2.0484215921444342E-4,3.1039943526124951E-4,4.1781588729120994E-4,5.2712911529394918E-4,6.3837747126406432E-4,2.0090180248573256E-4,3.0412918388471636E-4,4.0917452864037263E-4,5.1607460426856004E-4]
[null,null,"Componente tariffaria di costruzione (Tk): ammortamenti CIN ante","Tk - ammortamenti CIN ante",null,null,{"$f":"(G108+G109+G110+G111+G112)/(G$25*G$10)","v":2.4822286109131116E-2},2.5646826594488956E-2,2.7091426870303744E-2,2.695664365204354E-2,2.6822530997058249E-2,2.6689085569212186E-2,2.6556304048967354E-2,2.642418313330086E-2,0,0,0,0,0]
[null,null,"Componente tariffaria di costruzione (Tk): ammortamenti CIN pre2026","Tk - ammortamenti CIN pre2026",null,null,{"$f":"(G113+G114)/(G$25*G$10)","v":0},0,0,0,0,0,0,0,6.9578534531654088E-3,6.923237266831252E-3,6.8887933003296039E-3,6.8545206968453794E-3,6.8024701338161792E-3]
[null,null,"Componente tariffaria di costruzione (Tk): ammortamenti CIN post2026","Tk - ammortamenti CIN post2026",null,null,{"$f":"(G115+G116+G117+G118)/(G$25*G$10)","v":0},0,-9.4331785681570767E-7,7.5089978651996649E-6,1.5316861317073945E-5,2.8870514798998741E-5,3.920664363197575E-5,5.5573107936058757E-5,1.8198815010974111E-2,1.8122848879111531E-2,1.8068035838525016E-2,1.7985961671649606E-2,1.7890496451936553E-2]
[null,null,"Componente tariffaria di costruzione (Tk): remunerazioni CIN ante","Tk - remunerazioni CIN ante",null,null,{"$f":"(G122+G123+G126+G124+G125+G127)/(G$25*G$10)","v":2.8864307062315988E-2},2.6215427717329726E-2,2.3853867308870159E-2,1.9996304877571182E-2,1.6176535724410693E-2,1.2394279278725088E-2,8.6492568261446363E-3,4.9411914970675297E-3,1.269808255202687E-3,1.2634908011967035E-3,1.2572047773101527E-3,1.2509500271742817E-3,1.2397474896174972E-3]
[null,null,"Componente tariffaria di costruzione (Tk): remunerazioni CIN pre2026","Tk - remunerazioni CIN pre2026",null,null,{"$f":"(G128+G130+G129)/(G$25*G$10)","v":1.4310674767320885E-3},2.0647242201607247E-3,2.7628836708275262E-3,2.7491379809229124E-3,2.7354606775352366E-3,2.7218514204330711E-3,2.708309871077683E-3,2.6948356926146107E-3,2.6814285498652848E-3,2.1481529905796643E-3,1.6201172854135692E-3,1.0972824960784242E-3,5.7826201193740448E-4]
[null,null,"Componente tariffaria di costruzione (Tk): remunerazioni CIN post2026","Tk - remunerazioni CIN post2026",null,null,{"$f":"(G131+G132+G133+G134+G135+G136+G137+G138+G139)/(G$25*G$10)","v":0},3.4886719582026037E-3,7.0218279565790655E-3,7.0123406381363013E-3,7.0021426573950918E-3,6.9912863356859228E-3,6.9793462113104257E-3,6.9665687321383068E-3,6.952508057836493E-3,5.5826156205621294E-3,4.225092711806302E-3,2.87829770754112E-3,1.5349194540172516E-3]
[null,null,"Componente tariffaria di costruzione (Tk): poste figurative","Poste figurative unitarie",null,null,{"$f":"G161","v":-6.6327277694785188E-3},-5.1600192163248982E-3,-5.3473177022074379E-3,1.208369016832707E-3,7.2289645361314622E-3,1.2788836878648187E-2,1.7972349130165627E-2,2.3080516022866284E-2,2.9385712222598125E-2,3.2714702502353685E-2,3.6030905108463018E-2,3.9384939402995811E-2,4.279509550100543E-2]
[null,null,"Componente tariffaria per oneri integrativi (Toi)","Toi",null,null,{"$f":"G175","v":4.8473015941808708E-4},4.2954395730808941E-4,3.7095121878040743E-4,3.0871213084800164E-4,1.1674436979477092E-3,1.1616355203459795E-3,1.1558562391502283E-3,1.1501057105972423E-3,1.1443837916390474E-3,1.1386903399393507E-3,1.1330252138700007E-3,1.1273882725074636E-3,1.1217793756293172E-3]
[null,null,"Tariffa unitaria media integrata (Tumi)","TUMI",null,{"$f":"F180","v":8.6637302685775991E-2},{"$f":"SUM(G204:G213)","v":8.5859747330423883E-2},9.0156102307963809E-2,9.4001556163055652E-2,9.7123805661080337E-2,9.9802596192646698E-2,0.10230459101238018,0.10448115783819402,0.10664287025187882,0.10884770939741049,0.11014188475350785,0.11241549286105916,0.11473446803371837,0.11709971731711982]
[null,null,"incremento tariffario annuo (Tumi)",null,null,null,{"$f":"G214/F214-1","v":-8.9748333713968176E-3},5.0039222233042135E-2,4.2653284210936393E-2,3.3214870322027634E-2,2.7581194057759273E-2,2.5069436218912999E-2,2.1275358263740607E-2,2.068997375615389E-2,2.0674979399223581E-2,1.1889780347809076E-2,2.0642538600456506E-2,2.0628608331819231E-2,2.0614984528505964E-2]
[]
[null,null,"CAGR (Tumi) sull'orizzonte concessorio",null,{"$f":"((OFFSET(F214,0,ScadenzaConcessione-PrimoAnnoPR1+1,1,1)/F214)^(1/(ScadenzaConcessione-PrimoAnnoPR1+1))-1)","v":2.3447231845644456E-2}]
[]
[null,null,null,"check Tg",null,null,{"$f":"SUM(G204:G205)-G68","v":0},0,0,0,0,0,0,0,0,0,0,0,0]
[null,null,null,"check Tk (senza PF)",null,null,{"$f":"SUM(G206:G211)-G153","v":0},0,0,0,0,0,0,0,0,0,0,0,0]
[null,null,null,"check Tk (con PF)",null,null,{"$f":"SUM(G206:G212)-G165","v":0},0,0,0,0,0,0,0,0,0,0,0,0]
[null,null,null,"check Tumi",null,null,{"$f":"G214-G180","v":0},0,0,0,0,0,0,0,0,0,0,0,0]
[]
[null,null,"Tariffa unitaria media iniziale (Anno ponte)","TUMI iniziale",null,{"$f":"F180","v":8.6637302685775991E-2}]
[null,null,"Evoluzione teorica TUMI iniziale per effetto di inflazione programmata","TUMI iniziale + inflazione",null,{"$f":"F224","v":8.6637302685775991E-2},{"$f":"F225*(1+G22)","v":8.8283411436805723E-2},8.9872512842668228E-2,9.1669963099521592E-2,9.3503362361512021E-2,9.5373429608742261E-2,9.7280898200917107E-2,9.9226516164935455E-2,0.10121104648823416,0.10323526741799885,0.10529997276635883,0.10740597222168601,0.10955409166611972,0.11174517349944212]

{"sheet":"Z2.a ModulTariffaria agg","index":24,"n_rows":229,"n_cols":21,"rows_kept":229,"cut":false,"hidden":false,"merged":[]}
[]
[null,null,"Modulazione tariffaria - aggiornamento"]
[]
[null,null,"Anno",null,null,null,2024,2025,2026,2027,2028,2029,2030,2031,2032,2033,2034,2035,2036,2037,2038]
[]
[null,null,"Anno base",null,null,null,1,0,0,0,1,0,0,0,0,1,0,0,0,0,0]
[null,null,"Anno ponte",null,null,null,0,1,0,0,0,1,0,0,0,0,1,0,0,0,0]
[null,null,"Periodo regolatorio",null,null,null,0,0,1,1,1,1,2,2,2,2,2,3,3,3,3]
[null,null,"Anno del periodo regolatorio",null,null,null,0,0,1,2,3,4,1,2,3,4,5,1,2,3,4]
[null,null,"Frazione di anno significativa",null,null,null,null,null,1,1,1,1,1,1,1,1,1,1,1,1,1]
[]
[null,null,null,null,null,null,null,"Ultimo adattamento schema: 03/11/2025 14:33:03"]
[]
[null,null,"Previsioni di traffico per tipologia di infrastruttura e per classe di veicolo"]
[]
[null,null,{"$f":"'Z0.1 Dati generali'!C136","v":"(tipologia di rete #1)"}]
[]
[null,null,"Classe A",null,null,null,null,null,{"$f":"IF(I$8=1,'Z0.1 Dati generali'!H138,\"\")","v":658825.46235671162},{"$f":"IF(J$8=1,'Z0.1 Dati generali'!I138,\"\")","v":662119.58966849511},{"$f":"IF(K$8=1,'Z0.1 Dati generali'!J138,\"\")","v":665430.18761683756},{"$f":"IF(L$8=1,'Z0.1 Dati generali'!K138,\"\")","v":668757.33855492168},{"$f":"IF(M$8=1,'Z0.1 Dati generali'!L138,\"\")","v":""},{"$f":"IF(N$8=1,'Z0.1 Dati generali'!M138,\"\")","v":""},{"$f":"IF(O$8=1,'Z0.1 Dati generali'!N138,\"\")","v":""},{"$f":"IF(P$8=1,'Z0.1 Dati generali'!O138,\"\")","v":""},{"$f":"IF(Q$8=1,'Z0.1 Dati generali'!P138,\"\")","v":""},{"$f":"IF(R$8=1,'Z0.1 Dati generali'!Q138,\"\")","v":""},{"$f":"IF(S$8=1,'Z0.1 Dati generali'!R138,\"\")","v":""},{"$f":"IF(T$8=1,'Z0.1 Dati generali'!S138,\"\")","v":""},{"$f":"IF(U$8=1,'Z0.1 Dati generali'!T138,\"\")","v":""}]
[null,null,"Classe B",null,null,null,null,null,{"$f":"IF(I$8=1,'Z0.1 Dati generali'!H139,\"\")","v":105743.00566112307},{"$f":"IF(J$8=1,'Z0.1 Dati generali'!I139,\"\")","v":106271.72068942868},{"$f":"IF(K$8=1,'Z0.1 Dati generali'!J139,\"\")","v":106803.07929287582},{"$f":"IF(L$8=1,'Z0.1 Dati generali'!K139,\"\")","v":107337.09468934019},{"$f":"IF(M$8=1,'Z0.1 Dati generali'!L139,\"\")","v":""},{"$f":"IF(N$8=1,'Z0.1 Dati generali'!M139,\"\")","v":""},{"$f":"IF(O$8=1,'Z0.1 Dati generali'!N139,\"\")","v":""},{"$f":"IF(P$8=1,'Z0.1 Dati generali'!O139,\"\")","v":""},{"$f":"IF(Q$8=1,'Z0.1 Dati generali'!P139,\"\")","v":""},{"$f":"IF(R$8=1,'Z0.1 Dati generali'!Q139,\"\")","v":""},{"$f":"IF(S$8=1,'Z0.1 Dati generali'!R139,\"\")","v":""},{"$f":"IF(T$8=1,'Z0.1 Dati generali'!S139,\"\")","v":""},{"$f":"IF(U$8=1,'Z0.1 Dati generali'!T139,\"\")","v":""}]
[null,null,"Classe 3",null,null,null,null,null,{"$f":"IF(I$8=1,'Z0.1 Dati generali'!H140,\"\")","v":20541.348544059776},{"$f":"IF(J$8=1,'Z0.1 Dati generali'!I140,\"\")","v":20644.055286780072},{"$f":"IF(K$8=1,'Z0.1 Dati generali'!J140,\"\")","v":20747.275563213971},{"$f":"IF(L$8=1,'Z0.1 Dati generali'!K140,\"\")","v":20851.011941030039},{"$f":"IF(M$8=1,'Z0.1 Dati generali'!L140,\"\")","v":""},{"$f":"IF(N$8=1,'Z0.1 Dati generali'!M140,\"\")","v":""},{"$f":"IF(O$8=1,'Z0.1 Dati generali'!N140,\"\")","v":""},{"$f":"IF(P$8=1,'Z0.1 Dati generali'!O140,\"\")","v":""},{"$f":"IF(Q$8=1,'Z0.1 Dati generali'!P140,\"\")","v":""},{"$f":"IF(R$8=1,'Z0.1 Dati generali'!Q140,\"\")","v":""},{"$f":"IF(S$8=1,'Z0.1 Dati generali'!R140,\"\")","v":""},{"$f":"IF(T$8=1,'Z0.1 Dati generali'!S140,\"\")","v":""},{"$f":"IF(U$8=1,'Z0.1 Dati generali'!T140,\"\")","v":""}]
[null,null,"Classe 4",null,null,null,null,null,{"$f":"IF(I$8=1,'Z0.1 Dati generali'!H141,\"\")","v":16302.967317711524},{"$f":"IF(J$8=1,'Z0.1 Dati generali'!I141,\"\")","v":16384.48215430008},{"$f":"IF(K$8=1,'Z0.1 Dati generali'!J141,\"\")","v":16466.404565071578},{"$f":"IF(L$8=1,'Z0.1 Dati generali'!K141,\"\")","v":16548.736587896936},{"$f":"IF(M$8=1,'Z0.1 Dati generali'!L141,\"\")","v":""},{"$f":"IF(N$8=1,'Z0.1 Dati generali'!M141,\"\")","v":""},{"$f":"IF(O$8=1,'Z0.1 Dati generali'!N141,\"\")","v":""},{"$f":"IF(P$8=1,'Z0.1 Dati generali'!O141,\"\")","v":""},{"$f":"IF(Q$8=1,'Z0.1 Dati generali'!P141,\"\")","v":""},{"$f":"IF(R$8=1,'Z0.1 Dati generali'!Q141,\"\")","v":""},{"$f":"IF(S$8=1,'Z0.1 Dati generali'!R141,\"\")","v":""},{"$f":"IF(T$8=1,'Z0.1 Dati generali'!S141,\"\")","v":""},{"$f":"IF(U$8=1,'Z0.1 Dati generali'!T141,\"\")","v":""}]
[null,null,"Classe 5",null,null,null,null,null,{"$f":"IF(I$8=1,'Z0.1 Dati generali'!H142,\"\")","v":232463.36910595838},{"$f":"IF(J$8=1,'Z0.1 Dati generali'!I142,\"\")","v":233625.68595148815},{"$f":"IF(K$8=1,'Z0.1 Dati generali'!J142,\"\")","v":234793.81438124555},{"$f":"IF(L$8=1,'Z0.1 Dati generali'!K142,\"\")","v":235967.78345315176},{"$f":"IF(M$8=1,'Z0.1 Dati generali'!L142,\"\")","v":""},{"$f":"IF(N$8=1,'Z0.1 Dati generali'!M142,\"\")","v":""},{"$f":"IF(O$8=1,'Z0.1 Dati generali'!N142,\"\")","v":""},{"$f":"IF(P$8=1,'Z0.1 Dati generali'!O142,\"\")","v":""},{"$f":"IF(Q$8=1,'Z0.1 Dati generali'!P142,\"\")","v":""},{"$f":"IF(R$8=1,'Z0.1 Dati generali'!Q142,\"\")","v":""},{"$f":"IF(S$8=1,'Z0.1 Dati generali'!R142,\"\")","v":""},{"$f":"IF(T$8=1,'Z0.1 Dati generali'!S142,\"\")","v":""},{"$f":"IF(U$8=1,'Z0.1 Dati generali'!T142,\"\")","v":""}]
[null,null,"Sub totale leggeri",null,null,null,null,null,{"$f":"IF(I$8=1,I18,\"\")","v":658825.46235671162},662119.58966849511,{"$f":"IF(K$8=1,K18,\"\")","v":665430.18761683756},668757.33855492168,"","","","","","","","",""]
[null,null,"Sub totale pesanti",null,null,null,null,null,{"$f":"IF(I$8=1,SUM(I19:I22),\"\")","v":375050.69062885275},376925.94408199698,{"$f":"IF(K$8=1,SUM(K19:K22),\"\")","v":378810.5738024069},380704.6266714189,"","","","","","","","",""]
[null,null,"Totale",null,null,null,null,null,{"$f":"IF(I$8=1,SUM(I18:I22),\"\")","v":1033876.1529855644},1039045.5337504921,{"$f":"IF(K$8=1,SUM(K18:K22),\"\")","v":1044240.7614192445},1049461.9652263406,"","","","","","","","",""]
[]
[null,null,{"$f":"'Z0.1 Dati generali'!C147","v":"(tipologia di rete #2)"}]
[]
[null,null,"Classe A",null,null,null,null,null,{"$f":"IF(I$8=1,'Z0.1 Dati generali'!H149,\"\")","v":9703.2678420003813},{"$f":"IF(J$8=1,'Z0.1 Dati generali'!I149,\"\")","v":9751.7841812103816},{"$f":"IF(K$8=1,'Z0.1 Dati generali'!J149,\"\")","v":9800.5431021164331},{"$f":"IF(L$8=1,'Z0.1 Dati generali'!K149,\"\")","v":9849.5458176270149},{"$f":"IF(M$8=1,'Z0.1 Dati generali'!L149,\"\")","v":""},{"$f":"IF(N$8=1,'Z0.1 Dati generali'!M149,\"\")","v":""},{"$f":"IF(O$8=1,'Z0.1 Dati generali'!N149,\"\")","v":""},{"$f":"IF(P$8=1,'Z0.1 Dati generali'!O149,\"\")","v":""},{"$f":"IF(Q$8=1,'Z0.1 Dati generali'!P149,\"\")","v":""},{"$f":"IF(R$8=1,'Z0.1 Dati generali'!Q149,\"\")","v":""},{"$f":"IF(S$8=1,'Z0.1 Dati generali'!R149,\"\")","v":""},{"$f":"IF(T$8=1,'Z0.1 Dati generali'!S149,\"\")","v":""},{"$f":"IF(U$8=1,'Z0.1 Dati generali'!T149,\"\")","v":""}]
[null,null,"Classe B",null,null,null,null,null,{"$f":"IF(I$8=1,'Z0.1 Dati generali'!H150,\"\")","v":2222.9873146676305},{"$f":"IF(J$8=1,'Z0.1 Dati generali'!I150,\"\")","v":2234.1022512409686},{"$f":"IF(K$8=1,'Z0.1 Dati generali'!J150,\"\")","v":2245.2727624971731},{"$f":"IF(L$8=1,'Z0.1 Dati generali'!K150,\"\")","v":2256.4991263096585},{"$f":"IF(M$8=1,'Z0.1 Dati generali'!L150,\"\")","v":""},{"$f":"IF(N$8=1,'Z0.1 Dati generali'!M150,\"\")","v":""},{"$f":"IF(O$8=1,'Z0.1 Dati generali'!N150,\"\")","v":""},{"$f":"IF(P$8=1,'Z0.1 Dati generali'!O150,\"\")","v":""},{"$f":"IF(Q$8=1,'Z0.1 Dati generali'!P150,\"\")","v":""},{"$f":"IF(R$8=1,'Z0.1 Dati generali'!Q150,\"\")","v":""},{"$f":"IF(S$8=1,'Z0.1 Dati generali'!R150,\"\")","v":""},{"$f":"IF(T$8=1,'Z0.1 Dati generali'!S150,\"\")","v":""},{"$f":"IF(U$8=1,'Z0.1 Dati generali'!T150,\"\")","v":""}]
[null,null,"Classe 3",null,null,null,null,null,{"$f":"IF(I$8=1,'Z0.1 Dati generali'!H151,\"\")","v":372.33542472514586},{"$f":"IF(J$8=1,'Z0.1 Dati generali'!I151,\"\")","v":374.19710184877152},{"$f":"IF(K$8=1,'Z0.1 Dati generali'!J151,\"\")","v":376.06808735801536},{"$f":"IF(L$8=1,'Z0.1 Dati generali'!K151,\"\")","v":377.94842779480541},{"$f":"IF(M$8=1,'Z0.1 Dati generali'!L151,\"\")","v":""},{"$f":"IF(N$8=1,'Z0.1 Dati generali'!M151,\"\")","v":""},{"$f":"IF(O$8=1,'Z0.1 Dati generali'!N151,\"\")","v":""},{"$f":"IF(P$8=1,'Z0.1 Dati generali'!O151,\"\")","v":""},{"$f":"IF(Q$8=1,'Z0.1 Dati generali'!P151,\"\")","v":""},{"$f":"IF(R$8=1,'Z0.1 Dati generali'!Q151,\"\")","v":""},{"$f":"IF(S$8=1,'Z0.1 Dati generali'!R151,\"\")","v":""},{"$f":"IF(T$8=1,'Z0.1 Dati generali'!S151,\"\")","v":""},{"$f":"IF(U$8=1,'Z0.1 Dati generali'!T151,\"\")","v":""}]
[null,null,"Classe 4",null,null,null,null,null,{"$f":"IF(I$8=1,'Z0.1 Dati generali'!H152,\"\")","v":250.36102544404116},{"$f":"IF(J$8=1,'Z0.1 Dati generali'!I152,\"\")","v":251.61283057126133},{"$f":"IF(K$8=1,'Z0.1 Dati generali'!J152,\"\")","v":252.87089472411762},{"$f":"IF(L$8=1,'Z0.1 Dati generali'!K152,\"\")","v":254.13524919773818},{"$f":"IF(M$8=1,'Z0.1 Dati generali'!L152,\"\")","v":""},{"$f":"IF(N$8=1,'Z0.1 Dati generali'!M152,\"\")","v":""},{"$f":"IF(O$8=1,'Z0.1 Dati generali'!N152,\"\")","v":""},{"$f":"IF(P$8=1,'Z0.1 Dati generali'!O152,\"\")","v":""},{"$f":"IF(Q$8=1,'Z0.1 Dati generali'!P152,\"\")","v":""},{"$f":"IF(R$8=1,'Z0.1 Dati generali'!Q152,\"\")","v":""},{"$f":"IF(S$8=1,'Z0.1 Dati generali'!R152,\"\")","v":""},{"$f":"IF(T$8=1,'Z0.1 Dati generali'!S152,\"\")","v":""},{"$f":"IF(U$8=1,'Z0.1 Dati generali'!T152,\"\")","v":""}]
[null,null,"Classe 5",null,null,null,null,null,{"$f":"IF(I$8=1,'Z0.1 Dati generali'!H153,\"\")","v":3141.0580248144911},{"$f":"IF(J$8=1,'Z0.1 Dati generali'!I153,\"\")","v":3156.7633149385633},{"$f":"IF(K$8=1,'Z0.1 Dati generali'!J153,\"\")","v":3172.5471315132559},{"$f":"IF(L$8=1,'Z0.1 Dati generali'!K153,\"\")","v":3188.4098671708216},{"$f":"IF(M$8=1,'Z0.1 Dati generali'!L153,\"\")","v":""},{"$f":"IF(N$8=1,'Z0.1 Dati generali'!M153,\"\")","v":""},{"$f":"IF(O$8=1,'Z0.1 Dati generali'!N153,\"\")","v":""},{"$f":"IF(P$8=1,'Z0.1 Dati generali'!O153,\"\")","v":""},{"$f":"IF(Q$8=1,'Z0.1 Dati generali'!P153,\"\")","v":""},{"$f":"IF(R$8=1,'Z0.1 Dati generali'!Q153,\"\")","v":""},{"$f":"IF(S$8=1,'Z0.1 Dati generali'!R153,\"\")","v":""},{"$f":"IF(T$8=1,'Z0.1 Dati generali'!S153,\"\")","v":""},{"$f":"IF(U$8=1,'Z0.1 Dati generali'!T153,\"\")","v":""}]
[null,null,"Sub totale leggeri",null,null,null,null,null,{"$f":"IF(I$8=1,I29,\"\")","v":9703.2678420003813},9751.7841812103816,{"$f":"IF(K$8=1,K29,\"\")","v":9800.5431021164331},9849.5458176270149,"","","","","","","","",""]
[null,null,"Sub totale pesanti",null,null,null,null,null,{"$f":"IF(I$8=1,SUM(I30:I33),\"\")","v":5986.7417896513089},6016.6754985995649,{"$f":"IF(K$8=1,SUM(K30:K33),\"\")","v":6046.7588760925619},6076.9926704730242,"","","","","","","","",""]
[null,null,"Totale",null,null,null,null,null,{"$f":"IF(I$8=1,SUM(I29:I33),\"\")","v":15690.00963165169},15768.459679809946,{"$f":"IF(K$8=1,SUM(K29:K33),\"\")","v":15847.301978208996},15926.538488100037,"","","","","","","","",""]
[]
[null,null,{"$f":"'Z0.1 Dati generali'!C158","v":"(tipologia di rete #3)"}]
[]
[null,null,"Classe A",null,null,null,null,null,{"$f":"IF(I$8=1,'Z0.1 Dati generali'!H160,\"\")","v":0},{"$f":"IF(J$8=1,'Z0.1 Dati generali'!I160,\"\")","v":0},{"$f":"IF(K$8=1,'Z0.1 Dati generali'!J160,\"\")","v":0},{"$f":"IF(L$8=1,'Z0.1 Dati generali'!K160,\"\")","v":0},{"$f":"IF(M$8=1,'Z0.1 Dati generali'!L160,\"\")","v":""},{"$f":"IF(N$8=1,'Z0.1 Dati generali'!M160,\"\")","v":""},{"$f":"IF(O$8=1,'Z0.1 Dati generali'!N160,\"\")","v":""},{"$f":"IF(P$8=1,'Z0.1 Dati generali'!O160,\"\")","v":""},{"$f":"IF(Q$8=1,'Z0.1 Dati generali'!P160,\"\")","v":""},{"$f":"IF(R$8=1,'Z0.1 Dati generali'!Q160,\"\")","v":""},{"$f":"IF(S$8=1,'Z0.1 Dati generali'!R160,\"\")","v":""},{"$f":"IF(T$8=1,'Z0.1 Dati generali'!S160,\"\")","v":""},{"$f":"IF(U$8=1,'Z0.1 Dati generali'!T160,\"\")","v":""}]
[null,null,"Classe B",null,null,null,null,null,{"$f":"IF(I$8=1,'Z0.1 Dati generali'!H161,\"\")","v":0},{"$f":"IF(J$8=1,'Z0.1 Dati generali'!I161,\"\")","v":0},{"$f":"IF(K$8=1,'Z0.1 Dati generali'!J161,\"\")","v":0},{"$f":"IF(L$8=1,'Z0.1 Dati generali'!K161,\"\")","v":0},{"$f":"IF(M$8=1,'Z0.1 Dati generali'!L161,\"\")","v":""},{"$f":"IF(N$8=1,'Z0.1 Dati generali'!M161,\"\")","v":""},{"$f":"IF(O$8=1,'Z0.1 Dati generali'!N161,\"\")","v":""},{"$f":"IF(P$8=1,'Z0.1 Dati generali'!O161,\"\")","v":""},{"$f":"IF(Q$8=1,'Z0.1 Dati generali'!P161,\"\")","v":""},{"$f":"IF(R$8=1,'Z0.1 Dati generali'!Q161,\"\")","v":""},{"$f":"IF(S$8=1,'Z0.1 Dati generali'!R161,\"\")","v":""},{"$f":"IF(T$8=1,'Z0.1 Dati generali'!S161,\"\")","v":""},{"$f":"IF(U$8=1,'Z0.1 Dati generali'!T161,\"\")","v":""}]
[null,null,"Classe 3",null,null,null,null,null,{"$f":"IF(I$8=1,'Z0.1 Dati generali'!H162,\"\")","v":0},{"$f":"IF(J$8=1,'Z0.1 Dati generali'!I162,\"\")","v":0},{"$f":"IF(K$8=1,'Z0.1 Dati generali'!J162,\"\")","v":0},{"$f":"IF(L$8=1,'Z0.1 Dati generali'!K162,\"\")","v":0},{"$f":"IF(M$8=1,'Z0.1 Dati generali'!L162,\"\")","v":""},{"$f":"IF(N$8=1,'Z0.1 Dati generali'!M162,\"\")","v":""},{"$f":"IF(O$8=1,'Z0.1 Dati generali'!N162,\"\")","v":""},{"$f":"IF(P$8=1,'Z0.1 Dati generali'!O162,\"\")","v":""},{"$f":"IF(Q$8=1,'Z0.1 Dati generali'!P162,\"\")","v":""},{"$f":"IF(R$8=1,'Z0.1 Dati generali'!Q162,\"\")","v":""},{"$f":"IF(S$8=1,'Z0.1 Dati generali'!R162,\"\")","v":""},{"$f":"IF(T$8=1,'Z0.1 Dati generali'!S162,\"\")","v":""},{"$f":"IF(U$8=1,'Z0.1 Dati generali'!T162,\"\")","v":""}]
[null,null,"Classe 4",null,null,null,null,null,{"$f":"IF(I$8=1,'Z0.1 Dati generali'!H163,\"\")","v":0},{"$f":"IF(J$8=1,'Z0.1 Dati generali'!I163,\"\")","v":0},{"$f":"IF(K$8=1,'Z0.1 Dati generali'!J163,\"\")","v":0},{"$f":"IF(L$8=1,'Z0.1 Dati generali'!K163,\"\")","v":0},{"$f":"IF(M$8=1,'Z0.1 Dati generali'!L163,\"\")","v":""},{"$f":"IF(N$8=1,'Z0.1 Dati generali'!M163,\"\")","v":""},{"$f":"IF(O$8=1,'Z0.1 Dati generali'!N163,\"\")","v":""},{"$f":"IF(P$8=1,'Z0.1 Dati generali'!O163,\"\")","v":""},{"$f":"IF(Q$8=1,'Z0.1 Dati generali'!P163,\"\")","v":""},{"$f":"IF(R$8=1,'Z0.1 Dati generali'!Q163,\"\")","v":""},{"$f":"IF(S$8=1,'Z0.1 Dati generali'!R163,\"\")","v":""},{"$f":"IF(T$8=1,'Z0.1 Dati generali'!S163,\"\")","v":""},{"$f":"IF(U$8=1,'Z0.1 Dati generali'!T163,\"\")","v":""}]
[null,null,"Classe 5",null,null,null,null,null,{"$f":"IF(I$8=1,'Z0.1 Dati generali'!H164,\"\")","v":0},{"$f":"IF(J$8=1,'Z0.1 Dati generali'!I164,\"\")","v":0},{"$f":"IF(K$8=1,'Z0.1 Dati generali'!J164,\"\")","v":0},{"$f":"IF(L$8=1,'Z0.1 Dati generali'!K164,\"\")","v":0},{"$f":"IF(M$8=1,'Z0.1 Dati generali'!L164,\"\")","v":""},{"$f":"IF(N$8=1,'Z0.1 Dati generali'!M164,\"\")","v":""},{"$f":"IF(O$8=1,'Z0.1 Dati generali'!N164,\"\")","v":""},{"$f":"IF(P$8=1,'Z0.1 Dati generali'!O164,\"\")","v":""},{"$f":"IF(Q$8=1,'Z0.1 Dati generali'!P164,\"\")","v":""},{"$f":"IF(R$8=1,'Z0.1 Dati generali'!Q164,\"\")","v":""},{"$f":"IF(S$8=1,'Z0.1 Dati generali'!R164,\"\")","v":""},{"$f":"IF(T$8=1,'Z0.1 Dati generali'!S164,\"\")","v":""},{"$f":"IF(U$8=1,'Z0.1 Dati generali'!T164,\"\")","v":""}]
[null,null,"Sub totale leggeri",null,null,null,null,null,{"$f":"IF(I$8=1,I40,\"\")","v":0},0,{"$f":"IF(K$8=1,K40,\"\")","v":0},0,"","","","","","","","",""]
[null,null,"Sub totale pesanti",null,null,null,null,null,{"$f":"IF(I$8=1,SUM(I41:I44),\"\")","v":0},0,{"$f":"IF(K$8=1,SUM(K41:K44),\"\")","v":0},0,"","","","","","","","",""]
[null,null,"Totale",null,null,null,null,null,{"$f":"IF(I$8=1,SUM(I40:I44),\"\")","v":0},0,{"$f":"IF(K$8=1,SUM(K40:K44),\"\")","v":0},0,"","","","","","","","",""]
[]
[null,null,{"$f":"'Z0.1 Dati generali'!C169","v":"(tipologia di rete #4)"}]
[]
[null,null,"Classe A",null,null,null,null,null,{"$f":"IF(I$8=1,'Z0.1 Dati generali'!H171,\"\")","v":0},{"$f":"IF(J$8=1,'Z0.1 Dati generali'!I171,\"\")","v":0},{"$f":"IF(K$8=1,'Z0.1 Dati generali'!J171,\"\")","v":0},{"$f":"IF(L$8=1,'Z0.1 Dati generali'!K171,\"\")","v":0},{"$f":"IF(M$8=1,'Z0.1 Dati generali'!L171,\"\")","v":""},{"$f":"IF(N$8=1,'Z0.1 Dati generali'!M171,\"\")","v":""},{"$f":"IF(O$8=1,'Z0.1 Dati generali'!N171,\"\")","v":""},{"$f":"IF(P$8=1,'Z0.1 Dati generali'!O171,\"\")","v":""},{"$f":"IF(Q$8=1,'Z0.1 Dati generali'!P171,\"\")","v":""},{"$f":"IF(R$8=1,'Z0.1 Dati generali'!Q171,\"\")","v":""},{"$f":"IF(S$8=1,'Z0.1 Dati generali'!R171,\"\")","v":""},{"$f":"IF(T$8=1,'Z0.1 Dati generali'!S171,\"\")","v":""},{"$f":"IF(U$8=1,'Z0.1 Dati generali'!T171,\"\")","v":""}]
[null,null,"Classe B",null,null,null,null,null,{"$f":"IF(I$8=1,'Z0.1 Dati generali'!H172,\"\")","v":0},{"$f":"IF(J$8=1,'Z0.1 Dati generali'!I172,\"\")","v":0},{"$f":"IF(K$8=1,'Z0.1 Dati generali'!J172,\"\")","v":0},{"$f":"IF(L$8=1,'Z0.1 Dati generali'!K172,\"\")","v":0},{"$f":"IF(M$8=1,'Z0.1 Dati generali'!L172,\"\")","v":""},{"$f":"IF(N$8=1,'Z0.1 Dati generali'!M172,\"\")","v":""},{"$f":"IF(O$8=1,'Z0.1 Dati generali'!N172,\"\")","v":""},{"$f":"IF(P$8=1,'Z0.1 Dati generali'!O172,\"\")","v":""},{"$f":"IF(Q$8=1,'Z0.1 Dati generali'!P172,\"\")","v":""},{"$f":"IF(R$8=1,'Z0.1 Dati generali'!Q172,\"\")","v":""},{"$f":"IF(S$8=1,'Z0.1 Dati generali'!R172,\"\")","v":""},{"$f":"IF(T$8=1,'Z0.1 Dati generali'!S172,\"\")","v":""},{"$f":"IF(U$8=1,'Z0.1 Dati generali'!T172,\"\")","v":""}]
[null,null,"Classe 3",null,null,null,null,null,{"$f":"IF(I$8=1,'Z0.1 Dati generali'!H173,\"\")","v":0},{"$f":"IF(J$8=1,'Z0.1 Dati generali'!I173,\"\")","v":0},{"$f":"IF(K$8=1,'Z0.1 Dati generali'!J173,\"\")","v":0},{"$f":"IF(L$8=1,'Z0.1 Dati generali'!K173,\"\")","v":0},{"$f":"IF(M$8=1,'Z0.1 Dati generali'!L173,\"\")","v":""},{"$f":"IF(N$8=1,'Z0.1 Dati generali'!M173,\"\")","v":""},{"$f":"IF(O$8=1,'Z0.1 Dati generali'!N173,\"\")","v":""},{"$f":"IF(P$8=1,'Z0.1 Dati generali'!O173,\"\")","v":""},{"$f":"IF(Q$8=1,'Z0.1 Dati generali'!P173,\"\")","v":""},{"$f":"IF(R$8=1,'Z0.1 Dati generali'!Q173,\"\")","v":""},{"$f":"IF(S$8=1,'Z0.1 Dati generali'!R173,\"\")","v":""},{"$f":"IF(T$8=1,'Z0.1 Dati generali'!S173,\"\")","v":""},{"$f":"IF(U$8=1,'Z0.1 Dati generali'!T173,\"\")","v":""}]
[null,null,"Classe 4",null,null,null,null,null,{"$f":"IF(I$8=1,'Z0.1 Dati generali'!H174,\"\")","v":0},{"$f":"IF(J$8=1,'Z0.1 Dati generali'!I174,\"\")","v":0},{"$f":"IF(K$8=1,'Z0.1 Dati generali'!J174,\"\")","v":0},{"$f":"IF(L$8=1,'Z0.1 Dati generali'!K174,\"\")","v":0},{"$f":"IF(M$8=1,'Z0.1 Dati generali'!L174,\"\")","v":""},{"$f":"IF(N$8=1,'Z0.1 Dati generali'!M174,\"\")","v":""},{"$f":"IF(O$8=1,'Z0.1 Dati generali'!N174,\"\")","v":""},{"$f":"IF(P$8=1,'Z0.1 Dati generali'!O174,\"\")","v":""},{"$f":"IF(Q$8=1,'Z0.1 Dati generali'!P174,\"\")","v":""},{"$f":"IF(R$8=1,'Z0.1 Dati generali'!Q174,\"\")","v":""},{"$f":"IF(S$8=1,'Z0.1 Dati generali'!R174,\"\")","v":""},{"$f":"IF(T$8=1,'Z0.1 Dati generali'!S174,\"\")","v":""},{"$f":"IF(U$8=1,'Z0.1 Dati generali'!T174,\"\")","v":""}]
[null,null,"Classe 5",null,null,null,null,null,{"$f":"IF(I$8=1,'Z0.1 Dati generali'!H175,\"\")","v":0},{"$f":"IF(J$8=1,'Z0.1 Dati generali'!I175,\"\")","v":0},{"$f":"IF(K$8=1,'Z0.1 Dati generali'!J175,\"\")","v":0},{"$f":"IF(L$8=1,'Z0.1 Dati generali'!K175,\"\")","v":0},{"$f":"IF(M$8=1,'Z0.1 Dati generali'!L175,\"\")","v":""},{"$f":"IF(N$8=1,'Z0.1 Dati generali'!M175,\"\")","v":""},{"$f":"IF(O$8=1,'Z0.1 Dati generali'!N175,\"\")","v":""},{"$f":"IF(P$8=1,'Z0.1 Dati generali'!O175,\"\")","v":""},{"$f":"IF(Q$8=1,'Z0.1 Dati generali'!P175,\"\")","v":""},{"$f":"IF(R$8=1,'Z0.1 Dati generali'!Q175,\"\")","v":""},{"$f":"IF(S$8=1,'Z0.1 Dati generali'!R175,\"\")","v":""},{"$f":"IF(T$8=1,'Z0.1 Dati generali'!S175,\"\")","v":""},{"$f":"IF(U$8=1,'Z0.1 Dati generali'!T175,\"\")","v":""}]
[null,null,"Sub totale leggeri",null,null,null,null,null,{"$f":"IF(I$8=1,I51,\"\")","v":0},0,{"$f":"IF(K$8=1,K51,\"\")","v":0},0,"","","","","","","","",""]
[null,null,"Sub totale pesanti",null,null,null,null,null,{"$f":"IF(I$8=1,SUM(I52:I55),\"\")","v":0},0,{"$f":"IF(K$8=1,SUM(K52:K55),\"\")","v":0},0,"","","","","","","","",""]
[null,null,"Totale",null,null,null,null,null,{"$f":"IF(I$8=1,SUM(I51:I55),\"\")","v":0},0,{"$f":"IF(K$8=1,SUM(K51:K55),\"\")","v":0},0,"","","","","","","","",""]
[]
[null,null,"Previsione volumi di traffico Totali (mln di veicoli km)"]
[]
[null,null,"Classe A",null,null,null,null,null,{"$f":"IFERROR(I18+I29+I40+I51,\"\")","v":668528.73019871197},671871.37384970544,675230.730718954,678606.88437254867,"","","","","","","","",""]
[null,null,"Classe B",null,null,null,null,null,{"$f":"IFERROR(I19+I30+I41+I52,\"\")","v":107965.99297579069},108505.82294066965,109048.35205537299,109593.59381564985,"","","","","","","","",""]
[null,null,"Classe 3",null,null,null,null,null,{"$f":"IFERROR(I20+I31+I42+I53,\"\")","v":20913.683968784921},21018.252388628844,21123.343650571987,21228.960368824846,"","","","","","","","",""]
[null,null,"Classe 4",null,null,null,null,null,{"$f":"IFERROR(I21+I32+I43+I54,\"\")","v":16553.328343155565},16636.094984871343,16719.275459795695,16802.871837094674,"","","","","","","","",""]
[null,null,"Classe 5",null,null,null,null,null,{"$f":"IFERROR(I22+I33+I44+I55,\"\")","v":235604.42713077288},236782.4492664267,237966.3615127588,239156.19332032258,"","","","","","","","",""]
[null,null,"Sub totale leggeri",null,null,null,null,null,{"$f":"IF(I$8=1,I62,\"\")","v":668528.73019871197},{"$f":"IF(J$8=1,J62,\"\")","v":671871.37384970544},{"$f":"IF(K$8=1,K62,\"\")","v":675230.730718954},678606.88437254867,"","","","","","","","",""]
[null,null,"Sub totale pesanti",null,null,null,null,null,{"$f":"IF(I$8=1,SUM(I63:I66),\"\")","v":381037.43241850403},{"$f":"IF(J$8=1,SUM(J63:J66),\"\")","v":382942.61958059657},{"$f":"IF(K$8=1,SUM(K63:K66),\"\")","v":384857.33267849952},386781.61934189196,"","","","","","","","",""]
[null,null,"Totale",null,null,null,null,null,{"$f":"IF(I$8=1,SUM(I62:I66),\"\")","v":1049566.1626172159},1054813.993430302,{"$f":"IF(K$8=1,SUM(K62:K66),\"\")","v":1060088.0633974536},1065388.5037144406,"","","","","","","","",""]
[null,null,null,null,null,null,null,"check previsioni di traffico",{"$f":"IF(I$8=1,I69-'Z0.1 Dati generali'!F189,\"\")","v":10417.465686727664},{"$f":"IF(J$8=1,J69-'Z0.1 Dati generali'!G189,\"\")","v":10469.553015161538},{"$f":"IF(K$8=1,K69-'Z0.1 Dati generali'!H189,\"\")","v":10521.900780237745},{"$f":"IF(L$8=1,L69-'Z0.1 Dati generali'!I189,\"\")","v":10574.510284138611},{"$f":"IF(M$8=1,M69-'Z0.1 Dati generali'!J189,\"\")","v":""},{"$f":"IF(N$8=1,N69-'Z0.1 Dati generali'!K189,\"\")","v":""},{"$f":"IF(O$8=1,O69-'Z0.1 Dati generali'!L189,\"\")","v":""},{"$f":"IF(P$8=1,P69-'Z0.1 Dati generali'!M189,\"\")","v":""},{"$f":"IF(Q$8=1,Q69-'Z0.1 Dati generali'!N189,\"\")","v":""},{"$f":"IF(R$8=1,R69-'Z0.1 Dati generali'!O189,\"\")","v":""},{"$f":"IF(S$8=1,S69-'Z0.1 Dati generali'!P189,\"\")","v":""},{"$f":"IF(T$8=1,T69-'Z0.1 Dati generali'!Q189,\"\")","v":""},{"$f":"IF(U$8=1,U69-'Z0.1 Dati generali'!R189,\"\")","v":""}]
[]
[]
[]
[null,null,"Coeficienti di modulazione TUMI (tariffa unitaria media integrata)"]
[]
[null,null,"Tariffa unitaria media integrata"]
[]
[null,null,"TUMI (Tariffa unitaria media integrata)",null,null,null,null,null,{"$f":"IF(I$8=1,'Z2 PFR aggiornato'!#REF!,\"\")","v":{"$error":"#REF!"}},{"$f":"IF(J$8=1,'Z2 PFR aggiornato'!#REF!,\"\")","v":{"$error":"#REF!"}},{"$f":"IF(K$8=1,'Z2 PFR aggiornato'!#REF!,\"\")","v":{"$error":"#REF!"}},{"$f":"IF(L$8=1,'Z2 PFR aggiornato'!#REF!,\"\")","v":{"$error":"#REF!"}},{"$f":"IF(M$8=1,'Z2 PFR aggiornato'!#REF!,\"\")","v":""},{"$f":"IF(N$8=1,'Z2 PFR aggiornato'!#REF!,\"\")","v":""},{"$f":"IF(O$8=1,'Z2 PFR aggiornato'!#REF!,\"\")","v":""},{"$f":"IF(P$8=1,'Z2 PFR aggiornato'!#REF!,\"\")","v":""},{"$f":"IF(Q$8=1,'Z2 PFR aggiornato'!#REF!,\"\")","v":""},{"$f":"IF(R$8=1,'Z2 PFR aggiornato'!#REF!,\"\")","v":""},{"$f":"IF(S$8=1,'Z2 PFR aggiornato'!#REF!,\"\")","v":""},{"$f":"IF(T$8=1,'Z2 PFR aggiornato'!#REF!,\"\")","v":""},{"$f":"IF(U$8=1,'Z2 PFR aggiornato'!#REF!,\"\")","v":""}]
[null,null,"Ricavo da traffico",null,null,null,null,null,{"$f":"IF(I$8=1,I78*I69,\"\")","v":{"$error":"#REF!"}},{"$f":"IF(J$8=1,J78*J69,\"\")","v":{"$error":"#REF!"}},{"$f":"IF(K$8=1,K78*K69,\"\")","v":{"$error":"#REF!"}},{"$error":"#REF!"},"","","","","","","","",""]
[null,null,null,null,null,null,null,"check ricavi da traffico",{"$f":"IF(I$8=1,I79-'Z2 PFR aggiornato'!#REF!,\"\")","v":{"$error":"#REF!"}},{"$f":"IF(J$8=1,J79-'Z2 PFR aggiornato'!#REF!,\"\")","v":{"$error":"#REF!"}},{"$f":"IF(K$8=1,K79-'Z2 PFR aggiornato'!#REF!,\"\")","v":{"$error":"#REF!"}},{"$f":"IF(L$8=1,L79-'Z2 PFR aggiornato'!#REF!,\"\")","v":{"$error":"#REF!"}},{"$f":"IF(M$8=1,M79-'Z2 PFR aggiornato'!#REF!,\"\")","v":""},{"$f":"IF(N$8=1,N79-'Z2 PFR aggiornato'!#REF!,\"\")","v":""},{"$f":"IF(O$8=1,O79-'Z2 PFR aggiornato'!#REF!,\"\")","v":""},{"$f":"IF(P$8=1,P79-'Z2 PFR aggiornato'!#REF!,\"\")","v":""},{"$f":"IF(Q$8=1,Q79-'Z2 PFR aggiornato'!#REF!,\"\")","v":""},{"$f":"IF(R$8=1,R79-'Z2 PFR aggiornato'!#REF!,\"\")","v":""},{"$f":"IF(S$8=1,S79-'Z2 PFR aggiornato'!#REF!,\"\")","v":""},{"$f":"IF(T$8=1,T79-'Z2 PFR aggiornato'!#REF!,\"\")","v":""},{"$f":"IF(U$8=1,U79-'Z2 PFR aggiornato'!#REF!,\"\")","v":""}]
[]
[null,null,"Coefficienti di modulazione per tipologia di infrastruttura"]
[]
[null,null,"Contatore volumi di traffico validi per tipologia di rete",null,null,null,null,null,{"$f":"IF(I$8=1,(IF(I25>0,1,0)+IF(I36>0,1,0)+IF(I47>0,1,0)+IF(I58>0,1,0)),\"\")","v":2},2,2,2,"","","","","","","","",""]
[null,null,{"$f":"C16","v":"(tipologia di rete #1)"},null,{"$f":"(SUM(69:69)-(E86*SUM(36:36)+E87*SUM(47:47)+E88*SUM(58:58)))/SUM(25:25)","v":0.99241204587883014},null,null,null,{"$f":"IF(I$8=1,\nIFERROR($E85+(1/I$84)*((I$69-($E86*I$36+$E87*I$47+$E88*I$58))/I$25-$E85),$E$85),\"\")","v":0.99241204587883014},0.99241204587883014,0.99241204587883036,0.99241204587883025,"","","","","","","","",""]
[null,null,{"$f":"C27","v":"(tipologia di rete #2)"},null,1.5,null,null,null,{"$f":"IF(I$8=1,\nIFERROR($E86+(1/I$84)*((I$69-($E87*I$47+$E88*I$58+$E85*I$25))/I$36-$E86),$E$86),\"\")","v":1.4999999999999998},1.5000000000000036,1.5000000000000138,1.500000000000008,"","","","","","","","",""]
[null,null,{"$f":"C38","v":"(tipologia di rete #3)"},null,1,null,null,null,{"$f":"IF(I$8=1,\nIFERROR($E87+(1/I$84)*((I$69-($E88*I$58+$E85*I$25+$E86*I$36))/I$47-$E87),$E$87),\"\")","v":1},1,1,1,"","","","","","","","",""]
[null,null,{"$f":"C49","v":"(tipologia di rete #4)"},null,1,null,null,null,{"$f":"IF(I$8=1,\nIFERROR($E88+(1/I$84)*((I$69-($E85*I$25+$E86*I$36+$E87*I$47))/I$58-$E88),$E$88),\"\")","v":1},1,1,1,"","","","","","","","",""]
[null,null,null,null,null,null,null,"Check TUMI",{"$f":"IF(I$8=1,\n(I78*(I85*I25+I86*I36+I87*I47+I88*I58)/I$69)-\nI$78,\"\")","v":{"$error":"#REF!"}},{"$error":"#REF!"},{"$error":"#REF!"},{"$error":"#REF!"},"","","","","","","","",""]
[]
[null,null,"Coefficienti di modulazione per classe di veicolo"]
[]
[null,null,null,null,null,null,{"$f":"C85","v":"(tipologia di rete #1)"}]
[null,null,"Classe A",null,{"$f":"(SUM(69:69)-(E95*SUM(63:63)+E96*SUM(64:64)+E97*SUM(65:65)+E98*SUM(66:66)))/SUM(62:62)","v":0.63142233128585035},null,"Classe A",null,{"$f":"IF(I$8=1,\nIFERROR($E94+(1/COUNTIF(I18:I22,\">0\"))*((I$25-($E95*I19+$E96*I20+$E97*I21+$E98*I22))/I18-$E94),$E$94),\"\")","v":0.63135041703373362},0.63135041703373362,0.63135041703373362,0.63135041703373362,"","","","","","","","",""]
[null,null,"Classe B",null,1.05,null,"Classe B",null,{"$f":"IF(I$8=1,\nIFERROR($E95+(1/COUNTIF(I18:I22,\">0\"))*((I$25-($E96*I20+$E97*I21+$E98*I22+$E94*I18))/I19-$E95),$E$95),\"\")","v":1.0495519425601285},1.0495519425601285,1.0495519425601285,1.0495519425601285,"","","","","","","","",""]
[null,null,"Classe 3",null,1.1000000000000001,null,"Classe 3",null,{"$f":"IF(I$8=1,\nIFERROR($E96+(1/COUNTIF(I18:I22,\">0\"))*((I$25-($E97*I21+$E98*I22+$E94*I18+$E95*I19))/I20-$E96),$E$96),\"\")","v":1.0976934844224446},1.0976934844224455,1.0976934844224455,1.0976934844224451,"","","","","","","","",""]
[null,null,"Classe 4",null,1.2,null,"Classe 4",null,{"$f":"IF(I$8=1,\nIFERROR($E97+(1/COUNTIF(I18:I22,\">0\"))*((I$25-($E98*I22+$E94*I18+$E95*I19+$E96*I20))/I21-$E97),$E$97),\"\")","v":1.1970938455878901},1.1970938455878903,1.1970938455878897,1.1970938455878888,"","","","","","","","",""]
[null,null,"Classe 5",null,2,null,"Classe 5",null,{"$f":"IF(I$8=1,\nIFERROR($E98+(1/COUNTIF(I18:I22,\">0\"))*((I$25-($E94*I18+$E95*I19+$E96*I20+$E97*I21))/I22-$E98),$E$98),\"\")","v":1.9997961875000647},1.9997961875000647,1.9997961875000647,1.9997961875000647,"","","","","","","","",""]
[null,null,null,null,null,null,{"$f":"C86","v":"(tipologia di rete #2)"}]
[null,null,null,null,null,null,"Classe A",null,{"$f":"IF(I$8=1,\nIFERROR($E94+(1/COUNTIF(I29:I33,\">0\"))*((I$36-($E95*I30+$E96*I31+$E97*I32+$E98*I33))/I29-$E94),$E$94),\"\")","v":0.63630511316638116},0.63630511316638116,0.63630511316638116,0.63630511316638116,"","","","","","","","",""]
[null,null,null,null,null,null,"Classe B",null,{"$f":"IF(I$8=1,\nIFERROR($E95+(1/COUNTIF(I29:I33,\">0\"))*((I$36-($E96*I31+$E97*I32+$E98*I33+$E94*I29))/I30-$E95),$E$95),\"\")","v":1.0713131852297324},1.0713131852297324,1.0713131852297324,1.0713131852297324,"","","","","","","","",""]
[null,null,null,null,null,null,"Classe 3",null,{"$f":"IF(I$8=1,\nIFERROR($E96+(1/COUNTIF(I29:I33,\">0\"))*((I$36-($E97*I32+$E98*I33+$E94*I29+$E95*I30))/I31-$E96),$E$96),\"\")","v":1.2272480061112401},1.2272480061112405,1.2272480061112405,1.2272480061112403,"","","","","","","","",""]
[null,null,null,null,null,null,"Classe 4",null,{"$f":"IF(I$8=1,\nIFERROR($E97+(1/COUNTIF(I29:I33,\">0\"))*((I$36-($E98*I33+$E94*I29+$E95*I30+$E96*I31))/I32-$E97),$E$97),\"\")","v":1.38924247620741},1.3892424762074094,1.3892424762074103,1.3892424762074078,"","","","","","","","",""]
[null,null,null,null,null,null,"Classe 5",null,{"$f":"IF(I$8=1,\nIFERROR($E98+(1/COUNTIF(I29:I33,\">0\"))*((I$36-($E94*I29+$E95*I30+$E96*I31+$E97*I32))/I33-$E98),$E$98),\"\")","v":2.0150837520435982},2.0150837520435982,2.0150837520435982,2.0150837520435982,"","","","","","","","",""]
[null,null,null,null,null,null,{"$f":"C87","v":"(tipologia di rete #3)"}]
[null,null,null,null,null,null,"Classe A",null,{"$f":"IF(I$8=1,\nIFERROR($E94+(1/COUNTIF(I40:I44,\">0\"))*((I$47-($E95*I41+$E96*I42+$E97*I43+$E98*I44))/I40-$E94),$E$94),\"\")","v":0.63142233128585035},0.63142233128585035,0.63142233128585035,0.63142233128585035,"","","","","","","","",""]
[null,null,null,null,null,null,"Classe B",null,{"$f":"IF(I$8=1,\nIFERROR($E95+(1/COUNTIF(I40:I44,\">0\"))*((I$47-($E96*I42+$E97*I43+$E98*I44+$E94*I40))/I41-$E95),$E$95),\"\")","v":1.05},1.05,1.05,1.05,"","","","","","","","",""]
[null,null,null,null,null,null,"Classe 3",null,{"$f":"IF(I$8=1,\nIFERROR($E96+(1/COUNTIF(I40:I44,\">0\"))*((I$47-($E97*I43+$E98*I44+$E94*I40+$E95*I41))/I42-$E96),$E$96),\"\")","v":1.1000000000000001},1.1000000000000001,1.1000000000000001,1.1000000000000001,"","","","","","","","",""]
[null,null,null,null,null,null,"Classe 4",null,{"$f":"IF(I$8=1,\nIFERROR($E97+(1/COUNTIF(I40:I44,\">0\"))*((I$47-($E98*I44+$E94*I40+$E95*I41+$E96*I42))/I43-$E97),$E$97),\"\")","v":1.2},1.2,1.2,1.2,"","","","","","","","",""]
[null,null,null,null,null,null,"Classe 5",null,{"$f":"IF(I$8=1,\nIFERROR($E98+(1/COUNTIF(I40:I44,\">0\"))*((I$47-($E94*I40+$E95*I41+$E96*I42+$E97*I43))/I44-$E98),$E$98),\"\")","v":2},2,2,2,"","","","","","","","",""]
[null,null,null,null,null,null,{"$f":"C88","v":"(tipologia di rete #4)"}]
[null,null,null,null,null,null,"Classe A",null,{"$f":"IF(I$8=1,\nIFERROR($E94+(1/COUNTIF(I51:I55,\">0\"))*((I$58-($E95*I52+$E96*I53+$E97*I54+$E98*I55))/I51-$E94),$E$94),\"\")","v":0.63142233128585035},0.63142233128585035,0.63142233128585035,0.63142233128585035,"","","","","","","","",""]
[null,null,null,null,null,null,"Classe B",null,{"$f":"IF(I$8=1,\nIFERROR($E95+(1/COUNTIF(I51:I55,\">0\"))*((I$58-($E96*I53+$E97*I54+$E98*I55+$E94*I51))/I52-$E95),$E$95),\"\")","v":1.05},1.05,1.05,1.05,"","","","","","","","",""]
[null,null,null,null,null,null,"Classe 3",null,{"$f":"IF(I$8=1,\nIFERROR($E96+(1/COUNTIF(I51:I55,\">0\"))*((I$58-($E97*I54+$E98*I55+$E94*I51+$E95*I52))/I53-$E96),$E$96),\"\")","v":1.1000000000000001},1.1000000000000001,1.1000000000000001,1.1000000000000001,"","","","","","","","",""]
[null,null,null,null,null,null,"Classe 4",null,{"$f":"IF(I$8=1,\nIFERROR($E97+(1/COUNTIF(I51:I55,\">0\"))*((I$58-($E98*I55+$E94*I51+$E95*I52+$E96*I53))/I54-$E97),$E$97),\"\")","v":1.2},1.2,1.2,1.2,"","","","","","","","",""]
[null,null,null,null,null,null,"Classe 5",null,{"$f":"IF(I$8=1,\nIFERROR($E98+(1/COUNTIF(I51:I55,\">0\"))*((I$58-($E94*I51+$E95*I52+$E96*I53+$E97*I54))/I55-$E98),$E$98),\"\")","v":2},2,2,2,"","","","","","","","",""]
[null,null,null,null,null,null,null,"Check TUMI",{"$f":"IF(I$8=1,\n(I$78*I$85*(I$98*I$22+I$97*I$21+I$96*I$20+I$95*I$19+I$94*I$18)+\n I$78*I$86*(I$104*I$33+I$103*I$32+I$102*I$31+I$101*I$30+I$100*I$29)+\n I$78*I$87*(I$106*I$40+I$107*I$41+I$108*I$42+I$109*I$43+I$110*I$44)+\n I$78*I$88*(I$112*I$51+I$113*I$52+I$114*I$53+I$115*I$54+I$116*I$55))\n /I$69-I$78,\"\")","v":{"$error":"#REF!"}},{"$error":"#REF!"},{"$error":"#REF!"},{"$error":"#REF!"},"","","","","","","","",""]
[]
[]
[]
[null,null,"Modulazione TUMI (tariffa unitaria media integrata)"]
[]
[null,null,{"$f":"C16","v":"(tipologia di rete #1)"}]
[]
[null,null,"Classe A",null,null,null,null,null,{"$f":"IF(I$8=1,I$78*I$85*I94,\"\")","v":{"$error":"#REF!"}},{"$error":"#REF!"},{"$error":"#REF!"},{"$error":"#REF!"},"","","","","","","","",""]
[null,null,"Classe B",null,null,null,null,null,{"$f":"IF(I$8=1,I$78*I$85*I95,\"\")","v":{"$error":"#REF!"}},{"$error":"#REF!"},{"$error":"#REF!"},{"$error":"#REF!"},"","","","","","","","",""]
[null,null,"Classe 3",null,null,null,null,null,{"$f":"IF(I$8=1,I$78*I$85*I96,\"\")","v":{"$error":"#REF!"}},{"$error":"#REF!"},{"$error":"#REF!"},{"$error":"#REF!"},"","","","","","","","",""]
[null,null,"Classe 4",null,null,null,null,null,{"$f":"IF(I$8=1,I$78*I$85*I97,\"\")","v":{"$error":"#REF!"}},{"$error":"#REF!"},{"$error":"#REF!"},{"$error":"#REF!"},"","","","","","","","",""]
[null,null,"Classe 5",null,null,null,null,null,{"$f":"IF(I$8=1,I$78*I$85*I98,\"\")","v":{"$error":"#REF!"}},{"$error":"#REF!"},{"$error":"#REF!"},{"$error":"#REF!"},"","","","","","","","",""]
[null,null,"Tariffa Media",null,null,null,null,null,{"$f":"IFERROR(IF(I$8=1,SUMPRODUCT(I125:I129,I18:I22)/I25,\"\"),\"non calc.\")","v":"non calc."},"non calc.","non calc.","non calc.","","","","","","","","",""]
[null,null,null,null,null,null,null,"Check tariffa media",{"$f":"IFERROR(IF(I$8=1,I$78*I$85-I130,\"\"),\"non calc.\")","v":"non calc."},"non calc.","non calc.","non calc.","","","","","","","","",""]
[]
[null,null,{"$f":"C27","v":"(tipologia di rete #2)"}]
[]
[null,null,"Classe A",null,null,null,null,null,{"$f":"IF(I$8=1,I$78*I$86*I100,\"\")","v":{"$error":"#REF!"}},{"$error":"#REF!"},{"$error":"#REF!"},{"$error":"#REF!"},"","","","","","","","",""]
[null,null,"Classe B",null,null,null,null,null,{"$f":"IF(I$8=1,I$78*I$86*I101,\"\")","v":{"$error":"#REF!"}},{"$error":"#REF!"},{"$error":"#REF!"},{"$error":"#REF!"},"","","","","","","","",""]
[null,null,"Classe 3",null,null,null,null,null,{"$f":"IF(I$8=1,I$78*I$86*I102,\"\")","v":{"$error":"#REF!"}},{"$error":"#REF!"},{"$error":"#REF!"},{"$error":"#REF!"},"","","","","","","","",""]
[null,null,"Classe 4",null,null,null,null,null,{"$f":"IF(I$8=1,I$78*I$86*I103,\"\")","v":{"$error":"#REF!"}},{"$error":"#REF!"},{"$error":"#REF!"},{"$error":"#REF!"},"","","","","","","","",""]
[null,null,"Classe 5",null,null,null,null,null,{"$f":"IF(I$8=1,I$78*I$86*I104,\"\")","v":{"$error":"#REF!"}},{"$error":"#REF!"},{"$error":"#REF!"},{"$error":"#REF!"},"","","","","","","","",""]
[null,null,"Tariffa Media",null,null,null,null,null,{"$f":"IFERROR(IF(I$8=1,SUMPRODUCT(I135:I139,I29:I33)/I36,\"\"),\"non calc.\")","v":"non calc."},"non calc.","non calc.","non calc.","","","","","","","","",""]
[null,null,null,null,null,null,null,"Check tariffa media",{"$f":"IFERROR(IF(I$8=1,I$78*I$86-I140,\"\"),\"non calc.\")","v":"non calc."},"non calc.","non calc.","non calc.","","","","","","","","",""]
[]
[null,null,{"$f":"C38","v":"(tipologia di rete #3)"}]
[]
[null,null,"Classe A",null,null,null,null,null,{"$f":"IF(I$8=1,I$78*I$87*I106,\"\")","v":{"$error":"#REF!"}},{"$error":"#REF!"},{"$error":"#REF!"},{"$error":"#REF!"},"","","","","","","","",""]
[null,null,"Classe B",null,null,null,null,null,{"$f":"IF(I$8=1,I$78*I$87*I107,\"\")","v":{"$error":"#REF!"}},{"$error":"#REF!"},{"$error":"#REF!"},{"$error":"#REF!"},"","","","","","","","",""]
[null,null,"Classe 3",null,null,null,null,null,{"$f":"IF(I$8=1,I$78*I$87*I108,\"\")","v":{"$error":"#REF!"}},{"$error":"#REF!"},{"$error":"#REF!"},{"$error":"#REF!"},"","","","","","","","",""]
[null,null,"Classe 4",null,null,null,null,null,{"$f":"IF(I$8=1,I$78*I$87*I109,\"\")","v":{"$error":"#REF!"}},{"$error":"#REF!"},{"$error":"#REF!"},{"$error":"#REF!"},"","","","","","","","",""]
[null,null,"Classe 5",null,null,null,null,null,{"$f":"IF(I$8=1,I$78*I$87*I110,\"\")","v":{"$error":"#REF!"}},{"$error":"#REF!"},{"$error":"#REF!"},{"$error":"#REF!"},"","","","","","","","",""]
[null,null,"Tariffa Media",null,null,null,null,null,{"$f":"IFERROR(IF(I$8=1,SUMPRODUCT(I145:I149,I40:I44)/I47,\"\"),\"non calc.\")","v":"non calc."},"non calc.","non calc.","non calc.","","","","","","","","",""]
[null,null,null,null,null,null,null,"Check tariffa media",{"$f":"IFERROR(IF(I$8=1,I$78*I$87-I150,\"\"),\"non calc.\")","v":"non calc."},"non calc.","non calc.","non calc.","","","","","","","","",""]
[]
[null,null,{"$f":"C49","v":"(tipologia di rete #4)"}]
[]
[null,null,"Classe A",null,null,null,null,null,{"$f":"IF(I$8=1,I$78*I$88*I112,\"\")","v":{"$error":"#REF!"}},{"$error":"#REF!"},{"$error":"#REF!"},{"$error":"#REF!"},"","","","","","","","",""]
[null,null,"Classe B",null,null,null,null,null,{"$f":"IF(I$8=1,I$78*I$88*I113,\"\")","v":{"$error":"#REF!"}},{"$error":"#REF!"},{"$error":"#REF!"},{"$error":"#REF!"},"","","","","","","","",""]
[null,null,"Classe 3",null,null,null,null,null,{"$f":"IF(I$8=1,I$78*I$88*I114,\"\")","v":{"$error":"#REF!"}},{"$error":"#REF!"},{"$error":"#REF!"},{"$error":"#REF!"},"","","","","","","","",""]
[null,null,"Classe 4",null,null,null,null,null,{"$f":"IF(I$8=1,I$78*I$88*I115,\"\")","v":{"$error":"#REF!"}},{"$error":"#REF!"},{"$error":"#REF!"},{"$error":"#REF!"},"","","","","","","","",""]
[null,null,"Classe 5",null,null,null,null,null,{"$f":"IF(I$8=1,I$78*I$88*I116,\"\")","v":{"$error":"#REF!"}},{"$error":"#REF!"},{"$error":"#REF!"},{"$error":"#REF!"},"","","","","","","","",""]
[null,null,"Tariffa Media",null,null,null,null,null,{"$f":"IFERROR(IF(I$8=1,SUMPRODUCT(I155:I159,I51:I55)/I58,\"\"),\"non calc.\")","v":"non calc."},"non calc.","non calc.","non calc.","","","","","","","","",""]
[null,null,null,null,null,null,null,"Check tariffa media",{"$f":"IFERROR(IF(I$8=1,I$78*I$88-I160,\"\"),\"non calc.\")","v":"non calc."},"non calc.","non calc.","non calc.","","","","","","","","",""]
[]
[]
[]
[null,null,"Ricavi da traffico per tipologia di infrastruttura e per classe di veicolo"]
[]
[null,null,{"$f":"C123","v":"(tipologia di rete #1)"}]
[]
[null,null,"Classe A",null,null,null,null,null,{"$f":"IF(I$8=1,I125*I18,\"\")","v":{"$error":"#REF!"}},{"$error":"#REF!"},{"$error":"#REF!"},{"$error":"#REF!"},"","","","","","","","",""]
[null,null,"Classe B",null,null,null,null,null,{"$f":"IF(I$8=1,I126*I19,\"\")","v":{"$error":"#REF!"}},{"$error":"#REF!"},{"$error":"#REF!"},{"$error":"#REF!"},"","","","","","","","",""]
[null,null,"Classe 3",null,null,null,null,null,{"$f":"IF(I$8=1,I127*I20,\"\")","v":{"$error":"#REF!"}},{"$error":"#REF!"},{"$error":"#REF!"},{"$error":"#REF!"},"","","","","","","","",""]
[null,null,"Classe 4",null,null,null,null,null,{"$f":"IF(I$8=1,I128*I21,\"\")","v":{"$error":"#REF!"}},{"$error":"#REF!"},{"$error":"#REF!"},{"$error":"#REF!"},"","","","","","","","",""]
[null,null,"Classe 5",null,null,null,null,null,{"$f":"IF(I$8=1,I129*I22,\"\")","v":{"$error":"#REF!"}},{"$error":"#REF!"},{"$error":"#REF!"},{"$error":"#REF!"},"","","","","","","","",""]
[null,null,"Sub totale leggeri",null,null,null,null,null,{"$f":"IF(I$8=1,I169,\"\")","v":{"$error":"#REF!"}},{"$f":"IF(J$8=1,J169,\"\")","v":{"$error":"#REF!"}},{"$f":"IF(K$8=1,K169,\"\")","v":{"$error":"#REF!"}},{"$error":"#REF!"},"","","","","","","","",""]
[null,null,"Sub totale pesanti",null,null,null,null,null,{"$f":"IF(I$8=1,SUM(I170:I173),\"\")","v":{"$error":"#REF!"}},{"$f":"IF(J$8=1,SUM(J170:J173),\"\")","v":{"$error":"#REF!"}},{"$f":"IF(K$8=1,SUM(K170:K173),\"\")","v":{"$error":"#REF!"}},{"$error":"#REF!"},"","","","","","","","",""]
[null,null,"Totale",null,null,null,null,null,{"$f":"IF(I$8=1,SUM(I169:I173),\"\")","v":{"$error":"#REF!"}},{"$f":"IF(J$8=1,SUM(J169:J173),\"\")","v":{"$error":"#REF!"}},{"$f":"IF(K$8=1,SUM(K169:K173),\"\")","v":{"$error":"#REF!"}},{"$error":"#REF!"},"","","","","","","","",""]
[null,null,null,null,null,null,null,"Check ricavi",{"$f":"IF(I$8=1,I176-(I25*I130),\"\")","v":{"$error":"#REF!"}},{"$error":"#REF!"},{"$error":"#REF!"},{"$error":"#REF!"},"","","","","","","","",""]
[]
[null,null,{"$f":"C133","v":"(tipologia di rete #2)"}]
[]
[null,null,"Classe A",null,null,null,null,null,{"$f":"IF(I$8=1,I135*I29,\"\")","v":{"$error":"#REF!"}},{"$error":"#REF!"},{"$error":"#REF!"},{"$error":"#REF!"},"","","","","","","","",""]
[null,null,"Classe B",null,null,null,null,null,{"$f":"IF(I$8=1,I136*I30,\"\")","v":{"$error":"#REF!"}},{"$error":"#REF!"},{"$error":"#REF!"},{"$error":"#REF!"},"","","","","","","","",""]
[null,null,"Classe 3",null,null,null,null,null,{"$f":"IF(I$8=1,I137*I31,\"\")","v":{"$error":"#REF!"}},{"$error":"#REF!"},{"$error":"#REF!"},{"$error":"#REF!"},"","","","","","","","",""]
[null,null,"Classe 4",null,null,null,null,null,{"$f":"IF(I$8=1,I138*I32,\"\")","v":{"$error":"#REF!"}},{"$error":"#REF!"},{"$error":"#REF!"},{"$error":"#REF!"},"","","","","","","","",""]
[null,null,"Classe 5",null,null,null,null,null,{"$f":"IF(I$8=1,I139*I33,\"\")","v":{"$error":"#REF!"}},{"$error":"#REF!"},{"$error":"#REF!"},{"$error":"#REF!"},"","","","","","","","",""]
[null,null,"Sub totale leggeri",null,null,null,null,null,{"$f":"IF(I$8=1,I181,\"\")","v":{"$error":"#REF!"}},{"$f":"IF(J$8=1,J181,\"\")","v":{"$error":"#REF!"}},{"$f":"IF(K$8=1,K181,\"\")","v":{"$error":"#REF!"}},{"$error":"#REF!"},"","","","","","","","",""]
[null,null,"Sub totale pesanti",null,null,null,null,null,{"$f":"IF(I$8=1,SUM(I182:I185),\"\")","v":{"$error":"#REF!"}},{"$f":"IF(J$8=1,SUM(J182:J185),\"\")","v":{"$error":"#REF!"}},{"$f":"IF(K$8=1,SUM(K182:K185),\"\")","v":{"$error":"#REF!"}},{"$error":"#REF!"},"","","","","","","","",""]
[null,null,"Totale",null,null,null,null,null,{"$f":"IF(I$8=1,SUM(I181:I185),\"\")","v":{"$error":"#REF!"}},{"$f":"IF(J$8=1,SUM(J181:J185),\"\")","v":{"$error":"#REF!"}},{"$f":"IF(K$8=1,SUM(K181:K185),\"\")","v":{"$error":"#REF!"}},{"$error":"#REF!"},"","","","","","","","",""]
[null,null,null,null,null,null,null,"Check ricavi",{"$f":"IF(I$8=1,I188-(I36*I78*I86),\"\")","v":{"$error":"#REF!"}},{"$error":"#REF!"},{"$error":"#REF!"},{"$error":"#REF!"},"","","","","","","","",""]
[]
[null,null,{"$f":"C143","v":"(tipologia di rete #3)"}]
[]
[null,null,"Classe A",null,null,null,null,null,{"$f":"IF(I$8=1,I145*I40,\"\")","v":{"$error":"#REF!"}},{"$error":"#REF!"},{"$error":"#REF!"},{"$error":"#REF!"},"","","","","","","","",""]
[null,null,"Classe B",null,null,null,null,null,{"$f":"IF(I$8=1,I146*I41,\"\")","v":{"$error":"#REF!"}},{"$error":"#REF!"},{"$error":"#REF!"},{"$error":"#REF!"},"","","","","","","","",""]
[null,null,"Classe 3",null,null,null,null,null,{"$f":"IF(I$8=1,I147*I42,\"\")","v":{"$error":"#REF!"}},{"$error":"#REF!"},{"$error":"#REF!"},{"$error":"#REF!"},"","","","","","","","",""]
[null,null,"Classe 4",null,null,null,null,null,{"$f":"IF(I$8=1,I148*I43,\"\")","v":{"$error":"#REF!"}},{"$error":"#REF!"},{"$error":"#REF!"},{"$error":"#REF!"},"","","","","","","","",""]
[null,null,"Classe 5",null,null,null,null,null,{"$f":"IF(I$8=1,I149*I44,\"\")","v":{"$error":"#REF!"}},{"$error":"#REF!"},{"$error":"#REF!"},{"$error":"#REF!"},"","","","","","","","",""]
[null,null,"Sub totale leggeri",null,null,null,null,null,{"$f":"IF(I$8=1,I193,\"\")","v":{"$error":"#REF!"}},{"$f":"IF(J$8=1,J193,\"\")","v":{"$error":"#REF!"}},{"$f":"IF(K$8=1,K193,\"\")","v":{"$error":"#REF!"}},{"$error":"#REF!"},"","","","","","","","",""]
[null,null,"Sub totale pesanti",null,null,null,null,null,{"$f":"IF(I$8=1,SUM(I194:I197),\"\")","v":{"$error":"#REF!"}},{"$f":"IF(J$8=1,SUM(J194:J197),\"\")","v":{"$error":"#REF!"}},{"$f":"IF(K$8=1,SUM(K194:K197),\"\")","v":{"$error":"#REF!"}},{"$error":"#REF!"},"","","","","","","","",""]
[null,null,"Totale",null,null,null,null,null,{"$f":"IF(I$8=1,SUM(I193:I197),\"\")","v":{"$error":"#REF!"}},{"$f":"IF(J$8=1,SUM(J193:J197),\"\")","v":{"$error":"#REF!"}},{"$f":"IF(K$8=1,SUM(K193:K197),\"\")","v":{"$error":"#REF!"}},{"$error":"#REF!"},"","","","","","","","",""]
[null,null,null,null,null,null,null,"Check ricavi",{"$f":"IF(I$8=1,I200-(I47*I78*I87),\"\")","v":{"$error":"#REF!"}},{"$error":"#REF!"},{"$error":"#REF!"},{"$error":"#REF!"},"","","","","","","","",""]
[]
[null,null,{"$f":"C153","v":"(tipologia di rete #4)"}]
[]
[null,null,"Classe A",null,null,null,null,null,{"$f":"IF(I$8=1,I155*I51,\"\")","v":{"$error":"#REF!"}},{"$error":"#REF!"},{"$error":"#REF!"},{"$error":"#REF!"},"","","","","","","","",""]
[null,null,"Classe B",null,null,null,null,null,{"$f":"IF(I$8=1,I156*I52,\"\")","v":{"$error":"#REF!"}},{"$error":"#REF!"},{"$error":"#REF!"},{"$error":"#REF!"},"","","","","","","","",""]
[null,null,"Classe 3",null,null,null,null,null,{"$f":"IF(I$8=1,I157*I53,\"\")","v":{"$error":"#REF!"}},{"$error":"#REF!"},{"$error":"#REF!"},{"$error":"#REF!"},"","","","","","","","",""]
[null,null,"Classe 4",null,null,null,null,null,{"$f":"IF(I$8=1,I158*I54,\"\")","v":{"$error":"#REF!"}},{"$error":"#REF!"},{"$error":"#REF!"},{"$error":"#REF!"},"","","","","","","","",""]
[null,null,"Classe 5",null,null,null,null,null,{"$f":"IF(I$8=1,I159*I55,\"\")","v":{"$error":"#REF!"}},{"$error":"#REF!"},{"$error":"#REF!"},{"$error":"#REF!"},"","","","","","","","",""]
[null,null,"Sub totale leggeri",null,null,null,null,null,{"$f":"IF(I$8=1,I205,\"\")","v":{"$error":"#REF!"}},{"$f":"IF(J$8=1,J205,\"\")","v":{"$error":"#REF!"}},{"$f":"IF(K$8=1,K205,\"\")","v":{"$error":"#REF!"}},{"$error":"#REF!"},"","","","","","","","",""]
[null,null,"Sub totale pesanti",null,null,null,null,null,{"$f":"IF(I$8=1,SUM(I206:I209),\"\")","v":{"$error":"#REF!"}},{"$f":"IF(J$8=1,SUM(J206:J209),\"\")","v":{"$error":"#REF!"}},{"$f":"IF(K$8=1,SUM(K206:K209),\"\")","v":{"$error":"#REF!"}},{"$error":"#REF!"},"","","","","","","","",""]
[null,null,"Totale",null,null,null,null,null,{"$f":"IF(I$8=1,SUM(I205:I209),\"\")","v":{"$error":"#REF!"}},{"$f":"IF(J$8=1,SUM(J205:J209),\"\")","v":{"$error":"#REF!"}},{"$f":"IF(K$8=1,SUM(K205:K209),\"\")","v":{"$error":"#REF!"}},{"$error":"#REF!"},"","","","","","","","",""]
[null,null,null,null,null,null,null,"Check ricavi",{"$f":"IF(I$8=1,I212-(I58*I78*I88),\"\")","v":{"$error":"#REF!"}},{"$error":"#REF!"},{"$error":"#REF!"},{"$error":"#REF!"},"","","","","","","","",""]
[]
[null,null,"Totali"]
[]
[null,null,"Classe A",null,null,null,null,null,{"$f":"IF(I$8=1,I169+I181+I193+I205,\"\")","v":{"$error":"#REF!"}},{"$error":"#REF!"},{"$f":"IF(K$8=1,K169+K181+K193+K205,\"\")","v":{"$error":"#REF!"}},{"$error":"#REF!"},"","","","","","","","",""]
[null,null,"Classe B",null,null,null,null,null,{"$error":"#REF!"},{"$error":"#REF!"},{"$f":"IF(K$8=1,K170+K182+K194+K206,\"\")","v":{"$error":"#REF!"}},{"$error":"#REF!"},"","","","","","","","",""]
[null,null,"Classe 3",null,null,null,null,null,{"$error":"#REF!"},{"$error":"#REF!"},{"$f":"IF(K$8=1,K171+K183+K195+K207,\"\")","v":{"$error":"#REF!"}},{"$error":"#REF!"},"","","","","","","","",""]
[null,null,"Classe 4",null,null,null,null,null,{"$error":"#REF!"},{"$error":"#REF!"},{"$f":"IF(K$8=1,K172+K184+K196+K208,\"\")","v":{"$error":"#REF!"}},{"$error":"#REF!"},"","","","","","","","",""]
[null,null,"Classe 5",null,null,null,null,null,{"$error":"#REF!"},{"$error":"#REF!"},{"$f":"IF(K$8=1,K173+K185+K197+K209,\"\")","v":{"$error":"#REF!"}},{"$error":"#REF!"},"","","","","","","","",""]
[null,null,"Sub totale leggeri",null,null,null,null,null,{"$f":"IF(I$8=1,I217,\"\")","v":{"$error":"#REF!"}},{"$f":"IF(J$8=1,J217,\"\")","v":{"$error":"#REF!"}},{"$f":"IF(K$8=1,K217,\"\")","v":{"$error":"#REF!"}},{"$error":"#REF!"},"","","","","","","","",""]
[null,null,"Sub totale pesanti",null,null,null,null,null,{"$f":"IF(I$8=1,SUM(I218:I221),\"\")","v":{"$error":"#REF!"}},{"$f":"IF(J$8=1,SUM(J218:J221),\"\")","v":{"$error":"#REF!"}},{"$f":"IF(K$8=1,SUM(K218:K221),\"\")","v":{"$error":"#REF!"}},{"$error":"#REF!"},"","","","","","","","",""]
[null,null,"Totale",null,null,null,null,null,{"$f":"IF(I$8=1,SUM(I217:I221),\"\")","v":{"$error":"#REF!"}},{"$f":"IF(J$8=1,SUM(J217:J221),\"\")","v":{"$error":"#REF!"}},{"$f":"IF(K$8=1,SUM(K217:K221),\"\")","v":{"$error":"#REF!"}},{"$error":"#REF!"},"","","","","","","","",""]
[null,null,null,null,null,null,null,"Check ricavi",{"$f":"IF(I$8=1,I224-(I69*I78),\"\")","v":{"$error":"#REF!"}},{"$error":"#REF!"},{"$error":"#REF!"},{"$error":"#REF!"},"","","","","","","","",""]
[null,null,null,null,null,null,null,"Check TUMI",{"$f":"IF(I$8=1,I224/I69-I78,\"\")","v":{"$error":"#REF!"}},{"$error":"#REF!"},{"$error":"#REF!"},{"$error":"#REF!"},"","","","","","","","",""]
[]
[]
[null,null,"termine foglio di lavoro"]